Workbook
Name CONCATENAR: CONCATENATE('Cotações '!$A1," ",'Cotações '!$B1)
Name CONCATENAR: CONCATENATE([2]Banco!$B1," ",[2]Banco!$C1)
Name Cot.LP.Banco: #REF!
Name Cot.LP.Banco: #REF!
Name Cot.LP.Cot: #REF!
Name Cot.LP.Cot: #REF!
Name Cot.LP.Cotacao: #REF!
Name Cot.LP.Cotacao: #REF!
Name Cot.LP.Empresa: #REF!
Name Cot.LP.Empresa: #REF!
Name Cot.LP.Indice: #REF!
Name Cot.LP.Indice: #REF!
Name DescForms: #REF!
Name DescForms: #REF!
Name DescForms: #REF!
Name DescForms: #REF!
Name DescForms: #REF!
Name EMPRESAS: OFFSET([3]Cotações!#REF!,1,0):OFFSET([3]Cotações!#REF!,-1,0)
Name EMPRESAS: OFFSET([3]Cotações!#REF!,1,0):OFFSET([3]Cotações!#REF!,-1,0)
Name EMPRESAS: OFFSET([3]Cotações!#REF!,1,0):OFFSET([3]Cotações!#REF!,-1,0)
Name EMPRESAS: OFFSET('Cotações '!#REF!,1,0):OFFSET('Cotações '!#REF!,-1,0)
Name EMPRESAS: OFFSET([4]Cotações!#REF!,1,0):OFFSET([4]Cotações!#REF!,-1,0)
Name FiltroCot: #REF!
Name FiltroCot: #REF!
Name INDICES: OFFSET([3]Cotações!#REF!,1,0):OFFSET([3]Cotações!#REF!,-1,0)
Name INDICES: OFFSET([3]Cotações!#REF!,1,0):OFFSET([3]Cotações!#REF!,-1,0)
Name INDICES: OFFSET([3]Cotações!#REF!,1,0):OFFSET([3]Cotações!#REF!,-1,0)
Name INDICES: OFFSET('Cotações '!#REF!,1,0):OFFSET('Cotações '!#REF!,-1,0)
Name INDICES: OFFSET([4]Cotações!#REF!,1,0):OFFSET([4]Cotações!#REF!,-1,0)
Name NCOMPOSICOES: 27
Name NCOMPOSICOES: 27
Name NCOTACOES: 19
Name NCOTACOES: 19
Name NEMPRESAS: 33
Name NEMPRESAS: 33
Name NINDICES: 3
Name NRELATORIOS: COUNTA([2]Relatórios!$A:$A)-2
Name NRELATORIOS: COUNTA([2]Relatórios!$A:$A)-2
Name NumerEmpresa: 33
Name NumerEmpresa: 33
Name NumerIndice: 3
Name Objeto: "Referência"
Name OQUE: #REF!
Name PLANOS: #REF!
Name PLANOS: #REF!
Name PLANOS: #REF!
Name PLANOS: #REF!
Name PLANOS: #REF!
Name PLANOS.: #REF!
Name PLANOS.: #REF!
Name PLANOS.: #REF!
Name PLANOS.: #REF!
Name PLANOS.: #REF!
Name RelatoriosFontes: OFFSET([2]Relatórios!$A$5,1,0,'Cotações '!NRELATORIOS)
Name RelatoriosFontes: OFFSET([2]Relatórios!$A$5,1,0,NRELATORIOS)

Sheet DADOS
A1: DADOS INICIAIS
A3: DADOS DO MUNICÍPIO
A4: Proponente/Tomador: | B4: PREFEITURA MUNICIPAL DE SÃO FELIPE/BA
A5: Município/UF: | B5: SÃO FELIPE/BA
A7: DADOS DO EMPREENDIMENTO E ORÇAMENTO
A8: Nome/Objeto: | B8: PAVIMENTAÇÃO ASFÁLTICA DIVERSAS RUAS, NO MUNICÍPIO DE SÃO FELIPE/BA
A9: Descrição:
A10: Data-Base do Orçamento: | B10: SINAPI - 01/2025 - Bahia SICRO3 - 10/2024 - Bahia ORSE - 12/2024 - Sergipe
A11: Valor do BDI (%): | B11: 0.2009
A12: BDI: | B12: 1.2009
A14: RESPONSÁVEL PELO ORÇAMENTO
A15: Nome: | B15: Eliabe Vitória Souza
A16: Título: | B16: Engenheiro Civil
A17: CREA/CAU: | B17: CREA/BA:051487735-9
A18: Data do Preenchimento: | B18: =TODAY() -> 45812
A20: RESPONSÁVEL PELO TOMADOR (PREFEITO)
A21: Nome:
A22: Cargo: | B22: Prefeito Municipal
A25: ORÇAMENTO
A27: DADOS DA OBRA
A28: Usuário
A29: Descrição
A30: Nº do Orçamento:
A33: ACOMPANHAMENTO DO EMPREENDIMENTO
A35: DADOS DA OBRA
A36: Data de Início da Obra:
A37: Data do Fechamento do BM:
A39: RESPONSÁVEL PELA FISCALIZAÇÃO
A40: Nome:
A41: Título:
A42: CREA/CAU:

Sheet BDI SERVIÇO
E1: MIN | F1: MED | G1: MAX | N1: ="Quadro de Composição do BDI "&MID(CELL("nome.arquivo",N1),5+FIND("BDI (",CELL("nome.arquivo",N1)),1) -> #VALUE!
A2: Construção e Reforma de Edifícios | B2: AC | C2: =CONCATENATE(A2,"-",B2) -> Construção e Reforma de Edifícios-AC | E2: 0.03 | F2: 0.04 | G2: 0.055
A3: =A2 -> Construção e Reforma de Edifícios | B3: SG | C3: =CONCATENATE(A3,"-",B3) -> Construção e Reforma de Edifícios-SG | E3: 0.008 | F3: 0.008 | G3: 0.01
A4: =A3 -> Construção e Reforma de Edifícios | B4: R | C4: =CONCATENATE(A4,"-",B4) -> Construção e Reforma de Edifícios-R | E4: 0.0097 | F4: 0.0127 | G4: 0.0127 | I4: Nº TC/CR | K4: PROPONENTE / TOMADOR
A5: =A4 -> Construção e Reforma de Edifícios | B5: DF | C5: =CONCATENATE(A5,"-",B5) -> Construção e Reforma de Edifícios-DF | E5: 0.0059 | F5: 0.0123 | G5: 0.0139 | I5: 1039250-00 | K5: Prefeitura Municipal
I6: QUADRO DE COMPOSIÇÃO DE BDI
A7: =A5 -> Construção e Reforma de Edifícios | B7: L | C7: =CONCATENATE(A7,"-",B7) -> Construção e Reforma de Edifícios-L | E7: 0.0616 | F7: 0.074 | G7: 0.0896
A8: =A7 -> Construção e Reforma de Edifícios | B8: BDI PAD | C8: =CONCATENATE(A8,"-",B8) -> Construção e Reforma de Edifícios-BDI PAD | E8: 0.2034 | F8: 0.2212 | G8: 0.25 | I8: OBJETO
A9: Construção de Praças Urbanas, Rodovias, Ferrovias e recapeamento e pavimentação de vias urbanas | B9: AC | C9: =CONCATENATE(A9,"-",B9) -> Construção de Praças Urbanas, Rodovias, Ferrovias e recapeamento e pavimentação de vias urbanas-AC | E9: 0.038 | F9: 0.0401 | G9: 0.0467 | I9: PROJETO DE SINALIZAÇÃO E ADEQUAÇÃO DO CANTEIRO
A10: Construção de Praças Urbanas, Rodovias, Ferrovias e recapeamento e pavimentação de vias urbanas | B10: SG | C10: =CONCATENATE(A10,"-",B10) -> Construção de Praças Urbanas, Rodovias, Ferrovias e recapeamento e pavimentação de vias urbanas-SG | E10: 0.0032 | F10: 0.004 | G10: 0.0074
I15: 01 – NOME DA PREFEITURA PROPONENTE: | N15: 02 – DESCRIÇÃO:
I16: =DADOS!B4 -> PREFEITURA MUNICIPAL DE SÃO FELIPE/BA | N16: =DADOS!B8 -> PAVIMENTAÇÃO ASFÁLTICA DIVERSAS RUAS, NO MUNICÍPIO DE SÃO FELIPE/BA
I17: 03 –LOCALIDADE: | N17: 04 –DATA:
I18: =DADOS!B5 -> SÃO FELIPE/BA | N18: =DADOS!B18 -> 45812
I20: QUADRO DE COMPOSIÇÃO DE BDI
A22: Construção de Praças Urbanas, Rodovias, Ferrovias e recapeamento e pavimentação de vias urbanas | B22: R | C22: =CONCATENATE(A22,"-",B22) -> Construção de Praças Urbanas, Rodovias, Ferrovias e recapeamento e pavimentação de vias urbanas-R | E22: 0.005 | F22: 0.0056 | G22: 0.0097 | I22: TIPO DE OBRA DO EMPREENDIMENTO | Q22: DESONERAÇÃO
A23: Construção de Praças Urbanas, Rodovias, Ferrovias e recapeamento e pavimentação de vias urbanas | B23: DF | C23: =CONCATENATE(A23,"-",B23) -> Construção de Praças Urbanas, Rodovias, Ferrovias e recapeamento e pavimentação de vias urbanas-DF | E23: 0.0102 | F23: 0.0111 | G23: 0.0121 | I23: Construção de Praças Urbanas, Rodovias, Ferrovias e recapeamento e pavimentação de vias urbanas | Q23: Não
A24: Construção de Praças Urbanas, Rodovias, Ferrovias e recapeamento e pavimentação de vias urbanas | B24: L | C24: =CONCATENATE(A24,"-",B24) -> Construção de Praças Urbanas, Rodovias, Ferrovias e recapeamento e pavimentação de vias urbanas-L | E24: 0.0664 | F24: 0.073 | G24: 0.0869
A25: Construção de Praças Urbanas, Rodovias, Ferrovias e recapeamento e pavimentação de vias urbanas | B25: BDI PAD | C25: =CONCATENATE(A25,"-",B25) -> Construção de Praças Urbanas, Rodovias, Ferrovias e recapeamento e pavimentação de vias urbanas-BDI PAD | E25: 0.196 | F25: 0.2097 | G25: 0.2423 | I25: Conforme legislação tributária municipal, definir estimativa de percentual da base de cálculo para o ISS: | Q25: 0.5
A26: Construção de Redes de Abastecimento de Água, Coleta de Esgoto | B26: AC | C26: =CONCATENATE(A26,"-",B26) -> Construção de Redes de Abastecimento de Água, Coleta de Esgoto-AC | E26: 0.0343 | F26: 0.0493 | G26: 0.0671 | I26: Sobre a base de cálculo, definir a respectiva alíquota do ISS (entre 2% e 5%): | Q26: 0.05
A27: =A26 -> Construção de Redes de Abastecimento de Água, Coleta de Esgoto | B27: SG | C27: =CONCATENATE(A27,"-",B27) -> Construção de Redes de Abastecimento de Água, Coleta de Esgoto-SG | E27: 0.0028 | F27: 0.0049 | G27: 0.0075
I28: Itens | M28: Siglas | N28: % Adotado | O28: Situação | P28: 1º Quartil | Q28: Médio | R28: 3º Quartil | T28: =IF(V39,"Para BDI fora do intervalo estatístico, deve ser apresentado Relatório Técnico Circunstanciado justificando a adoção do percentual de cada parcela do BDI.","")
A29: =A27 -> Construção de Redes de Abastecimento de Água, Coleta de Esgoto | B29: R | C29: =CONCATENATE(A29,"-",B29) -> Construção de Redes de Abastecimento de Água, Coleta de Esgoto-R | E29: 0.01 | F29: 0.0139 | G29: 0.0174
A30: =A29 -> Construção de Redes de Abastecimento de Água, Coleta de Esgoto | B30: DF | C30: =CONCATENATE(A30,"-",B30) -> Construção de Redes de Abastecimento de Água, Coleta de Esgoto-DF | E30: 0.0094 | F30: 0.0099 | G30: 0.0117 | I30: =IF($I$23=$A$71,"Encargos Sociais incidentes sobre a mão de obra","Administração Central") -> Administração Central | M30: =IF($I$23=$A$71,"K1","AC") -> AC | N30: 0.038 | O30: - | P30: =VLOOKUP(CONCATENATE(I$23,"-",M30),$C$2:$G$61,3,FALSE) -> 0.038 | Q30: =VLOOKUP(CONCATENATE(I$23,"-",M30),$C$2:$G$61,4,FALSE) -> 0.0401 | R30: =VLOOKUP(CONCATENATE(I$23,"-",M30),$C$2:$G$61,5,FALSE) -> 0.0467
A31: =A30 -> Construção de Redes de Abastecimento de Água, Coleta de Esgoto | B31: L | C31: =CONCATENATE(A31,"-",B31) -> Construção de Redes de Abastecimento de Água, Coleta de Esgoto-L | E31: 0.0674 | F31: 0.0804 | G31: 0.094 | I31: =IF($I$23=$A$71,"Administração Central da empresa ou consultoria - overhead","Seguro e Garantia") -> Seguro e Garantia | M31: =IF($I$23=$A$71,"K2","SG") -> SG | N31: 0.0032 | O31: - | P31: =VLOOKUP(CONCATENATE(I$23,"-",M31),$C$2:$G$61,3,FALSE) -> 0.0032 | Q31: =VLOOKUP(CONCATENATE(I$23,"-",M31),$C$2:$G$61,4,FALSE) -> 0.004 | R31: =VLOOKUP(CONCATENATE(I$23,"-",M31),$C$2:$G$61,5,FALSE) -> 0.0074
A32: =A31 -> Construção de Redes de Abastecimento de Água, Coleta de Esgoto | B32: BDI PAD | C32: =CONCATENATE(A32,"-",B32) -> Construção de Redes de Abastecimento de Água, Coleta de Esgoto-BDI PAD | E32: 0.2076 | F32: 0.2418 | G32: 0.2644 | I32: =IF($I$23=$A$71,"","Risco") -> Risco | M32: =IF($I$23=$A$71,"","R") -> R | N32: 0.005 | O32: - | P32: =VLOOKUP(CONCATENATE(I$23,"-",M32),$C$2:$G$61,3,FALSE) -> 0.005 | Q32: =VLOOKUP(CONCATENATE(I$23,"-",M32),$C$2:$G$61,4,FALSE) -> 0.0056 | R32: =VLOOKUP(CONCATENATE(I$23,"-",M32),$C$2:$G$61,5,FALSE) -> 0.0097
A33: Construção e Manutenção de Estações e Redes de Distribuição de Energia Elétrica | B33: AC | C33: =CONCATENATE(A33,"-",B33) -> Construção e Manutenção de Estações e Redes de Distribuição de Energia Elétrica-AC | E33: 0.0529 | F33: 0.0592 | G33: 0.0793 | I33: =IF($I$23=$A$71,"","Despesas Financeiras") -> Despesas Financeiras | M33: =IF($I$23=$A$71,"","DF") -> DF | N33: 0.0102 | O33: - | P33: =VLOOKUP(CONCATENATE(I$23,"-",M33),$C$2:$G$61,3,FALSE) -> 0.0102 | Q33: =VLOOKUP(CONCATENATE(I$23,"-",M33),$C$2:$G$61,4,FALSE) -> 0.0111 | R33: =VLOOKUP(CONCATENATE(I$23,"-",M33),$C$2:$G$61,5,FALSE) -> 0.0121
A34: =A33 -> Construção e Manutenção de Estações e Redes de Distribuição de Energia Elétrica | B34: SG | C34: =CONCATENATE(A34,"-",B34) -> Construção e Manutenção de Estações e Redes de Distribuição de Energia Elétrica-SG | E34: 0.0025 | F34: 0.0051 | G34: 0.0056 | I34: =IF($I$23=$A$71,"Margem bruta da empresa de consultoria","Lucro") -> Lucro | M34: =IF($I$23=$A$71,"K3","L") -> L | N34: 0.0664 | O34: - | P34: =VLOOKUP(CONCATENATE(I$23,"-",M34),$C$2:$G$61,3,FALSE) -> 0.0664 | Q34: =VLOOKUP(CONCATENATE(I$23,"-",M34),$C$2:$G$61,4,FALSE) -> 0.073 | R34: =VLOOKUP(CONCATENATE(I$23,"-",M34),$C$2:$G$61,5,FALSE) -> 0.0869
A35: =A34 -> Construção e Manutenção de Estações e Redes de Distribuição de Energia Elétrica | B35: R | C35: =CONCATENATE(A35,"-",B35) -> Construção e Manutenção de Estações e Redes de Distribuição de Energia Elétrica-R | E35: 0.01 | F35: 0.0148 | G35: 0.0197 | I35: Tributos (impostos COFINS 3%, e PIS 0,65%) | M35: CP | N35: 0.0365 | O35: - | P35: 0.0365 | Q35: 0.0365 | R35: 0.0365
A36: =A35 -> Construção e Manutenção de Estações e Redes de Distribuição de Energia Elétrica | B36: DF | C36: =CONCATENATE(A36,"-",B36) -> Construção e Manutenção de Estações e Redes de Distribuição de Energia Elétrica-DF | E36: 0.0101 | F36: 0.0107 | G36: 0.0111 | I36: Tributos (ISS, variável de acordo com o município) | M36: ISS | N36: =IF($I$23<>$A$70,Q26*Q25,0) -> 0.025 | O36: - | P36: 0 | Q36: 0.025 | R36: 0.05
A37: =A36 -> Construção e Manutenção de Estações e Redes de Distribuição de Energia Elétrica | B37: L | C37: =CONCATENATE(A37,"-",B37) -> Construção e Manutenção de Estações e Redes de Distribuição de Energia Elétrica-L | E37: 0.08 | F37: 0.0831 | G37: 0.0951 | I37: Tributos (Contribuição Previdenciária sobre a Receita Bruta - 0% ou 4,5% - Desoneração) | M37: CPRB | N37: =IF(AND($I$23<>$A$70,Q23="Sim"),4.5%,0%) -> 0 | O37: =IF(AND(N37>=P37, N37<=R37), "OK", "Não OK") -> OK | P37: 0 | Q37: 0.045 | R37: 0.045
A38: =A37 -> Construção e Manutenção de Estações e Redes de Distribuição de Energia Elétrica | B38: BDI PAD | C38: =CONCATENATE(A38,"-",B38) -> Construção e Manutenção de Estações e Redes de Distribuição de Energia Elétrica-BDI PAD | E38: 0.24 | F38: 0.2584 | G38: 0.2786 | I38: BDI SEM desoneração (Fórmula Acórdão TCU) | M38: BDI PAD | N38: =IF($I$23=$A$70,0,ROUND((((1+N30+N31+N32)*(1+N33)*(1+N34)/(1-(N35+N36)))-1),4)) -> 0.2009 | O38: =IF(OR($I$23=$A$71,$I$23=$A$70,AND(N38>=P38, N38<=R38)), "OK", "FORA DO INTERVALO") -> OK | P38: =IF($I$23=$A$70,0,VLOOKUP(CONCATENATE($I$23,"-",$M38),$C$2:$G$61,3,FALSE)) -> 0.196 | Q38: =IF($I$23=$A$70,0,VLOOKUP(CONCATENATE($I$23,"-",$M38),$C$2:$G$61,4,FALSE)) -> 0.2097 | R38: =IF($I$23=$A$70,0,VLOOKUP(CONCATENATE($I$23,"-",$M38),$C$2:$G$61,5,FALSE)) -> 0.2423
A39: Obras Portuárias, Marítimas e Fluviais | B39: AC | C39: =CONCATENATE(A39,"-",B39) -> Obras Portuárias, Marítimas e Fluviais-AC | E39: 0.04 | F39: 0.0552 | G39: 0.0785 | I39: BDI COM desoneração | M39: BDI DES | N39: =IF($I$23=$A$70,0,ROUND((((1+N30+N31+N32)*(1+N33)*(1+N34)/(1-(N35+N36+N37)))-1),4)) -> 0.2009 | O39: =IF(Q23<>"Sim","",O38) | V39: =AND(COUNTA(N30:N35)=6,O38<>"ok",NOT(V41)) -> FALSE | W39: pedir anexo
A40: =A39 -> Obras Portuárias, Marítimas e Fluviais | B40: SG | C40: =CONCATENATE(A40,"-",B40) -> Obras Portuárias, Marítimas e Fluviais-SG | E40: 0.0081 | F40: 0.0122 | G40: 0.0199
A41: =A40 -> Obras Portuárias, Marítimas e Fluviais | B41: R | C41: =CONCATENATE(A41,"-",B41) -> Obras Portuárias, Marítimas e Fluviais-R | E41: 0.0146 | F41: 0.0232 | G41: 0.0316 | I41: =IF(V41,"X","") | J41: Anexo: Relatório Técnico Circunstanciado justificando a adoção do percentual de cada parcela do BDI. | V41: FALSE | W41: anexo apresentado
I43: Os valores de BDI foram calculados com o emprego da fórmula:
A44: =A41 -> Obras Portuárias, Marítimas e Fluviais | B44: DF | C44: =CONCATENATE(A44,"-",B44) -> Obras Portuárias, Marítimas e Fluviais-DF | E44: 0.0094 | F44: 0.0102 | G44: 0.0133 | L44: =IF(Q23="Sim","BDI.DES =","BDI.PAD =") -> BDI.PAD = | M44: =IF($I$23=$A$71,"(1+K1+K2)*(1+K3)","(1+AC + S + R + G)*(1 + DF)*(1+L)") -> (1+AC + S + R + G)*(1 + DF)*(1+L) | P44: - 1
A45: =A44 -> Obras Portuárias, Marítimas e Fluviais | B45: L | C45: =CONCATENATE(A45,"-",B45) -> Obras Portuárias, Marítimas e Fluviais-L | E45: 0.0714 | F45: 0.084 | G45: 0.1043 | M45: =IF(Q23="Sim","(1-CP-ISS-CRPB)","(1-CP-ISS)") -> (1-CP-ISS)
A46: =A45 -> Obras Portuárias, Marítimas e Fluviais | B46: BDI PAD | C46: =CONCATENATE(A46,"-",B46) -> Obras Portuárias, Marítimas e Fluviais-BDI PAD | E46: 0.228 | F46: 0.2748 | G46: 0.3095
I47: =CONCATENATE("Declaro para os devidos fins que, conforme legislação tributária municipal, a base de cálculo para ",I23,", é de ",Q25*100,"%, com a respectiva alíquota de ",Q26*100,"%.") -> Declaro para os devidos fins que, conforme legislação tributária municipal, a base de cálculo para Construção de Praças Urbanas, Rodovias, Ferrovias e recapeamento e pavimentação de vias urbanas, é de 50%, com a respectiva alíquota de 5%.
...

Sheet BDI (2)
E1: MIN | F1: MED | G1: MAX | N1: ="Quadro de Composição do BDI "&MID(CELL("nome.arquivo",N1),5+FIND("BDI (",CELL("nome.arquivo",N1)),1) -> Quadro de Composição do BDI 2
A2: Construção e Reforma de Edifícios | B2: AC | C2: =CONCATENATE(A2,"-",B2) -> Construção e Reforma de Edifícios-AC | E2: 0.03 | F2: 0.04 | G2: 0.055
A3: =A2 -> Construção e Reforma de Edifícios | B3: SG | C3: =CONCATENATE(A3,"-",B3) -> Construção e Reforma de Edifícios-SG | E3: 0.008 | F3: 0.008 | G3: 0.01
A4: =A3 -> Construção e Reforma de Edifícios | B4: R | C4: =CONCATENATE(A4,"-",B4) -> Construção e Reforma de Edifícios-R | E4: 0.0097 | F4: 0.0127 | G4: 0.0127 | I4: Nº TC/CR | K4: PROPONENTE / TOMADOR
A5: =A4 -> Construção e Reforma de Edifícios | B5: DF | C5: =CONCATENATE(A5,"-",B5) -> Construção e Reforma de Edifícios-DF | E5: 0.0059 | F5: 0.0123 | G5: 0.0139 | I5: 1039250-00 | K5: Prefeitura Municipal
A6: Construção de Praças Urbanas, Rodovias, Ferrovias e recapeamento e pavimentação de vias urbanas | B6: SG | C6: =CONCATENATE(A6,"-",B6) -> Construção de Praças Urbanas, Rodovias, Ferrovias e recapeamento e pavimentação de vias urbanas-SG | E6: 0.0032 | F6: 0.004 | G6: 0.0074
I7: LLES Engenharia e Projetos LTDA
I8: CNPJ 13.103.698/0001-12
I9: Rua Carlos Roque, 45, térreo – Centro – CEP 45-490-000, Laje - Ba TEL: (75) 99989 6598 – (75) 99805 2089, e-mail: contato@llesengenharia.com.br
I11: 01 – NOME DA PREFEITURA PROPONENTE: | N11: 02 – DESCRIÇÃO:
I12: =DADOS!B4 -> PREFEITURA MUNICIPAL DE SÃO FELIPE/BA | N12: =DADOS!B8 -> PAVIMENTAÇÃO ASFÁLTICA DIVERSAS RUAS, NO MUNICÍPIO DE SÃO FELIPE/BA
I13: 03 –LOCALIDADE: | N13: 04 –DATA:
I14: =DADOS!B5 -> SÃO FELIPE/BA | N14: =DADOS!B18 -> 45812
I16: QUADRO DE COMPOSIÇÃO DE BDI
A18: Construção de Praças Urbanas, Rodovias, Ferrovias e recapeamento e pavimentação de vias urbanas | B18: R | C18: =CONCATENATE(A18,"-",B18) -> Construção de Praças Urbanas, Rodovias, Ferrovias e recapeamento e pavimentação de vias urbanas-R | E18: 0.005 | F18: 0.0056 | G18: 0.0097 | I18: TIPO DE OBRA DO EMPREENDIMENTO | Q18: DESONERAÇÃO
A19: Construção de Praças Urbanas, Rodovias, Ferrovias e recapeamento e pavimentação de vias urbanas | B19: DF | C19: =CONCATENATE(A19,"-",B19) -> Construção de Praças Urbanas, Rodovias, Ferrovias e recapeamento e pavimentação de vias urbanas-DF | E19: 0.0102 | F19: 0.0111 | G19: 0.0121 | I19: Fornecimento de Materiais e Equipamentos (aquisição indireta - em conjunto com licitação de obras) | Q19: Não
A20: Construção de Praças Urbanas, Rodovias, Ferrovias e recapeamento e pavimentação de vias urbanas | B20: L | C20: =CONCATENATE(A20,"-",B20) -> Construção de Praças Urbanas, Rodovias, Ferrovias e recapeamento e pavimentação de vias urbanas-L | E20: 0.0664 | F20: 0.073 | G20: 0.0869
A21: Construção de Praças Urbanas, Rodovias, Ferrovias e recapeamento e pavimentação de vias urbanas | B21: BDI PAD | C21: =CONCATENATE(A21,"-",B21) -> Construção de Praças Urbanas, Rodovias, Ferrovias e recapeamento e pavimentação de vias urbanas-BDI PAD | E21: 0.196 | F21: 0.2097 | G21: 0.2423 | I21: Conforme legislação tributária municipal, definir estimativa de percentual da base de cálculo para o ISS: | Q21: 0.5
A22: Construção de Redes de Abastecimento de Água, Coleta de Esgoto | B22: AC | C22: =CONCATENATE(A22,"-",B22) -> Construção de Redes de Abastecimento de Água, Coleta de Esgoto-AC | E22: 0.0343 | F22: 0.0493 | G22: 0.0671 | I22: Sobre a base de cálculo, definir a respectiva alíquota do ISS (entre 2% e 5%): | Q22: 0.05
A23: =A22 -> Construção de Redes de Abastecimento de Água, Coleta de Esgoto | B23: SG | C23: =CONCATENATE(A23,"-",B23) -> Construção de Redes de Abastecimento de Água, Coleta de Esgoto-SG | E23: 0.0028 | F23: 0.0049 | G23: 0.0075
I24: Itens | M24: Siglas | N24: % Adotado | O24: Situação | P24: 1º Quartil | Q24: Médio | R24: 3º Quartil | T24: =IF(V35,"Para BDI fora do intervalo estatístico, deve ser apresentado Relatório Técnico Circunstanciado justificando a adoção do percentual de cada parcela do BDI.","")
A25: =A23 -> Construção de Redes de Abastecimento de Água, Coleta de Esgoto | B25: R | C25: =CONCATENATE(A25,"-",B25) -> Construção de Redes de Abastecimento de Água, Coleta de Esgoto-R | E25: 0.01 | F25: 0.0139 | G25: 0.0174
A26: =A25 -> Construção de Redes de Abastecimento de Água, Coleta de Esgoto | B26: DF | C26: =CONCATENATE(A26,"-",B26) -> Construção de Redes de Abastecimento de Água, Coleta de Esgoto-DF | E26: 0.0094 | F26: 0.0099 | G26: 0.0117 | I26: =IF($I$19=$A$67,"Encargos Sociais incidentes sobre a mão de obra","Administração Central") -> Administração Central | M26: =IF($I$19=$A$67,"K1","AC") -> AC | N26: 0.0345 | O26: - | P26: =VLOOKUP(CONCATENATE(I$19,"-",M26),$C$2:$G$57,3,FALSE) -> 0.015 | Q26: =VLOOKUP(CONCATENATE(I$19,"-",M26),$C$2:$G$57,4,FALSE) -> 0.0345 | R26: =VLOOKUP(CONCATENATE(I$19,"-",M26),$C$2:$G$57,5,FALSE) -> 0.0449
A27: =A26 -> Construção de Redes de Abastecimento de Água, Coleta de Esgoto | B27: L | C27: =CONCATENATE(A27,"-",B27) -> Construção de Redes de Abastecimento de Água, Coleta de Esgoto-L | E27: 0.0674 | F27: 0.0804 | G27: 0.094 | I27: =IF($I$19=$A$67,"Administração Central da empresa ou consultoria - overhead","Seguro e Garantia") -> Seguro e Garantia | M27: =IF($I$19=$A$67,"K2","SG") -> SG | N27: 0.0048 | O27: - | P27: =VLOOKUP(CONCATENATE(I$19,"-",M27),$C$2:$G$57,3,FALSE) -> 0.003 | Q27: =VLOOKUP(CONCATENATE(I$19,"-",M27),$C$2:$G$57,4,FALSE) -> 0.0048 | R27: =VLOOKUP(CONCATENATE(I$19,"-",M27),$C$2:$G$57,5,FALSE) -> 0.0082
A28: =A27 -> Construção de Redes de Abastecimento de Água, Coleta de Esgoto | B28: BDI PAD | C28: =CONCATENATE(A28,"-",B28) -> Construção de Redes de Abastecimento de Água, Coleta de Esgoto-BDI PAD | E28: 0.2076 | F28: 0.2418 | G28: 0.2644 | I28: =IF($I$19=$A$67,"","Risco") -> Risco | M28: =IF($I$19=$A$67,"","R") -> R | N28: 0.0085 | O28: - | P28: =VLOOKUP(CONCATENATE(I$19,"-",M28),$C$2:$G$57,3,FALSE) -> 0.0056 | Q28: =VLOOKUP(CONCATENATE(I$19,"-",M28),$C$2:$G$57,4,FALSE) -> 0.0085 | R28: =VLOOKUP(CONCATENATE(I$19,"-",M28),$C$2:$G$57,5,FALSE) -> 0.0089
A29: Construção e Manutenção de Estações e Redes de Distribuição de Energia Elétrica | B29: AC | C29: =CONCATENATE(A29,"-",B29) -> Construção e Manutenção de Estações e Redes de Distribuição de Energia Elétrica-AC | E29: 0.0529 | F29: 0.0592 | G29: 0.0793 | I29: =IF($I$19=$A$67,"","Despesas Financeiras") -> Despesas Financeiras | M29: =IF($I$19=$A$67,"","DF") -> DF | N29: 0.0085 | O29: - | P29: =VLOOKUP(CONCATENATE(I$19,"-",M29),$C$2:$G$57,3,FALSE) -> 0.0085 | Q29: =VLOOKUP(CONCATENATE(I$19,"-",M29),$C$2:$G$57,4,FALSE) -> 0.0085 | R29: =VLOOKUP(CONCATENATE(I$19,"-",M29),$C$2:$G$57,5,FALSE) -> 0.0111
A30: =A29 -> Construção e Manutenção de Estações e Redes de Distribuição de Energia Elétrica | B30: SG | C30: =CONCATENATE(A30,"-",B30) -> Construção e Manutenção de Estações e Redes de Distribuição de Energia Elétrica-SG | E30: 0.0025 | F30: 0.0051 | G30: 0.0056 | I30: =IF($I$19=$A$67,"Margem bruta da empresa de consultoria","Lucro") -> Lucro | M30: =IF($I$19=$A$67,"K3","L") -> L | N30: 0.035 | O30: - | P30: =VLOOKUP(CONCATENATE(I$19,"-",M30),$C$2:$G$57,3,FALSE) -> 0.035 | Q30: =VLOOKUP(CONCATENATE(I$19,"-",M30),$C$2:$G$57,4,FALSE) -> 0.0511 | R30: =VLOOKUP(CONCATENATE(I$19,"-",M30),$C$2:$G$57,5,FALSE) -> 0.0622
A31: =A30 -> Construção e Manutenção de Estações e Redes de Distribuição de Energia Elétrica | B31: R | C31: =CONCATENATE(A31,"-",B31) -> Construção e Manutenção de Estações e Redes de Distribuição de Energia Elétrica-R | E31: 0.01 | F31: 0.0148 | G31: 0.0197 | I31: Tributos (impostos COFINS 3%, e PIS 0,65%) | M31: CP | N31: 0.0365 | O31: - | P31: 0.0365 | Q31: 0.0365 | R31: 0.0365
A32: =A31 -> Construção e Manutenção de Estações e Redes de Distribuição de Energia Elétrica | B32: DF | C32: =CONCATENATE(A32,"-",B32) -> Construção e Manutenção de Estações e Redes de Distribuição de Energia Elétrica-DF | E32: 0.0101 | F32: 0.0107 | G32: 0.0111 | I32: Tributos (ISS, variável de acordo com o município) | M32: ISS | N32: =IF($I$19<>$A$66,Q22*Q21,0) -> 0.025 | O32: - | P32: 0 | Q32: 0.025 | R32: 0.05
A33: =A32 -> Construção e Manutenção de Estações e Redes de Distribuição de Energia Elétrica | B33: L | C33: =CONCATENATE(A33,"-",B33) -> Construção e Manutenção de Estações e Redes de Distribuição de Energia Elétrica-L | E33: 0.08 | F33: 0.0831 | G33: 0.0951 | I33: Tributos (Contribuição Previdenciária sobre a Receita Bruta - 0% ou 4,5% - Desoneração) | M33: CPRB | N33: =IF(AND($I$19<>$A$66,Q19="Sim"),4.5%,0%) -> 0 | O33: =IF(AND(N33>=P33, N33<=R33), "OK", "Não OK") -> OK | P33: 0 | Q33: 0.045 | R33: 0.045
A34: =A33 -> Construção e Manutenção de Estações e Redes de Distribuição de Energia Elétrica | B34: BDI PAD | C34: =CONCATENATE(A34,"-",B34) -> Construção e Manutenção de Estações e Redes de Distribuição de Energia Elétrica-BDI PAD | E34: 0.24 | F34: 0.2584 | G34: 0.2786 | I34: BDI SEM desoneração (Fórmula Acórdão TCU) | M34: BDI PAD | N34: =IF($I$19=$A$66,0,ROUND((((1+N26+N27+N28)*(1+N29)*(1+N30)/(1-(N31+N32)))-1),4)) -> 0.1654 | O34: =IF(OR($I$19=$A$67,$I$19=$A$66,AND(N34>=P34, N34<=R34)), "OK", "FORA DO INTERVALO") -> OK | P34: =IF($I$19=$A$66,0,VLOOKUP(CONCATENATE($I$19,"-",$M34),$C$2:$G$57,3,FALSE)) -> 0.111 | Q34: =IF($I$19=$A$66,0,VLOOKUP(CONCATENATE($I$19,"-",$M34),$C$2:$G$57,4,FALSE)) -> 0.1402 | R34: =IF($I$19=$A$66,0,VLOOKUP(CONCATENATE($I$19,"-",$M34),$C$2:$G$57,5,FALSE)) -> 0.168
A35: Obras Portuárias, Marítimas e Fluviais | B35: AC | C35: =CONCATENATE(A35,"-",B35) -> Obras Portuárias, Marítimas e Fluviais-AC | E35: 0.04 | F35: 0.0552 | G35: 0.0785 | I35: BDI COM desoneração | M35: BDI DES | N35: =IF($I$19=$A$66,0,ROUND((((1+N26+N27+N28)*(1+N29)*(1+N30)/(1-(N31+N32+N33)))-1),4)) -> 0.1654 | O35: =IF(Q19<>"Sim","",O34) | V35: =AND(COUNTA(N26:N31)=6,O34<>"ok",NOT(V37)) -> FALSE | W35: pedir anexo
A36: =A35 -> Obras Portuárias, Marítimas e Fluviais | B36: SG | C36: =CONCATENATE(A36,"-",B36) -> Obras Portuárias, Marítimas e Fluviais-SG | E36: 0.0081 | F36: 0.0122 | G36: 0.0199
A37: =A36 -> Obras Portuárias, Marítimas e Fluviais | B37: R | C37: =CONCATENATE(A37,"-",B37) -> Obras Portuárias, Marítimas e Fluviais-R | E37: 0.0146 | F37: 0.0232 | G37: 0.0316 | I37: =IF(V37,"X","") | J37: Anexo: Relatório Técnico Circunstanciado justificando a adoção do percentual de cada parcela do BDI. | V37: FALSE | W37: anexo apresentado
I39: Os valores de BDI foram calculados com o emprego da fórmula:
A40: =A37 -> Obras Portuárias, Marítimas e Fluviais | B40: DF | C40: =CONCATENATE(A40,"-",B40) -> Obras Portuárias, Marítimas e Fluviais-DF | E40: 0.0094 | F40: 0.0102 | G40: 0.0133 | L40: =IF(Q19="Sim","BDI.DES =","BDI.PAD =") -> BDI.PAD = | M40: =IF($I$19=$A$67,"(1+K1+K2)*(1+K3)","(1+AC + S + R + G)*(1 + DF)*(1+L)") -> (1+AC + S + R + G)*(1 + DF)*(1+L) | P40: - 1
A41: =A40 -> Obras Portuárias, Marítimas e Fluviais | B41: L | C41: =CONCATENATE(A41,"-",B41) -> Obras Portuárias, Marítimas e Fluviais-L | E41: 0.0714 | F41: 0.084 | G41: 0.1043 | M41: =IF(Q19="Sim","(1-CP-ISS-CRPB)","(1-CP-ISS)") -> (1-CP-ISS)
A42: =A41 -> Obras Portuárias, Marítimas e Fluviais | B42: BDI PAD | C42: =CONCATENATE(A42,"-",B42) -> Obras Portuárias, Marítimas e Fluviais-BDI PAD | E42: 0.228 | F42: 0.2748 | G42: 0.3095
I43: =CONCATENATE("Declaro para os devidos fins que, conforme legislação tributária municipal, a base de cálculo para ",I19,", é de ",Q21*100,"%, com a respectiva alíquota de ",Q22*100,"%.") -> Declaro para os devidos fins que, conforme legislação tributária municipal, a base de cálculo para Fornecimento de Materiais e Equipamentos (aquisição indireta - em conjunto com licitação de obras), é de 50%, com a respectiva alíquota de 5%.
I45: =CONCATENATE("Declaro para os devidos fins que o regime de Contribuição Previdenciária sobre a Receita Bruta adotado para elaboração do orçamento foi ",IF(Q19="Sim","COM","SEM")," Desoneração, e que esta é a alternativa mais adequada para a Administração Pública.") -> Declaro para os devidos fins que o regime de Contribuição Previdenciária sobre a Receita Bruta adotado para elaboração do orçamento foi SEM Desoneração, e que esta é a alternativa mais adequada para a Administração Pública.
...

Sheet SÃO SEBASTIAO
A1: LLES Engenharia e Projetos LTDA
A2: CNPJ 13.103.698/0001-12
A3: Rua Carlos Roque, 45, térreo – Centro – CEP 45-490-000, Laje - Ba TEL: (75) 99989 6598 – (75) 99805 2089, e-mail: contato@llesengenharia.com.br
A5: 01 – NOME DA PREFEITURA PROPONENTE: | E5: 02 – DESCRIÇÃO:
A6: =DADOS!B4 -> PREFEITURA MUNICIPAL DE SÃO FELIPE/BA | E6: =DADOS!B8 -> PAVIMENTAÇÃO ASFÁLTICA DIVERSAS RUAS, NO MUNICÍPIO DE SÃO FELIPE/BA | K6: BDI | L6: 1.2009
A7: 03 –LOCALIDADE: | E7: 04 –DATA: | G7: 05 - BANCOS: | I7: 06 - BDI
A8: =DADOS!B5 -> SÃO FELIPE/BA | E8: =DADOS!B18 -> 45812 | G8: =DADOS!B10 -> SINAPI - 01/2025 - Bahia SICRO3 - 10/2024 - Bahia ORSE - 12/2024 - Sergipe | I8: =DADOS!B11 -> 0.2009 | K8: Kappa PLANILHA: | L8: 1 | N8: Kappa ADM | O8: 1
A10: PLANILHA ORÇAMENTÁRIA INDIVIDUAL - RUA SÃO SEBASTIAO
A12: Item | B12: Código | C12: Banco | D12: Descrição | E12: Und | F12: Quant. | G12: Valor Unit CHEIO | H12: Valor Unit | I12: Valor Unit com BDI | J12: Total
A13: 1 | D13: ADMINISTRAÇÃO DE OBRA | J13: =SUM(J14:J15) -> #REF!
A14: 1.1 | B14: 93565 | C14: SINAPI | D14: ENGENHEIRO CIVIL DE OBRA JUNIOR COM ENCARGOS COMPLEMENTARES | E14: MES | F14: =ROUND(0.5*#REF!,2) -> #REF! | G14: 16317.85 | H14: =ROUND(G14*$O$8,2) -> 16317.85 | I14: =ROUND(H14*$L$6,2) -> 19596.11 | J14: =ROUND(I14*F14,2) -> #REF!
A15: 1.2 | B15: 93572 | C15: SINAPI | D15: ENCARREGADO GERAL DE OBRAS COM ENCARGOS COMPLEMENTARES | E15: MES | F15: =ROUND(0.5*#REF!,2) -> #REF! | G15: 5290.1 | H15: =ROUND(G15*$O$8,2) -> 5290.1 | I15: =ROUND(H15*$L$6,2) -> 6352.88 | J15: =ROUND(I15*F15,2) -> #REF!
A16: 2 | D16: SERVIÇOS PRELIMINARES | J16: =SUM(J17:J18) -> #REF!
A17: 2.1 | B17: CP08 | C17: Próprio | D17: SINAPI (74209/001) ATUALIZADO- PLACA DE OBRA EM CHAPA DE ACO GALVANIZADO | E17: m² | F17: =ROUND(0.5*#REF!,2) -> #REF! | G17: 394.37 | H17: =ROUND(G17*$L$8,2) -> 394.37 | I17: =ROUND(H17*$L$6,2) -> 473.6 | J17: =ROUND(I17*F17,2) -> #REF!
A18: 2.2 | B18: 93208 | C18: SINAPI | D18: EXECUÇÃO DE ALMOXARIFADO EM CANTEIRO DE OBRA EM CHAPA DE MADEIRA COMPENSADA, INCLUSO PRATELEIRAS. AF_02/2016 | E18: m² | F18: =ROUND(0.5*#REF!,2) -> #REF! | G18: 913.74 | H18: =ROUND(G18*$L$8,2) -> 913.74 | I18: =ROUND(H18*$L$6,2) -> 1097.31 | J18: =ROUND(I18*F18,2) -> #REF!
A19: 3 | D19: PAVIMENTAÇÃO | J19: =SUM(J20:J24) -> #REF!
A20: 3.3 | B20: 101852 | C20: SINAPI | D20: REASSENTAMENTO DE PARALELEPÍPEDOS, REJUNTAMENTO COM ARGAMASSA, COM REAPROVEITAMENTO DOS PARALELEPÍPEDOS - INCLUSO RETIRADA E COLOCAÇÃO DO MATERIAL. AF_12/2020 | E20: m² | F20: =ROUND(#REF!,2) -> #REF! | G20: 67.53 | H20: =ROUND(G20*$L$8,2) -> 67.53 | I20: =ROUND(H20*$L$6,2) -> 81.1 | J20: =ROUND(I20*F20,2) -> #REF!
A21: 3.1 | B21: COMP014 | C21: Próprio | D21: LIMPEZA DE RUAS (VARRIÇÃO E REMOÇÃO DE ENTULHOS) | E21: m² | F21: =ROUND(#REF!,2) -> #REF! | G21: 0.48 | H21: =ROUND(G21*$L$8,2) -> 0.48 | I21: =ROUND(H21*$L$6,2) -> 0.58 | J21: =ROUND(I21*F21,2) -> #REF!
A22: 3.2 | B22: 96402 | C22: SINAPI | D22: EXECUÇÃO DE PINTURA DE LIGAÇÃO COM EMULSÃO ASFÁLTICA RR-2C. AF_11/2019 | E22: m² | F22: =ROUND(#REF!,2) -> #REF! | G22: 2.13 | H22: =ROUND(G22*$L$8,2) -> 2.13 | I22: =ROUND(H22*$L$6,2) -> 2.56 | J22: =ROUND(I22*F22,2) -> #REF!
A23: 3.3 | B23: 95995 | C23: SINAPI | D23: EXECUÇÃO DE PAVIMENTO COM APLICAÇÃO DE CONCRETO ASFÁLTICO, CAMADA DE ROLAMENTO - EXCLUSIVE CARGA E TRANSPORTE. AF_11/2019 | E23: m³ | F23: =ROUND(#REF!,2) -> #REF! | G23: 1175.96 | H23: =ROUND(G23*$L$8,2) -> 1175.96 | I23: =ROUND(H23*$L$6,2) -> 1412.21 | J23: =ROUND(I23*F23,2) -> #REF!
A24: 3.4 | B24: 0179 | C24: Próprio | D24: Copia da SINAPI (95303) - TRANSPORTE COM CAMINHÃO BASCULANTE 10 M3 DE MASSA ASFALTICA PARA PAVIMENTAÇÃO URBANA | E24: M3XKM | F24: =ROUND(#REF!,2) -> #REF! | G24: 1.1 | H24: =ROUND(G24*$L$8,2) -> 1.1 | I24: =ROUND(H24*$L$6,2) -> 1.32 | J24: =ROUND(I24*F24,2) -> #REF!
A25: 4 | D25: SINALIZAÇÃO VIÁRIA | J25: =SUM(J26:J28) -> #REF!
A26: 4.1 | B26: 102512 | C26: SINAPI | D26: PINTURA DE EIXO VIÁRIO SOBRE ASFALTO COM TINTA RETRORREFLETIVA A BASE DE RESINA ACRÍLICA COM MICROESFERAS DE VIDRO, APLICAÇÃO MECÂNICA COM DEMARCADORA AUTOPROPELIDA. AF_05/2021 | E26: M | F26: =ROUND(#REF!,2) -> #REF! | G26: 4.12 | H26: =ROUND(G26*$L$8,2) -> 4.12 | I26: =ROUND(H26*$L$6,2) -> 4.95 | J26: =ROUND(I26*F26,2) -> #REF!
A27: 4.2 | B27: COMP008 | C27: Próprio | D27: PLACA DE SINALIZAÇÃO VERTICAL PERMANENTE, COM PLACA DE AÇO 60X60CM, COM POSTE DE AÇO GALVANIZADO H=3,00M - FORNECIMENTO E INSTALAÇÃO | E27: UN | F27: =ROUND(#REF!,2) -> #REF! | G27: 876.99 | H27: =ROUND(G27*$L$8,2) -> 876.99 | I27: =ROUND(H27*$L$6,2) -> 1053.18 | J27: =ROUND(I27*F27,2) -> #REF!
A28: 4.3 | B28: COMP011 | C28: Próprio | D28: Copia da SINAPI (73916/002) - PLACA ESMALTADA PARA IDENTIFICAÇÃO NR DE RUA, DIMENSÕES 45X25CM | E28: UN | F28: =ROUND(#REF!,2) -> #REF! | G28: 102.61 | H28: =ROUND(G28*$L$8,2) -> 102.61 | I28: =ROUND(H28*$L$6,2) -> 123.22 | J28: =ROUND(I28*F28,2) -> #REF!
H29: TOTAL GERAL: | J29: =J13+J16+J19+J25 -> #REF!
A36: =DADOS!B5 -> SÃO FELIPE/BA | H36: =DADOS!B18 -> 45812
A37: Local | H37: Data
A42: Responsável Técnico
A43: Nome: | C43: =DADOS!B15 -> Eliabe Vitória Souza
A44: Título: | C44: =DADOS!B16 -> Engenheiro Civil
A45: CREA/CAU: | C45: =DADOS!B17 -> CREA/BA:051487735-9

Sheet SÃO BENEDITO
A1: LLES Engenharia e Projetos LTDA
A2: CNPJ 13.103.698/0001-12
A3: Rua Carlos Roque, 45, térreo – Centro – CEP 45-490-000, Laje - Ba TEL: (75) 99989 6598 – (75) 99805 2089, e-mail: contato@llesengenharia.com.br
A5: 01 – NOME DA PREFEITURA PROPONENTE: | E5: 02 – DESCRIÇÃO:
A6: =DADOS!B4 -> PREFEITURA MUNICIPAL DE SÃO FELIPE/BA | E6: =DADOS!B8 -> PAVIMENTAÇÃO ASFÁLTICA DIVERSAS RUAS, NO MUNICÍPIO DE SÃO FELIPE/BA | K6: BDI | L6: 1.2009
A7: 03 –LOCALIDADE: | E7: 04 –DATA: | G7: 05 - BANCOS: | I7: 06 - BDI
A8: =DADOS!B5 -> SÃO FELIPE/BA | E8: =DADOS!B18 -> 45812 | G8: =DADOS!B10 -> SINAPI - 01/2025 - Bahia SICRO3 - 10/2024 - Bahia ORSE - 12/2024 - Sergipe | I8: =DADOS!B11 -> 0.2009 | K8: Kappa PLANILHA: | L8: 1 | N8: Kappa ADM | O8: 1
A10: PLANILHA ORÇAMENTÁRIA INDIVIDUAL - SÃO BENEDITO
A12: Item | B12: Código | C12: Banco | D12: Descrição | E12: Und | F12: Quant. | G12: Valor Unit CHEIO | H12: Valor Unit | I12: Valor Unit com BDI | J12: Total
A13: 1 | D13: ADMINISTRAÇÃO DE OBRA | J13: =SUM(J14:J15) -> #REF!
A14: 1.1 | B14: 93565 | C14: SINAPI | D14: ENGENHEIRO CIVIL DE OBRA JUNIOR COM ENCARGOS COMPLEMENTARES | E14: MES | F14: =ROUND(0.35*#REF!,2) -> #REF! | G14: 16317.85 | H14: =ROUND(G14*$O$8,2) -> 16317.85 | I14: =ROUND(H14*$L$6,2) -> 19596.11 | J14: =ROUND(I14*F14,2) -> #REF!
A15: 1.2 | B15: 93572 | C15: SINAPI | D15: ENCARREGADO GERAL DE OBRAS COM ENCARGOS COMPLEMENTARES | E15: MES | F15: =ROUND(0.35*#REF!,2) -> #REF! | G15: 5290.1 | H15: =ROUND(G15*$O$8,2) -> 5290.1 | I15: =ROUND(H15*$L$6,2) -> 6352.88 | J15: =ROUND(I15*F15,2) -> #REF!
A16: 2 | D16: SERVIÇOS PRELIMINARES | J16: =SUM(J17:J18) -> #REF!
A17: 2.1 | B17: CP08 | C17: Próprio | D17: SINAPI (74209/001) ATUALIZADO- PLACA DE OBRA EM CHAPA DE ACO GALVANIZADO | E17: m² | F17: =ROUND(0.35*#REF!,2) -> #REF! | G17: 394.37 | H17: =ROUND(G17*$L$8,2) -> 394.37 | I17: =ROUND(H17*$L$6,2) -> 473.6 | J17: =ROUND(I17*F17,2) -> #REF!
A18: 2.2 | B18: 93208 | C18: SINAPI | D18: EXECUÇÃO DE ALMOXARIFADO EM CANTEIRO DE OBRA EM CHAPA DE MADEIRA COMPENSADA, INCLUSO PRATELEIRAS. AF_02/2016 | E18: m² | F18: =ROUND(0.35*#REF!,2) -> #REF! | G18: 913.74 | H18: =ROUND(G18*$L$8,2) -> 913.74 | I18: =ROUND(H18*$L$6,2) -> 1097.31 | J18: =ROUND(I18*F18,2) -> #REF!
A19: 3 | D19: PAVIMENTAÇÃO | J19: =SUM(J20:J24) -> #REF!
A20: 3.3 | B20: 101852 | C20: SINAPI | D20: REASSENTAMENTO DE PARALELEPÍPEDOS, REJUNTAMENTO COM ARGAMASSA, COM REAPROVEITAMENTO DOS PARALELEPÍPEDOS - INCLUSO RETIRADA E COLOCAÇÃO DO MATERIAL. AF_12/2020 | E20: m² | F20: =ROUND(#REF!,2) -> #REF! | G20: 67.53 | H20: =ROUND(G20*$L$8,2) -> 67.53 | I20: =ROUND(H20*$L$6,2) -> 81.1 | J20: =ROUND(I20*F20,2) -> #REF!
A21: 3.1 | B21: COMP014 | C21: Próprio | D21: LIMPEZA DE RUAS (VARRIÇÃO E REMOÇÃO DE ENTULHOS) | E21: m² | F21: =ROUND(#REF!,2) -> #REF! | G21: 0.48 | H21: =ROUND(G21*$L$8,2) -> 0.48 | I21: =ROUND(H21*$L$6,2) -> 0.58 | J21: =ROUND(I21*F21,2) -> #REF!
A22: 3.2 | B22: 96402 | C22: SINAPI | D22: EXECUÇÃO DE PINTURA DE LIGAÇÃO COM EMULSÃO ASFÁLTICA RR-2C. AF_11/2019 | E22: m² | F22: =ROUND(#REF!,2) -> #REF! | G22: 2.13 | H22: =ROUND(G22*$L$8,2) -> 2.13 | I22: =ROUND(H22*$L$6,2) -> 2.56 | J22: =ROUND(I22*F22,2) -> #REF!
A23: 3.3 | B23: 95995 | C23: SINAPI | D23: EXECUÇÃO DE PAVIMENTO COM APLICAÇÃO DE CONCRETO ASFÁLTICO, CAMADA DE ROLAMENTO - EXCLUSIVE CARGA E TRANSPORTE. AF_11/2019 | E23: m³ | F23: =ROUND(#REF!,2) -> #REF! | G23: 1175.96 | H23: =ROUND(G23*$L$8,2) -> 1175.96 | I23: =ROUND(H23*$L$6,2) -> 1412.21 | J23: =ROUND(I23*F23,2) -> #REF!
A24: 3.4 | B24: 0179 | C24: Próprio | D24: Copia da SINAPI (95303) - TRANSPORTE COM CAMINHÃO BASCULANTE 10 M3 DE MASSA ASFALTICA PARA PAVIMENTAÇÃO URBANA | E24: M3XKM | F24: =ROUND(#REF!,2) -> #REF! | G24: 1.1 | H24: =ROUND(G24*$L$8,2) -> 1.1 | I24: =ROUND(H24*$L$6,2) -> 1.32 | J24: =ROUND(I24*F24,2) -> #REF!
A25: 4 | D25: SINALIZAÇÃO VIÁRIA | J25: =SUM(J26:J28) -> #REF!
A26: 4.1 | B26: 102512 | C26: SINAPI | D26: PINTURA DE EIXO VIÁRIO SOBRE ASFALTO COM TINTA RETRORREFLETIVA A BASE DE RESINA ACRÍLICA COM MICROESFERAS DE VIDRO, APLICAÇÃO MECÂNICA COM DEMARCADORA AUTOPROPELIDA. AF_05/2021 | E26: M | F26: =ROUND(#REF!,2) -> #REF! | G26: 4.12 | H26: =ROUND(G26*$L$8,2) -> 4.12 | I26: =ROUND(H26*$L$6,2) -> 4.95 | J26: =ROUND(I26*F26,2) -> #REF!
A27: 4.2 | B27: COMP008 | C27: Próprio | D27: PLACA DE SINALIZAÇÃO VERTICAL PERMANENTE, COM PLACA DE AÇO 60X60CM, COM POSTE DE AÇO GALVANIZADO H=3,00M - FORNECIMENTO E INSTALAÇÃO | E27: UN | F27: =ROUND(#REF!,2) -> #REF! | G27: 876.99 | H27: =ROUND(G27*$L$8,2) -> 876.99 | I27: =ROUND(H27*$L$6,2) -> 1053.18 | J27: =ROUND(I27*F27,2) -> #REF!
A28: 4.3 | B28: COMP011 | C28: Próprio | D28: Copia da SINAPI (73916/002) - PLACA ESMALTADA PARA IDENTIFICAÇÃO NR DE RUA, DIMENSÕES 45X25CM | E28: UN | F28: =ROUND(#REF!,2) -> #REF! | G28: 102.61 | H28: =ROUND(G28*$L$8,2) -> 102.61 | I28: =ROUND(H28*$L$6,2) -> 123.22 | J28: =ROUND(I28*F28,2) -> #REF!
H29: TOTAL GERAL: | J29: =J13+J16+J19+J25 -> #REF!
A36: =DADOS!B5 -> SÃO FELIPE/BA | H36: =DADOS!B18 -> 45812
A37: Local | H37: Data
A42: Responsável Técnico
A43: Nome: | C43: =DADOS!B15 -> Eliabe Vitória Souza
A44: Título: | C44: =DADOS!B16 -> Engenheiro Civil
A45: CREA/CAU: | C45: =DADOS!B17 -> CREA/BA:051487735-9

Sheet RUA DA LINHA
A1: LLES Engenharia e Projetos LTDA
A2: CNPJ 13.103.698/0001-12
A3: Rua Carlos Roque, 45, térreo – Centro – CEP 45-490-000, Laje - Ba TEL: (75) 99989 6598 – (75) 99805 2089, e-mail: contato@llesengenharia.com.br
A5: 01 – NOME DA PREFEITURA PROPONENTE: | E5: 02 – DESCRIÇÃO:
A6: =DADOS!B4 -> PREFEITURA MUNICIPAL DE SÃO FELIPE/BA | E6: =DADOS!B8 -> PAVIMENTAÇÃO ASFÁLTICA DIVERSAS RUAS, NO MUNICÍPIO DE SÃO FELIPE/BA | K6: BDI | L6: 1.2009
A7: 03 –LOCALIDADE: | E7: 04 –DATA: | G7: 05 - BANCOS: | I7: 06 - BDI
A8: =DADOS!B5 -> SÃO FELIPE/BA | E8: =DADOS!B18 -> 45812 | G8: =DADOS!B10 -> SINAPI - 01/2025 - Bahia SICRO3 - 10/2024 - Bahia ORSE - 12/2024 - Sergipe | I8: =DADOS!B11 -> 0.2009 | K8: Kappa PLANILHA: | L8: 1 | N8: Kappa ADM | O8: 1
A10: PLANILHA ORÇAMENTÁRIA INDIVIDUAL - RUA DA LINHA
A12: Item | B12: Código | C12: Banco | D12: Descrição | E12: Und | F12: Quant. | G12: Valor Unit CHEIO | H12: Valor Unit | I12: Valor Unit com BDI | J12: Total
A13: 1 | D13: ADMINISTRAÇÃO DE OBRA | J13: =SUM(J14:J15) -> #REF!
A14: 1.1 | B14: 93565 | C14: SINAPI | D14: ENGENHEIRO CIVIL DE OBRA JUNIOR COM ENCARGOS COMPLEMENTARES | E14: MES | F14: =ROUND(0.15*#REF!,2) -> #REF! | G14: 16317.85 | H14: =ROUND(G14*$O$8,2) -> 16317.85 | I14: =ROUND(H14*$L$6,2) -> 19596.11 | J14: =ROUND(I14*F14,2) -> #REF!
A15: 1.2 | B15: 93572 | C15: SINAPI | D15: ENCARREGADO GERAL DE OBRAS COM ENCARGOS COMPLEMENTARES | E15: MES | F15: =ROUND(0.15*#REF!,2) -> #REF! | G15: 5290.1 | H15: =ROUND(G15*$O$8,2) -> 5290.1 | I15: =ROUND(H15*$L$6,2) -> 6352.88 | J15: =ROUND(I15*F15,2) -> #REF!
A16: 2 | D16: SERVIÇOS PRELIMINARES | J16: =SUM(J17:J18) -> #REF!
A17: 2.1 | B17: CP08 | C17: Próprio | D17: SINAPI (74209/001) ATUALIZADO- PLACA DE OBRA EM CHAPA DE ACO GALVANIZADO | E17: m² | F17: =ROUND(0.15*#REF!,2) -> #REF! | G17: 394.37 | H17: =ROUND(G17*$L$8,2) -> 394.37 | I17: =ROUND(H17*$L$6,2) -> 473.6 | J17: =ROUND(I17*F17,2) -> #REF!
A18: 2.2 | B18: 93208 | C18: SINAPI | D18: EXECUÇÃO DE ALMOXARIFADO EM CANTEIRO DE OBRA EM CHAPA DE MADEIRA COMPENSADA, INCLUSO PRATELEIRAS. AF_02/2016 | E18: m² | F18: =ROUND(0.15*#REF!,2) -> #REF! | G18: 913.74 | H18: =ROUND(G18*$L$8,2) -> 913.74 | I18: =ROUND(H18*$L$6,2) -> 1097.31 | J18: =ROUND(I18*F18,2) -> #REF!
A19: 3 | D19: PAVIMENTAÇÃO | H19: =ROUND(G19*$L$8,2) -> 0 | I19: =ROUND(H19*$L$6,2) -> 0 | J19: =SUM(J20:J24) -> #REF!
A20: 3.3 | B20: 101852 | C20: SINAPI | D20: REASSENTAMENTO DE PARALELEPÍPEDOS, REJUNTAMENTO COM ARGAMASSA, COM REAPROVEITAMENTO DOS PARALELEPÍPEDOS - INCLUSO RETIRADA E COLOCAÇÃO DO MATERIAL. AF_12/2020 | E20: m² | F20: =ROUND(#REF!,2) -> #REF! | G20: 67.53 | H20: =ROUND(G20*$L$8,2) -> 67.53 | I20: =ROUND(H20*$L$6,2) -> 81.1 | J20: =ROUND(I20*F20,2) -> #REF!
A21: 3.1 | B21: COMP014 | C21: Próprio | D21: LIMPEZA DE RUAS (VARRIÇÃO E REMOÇÃO DE ENTULHOS) | E21: m² | F21: =ROUND(#REF!,2) -> #REF! | G21: 0.48 | H21: =ROUND(G21*$L$8,2) -> 0.48 | I21: =ROUND(H21*$L$6,2) -> 0.58 | J21: =ROUND(I21*F21,2) -> #REF!
A22: 3.2 | B22: 96402 | C22: SINAPI | D22: EXECUÇÃO DE PINTURA DE LIGAÇÃO COM EMULSÃO ASFÁLTICA RR-2C. AF_11/2019 | E22: m² | F22: =ROUND(#REF!,2) -> #REF! | G22: 2.13 | H22: =ROUND(G22*$L$8,2) -> 2.13 | I22: =ROUND(H22*$L$6,2) -> 2.56 | J22: =ROUND(I22*F22,2) -> #REF!
A23: 3.3 | B23: 95995 | C23: SINAPI | D23: EXECUÇÃO DE PAVIMENTO COM APLICAÇÃO DE CONCRETO ASFÁLTICO, CAMADA DE ROLAMENTO - EXCLUSIVE CARGA E TRANSPORTE. AF_11/2019 | E23: m³ | F23: =ROUND(#REF!,2) -> #REF! | G23: 1175.96 | H23: =ROUND(G23*$L$8,2) -> 1175.96 | I23: =ROUND(H23*$L$6,2) -> 1412.21 | J23: =ROUND(I23*F23,2) -> #REF!
A24: 3.4 | B24: 0179 | C24: Próprio | D24: Copia da SINAPI (95303) - TRANSPORTE COM CAMINHÃO BASCULANTE 10 M3 DE MASSA ASFALTICA PARA PAVIMENTAÇÃO URBANA | E24: M3XKM | F24: =ROUND(#REF!,2) -> #REF! | G24: 1.1 | H24: =ROUND(G24*$L$8,2) -> 1.1 | I24: =ROUND(H24*$L$6,2) -> 1.32 | J24: =ROUND(I24*F24,2) -> #REF!
A25: 4 | D25: SINALIZAÇÃO VIÁRIA | H25: =ROUND(G25*$L$8,2) -> 0 | I25: =ROUND(H25*$L$6,2) -> 0 | J25: =SUM(J26:J28) -> #REF!
A26: 4.1 | B26: 102512 | C26: SINAPI | D26: PINTURA DE EIXO VIÁRIO SOBRE ASFALTO COM TINTA RETRORREFLETIVA A BASE DE RESINA ACRÍLICA COM MICROESFERAS DE VIDRO, APLICAÇÃO MECÂNICA COM DEMARCADORA AUTOPROPELIDA. AF_05/2021 | E26: M | F26: =ROUND(#REF!,2) -> #REF! | G26: 4.12 | H26: =ROUND(G26*$L$8,2) -> 4.12 | I26: =ROUND(H26*$L$6,2) -> 4.95 | J26: =ROUND(I26*F26,2) -> #REF!
A27: 4.2 | B27: COMP008 | C27: Próprio | D27: PLACA DE SINALIZAÇÃO VERTICAL PERMANENTE, COM PLACA DE AÇO 60X60CM, COM POSTE DE AÇO GALVANIZADO H=3,00M - FORNECIMENTO E INSTALAÇÃO | E27: UN | F27: =ROUND(#REF!,2) -> #REF! | G27: 876.99 | H27: =ROUND(G27*$L$8,2) -> 876.99 | I27: =ROUND(H27*$L$6,2) -> 1053.18 | J27: =ROUND(I27*F27,2) -> #REF!
A28: 4.3 | B28: COMP011 | C28: Próprio | D28: Copia da SINAPI (73916/002) - PLACA ESMALTADA PARA IDENTIFICAÇÃO NR DE RUA, DIMENSÕES 45X25CM | E28: UN | F28: =ROUND(#REF!,2) -> #REF! | G28: 102.61 | H28: =ROUND(G28*$L$8,2) -> 102.61 | I28: =ROUND(H28*$L$6,2) -> 123.22 | J28: =ROUND(I28*F28,2) -> #REF!
H29: TOTAL GERAL: | J29: =J13+J16+J19+J25 -> #REF!
A36: =DADOS!B5 -> SÃO FELIPE/BA | H36: =DADOS!B18 -> 45812
A37: Local | H37: Data
A42: Responsável Técnico
A43: Nome: | C43: =DADOS!B15 -> Eliabe Vitória Souza
A44: Título: | C44: =DADOS!B16 -> Engenheiro Civil
A45: CREA/CAU: | C45: =DADOS!B17 -> CREA/BA:051487735-9

Sheet BDI INSUMO
E1: MIN | F1: MED | G1: MAX | N1: ="Quadro de Composição do BDI "&MID(CELL("nome.arquivo",N1),5+FIND("BDI (",CELL("nome.arquivo",N1)),1) -> #VALUE!
A2: Construção e Reforma de Edifícios | B2: AC | C2: =CONCATENATE(A2,"-",B2) -> Construção e Reforma de Edifícios-AC | E2: 0.03 | F2: 0.04 | G2: 0.055
A3: =A2 -> Construção e Reforma de Edifícios | B3: SG | C3: =CONCATENATE(A3,"-",B3) -> Construção e Reforma de Edifícios-SG | E3: 0.008 | F3: 0.008 | G3: 0.01
A4: =A3 -> Construção e Reforma de Edifícios | B4: R | C4: =CONCATENATE(A4,"-",B4) -> Construção e Reforma de Edifícios-R | E4: 0.0097 | F4: 0.0127 | G4: 0.0127 | I4: Nº TC/CR | K4: PROPONENTE / TOMADOR
A5: =A4 -> Construção e Reforma de Edifícios | B5: DF | C5: =CONCATENATE(A5,"-",B5) -> Construção e Reforma de Edifícios-DF | E5: 0.0059 | F5: 0.0123 | G5: 0.0139 | I5: 1039250-00 | K5: Prefeitura Municipal
I6: QUADRO DE COMPOSIÇÃO DE BDI
A7: =A5 -> Construção e Reforma de Edifícios | B7: L | C7: =CONCATENATE(A7,"-",B7) -> Construção e Reforma de Edifícios-L | E7: 0.0616 | F7: 0.074 | G7: 0.0896
A8: =A7 -> Construção e Reforma de Edifícios | B8: BDI PAD | C8: =CONCATENATE(A8,"-",B8) -> Construção e Reforma de Edifícios-BDI PAD | E8: 0.2034 | F8: 0.2212 | G8: 0.25 | I8: OBJETO
A9: Construção de Praças Urbanas, Rodovias, Ferrovias e recapeamento e pavimentação de vias urbanas | B9: AC | C9: =CONCATENATE(A9,"-",B9) -> Construção de Praças Urbanas, Rodovias, Ferrovias e recapeamento e pavimentação de vias urbanas-AC | E9: 0.038 | F9: 0.0401 | G9: 0.0467 | I9: PROJETO DE SINALIZAÇÃO E ADEQUAÇÃO DO CANTEIRO
A10: Construção de Praças Urbanas, Rodovias, Ferrovias e recapeamento e pavimentação de vias urbanas | B10: SG | C10: =CONCATENATE(A10,"-",B10) -> Construção de Praças Urbanas, Rodovias, Ferrovias e recapeamento e pavimentação de vias urbanas-SG | E10: 0.0032 | F10: 0.004 | G10: 0.0074
I15: 01 – NOME DA PREFEITURA PROPONENTE: | N15: 02 – DESCRIÇÃO:
I16: =DADOS!B4 -> PREFEITURA MUNICIPAL DE SÃO FELIPE/BA | N16: =DADOS!B8 -> PAVIMENTAÇÃO ASFÁLTICA DIVERSAS RUAS, NO MUNICÍPIO DE SÃO FELIPE/BA
I17: 03 –LOCALIDADE: | N17: 04 –DATA:
I18: =DADOS!B5 -> SÃO FELIPE/BA | N18: =DADOS!B18 -> 45812
I20: QUADRO DE COMPOSIÇÃO DE BDI
A22: Construção de Praças Urbanas, Rodovias, Ferrovias e recapeamento e pavimentação de vias urbanas | B22: R | C22: =CONCATENATE(A22,"-",B22) -> Construção de Praças Urbanas, Rodovias, Ferrovias e recapeamento e pavimentação de vias urbanas-R | E22: 0.005 | F22: 0.0056 | G22: 0.0097 | I22: TIPO DE OBRA DO EMPREENDIMENTO | Q22: DESONERAÇÃO
A23: Construção de Praças Urbanas, Rodovias, Ferrovias e recapeamento e pavimentação de vias urbanas | B23: DF | C23: =CONCATENATE(A23,"-",B23) -> Construção de Praças Urbanas, Rodovias, Ferrovias e recapeamento e pavimentação de vias urbanas-DF | E23: 0.0102 | F23: 0.0111 | G23: 0.0121 | I23: Fornecimento de Materiais e Equipamentos (aquisição indireta - em conjunto com licitação de obras) | Q23: Não
A24: Construção de Praças Urbanas, Rodovias, Ferrovias e recapeamento e pavimentação de vias urbanas | B24: L | C24: =CONCATENATE(A24,"-",B24) -> Construção de Praças Urbanas, Rodovias, Ferrovias e recapeamento e pavimentação de vias urbanas-L | E24: 0.0664 | F24: 0.073 | G24: 0.0869
A25: Construção de Praças Urbanas, Rodovias, Ferrovias e recapeamento e pavimentação de vias urbanas | B25: BDI PAD | C25: =CONCATENATE(A25,"-",B25) -> Construção de Praças Urbanas, Rodovias, Ferrovias e recapeamento e pavimentação de vias urbanas-BDI PAD | E25: 0.196 | F25: 0.2097 | G25: 0.2423 | I25: Conforme legislação tributária municipal, definir estimativa de percentual da base de cálculo para o ISS: | Q25: 0.5
A26: Construção de Redes de Abastecimento de Água, Coleta de Esgoto | B26: AC | C26: =CONCATENATE(A26,"-",B26) -> Construção de Redes de Abastecimento de Água, Coleta de Esgoto-AC | E26: 0.0343 | F26: 0.0493 | G26: 0.0671 | I26: Sobre a base de cálculo, definir a respectiva alíquota do ISS (entre 2% e 5%): | Q26: 0.05
A27: =A26 -> Construção de Redes de Abastecimento de Água, Coleta de Esgoto | B27: SG | C27: =CONCATENATE(A27,"-",B27) -> Construção de Redes de Abastecimento de Água, Coleta de Esgoto-SG | E27: 0.0028 | F27: 0.0049 | G27: 0.0075
I28: Itens | M28: Siglas | N28: % Adotado | O28: Situação | P28: 1º Quartil | Q28: Médio | R28: 3º Quartil | T28: =IF(V39,"Para BDI fora do intervalo estatístico, deve ser apresentado Relatório Técnico Circunstanciado justificando a adoção do percentual de cada parcela do BDI.","")
A29: =A27 -> Construção de Redes de Abastecimento de Água, Coleta de Esgoto | B29: R | C29: =CONCATENATE(A29,"-",B29) -> Construção de Redes de Abastecimento de Água, Coleta de Esgoto-R | E29: 0.01 | F29: 0.0139 | G29: 0.0174
A30: =A29 -> Construção de Redes de Abastecimento de Água, Coleta de Esgoto | B30: DF | C30: =CONCATENATE(A30,"-",B30) -> Construção de Redes de Abastecimento de Água, Coleta de Esgoto-DF | E30: 0.0094 | F30: 0.0099 | G30: 0.0117 | I30: =IF($I$23=$A$71,"Encargos Sociais incidentes sobre a mão de obra","Administração Central") -> Administração Central | M30: =IF($I$23=$A$71,"K1","AC") -> AC | N30: 0.015 | O30: - | P30: =VLOOKUP(CONCATENATE(I$23,"-",M30),$C$2:$G$61,3,FALSE) -> 0.015 | Q30: =VLOOKUP(CONCATENATE(I$23,"-",M30),$C$2:$G$61,4,FALSE) -> 0.0345 | R30: =VLOOKUP(CONCATENATE(I$23,"-",M30),$C$2:$G$61,5,FALSE) -> 0.0449
A31: =A30 -> Construção de Redes de Abastecimento de Água, Coleta de Esgoto | B31: L | C31: =CONCATENATE(A31,"-",B31) -> Construção de Redes de Abastecimento de Água, Coleta de Esgoto-L | E31: 0.0674 | F31: 0.0804 | G31: 0.094 | I31: =IF($I$23=$A$71,"Administração Central da empresa ou consultoria - overhead","Seguro e Garantia") -> Seguro e Garantia | M31: =IF($I$23=$A$71,"K2","SG") -> SG | N31: 0.003 | O31: - | P31: =VLOOKUP(CONCATENATE(I$23,"-",M31),$C$2:$G$61,3,FALSE) -> 0.003 | Q31: =VLOOKUP(CONCATENATE(I$23,"-",M31),$C$2:$G$61,4,FALSE) -> 0.0048 | R31: =VLOOKUP(CONCATENATE(I$23,"-",M31),$C$2:$G$61,5,FALSE) -> 0.0082
A32: =A31 -> Construção de Redes de Abastecimento de Água, Coleta de Esgoto | B32: BDI PAD | C32: =CONCATENATE(A32,"-",B32) -> Construção de Redes de Abastecimento de Água, Coleta de Esgoto-BDI PAD | E32: 0.2076 | F32: 0.2418 | G32: 0.2644 | I32: =IF($I$23=$A$71,"","Risco") -> Risco | M32: =IF($I$23=$A$71,"","R") -> R | N32: 0.0056 | O32: - | P32: =VLOOKUP(CONCATENATE(I$23,"-",M32),$C$2:$G$61,3,FALSE) -> 0.0056 | Q32: =VLOOKUP(CONCATENATE(I$23,"-",M32),$C$2:$G$61,4,FALSE) -> 0.0085 | R32: =VLOOKUP(CONCATENATE(I$23,"-",M32),$C$2:$G$61,5,FALSE) -> 0.0089
A33: Construção e Manutenção de Estações e Redes de Distribuição de Energia Elétrica | B33: AC | C33: =CONCATENATE(A33,"-",B33) -> Construção e Manutenção de Estações e Redes de Distribuição de Energia Elétrica-AC | E33: 0.0529 | F33: 0.0592 | G33: 0.0793 | I33: =IF($I$23=$A$71,"","Despesas Financeiras") -> Despesas Financeiras | M33: =IF($I$23=$A$71,"","DF") -> DF | N33: 0.0085 | O33: - | P33: =VLOOKUP(CONCATENATE(I$23,"-",M33),$C$2:$G$61,3,FALSE) -> 0.0085 | Q33: =VLOOKUP(CONCATENATE(I$23,"-",M33),$C$2:$G$61,4,FALSE) -> 0.0085 | R33: =VLOOKUP(CONCATENATE(I$23,"-",M33),$C$2:$G$61,5,FALSE) -> 0.0111
A34: =A33 -> Construção e Manutenção de Estações e Redes de Distribuição de Energia Elétrica | B34: SG | C34: =CONCATENATE(A34,"-",B34) -> Construção e Manutenção de Estações e Redes de Distribuição de Energia Elétrica-SG | E34: 0.0025 | F34: 0.0051 | G34: 0.0056 | I34: =IF($I$23=$A$71,"Margem bruta da empresa de consultoria","Lucro") -> Lucro | M34: =IF($I$23=$A$71,"K3","L") -> L | N34: 0.035 | O34: - | P34: =VLOOKUP(CONCATENATE(I$23,"-",M34),$C$2:$G$61,3,FALSE) -> 0.035 | Q34: =VLOOKUP(CONCATENATE(I$23,"-",M34),$C$2:$G$61,4,FALSE) -> 0.0511 | R34: =VLOOKUP(CONCATENATE(I$23,"-",M34),$C$2:$G$61,5,FALSE) -> 0.0622
A35: =A34 -> Construção e Manutenção de Estações e Redes de Distribuição de Energia Elétrica | B35: R | C35: =CONCATENATE(A35,"-",B35) -> Construção e Manutenção de Estações e Redes de Distribuição de Energia Elétrica-R | E35: 0.01 | F35: 0.0148 | G35: 0.0197 | I35: Tributos (impostos COFINS 3%, e PIS 0,65%) | M35: CP | N35: 0.0365 | O35: - | P35: 0.0365 | Q35: 0.0365 | R35: 0.0365
A36: =A35 -> Construção e Manutenção de Estações e Redes de Distribuição de Energia Elétrica | B36: DF | C36: =CONCATENATE(A36,"-",B36) -> Construção e Manutenção de Estações e Redes de Distribuição de Energia Elétrica-DF | E36: 0.0101 | F36: 0.0107 | G36: 0.0111 | I36: Tributos (ISS, variável de acordo com o município) | M36: ISS | N36: =IF($I$23<>$A$70,Q26*Q25,0) -> 0.025 | O36: - | P36: 0 | Q36: 0.025 | R36: 0.05
A37: =A36 -> Construção e Manutenção de Estações e Redes de Distribuição de Energia Elétrica | B37: L | C37: =CONCATENATE(A37,"-",B37) -> Construção e Manutenção de Estações e Redes de Distribuição de Energia Elétrica-L | E37: 0.08 | F37: 0.0831 | G37: 0.0951 | I37: Tributos (Contribuição Previdenciária sobre a Receita Bruta - 0% ou 4,5% - Desoneração) | M37: CPRB | N37: =IF(AND($I$23<>$A$70,Q23="Sim"),4.5%,0%) -> 0 | O37: =IF(AND(N37>=P37, N37<=R37), "OK", "Não OK") -> OK | P37: 0 | Q37: 0.045 | R37: 0.045
A38: =A37 -> Construção e Manutenção de Estações e Redes de Distribuição de Energia Elétrica | B38: BDI PAD | C38: =CONCATENATE(A38,"-",B38) -> Construção e Manutenção de Estações e Redes de Distribuição de Energia Elétrica-BDI PAD | E38: 0.24 | F38: 0.2584 | G38: 0.2786 | I38: BDI SEM desoneração (Fórmula Acórdão TCU) | M38: BDI PAD | N38: =IF($I$23=$A$70,0,ROUND((((1+N30+N31+N32)*(1+N33)*(1+N34)/(1-(N35+N36)))-1),4)) -> 0.1384 | O38: =IF(OR($I$23=$A$71,$I$23=$A$70,AND(N38>=P38, N38<=R38)), "OK", "FORA DO INTERVALO") -> OK | P38: =IF($I$23=$A$70,0,VLOOKUP(CONCATENATE($I$23,"-",$M38),$C$2:$G$61,3,FALSE)) -> 0.111 | Q38: =IF($I$23=$A$70,0,VLOOKUP(CONCATENATE($I$23,"-",$M38),$C$2:$G$61,4,FALSE)) -> 0.1402 | R38: =IF($I$23=$A$70,0,VLOOKUP(CONCATENATE($I$23,"-",$M38),$C$2:$G$61,5,FALSE)) -> 0.168
A39: Obras Portuárias, Marítimas e Fluviais | B39: AC | C39: =CONCATENATE(A39,"-",B39) -> Obras Portuárias, Marítimas e Fluviais-AC | E39: 0.04 | F39: 0.0552 | G39: 0.0785 | I39: BDI COM desoneração | M39: BDI DES | N39: =IF($I$23=$A$70,0,ROUND((((1+N30+N31+N32)*(1+N33)*(1+N34)/(1-(N35+N36+N37)))-1),4)) -> 0.1384 | O39: =IF(Q23<>"Sim","",O38) | V39: =AND(COUNTA(N30:N35)=6,O38<>"ok",NOT(V41)) -> FALSE | W39: pedir anexo
A40: =A39 -> Obras Portuárias, Marítimas e Fluviais | B40: SG | C40: =CONCATENATE(A40,"-",B40) -> Obras Portuárias, Marítimas e Fluviais-SG | E40: 0.0081 | F40: 0.0122 | G40: 0.0199
A41: =A40 -> Obras Portuárias, Marítimas e Fluviais | B41: R | C41: =CONCATENATE(A41,"-",B41) -> Obras Portuárias, Marítimas e Fluviais-R | E41: 0.0146 | F41: 0.0232 | G41: 0.0316 | I41: =IF(V41,"X","") | J41: Anexo: Relatório Técnico Circunstanciado justificando a adoção do percentual de cada parcela do BDI. | V41: FALSE | W41: anexo apresentado
I43: Os valores de BDI foram calculados com o emprego da fórmula:
A44: =A41 -> Obras Portuárias, Marítimas e Fluviais | B44: DF | C44: =CONCATENATE(A44,"-",B44) -> Obras Portuárias, Marítimas e Fluviais-DF | E44: 0.0094 | F44: 0.0102 | G44: 0.0133 | L44: =IF(Q23="Sim","BDI.DES =","BDI.PAD =") -> BDI.PAD = | M44: =IF($I$23=$A$71,"(1+K1+K2)*(1+K3)","(1+AC + S + R + G)*(1 + DF)*(1+L)") -> (1+AC + S + R + G)*(1 + DF)*(1+L) | P44: - 1
A45: =A44 -> Obras Portuárias, Marítimas e Fluviais | B45: L | C45: =CONCATENATE(A45,"-",B45) -> Obras Portuárias, Marítimas e Fluviais-L | E45: 0.0714 | F45: 0.084 | G45: 0.1043 | M45: =IF(Q23="Sim","(1-CP-ISS-CRPB)","(1-CP-ISS)") -> (1-CP-ISS)
A46: =A45 -> Obras Portuárias, Marítimas e Fluviais | B46: BDI PAD | C46: =CONCATENATE(A46,"-",B46) -> Obras Portuárias, Marítimas e Fluviais-BDI PAD | E46: 0.228 | F46: 0.2748 | G46: 0.3095
I47: =CONCATENATE("Declaro para os devidos fins que, conforme legislação tributária municipal, a base de cálculo para ",I23,", é de ",Q25*100,"%, com a respectiva alíquota de ",Q26*100,"%.") -> Declaro para os devidos fins que, conforme legislação tributária municipal, a base de cálculo para Fornecimento de Materiais e Equipamentos (aquisição indireta - em conjunto com licitação de obras), é de 50%, com a respectiva alíquota de 5%.
...

Sheet PLQ
A5: 01 – NOME DA PREFEITURA PROPONENTE: | E5: 02 – DESCRIÇÃO:
A6: =DADOS!B4 -> PREFEITURA MUNICIPAL DE SÃO FELIPE/BA | E6: =DADOS!B8 -> PAVIMENTAÇÃO ASFÁLTICA DIVERSAS RUAS, NO MUNICÍPIO DE SÃO FELIPE/BA
A7: 03 –LOCALIDADE: | E7: 04 –DATA: | G7: 05 - DATA-BASE: | I7: 06 - BDI
A8: =DADOS!B5 -> SÃO FELIPE/BA | E8: =DADOS!B18 -> 45812 | G8: =[5]DADOS!B10 -> SINAPI - 04/2025 - Bahia SICRO3 - 01/2025 - Bahia ORSE - 02/2025 - Sergipe | I8: =DADOS!B11 -> 0.2009
A10: MEMÓRIA DE CÁLCULO
A12: CÓDIGO | B12: BANCO | C12: DESCRIÇÃO | D12: UNIDADE | E12: DADOS NUMÉRICOS | L12: MEMÓRIA DE CÁLCULO
A13: ADMINISTRAÇÃO LOCAL
A14: 90776 | B14: SINAPI | C14: ENCARREGADO GERAL COM ENCARGOS COMPLEMENTARES | D14: H | E14: Quantidade | F14: Meses | G14: Dias | H14: Horas | I14: Altura | J14: Porcentagem | K14: Total
F15: =F18 -> 12 | G15: 30 | H15: 6 | K15: =ROUND(F15*G15*H15,2) -> 2160
J16: =SUM(K15:K15) -> 2160 | K16: =D14 -> H | P16: =6500*3 -> 19500
A17: 90777 | B17: SINAPI | C17: ENGENHEIRO CIVIL DE OBRA JUNIOR COM ENCARGOS COMPLEMENTARES | D17: H | E17: Quantidade | F17: Meses | G17: Dias | H17: Horas | I17: Altura | J17: Porcentagem | K17: Total
F18: 12 | G18: 30 | H18: 2 | K18: =ROUND(F18*G18*H18,2) -> 720
J19: =SUM(K18:K18) -> 720 | K19: =D17 -> H
A20: SERVIÇOS PRELIMINARES
A21: LLES002 | B21: Próprio | C21: PLACA DE OBRA EM CHAPA DE AÇO GALVANIZADO | D21: m² | E21: Quantidade | F21: Área | G21: Largura | H21: Comprimento | I21: Altura | J21: Porcentagem | K21: Total
E22: 8 | H22: 3 | I22: 1.5 | K22: =ROUND(H22*I22*E22,2) -> 36
J23: =SUM(K22:K22) -> 36 | K23: =D21 -> m²
A24: 93208 | B24: SINAPI | C24: EXECUÇÃO DE ALMOXARIFADO EM CANTEIRO DE OBRA EM CHAPA DE MADEIRA COMPENSADA, INCLUSO PRATELEIRAS. AF_02/2016 | D24: m² | E24: Quantidade | F24: Área | G24: Largura | H24: Comprimento | I24: Altura | J24: Porcentagem | K24: Total
E25: 2 | G25: 5 | H25: 2 | K25: =ROUND(G25*H25*E25,2) -> 20
J26: =SUM(K25) -> 20 | K26: =D24 -> m²
A27: LLES CP022 | B27: Próprio | C27: Adapatado da SINAPI (99064) - LOCAÇÃO DE PAVIMENTAÇÃO. AF_10/2018 | D27: M | E27: Estaca Inicial - EX | F27: Complemento estaca | G27: Estaca Final - EX | H27: Complemento estaca | I27: Comprimento | J27: Porcentagem | K27: Total | N27: ÁREA DA POLILINE
C28: TRECHOS DE VIAS | I28: 13160 | K28: =ROUND(I28,2) -> 13160 | N28: =ROUND(6946.54-874.82,2) -> 6071.72
J29: =SUM(K28:L28) -> 13160 | K29: =D27 -> M | S29: 188
A30: LLES 305 | B30: Próprio | C30: Copia - SINAPI (78472) ATUALIZADO - SERVICOS TOPOGRAFICOS PARA PAVIMENTACAO, INCLUSIVE NOTA DE SERVICOS, ACOMPANHAMENTO E GREIDE | D30: m² | E30: Estaca Inicial - EX | F30: Complemento estaca | G30: Largura Média | H30: Complemento estaca | I30: Comprimento | J30: Porcentagem | K30: Total
C31: TRECHOS DE VIAS | G31: 7 | I31: =I28 -> 13160 | K31: =ROUND(I31*G31,2) -> 92120
J32: =SUM(K31:L31) -> 92120 | K32: =D30 -> m²
A33: 4011212 | B33: SICRO03 | C33: Varredura da superfície para execução de revestimento asfáltico | D33: m² | E33: Quantidade | F33: Área | G33: Largura Média | H33: Comprimento | I33: Área de Entrada de rua | J33: Porcentagem | K33: Total | L33: área da poliline indicada em projeto | N33: ÁREA DA POLILINE | O33: LARGURA MÉDIA | P33: LARGURA UTILIZADA | Q33: ÁREA ENCONTRADA | R33: ENTRADA DE RUA | V33: 5870.99
C34: =C28 -> TRECHOS DE VIAS | G34: =G31 -> 7 | H34: =K28 -> 13160 | K34: =ROUND((G34*H34)+I34,2) -> 92120 | N34: =N28 -> 6071.72 | O34: =ROUND(N34/K28,2) -> 0.46 | P34: 10 | Q34: =ROUND(P34*K28,2) -> 131600 | R34: =ROUND(N34-Q34,2) -> -125528.28 | V34: =ROUND(4718.87,2) -> 4718.87
C35: =#REF! -> #REF! | H35: =#REF! -> #REF! | K35: =ROUND((G35*H35)+I35,2) -> #REF! | N35: =#REF! -> #REF! | O35: =ROUND(N35/#REF!,2) -> #REF! | P35: 8 | Q35: =ROUND(P35*#REF!,2) -> #REF! | R35: =ROUND(N35-Q35,2) -> #REF! | V35: =ROUND(4718.87,2) -> 4718.87
C36: =#REF! -> #REF! | H36: =#REF! -> #REF! | K36: =ROUND((G36*H36)+I36,2) -> #REF! | N36: =#REF! -> #REF! | O36: =IFERROR(ROUND(N36/#REF!,2),"") | P36: 9 | Q36: =ROUND(P36*#REF!,2) -> #REF! | R36: =ROUND(N36-Q36,2) -> #REF! | V36: =ROUND(1163.13,2) -> 1163.13
C37: =#REF! -> #REF! | H37: =#REF! -> #REF! | K37: =ROUND((G37*H37)+I37,2) -> #REF! | N37: =#REF! -> #REF! | O37: =IFERROR(ROUND(N37/#REF!,2),"") | P37: 6 | Q37: =ROUND(P37*#REF!,2) -> #REF! | R37: =ROUND(N37-Q37,2) -> #REF! | V37: 1488.1
C38: =#REF! -> #REF! | H38: =#REF! -> #REF! | K38: =ROUND((G38*H38)+I38,2) -> #REF! | N38: =#REF! -> #REF! | O38: =IFERROR(ROUND(N38/#REF!,2),"") | P38: 7 | Q38: =ROUND(P38*#REF!,2) -> #REF! | R38: =ROUND(N38-Q38,2) -> #REF! | V38: 555.21
