Workbook
Name Fonte: [2]PLANILHA!$I1

Sheet PAVIMENTAÇÃO SEDE
B1: PREFEITURA MUNICIPAL DE ANDARAÍ-BA
B3: RUAS LOTEAMENTO
B4: QUADRO DE QUANTITATIVOS
B5: RUA | C5: COMPRIMENTO (m) | D5: LARGURA MÉDIA (m) | E5: ÁREA DE PAVIMENTAÇÃO EM INTERTRAVADO (m²) | F5: ÁREA DE PAVIMENTAÇÃO EM PARALELEPIPEDO (m²) | G5: TIPO DE CALÇAMENTO | H5: MEIO FIO (m) | I5: MEIO FIO COM DESCONTO DE INTERSEÇÕES (m) | J5: ÁREA DE PASSEIO: COM DESCONTO DAS ÁREA DAS RAMPAS (m²) | K5: PASSEIO (m³) E=6 CM | L5: CINTA DE CONFINAMENTO EM CONCRETO PRÉ-FABRICADO (80X80X0,8X25)cm | M5: LIMPEZA (m²)
B6: TRAVESSA DO CAMPO: 0 - 5+2,451 | C6: 109.43 | E6: 654.62 | G6: INTERTRAVADO | H6: =C6*2 -> 218.86 | L6: =5.8+5.8 -> 11.6 | M6: =E6+F6 -> 654.62
B7: TRAVESSA DO CAMPO: 5+2,451 - 19 | C7: =407.19-C6 -> 297.76 | F7: 1640.74 | G7: PARALELEPIPEDO | H7: =C7*2 -> 595.52 | I7: =H7-23.2-10-11.8-12.9-11.9-12.7-12.4 -> 500.62 | J7: =(I7-109.42*2-22.35)*1.2-E28 -> 250.116 | K7: =(J7*0.06) -> 15.00696 | L7: 5.5 | M7: =E7+F7 -> 1640.74
B8: RUA DA MATA VERDE | C8: 145.56 | F8: 853.92 | G8: PARALELEPIPEDO | H8: =C8*2 -> 291.12 | I8: =H8-3.1 -> 288.02 | J8: =I8*1.2-E29 -> 321.144 | K8: =(J8*0.06) -> 19.26864 | L8: 3 | M8: =E8+F8 -> 853.92
B9: LADEIRA DO ENGENHEO VELHO: 0 -2+7,8 | C9: 47.66 | E9: 275.8 | G9: INTERTRAVADO | H9: =C9*2 -> 95.32 | L9: =5.2+5.5 -> 10.7 | M9: =E9+F9 -> 275.8
B10: LADEIRA DO ENGENHEO VELHO: 2+7,8-23+9,99 | C10: =470.6-C9 -> 422.94 | F10: 2496.98 | G10: PARALELEPIPEDO | H10: =C10*2 -> 845.88 | I10: =H10-9.8-9-11.6-10.8-9.6-11 -> 784.08 | J10: =(I10-47.4*2-33.19)*1.2-E31 -> 701.628 | K10: =(J10*0.06) -> 42.09768 | L10: 6 | M10: =E10+F10 -> 2496.98
B11: RUA 1 | C11: 67.4 | E11: 417.31 | G11: INTERTRAVADO | H11: =C11*2 -> 134.8 | M11: =E11+F11 -> 417.31
B12: RUA 2 | C12: 111.61 | F12: 619.56 | G12: PARALELEPIPEDO | H12: =C12*2 -> 223.22 | I12: =H12 -> 223.22 | J12: =I12*1.2-E33 -> 243.384 | K12: =(J12*0.06) -> 14.60304 | L12: =6+6 -> 12 | M12: =E12+F12 -> 619.56
B13: RUA 3 | C13: 27.63 | F13: 168.61 | G13: PARALELEPIPEDO | H13: =C13*2 -> 55.26 | I13: =H13 -> 55.26 | J13: =I13*1.2-E34 -> 41.832 | K13: =(J13*0.06) -> 2.50992 | L13: 7.1 | M13: =E13+F13 -> 168.61
B14: RUA 4 | C14: 105.42 | F14: 632.55 | G14: PARALELEPIPEDO | H14: =C14*2 -> 210.84 | I14: =H14 -> 210.84 | J14: =I14*1.2-E35 -> 228.528 | K14: =(J14*0.06) -> 13.71168 | L14: =6.7+6 -> 12.7 | M14: =E14+F14 -> 632.55
B15: TRAVESSA 1 | C15: 373.07 | F15: 2026.29 | G15: PARALELEPIPEDO | H15: =C15*2 -> 746.14 | I15: =H15 -> 746.14 | J15: =I15*1.2-E36 -> 858.648 | K15: =(J15*0.06) -> 51.51888 | M15: =E15+F15 -> 2026.29
B16: TRAVESSA 2 | C16: 360.26 | F16: 2036.68 | G16: PARALELEPIPEDO | H16: =C16*2 -> 720.52 | I16: =H16 -> 720.52 | J16: =I16*1.2-E37 -> 827.904 | K16: =(J16*0.06) -> 49.67424 | M16: =E16+F16 -> 2036.68
B17: TRAVESSA 3 | C17: 332.12 | F17: 1969.99 | G17: PARALELEPIPEDO | H17: =C17*2 -> 664.24 | I17: =H17 -> 664.24 | J17: =I17*1.2-E38 -> 760.368 | K17: =(J17*0.06) -> 45.62208 | M17: =E17+F17 -> 1969.99
B18: TRAVESSA 4 | C18: 301.47 | F18: 1819.85 | G18: PARALELEPIPEDO | H18: =C18*2 -> 602.94 | I18: =H18-5.5 -> 597.44 | J18: =I18*1.2-E39 -> 680.208 | K18: =(J18*0.06) -> 40.81248 | M18: =E18+F18 -> 1819.85
B19: TRAVESSA 5 | C19: 185.9 | F19: 1241.85 | G19: PARALELEPIPEDO | H19: =C19*2 -> 371.8 | I19: =H19 -> 371.8 | J19: =I19*1.2-E40 -> 421.68 | K19: =(J19*0.06) -> 25.3008 | M19: =E19+F19 -> 1241.85
B20: TRAVESSA 6 | C20: =184.3+94.56 -> 278.86 | F20: 1957.84 | G20: PARALELEPIPEDO | H20: =C20*2 -> 557.72 | I20: =H20-5.5 -> 552.22 | J20: =I20*1.2-E41 -> 625.944 | K20: =(J20*0.06) -> 37.55664 | M20: =E20+F20 -> 1957.84
B21: TRAVESSA 7 | C21: 54.53 | F21: 278.77 | G21: PARALELEPIPEDO | H21: =C21*2 -> 109.06 | I21: =H21-7.2 -> 101.86 | J21: =I21*1.2-E42 -> 97.752 | K21: =(J21*0.06) -> 5.86512 | M21: =E21+F21 -> 278.77
B22: TOTAL | C22: =SUM(C6:C21) -> 3221.62 | D22: - | E22: =SUM(E6:E21) -> 1347.73 | F22: =SUM(F6:F21) -> 17743.63 | H22: =SUM(H6:H21) -> 6443.24 | I22: =SUM(I6:I21) -> 5816.26 | J22: =SUM(J6:J21) -> 6059.136 | K22: =SUM(K6:K21) -> 363.54816 | L22: =SUM(L6:L21) -> 68.6 | M22: =SUM(M6:M21) -> 19091.36
B25: QUADRO DE RAMPAS COM PISO TATIL
B26: RUA | C26: QUANTIDADE | D26: ÁREA (m²) | E26: ÁREA TOTAL DAS RAMPAS (m²) | F26: PISO TATIL - APENAS NAS RAMPAS (m²) | G26: PISO TATIL NO PASSEIO 0,25x0,25 (m²)
B27: =B6 -> TRAVESSA DO CAMPO: 0 - 5+2,451
B28: =B7 -> TRAVESSA DO CAMPO: 5+2,451 - 19 | C28: 10 | D28: =1.2*5.1 -> 6.12 | E28: =C28*D28 -> 61.2 | F28: =C28*((1.2+1.5+1.2)*0.25) -> 9.75 | G28: =J7/1.2*0.25 -> 52.1075
B29: =B8 -> RUA DA MATA VERDE | C29: 4 | D29: =1.2*5.1 -> 6.12 | E29: =C29*D29 -> 24.48 | F29: =C29*((1.2+1.5+1.2)*0.25) -> 3.9 | G29: =J8/1.2*0.25 -> 66.905
B30: =B9 -> LADEIRA DO ENGENHEO VELHO: 0 -2+7,8
B31: =B10 -> LADEIRA DO ENGENHEO VELHO: 2+7,8-23+9,99 | C31: 14 | D31: =1.2*5.1 -> 6.12 | E31: =C31*D31 -> 85.68 | F31: =C31*((1.2+1.5+1.2)*0.25) -> 13.65 | G31: =J10/1.2*0.25 -> 146.1725
B32: =B11 -> RUA 1 | C32: 0
B33: =B12 -> RUA 2 | C33: 4 | D33: =1.2*5.1 -> 6.12 | E33: =C33*D33 -> 24.48 | F33: =C33*((1.2+1.5+1.2)*0.25) -> 3.9 | G33: =J12/1.2*0.25 -> 50.705
B34: =B13 -> RUA 3 | C34: 4 | D34: =1.2*5.1 -> 6.12 | E34: =C34*D34 -> 24.48 | F34: =C34*((1.2+1.5+1.2)*0.25) -> 3.9 | G34: =J13/1.2*0.25 -> 8.715
B35: =B14 -> RUA 4 | C35: 4 | D35: =1.2*5.1 -> 6.12 | E35: =C35*D35 -> 24.48 | F35: =C35*((1.2+1.5+1.2)*0.25) -> 3.9 | G35: =J14/1.2*0.25 -> 47.61
B36: =B15 -> TRAVESSA 1 | C36: 6 | D36: =1.2*5.1 -> 6.12 | E36: =C36*D36 -> 36.72 | F36: =C36*((1.2+1.5+1.2)*0.25) -> 5.85 | G36: =J15/1.2*0.25 -> 178.885
B37: =B16 -> TRAVESSA 2 | C37: 6 | D37: =1.2*5.1 -> 6.12 | E37: =C37*D37 -> 36.72 | F37: =C37*((1.2+1.5+1.2)*0.25) -> 5.85 | G37: =J16/1.2*0.25 -> 172.48
B38: =B17 -> TRAVESSA 3 | C38: 6 | D38: =1.2*5.1 -> 6.12 | E38: =C38*D38 -> 36.72 | F38: =C38*((1.2+1.5+1.2)*0.25) -> 5.85 | G38: =J17/1.2*0.25 -> 158.41
B39: =B18 -> TRAVESSA 4 | C39: 6 | D39: =1.2*5.1 -> 6.12 | E39: =C39*D39 -> 36.72 | F39: =C39*((1.2+1.5+1.2)*0.25) -> 5.85 | G39: =J18/1.2*0.25 -> 141.71
B40: =B19 -> TRAVESSA 5 | C40: 4 | D40: =1.2*5.1 -> 6.12 | E40: =C40*D40 -> 24.48 | F40: =C40*((1.2+1.5+1.2)*0.25) -> 3.9 | G40: =J19/1.2*0.25 -> 87.85
B41: =B20 -> TRAVESSA 6 | C41: 6 | D41: =1.2*5.1 -> 6.12 | E41: =C41*D41 -> 36.72 | F41: =C41*((1.2+1.5+1.2)*0.25) -> 5.85 | G41: =J20/1.2*0.25 -> 130.405
B42: =B21 -> TRAVESSA 7 | C42: 4 | D42: =1.2*5.1 -> 6.12 | E42: =C42*D42 -> 24.48 | F42: =C42*((1.2+1.5+1.2)*0.25) -> 3.9 | G42: =J21/1.2*0.25 -> 20.365
B43: TOTAL | C43: =SUM(C27:C42) -> 78 | D43: - | E43: =SUM(E27:E42) -> 477.36 | F43: =SUM(F27:F42) -> 76.05 | G43: =SUM(G27:G42) -> 1262.32
...

Sheet SINALIZAÇÃO
A1: QUADRO DE RAMPAS COM PISO TATIL
A2: RUA | B2: QUANTIDADE | C2: ÁREA (m²) | D2: ÁREA TOTAL DAS RAMPAS (m²) | E2: PISO TATIL - APENAS NAS RAMPAS (m²) | F2: PISO TATIL NO PASSEIO 0,25x0,25 (m²)
A3: ='PAVIMENTAÇÃO SEDE'!B27 -> TRAVESSA DO CAMPO: 0 - 5+2,451 | B3: 10 | C3: =1.2*5.1 -> 6.12 | D3: =B3*C3 -> 61.2 | E3: =B3*((1.2+1.5+1.2)*0.25) -> 9.75 | F3: ='PAVIMENTAÇÃO SEDE'!G27 -> 0
A4: ='PAVIMENTAÇÃO SEDE'!B28 -> TRAVESSA DO CAMPO: 5+2,451 - 19
A5: ='PAVIMENTAÇÃO SEDE'!B29 -> RUA DA MATA VERDE | B5: 4 | C5: =1.2*5.1 -> 6.12 | D5: =B5*C5 -> 24.48 | E5: =B5*((1.2+1.5+1.2)*0.25) -> 3.9 | F5: ='PAVIMENTAÇÃO SEDE'!G29 -> 66.905
A6: ='PAVIMENTAÇÃO SEDE'!B30 -> LADEIRA DO ENGENHEO VELHO: 0 -2+7,8 | B6: 14 | C6: =1.2*5.1 -> 6.12 | D6: =B6*C6 -> 85.68 | E6: =B6*((1.2+1.5+1.2)*0.25) -> 13.65 | F6: ='PAVIMENTAÇÃO SEDE'!G30 -> 0
A8: ='PAVIMENTAÇÃO SEDE'!B32 -> RUA 1 | B8: 0 | E8: =B8*((1.2+1.5+1.2)*0.25) -> 0 | F8: ='PAVIMENTAÇÃO SEDE'!G32 -> 0
A9: ='PAVIMENTAÇÃO SEDE'!B33 -> RUA 2 | B9: 4 | C9: =1.2*5.1 -> 6.12 | D9: =B9*C9 -> 24.48 | E9: =B9*((1.2+1.5+1.2)*0.25) -> 3.9 | F9: ='PAVIMENTAÇÃO SEDE'!G33 -> 50.705
A10: ='PAVIMENTAÇÃO SEDE'!B34 -> RUA 3 | B10: 4 | C10: =1.2*5.1 -> 6.12 | D10: =B10*C10 -> 24.48 | E10: =B10*((1.2+1.5+1.2)*0.25) -> 3.9 | F10: ='PAVIMENTAÇÃO SEDE'!G34 -> 8.715
A11: ='PAVIMENTAÇÃO SEDE'!B35 -> RUA 4 | B11: 4 | C11: =1.2*5.1 -> 6.12 | D11: =B11*C11 -> 24.48 | E11: =B11*((1.2+1.5+1.2)*0.25) -> 3.9 | F11: ='PAVIMENTAÇÃO SEDE'!G35 -> 47.61
A12: ='PAVIMENTAÇÃO SEDE'!B36 -> TRAVESSA 1 | B12: 6 | C12: =1.2*5.1 -> 6.12 | D12: =B12*C12 -> 36.72 | E12: =B12*((1.2+1.5+1.2)*0.25) -> 5.85 | F12: ='PAVIMENTAÇÃO SEDE'!G36 -> 178.885
A13: ='PAVIMENTAÇÃO SEDE'!B37 -> TRAVESSA 2 | B13: 6 | C13: =1.2*5.1 -> 6.12 | D13: =B13*C13 -> 36.72 | E13: =B13*((1.2+1.5+1.2)*0.25) -> 5.85 | F13: ='PAVIMENTAÇÃO SEDE'!G37 -> 172.48
A14: ='PAVIMENTAÇÃO SEDE'!B38 -> TRAVESSA 3 | B14: 6 | C14: =1.2*5.1 -> 6.12 | D14: =B14*C14 -> 36.72 | E14: =B14*((1.2+1.5+1.2)*0.25) -> 5.85 | F14: ='PAVIMENTAÇÃO SEDE'!G38 -> 158.41
A15: ='PAVIMENTAÇÃO SEDE'!B39 -> TRAVESSA 4 | B15: 6 | C15: =1.2*5.1 -> 6.12 | D15: =B15*C15 -> 36.72 | E15: =B15*((1.2+1.5+1.2)*0.25) -> 5.85 | F15: ='PAVIMENTAÇÃO SEDE'!G39 -> 141.71
A16: ='PAVIMENTAÇÃO SEDE'!B40 -> TRAVESSA 5 | B16: 4 | C16: =1.2*5.1 -> 6.12 | D16: =B16*C16 -> 24.48 | E16: =B16*((1.2+1.5+1.2)*0.25) -> 3.9 | F16: ='PAVIMENTAÇÃO SEDE'!G40 -> 87.85
A17: ='PAVIMENTAÇÃO SEDE'!B41 -> TRAVESSA 6 | B17: 6 | C17: =1.2*5.1 -> 6.12 | D17: =B17*C17 -> 36.72 | E17: =B17*((1.2+1.5+1.2)*0.25) -> 5.85 | F17: ='PAVIMENTAÇÃO SEDE'!G41 -> 130.405
A18: ='PAVIMENTAÇÃO SEDE'!B42 -> TRAVESSA 7 | B18: 4 | C18: =1.2*5.1 -> 6.12 | D18: =B18*C18 -> 24.48 | E18: =B18*((1.2+1.5+1.2)*0.25) -> 3.9 | F18: ='PAVIMENTAÇÃO SEDE'!G42 -> 20.365
A19: TOTAL | B19: =SUM(B3:B5) -> 14 | C19: - | D19: =SUM(D3:D5) -> 85.68 | E19: =SUM(E3:E5) -> 13.65 | F19: =SUM(F3:F18) -> 1064.04
A21: SINALIZAÇÃO
A22: RUA | B22: PLACA IDENTIFICAÇÃO DA VIA | C22: PLACA SINALIZAÇÃO VERTICAL
A23: TRAVESSA DO CAMPO | B23: 3 | C23: 2
A24: =A5 -> RUA DA MATA VERDE | B24: 2 | C24: 1
A25: =A6 -> LADEIRA DO ENGENHEO VELHO: 0 -2+7,8 | B25: 2 | C25: 2
A26: =A8 -> RUA 1 | B26: 1 | C26: 1
A27: =A9 -> RUA 2 | B27: 1 | C27: 1
A28: =A10 -> RUA 3 | B28: 1 | C28: 1
A29: =A11 -> RUA 4 | B29: 1 | C29: 1
A30: =A12 -> TRAVESSA 1 | B30: 2 | C30: 1
A31: =A13 -> TRAVESSA 2 | B31: 2 | C31: 1
A32: =A14 -> TRAVESSA 3 | B32: 2 | C32: 1
A33: =A15 -> TRAVESSA 4 | B33: 2 | C33: 1
A34: =A16 -> TRAVESSA 5 | B34: 2 | C34: 1
A35: =A17 -> TRAVESSA 6 | B35: 2 | C35: 1
A36: =A18 -> TRAVESSA 7 | B36: 2 | C36: 1
A37: TOTAL | B37: =SUM(B23:B36) -> 25 | C37: =SUM(C23:C36) -> 16

Sheet CHUVA
B3: PREFEITURA MUNICIPAL DE SERRINHA/BA
B5: PARÂMETROS DA EQUAÇÃO ENCONTRADO NO PROGRAMA PLÚVIO 2.1
B8: K | C8: 4568.295
B9: a | C9: 0.205
B10: b | C10: 35.155
B11: c | C11: 1.039
B12: t | C12: 10 | D12: min | E12: preciptação
B13: T | C13: 5 | D13: anos | E13: periodo retorno
C14: a
B15: im | C15: KT/(t+b)c
B17: im | C17: =C8*POWER(5,C9)/POWER((C12+C10),C11) -> 121.28403 | D17: mm/h
B19: is | C19: =C17/0.36 -> 336.90008 | D19: L/SEG HAC
