Workbook

Sheet Barriletes
A1: PROJETO INDICATIVO PREVENÇÃO CONTRA INCÊNDIO E PÂNICO
A2: MUNICÍPIO: ANDARAÍ - BA
A3: OBRA: GALPÃO MUCAMBO
A4: DATA: JULHO/2025
A5: NORMA: IT Nº 22/2016
A6: CLASSIFICAÇÃO DA EDIFICAÇÃO: GRUPO - C, DIVISÃO - C2
A7: CLASSIFICAÇÃO QUANTO AO TIPO DE SISTEMA: TIPO 3
A8: RISCO MÉDIO, CARGA 300MJ/m²
A9: ESGUICHO REGULÁVEL DM 40 | Q9: Segue o fator K dos esguichos Bucka 200
A10: TUBO: AÇO GALVANIZADO; C = 120
A11: QUANTIDADE DE HIDRANTES: 03 | Q11: Esguicho Bucka 200 1.1/2" -----K=115
A13: Sistema tipo: 3
A14: Ø mangueira (mm): | C14: 40 | D14: C mang = | E14: 140 | F14: Tubo: aço galvanizado | J14: C tubo = | K14: 120 | L14: ESGUICHO REGULÁVEL DN | O14: 1.1/2
A15: Lance de mangueira (m) = | D15: 30 | F15: FATOR K ESGUICHO | I15: 115
A16: ,
A17: TRECHO | B17: VAZÃO | C17: P válvula | D17: Perda | E17: PERDA DE CARGA ( TUBULAÇÃO) | K17: Perda de Carga | M17: Elevação | N17: V | O17: P montante
B18: Ipm | C18: mca | D18: Esguicho | E18: D (mm) | F18: L real | G18: L virtual | H18: L total | I18: J unit | J18: J total | K18: (Mangueira) | M18: m | N18: (m/s) | O18: mca
A19: H1-A | B19: 200 | C19: 15 | D19: =C19-(((B19/$I$15)^2)*10.2) -> -15.850662 | E19: 63 | F19: =4+16.22 -> 20.22 | G19: =B44 -> 16.8 | H19: =F19+G19 -> 37.02 | I19: =605*((B19)^1.85)*(K14^ -1.85)*((E19^-4.87)*10000) -> 0.02687739 | J19: =H19*I19 -> 0.99500096 | K19: =(605*((B19)^1.85)*(($E$14)^-1.85)*(($C$14)^-4.87)*10000) -> 0.18462557 | L19: =K19*$D$15 -> 5.538767 | M19: 4 | N19: =(B19/60000)/((E19/2000)^2*3.1416) -> 1.0693177 | O19: =C19+D19+J19+M19+L19 -> 9.6831064
A20: H2-A | B20: 200 | C20: 15 | D20: =C20-(((B20/$I$15)^2)*10.2) -> -15.850662 | E20: 63 | F20: =4+0.6+16.14 -> 20.74 | G20: =B60 -> 14.9 | H20: =F20+G20 -> 35.64 | I20: =605*((B20)^1.85)*(K14^ -1.85)*((E20^-4.87)*10000) -> 0.02687739 | J20: =H20*I20 -> 0.95791016 | K20: =(605*((B20)^1.85)*(($E$14)^-1.85)*(($C$14)^-4.87)*10000) -> 0.18462557 | L20: =K20*$D$15 -> 5.538767 | M20: 4 | N20: =(B20/60000)/((E20/2000)^2*3.1416) -> 1.0693177 | O20: =C20+D20+J20+M20+L20 -> 9.6460156
A21: BL1-A | B21: 400 | C21: =O19 -> 9.6831064 | E21: 63 | F21: =8.58+5.5+0.5+1.31+24.54+3.84+5.15+0.93+0.77+0.39+0.3+0.48+1+1+1+1 -> 56.29 | G21: =B76 -> 34.8 | H21: =F21+G21 -> 91.09 | I21: =605*((B21)^1.85)*(K14^ -1.85)*((E21^-4.87)*10000) -> 0.096893039 | J21: =H21*I21 -> 8.8259869 | M21: 5.5 | N21: =(B21/60000)/((E21/2000)^2*3.1416) -> 2.1386354 | O21: =C21+J21+M21 -> 24.009093
A22: BL2-A | B22: 400 | C22: 10.08 | E22: 63 | F22: =8.58+5.5+0.5+1.31+24.54+3.84+5.15+0.93+0.77+0.39+1+1+1 -> 54.51 | G22: =N73 -> 31.6 | H22: =F22+G22 -> 86.11 | I22: =605*((B22)^1.85)*(K14^ -1.85)*((E22^-4.87)*10000) -> 0.096893039 | J22: =H22*I22 -> 8.3434596 | M22: 5.5 | N22: =(B22/60000)/((E22/2000)^2*3.1416) -> 2.1386354 | O22: =C22+J22+M22 -> 23.92346
A23: BL3-A | B23: 400 | C23: 11 | E23: 63 | F23: =8.58+5.5+0.5+1.31+24.54+3.84+5.15+0.93+1+1 -> 52.35 | G23: =U73 -> 24.1 | H23: =F23+G23 -> 76.45 | I23: =605*((B23)^1.85)*(K14^ -1.85)*((E23^-4.87)*10000) -> 0.096893039 | J23: =H23*I23 -> 7.4074728 | M23: 5.5 | N23: =(B23/60000)/((E23/2000)^2*3.1416) -> 2.1386354 | O23: =C23+J23+M23 -> 23.907473
A24: RTI-ENTRA BOMBA 1 | B24: =B21 -> 400 | C24: =O21 -> 24.009093 | E24: 75 | F24: =0.63+0.84+0.92+3 -> 5.39 | G24: =F91 -> 11.7 | H24: =F24+G24 -> 17.09 | I24: =605*((B24)^1.85)*(K14^ -1.85)*((E24^-4.87)*10000) -> 0.041450779 | J24: =H24*I24 -> 0.70839382 | M24: 2 | N24: =(B24/60000)/((E24/2000)^2*3.1416) -> 1.5090211 | O24: =C24+J24+M24 -> 26.717487
A25: RTI-ENTRA BOMBA 2 | B25: =B24 -> 400 | C25: =O22 -> 23.92346 | E25: 75 | F25: =0.93+0.64+0.92+3 -> 5.49 | G25: =N91 -> 13.3 | H25: =F25+G25 -> 18.79 | I25: =605*((B25)^1.85)*((K14)^ -1.85)*((E25^-4.87)*10000) -> 0.041450779 | J25: =H25*I25 -> 0.77886014 | M25: 2 | N25: =(B25/60000)/((E25/2000)^2*3.1416) -> 1.5090211 | O25: =C25+J25+M25 -> 26.70232
A26: RTI-ENTRA BOMBA 3 | B26: =B25 -> 400 | C26: =O23 -> 23.907473 | E26: 75 | F26: =0.82+0.79+0.84+0.92+3 -> 6.37 | G26: =U91 -> 11 | H26: =F26+G26 -> 17.37 | I26: =605*((B26)^1.85)*((K14)^ -1.85)*((E26^-4.87)*10000) -> 0.041450779 | J26: =H26*I26 -> 0.72000004 | M26: 2 | N26: =(B26/60000)/((E26/2000)^2*3.1416) -> 1.5090211 | O26: =C26+J26+M26 -> 26.627473
A31: TRECHO H1-A
A32: Comprimento equivalente:
A33: NBR 5626 - tab 06
A34: Peça | C34: Diametro | D34: Quant. | E34: C.E | F34: C.E
C35: mm | D35: unid | E35: m | F35: m
A36: REGISTRO GLOBO ANGULAR | C36: 63 | D36: 1 | E36: 10 | F36: =E36*D36 -> 10
A37: CURVA | C37: 63 | D37: 1 | E37: 0.8 | F37: =E37*D37 -> 0.8
A38: TE SAIDA LATERAL | C38: 63 | D38: 1 | E38: 4.3 | F38: =E38*D38 -> 4.3
A39: JOELHO 90º MACHO-FÊMEA | C39: 63 | D39: 1 | E39: 1.7 | F39: =E39*D39 -> 1.7
A40: TÊ PASSAGEM DIRETA | C40: 63 | E40: 1.6 | F40: =E40*D40 -> 0
E41: Lequiv. = | F41: =SUM(F36:F40) -> 16.8
A42: Comprimento total:
A44: Lt = | B44: =F41 -> 16.8 | C44: m
A47: TRECHOS H2-A
A48: Comprimento equivalente:
A49: NBR 5626 - tab 06
A50: Peça | C50: Diametro | D50: Quant. | E50: C.E | F50: C.E
C51: mm | D51: unid | E51: m | F51: m
A52: REGISTRO GLOBO ANGULAR | C52: 63 | D52: 1 | E52: 10 | F52: =E52*D52 -> 10
A53: CURVA | C53: 63 | D53: 2 | E53: 0.8 | F53: =E53*D53 -> 1.6
A54: TE SAIDA LATERAL | C54: 63 | E54: 4.3 | F54: =E54*D54 -> 0
A55: JOELHO 90º MACHO-FÊMEA | C55: 63 | D55: 1 | E55: 1.7 | F55: =E55*D55 -> 1.7
A56: TÊ PASSAGEM DIRETA | C56: 63 | D56: 1 | E56: 1.6 | F56: =E56*D56 -> 1.6
E57: Lequiv. = | F57: =SUM(F52:F56) -> 14.9
A58: Comprimento total:
A60: Lt = | B60: =F57 -> 14.9 | C60: m
A63: TRECHOS BL1-A | I63: TRECHOS BL2-A | P63: TRECHOS BL3-A
A64: Comprimento equivalente: | I64: Comprimento equivalente: | P64: Comprimento equivalente:
A65: NBR 5626 - tab 06 | I65: NBR 5626 - tab 06 | P65: NBR 5626 - tab 06
A66: Peça | C66: Diametro | D66: Quant. | E66: C.E | F66: C.E | I66: Peça | K66: Diametro | L66: Quant. | M66: C.E | N66: C.E | P66: Peça | R66: Diametro | S66: Quant. | T66: C.E | U66: C.E
C67: mm | D67: unid | E67: m | F67: m | K67: mm | L67: unid | N67: m | R67: mm | S67: unid | T67: m | U67: m
A68: REGISTRO GLOBO ANGULAR | C68: 63 | D68: 1 | E68: 10 | F68: =E68*D68 -> 10 | I68: REGISTRO GLOBO ANGULAR | K68: 63 | L68: 1 | M68: 10 | N68: =M68*L68 -> 10 | P68: REGISTRO GLOBO ANGULAR | R68: 63 | S68: 1 | T68: 10 | U68: =T68*S68 -> 10
A69: CURVA | C69: 63 | D69: 6 | E69: 0.8 | F69: =E69*D69 -> 4.8 | I69: CURVA | K69: 63 | L69: 6 | M69: 0.8 | N69: =M69*L69 -> 4.8 | P69: CURVA | R69: 63 | S69: 6 | T69: 0.8 | U69: =T69*S69 -> 4.8
A70: TE SAIDA LATERAL | C70: 63 | D70: 2 | E70: 4.3 | F70: =E70*D70 -> 8.6 | I70: TE SAIDA LATERAL | K70: 63 | L70: 2 | M70: 4.3 | N70: =M70*L70 -> 8.6 | P70: TE SAIDA LATERAL | R70: 63 | S70: 1 | T70: 4.3 | U70: =T70*S70 -> 4.3
A71: JOELHO 90º MACHO-FÊMEA | C71: 63 | D71: 2 | E71: 1.7 | F71: =E71*D71 -> 3.4 | I71: JOELHO 90º MACHO-FÊMEA | K71: 63 | L71: 2 | M71: 1.7 | N71: =M71*L71 -> 3.4 | P71: JOELHO 90º MACHO-FÊMEA | R71: 63 | S71: 2 | T71: 1.7 | U71: =T71*S71 -> 3.4
A72: TÊ PASSAGEM DIRETA | C72: 63 | D72: 5 | E72: 1.6 | F72: =E72*D72 -> 8 | I72: TÊ PASSAGEM DIRETA | K72: 63 | L72: 3 | M72: 1.6 | N72: =M72*L72 -> 4.8 | P72: TÊ PASSAGEM DIRETA | R72: 63 | S72: 1 | T72: 1.6 | U72: =T72*S72 -> 1.6
E73: Lequiv. = | F73: =SUM(F68:F72) -> 34.8 | M73: Lequiv. = | N73: =SUM(N68:N72) -> 31.6 | T73: Lequiv. = | U73: =SUM(U68:U72) -> 24.1
A74: Comprimento total: | I74: Comprimento total: | P74: Comprimento total:
A76: Lt = | B76: =F73 -> 34.8 | C76: m | I76: Lt = | J76: =N73 -> 31.6 | K76: m | P76: Lt = | Q76: =U73 -> 24.1 | R76: m
A81: TRECHOS B1-RI | I81: TRECHOS B2-RI | P81: TRECHOS B3-RI
A82: Comprimento equivalente: | I82: Comprimento equivalente: | P82: Comprimento equivalente:
A83: NBR 5626 - tab 06 | I83: NBR 5626 - tab 06 | P83: NBR 5626 - tab 06
A84: Peça | C84: Diametro | D84: Quant. | E84: C.E | F84: C.E | I84: Peça | K84: Diametro | L84: Quant. | M84: C.E | N84: C.E | P84: Peça | R84: Diametro | S84: Quant. | T84: C.E | U84: C.E
C85: mm | D85: unid | E85: m | F85: m | K85: mm | L85: unid | M85: m | N85: m | R85: mm | S85: unid | T85: m | U85: m
A86: JOELHO 90º MACHO-FÊMEA | C86: 75 | D86: 1 | E86: 2.1 | F86: =E86*D86 -> 2.1 | I86: JOELHO 90º MACHO-FÊMEA | K86: 75 | L86: 1 | M86: 2.1 | N86: =M86*L86 -> 2.1 | P86: JOELHO 90º MACHO-FÊMEA | R86: 75 | S86: 1 | T86: 2.1 | U86: =T86*S86 -> 2.1
A87: CURVA | C87: 75 | D87: 3 | E87: 1.3 | F87: =E87*D87 -> 3.9 | I87: CURVA | K87: 75 | L87: 3 | M87: 1.3 | N87: =M87*L87 -> 3.9 | P87: CURVA | R87: 75 | S87: 4 | T87: 1.3 | U87: =T87*S87 -> 5.2
A88: TÊ PASSAGEM DIRETA | C88: 75 | E88: 1.6 | F88: =E88*D88 -> 0 | I88: TÊ PASSAGEM DIRETA | K88: 75 | L88: 1 | M88: 1.6 | N88: =M88*L88 -> 1.6 | P88: TÊ PASSAGEM DIRETA | R88: 75 | S88: 2 | T88: 1.6 | U88: =T88*S88 -> 3.2
A89: TE SAIDA LATERAL | C89: 75 | D89: 1 | E89: 5.2 | F89: =E89*D89 -> 5.2 | I89: TE SAIDA LATERAL | K89: 75 | L89: 1 | M89: 5.2 | N89: =M89*L89 -> 5.2 | P89: TE SAIDA LATERAL | R89: 75 | T89: 5.2 | U89: =T89*S89 -> 0
A90: REGISTRO DE GAVETA | C90: 75 | D90: 1 | E90: 0.5 | F90: =E90*D90 -> 0.5 | I90: REGISTRO DE GAVETA | K90: 75 | L90: 1 | M90: 0.5 | N90: =M90*L90 -> 0.5 | P90: REGISTRO DE GAVETA | R90: 75 | S90: 1 | T90: 0.5 | U90: =T90*S90 -> 0.5
E91: Lequiv. = | F91: =SUM(F86:F90) -> 11.7 | M91: Lequiv. = | N91: =SUM(N86:N90) -> 13.3 | T91: Lequiv. = | U91: =SUM(U86:U90) -> 11
A92: Comprimento total: | I92: Comprimento total: | P92: Comprimento total:
A94: Lt = | B94: =F91 -> 11.7 | C94: m | I94: Lt = | J94: =N91 -> 13.3 | K94: m | P94: Lt = | Q94: =U91 -> 11 | R94: m

Sheet CALCULO DAS BOMBAS
A1: BOMBA DE INCÊNDIO
B2: H man = | C2: =Barriletes!O23 -> 23.907473 | D2: mca | E2: VAZÃO = | F2: =(Barriletes!B23*60)/1000 -> 24 | G2: m³/h | H2: POTÊNCIA CALCULADA = | I2: =(1000*C2*F2)/(75*0.45*3600) -> 4.7224638 | J2: cv
A4: COM OS CÁLCULOS DOS SISTEMAS DE HIDRANTES MAIS FAVORÁVEL, MAIS DESFAVORÁVEL, LANÇOU-SE SOBRE A CURVA DA MOTO-BOMBA ESCOLHIDA, ONDE SE OBTEVE: | L4: =(1000*C2*F2)/(75*0.45*3600) -> 4.7224638
A5: BOMBA SELECIONADA:
A6: BOMBA PRINCIPAL | E6: BOMBA RESERVA | H6: JOCKEY
A7: MARCA: SCHNEIDER | E7: MARCA: SCHNEIDER | H7: MARCA: SCHNEIDER
A8: MODELO: BC-22 R 1 1/2 | E8: MODELO: SH90 BCA-41 | H8: MODELO:ME - AL/BR 1320N
A9: ROTOR = 175 mm | E9: ROTOR = 147 mm | H9: ROTOR = 118 mm
A10: PÔTENCIA = 5 cv | E10: PÔTENCIA = 9 cv | H10: PÔTENCIA = 2 cv
A12: CÁLCULO DA RESERVA TÉCNICA DE INCÊNDIO - RTI
A13: A EDIFICAÇÃO SE ENQUADRA EM RISCO BAIXO, COM TEMPO DE OPERAÇÃO DE 60MIN, PRESSÃO MÍNIMA DE 1,0 KGF/CM² E RESERVA TÉCNICA DE INCÊNDIO DE 8.0000L TABELA 3 IT Nº 22/2016.
A15: LEGENDA
A16: VAZÃO Ipm - VAZÃO MÍNIMA NA VÁLVULA DO HIDRANTE | F16: J unit - FÓRMULA DE HAZEN WILLIAMS
A17: P válvula mca - PRESSÃO RESIDUAL MÍNIMA NA PONTA DOS ESGUICHOS | F17: J total - PERDA DE CARGA m/m
A18: D (mm) - DIÂMETRO DA TUBULAÇÃO | F18: Elevação m - DISTÂNCIA ENTRE CURVA DE 90º E A PONTA DO ESGUICHO
A19: L real - COMPRIMENTO RETILÍNEO | F19: V ( m/s) - VAZÃO / ÁREA DA TUBULAÇÃO
A20: L virtual - PERDAS DE CARGA LOCALIZADAS | F20: P montante mca - PRESSÃO RESIDUAL NA PONTA DOS ESGUICHO
E22: CÁLCULO DA BOMBA JOCKEY
E23: VAZÃO SEMPRE 20L/MIN
E24: DIFERENÇA DE PRESSÃO ENTRE ELA E A BOMBA PRINCIPAL É DE 10 MCA

Sheet QUANTITATIVO
A2: LISTA DE MATERIAIS (AÇO GALV.)
A3: Descrição | B3: Dimensão | C3: Und. | D3: Quant.
A4: Tubo Aço Galvanizado | B4: 3'' | C4: m | D4: 5.9
A5: Tubo Aço Galvanizado | B5: 2.1/2" | C5: m | D5: =1.88+1+1+1+1+0.78+0.3+0.39+0.77+0.93+0.74+0.5+0.5+1+5.15+3.84+24.54+0.5+5.5+0.6+4+8.58+16.22+4+16.14+0.6+4 -> 105.46
A6: Joelho 90 Fêmea | B6: 3'' | C6: Und. | D6: 2
A7: Joelho 90 Fêmea | B7: 2.1/2" | C7: Und. | D7: 7
A8: Curva 90 Fêmea | B8: 3'' | C8: Und. | D8: 3
A9: Curva 90 Fêmea | B9: 2.1/2" | C9: Und. | D9: 10
A10: Tê 90 | B10: 3'' | C10: Und. | D10: 2
A11: Tê 90 | B11: 2.1/2" | C11: Und. | D11: 8
A12: Niple duplo | B12: 2.1/2" | C12: Und. | D12: 1
A13: União | B13: 3'' | C13: Und. | D13: 3
A14: União | B14: 2.1/2" | C14: Und. | D14: 3 | E14: n hidrant.
A15: Adaptador p/Caixa D'água | B15: 3'' | C15: Und. | D15: 1
A16: Adaptador com rosca macho para engate rápido | B16: 2.1/2" | C16: Und. | D16: 3 | E16: n hidrant.
A17: Tampão com engate rápido com corrente | B17: 2.1/2" | C17: Und. | D17: 3 | E17: n hidrant.
A18: Tampa com ferro fundido com incrição incêndio | B18: - | C18: Und. | D18: 3 | E18: n hidrant.
A19: Abrigo para mangueira | B19: - | C19: Und. | D19: 3 | E19: n hidrant.
A20: Manômetro | B20: 200 psi | C20: Und. | D20: 1
A21: Pressostato | B21: 0 a 10 kgf | C21: Und. | D21: 3
A22: Mangueira 15m | B22: - | C22: Und. | D22: 6 | E22: 2 x n hidrant.
A23: Hidrante de recalque com caixa enterrada em alvenaria e tampa em ferro | B23: - | C23: Und. | D23: 1
A24: Registros, Válvulas e Hidrantes
A25: Descrição | B25: Dimensão | C25: Und. | D25: Quant.
A26: Esguicho regulável | B26: 1.1/2" | C26: Und. | D26: 6 | E26: 2 x n hidrant.
A27: Registro Globo angular | B27: 3 | C27: Und. | D27: 3
A28: Registro Globo angular | B28: 2.1/2" | C28: Und. | D28: 6 | E28: 2 x n hidrant.
A29: Válvula de retenção | B29: 2.1/2" | C29: Und. | D29: 3 | E29: n hidrant.
A30: Válvula de pé com crivo | B30: 3 | C30: Und. | D30: 1

Sheet ANEXO F
A1: ANEXO F
E3: COMPRIMENTO | I3: Perda de Carga
A4: HIDRANTES | B4: TRECHO | C4: VAZÃO ACUMULADA | D4: P VALVULA | E4: DIAMETRO NOMINAL | F4: SEGUIMENTOS RETOS | G4: EQUIVALENTES | H4: TEÓRICO TOTAL | I4: PERDA DE CARGA / M | J4: CANALIZAÇÃO | K4: MANGUEIRA | L4: ESGUICHO | M4: TOTAL | N4: DESNÍVEL DO TRECHO | O4: PRESSÃO NO PONTO DO TRECHO | P4: FATOR DE VAZÃO | Q4: VAZÃO | R4: ÁREA DA TUBULAÇÃO | S4: VELOCIDADE NA CANALIZAÇÃO
C5: I/min | D5: mca | E5: (mm) | F5: m | G5: m | H5: m | I5: mca/m | J5: mca | K5: mca | L5: mca | M5: mca | N5: m | O5: mca | P5: l/min. Mca 1/2 | Q5: l/min | R5: m² | S5: m/s
A6: H1 | B6: =Barriletes!A19 -> H1-A | C6: =Barriletes!B19 -> 200 | D6: =Barriletes!C19 -> 15 | E6: =Barriletes!E19 -> 63 | F6: =Barriletes!F19 -> 20.22 | G6: =Barriletes!G19 -> 16.8 | H6: =G6+F6 -> 37.02 | I6: =Barriletes!I19 -> 0.02687739 | J6: =Barriletes!J19 -> 0.99500096 | K6: =Barriletes!L19 -> 5.538767 | L6: =Barriletes!D19 -> -15.850662 | M6: =J6+K6+L6 -> -9.3168936 | N6: =Barriletes!M19 -> 4 | O6: =D6+M6+N6 -> 9.6831064 | P6: =(C6)/SQRT(O6) -> 64.272123 | Q6: =S6*R6 -> 0.0033333333 | R6: =((E6/1000/2)^2)*3.1416 -> 0.0031172526 | S6: =Barriletes!N19 -> 1.0693177
A7: H2 | B7: =Barriletes!A20 -> H2-A | C7: =Barriletes!B20 -> 200 | D7: =Barriletes!C20 -> 15 | E7: =Barriletes!E20 -> 63 | F7: =Barriletes!F20 -> 20.74 | G7: =Barriletes!G20 -> 14.9 | H7: =G7+F7 -> 35.64 | I7: =Barriletes!I20 -> 0.02687739 | J7: =Barriletes!J20 -> 0.95791016 | K7: =Barriletes!L20 -> 5.538767 | L7: =Barriletes!D20 -> -15.850662 | M7: =J7+K7+L7 -> -9.3539844 | N7: =Barriletes!M20 -> 4 | O7: =D7+M7+N7 -> 9.6460156 | P7: =(C7)/SQRT(O7) -> 64.395574 | Q7: =S7*R7 -> 0.0033333333 | R7: =((E7/1000/2)^2)*3.1416 -> 0.0031172526 | S7: =Barriletes!N20 -> 1.0693177
A8: - | B8: =Barriletes!A21 -> BL1-A | C8: =Barriletes!B21 -> 400 | D8: =Barriletes!C21 -> 9.6831064 | E8: =Barriletes!E21 -> 63 | F8: =Barriletes!F21 -> 56.29 | G8: =Barriletes!G21 -> 34.8 | H8: =G8+F8 -> 91.09 | I8: =Barriletes!I21 -> 0.096893039 | J8: =Barriletes!J21 -> 8.8259869 | M8: =J8+K8+L8 -> 8.8259869 | N8: =Barriletes!M21 -> 5.5 | O8: =D8+M8+N8 -> 24.009093 | P8: =(C8)/SQRT(O8) -> 81.634195 | Q8: =S8*R8 -> 0.0066666667 | R8: =((E8/1000/2)^2)*3.1416 -> 0.0031172526 | S8: =Barriletes!N21 -> 2.1386354
A9: - | B9: =Barriletes!A22 -> BL2-A | C9: =Barriletes!B22 -> 400 | D9: =Barriletes!C22 -> 10.08 | E9: =Barriletes!E22 -> 63 | F9: =Barriletes!F22 -> 54.51 | G9: =Barriletes!G22 -> 31.6 | H9: =G9+F9 -> 86.11 | I9: =Barriletes!I22 -> 0.096893039 | J9: =Barriletes!J22 -> 8.3434596 | M9: =J9+K9+L9 -> 8.3434596 | N9: =Barriletes!M22 -> 5.5 | O9: =D9+M9+N9 -> 23.92346 | P9: =(C9)/SQRT(O9) -> 81.780168 | Q9: =S9*R9 -> 0.0066666667 | R9: =((E9/1000/2)^2)*3.1416 -> 0.0031172526 | S9: =Barriletes!N22 -> 2.1386354
A10: - | B10: =Barriletes!A23 -> BL3-A | C10: =Barriletes!B23 -> 400 | D10: =Barriletes!C23 -> 11 | E10: =Barriletes!E23 -> 63 | F10: =Barriletes!F23 -> 52.35 | G10: =Barriletes!G23 -> 24.1 | H10: =G10+F10 -> 76.45 | I10: =Barriletes!I23 -> 0.096893039 | J10: =Barriletes!J23 -> 7.4074728 | M10: =J10+K10+L10 -> 7.4074728 | N10: =Barriletes!M23 -> 5.5 | O10: =D10+M10+N10 -> 23.907473 | P10: =(C10)/SQRT(O10) -> 81.807507 | Q10: =S10*R10 -> 0.0066666667 | R10: =((E10/1000/2)^2)*3.1416 -> 0.0031172526 | S10: =Barriletes!N23 -> 2.1386354
A11: - | B11: =Barriletes!A24 -> RTI-ENTRA BOMBA 1 | C11: =Barriletes!B24 -> 400 | D11: =Barriletes!C24 -> 24.009093 | E11: =Barriletes!E24 -> 75 | F11: =Barriletes!F24 -> 5.39 | G11: =Barriletes!G24 -> 11.7 | H11: =G11+F11 -> 17.09 | I11: =Barriletes!I24 -> 0.041450779 | J11: =Barriletes!J24 -> 0.70839382 | M11: =J11+K11+L11 -> 0.70839382 | N11: =Barriletes!M24 -> 2 | O11: =D11+M11+N11 -> 26.717487 | P11: =(C11)/SQRT(O11) -> 77.385962 | Q11: =S11*R11 -> 0.0066666667 | R11: =((E11/1000/2)^2)*3.1416 -> 0.004417875 | S11: =Barriletes!N24 -> 1.5090211
A12: - | B12: =Barriletes!A25 -> RTI-ENTRA BOMBA 2 | C12: =Barriletes!B25 -> 400 | D12: =Barriletes!C25 -> 23.92346 | E12: =Barriletes!E25 -> 75 | F12: =Barriletes!F25 -> 5.49 | G12: =Barriletes!G25 -> 13.3 | H12: =G12+F12 -> 18.79 | I12: =Barriletes!I25 -> 0.041450779 | J12: =Barriletes!J25 -> 0.77886014 | M12: =J12+K12+L12 -> 0.77886014 | N12: =Barriletes!M25 -> 2 | O12: =D12+M12+N12 -> 26.70232 | P12: =(C12)/SQRT(O12) -> 77.407937 | Q12: =S12*R12 -> 0.0066666667 | R12: =((E12/1000/2)^2)*3.1416 -> 0.004417875 | S12: =Barriletes!N25 -> 1.5090211
A13: - | B13: =Barriletes!A26 -> RTI-ENTRA BOMBA 3 | C13: =Barriletes!B26 -> 400 | D13: =Barriletes!C26 -> 23.907473 | E13: =Barriletes!E26 -> 75 | F13: =Barriletes!F26 -> 6.37 | G13: =Barriletes!G26 -> 11 | H13: =G13+F13 -> 17.37 | I13: =Barriletes!I26 -> 0.041450779 | J13: =Barriletes!J26 -> 0.72000004 | M13: =J13+K13+L13 -> 0.72000004 | N13: =Barriletes!M26 -> 2 | O13: =D13+M13+N13 -> 26.627473 | P13: =(C13)/SQRT(O13) -> 77.516654 | Q13: =S13*R13 -> 0.0066666667 | R13: =((E13/1000/2)^2)*3.1416 -> 0.004417875 | S13: =Barriletes!N26 -> 1.5090211
A16: BOMBA DE INCÊNDIO
B17: H man = | C17: ='CALCULO DAS BOMBAS'!C2 -> 23.907473 | D17: mca | E17: VAZÃO = | F17: ='CALCULO DAS BOMBAS'!F2 -> 24 | G17: m³/h | H17: POTÊNCIA CALCULADA = | I17: ='CALCULO DAS BOMBAS'!I2 -> 4.7224638 | J17: cv
A19: COM OS CÁLCULOS DOS SISTEMAS DE HIDRANTES MAIS FAVORÁVEL, MAIS DESFAVORÁVEL, LANÇOU-SE SOBRE A CURVA DA MOTO-BOMBA ESCOLHIDA, ONDE SE OBTEVE:
A20: BOMBA SELECIONADA:
A21: BOMBA PRINCIPAL | E21: BOMBA RESERVA | H21: JOCKEY
A22: ='CALCULO DAS BOMBAS'!A7:C7 -> MARCA: SCHNEIDER | E22: ='CALCULO DAS BOMBAS'!E7:G7 -> MARCA: SCHNEIDER | H22: ='CALCULO DAS BOMBAS'!H7:J7 -> MARCA: SCHNEIDER
A23: ='CALCULO DAS BOMBAS'!A8:C8 -> MODELO: BC-22 R 1 1/2 | E23: ='CALCULO DAS BOMBAS'!E8:G8 -> MODELO: SH90 BCA-41 | H23: ='CALCULO DAS BOMBAS'!H8:J8 -> MODELO:ME - AL/BR 1320N
A24: ='CALCULO DAS BOMBAS'!A9:C9 -> ROTOR = 175 mm | E24: ='CALCULO DAS BOMBAS'!E9:G9 -> ROTOR = 147 mm | H24: ='CALCULO DAS BOMBAS'!H9:J9 -> ROTOR = 118 mm
A25: ='CALCULO DAS BOMBAS'!A10:C10 -> PÔTENCIA = 5 cv | E25: ='CALCULO DAS BOMBAS'!E10:G10 -> PÔTENCIA = 9 cv | H25: ='CALCULO DAS BOMBAS'!H10:J10 -> PÔTENCIA = 2 cv
A27: CÁLCULO DA RESERVA TÉCNICA DE INCÊNDIO - RTI
A28: A EDIFICAÇÃO SE ENQUADRA EM RISCO BAIXO, COM TEMPO DE OPERAÇÃO DE 60MIN, PRESSÃO MÍNIMA DE 1,0 KGF/CM² E RESERVA TÉCNICA DE INCÊNDIO DE 8.0000L TABELA 3 IT Nº 22/2016.
A30: LEGENDA
A31: VAZÃO Ipm - VAZÃO MÍNIMA NA VÁLVULA DO HIDRANTE | F31: J unit - FÓRMULA DE HAZEN WILLIAMS
A32: P válvula mca - PRESSÃO RESIDUAL MÍNIMA NA PONTA DOS ESGUICHOS | F32: J total - PERDA DE CARGA m/m
A33: D (mm) - DIÂMETRO DA TUBULAÇÃO | F33: Elevação m - DISTÂNCIA ENTRE CURVA DE 90º E A PONTA DO ESGUICHO
A34: L real - COMPRIMENTO RETILÍNEO | F34: V ( m/s) - VAZÃO / ÁREA DA TUBULAÇÃO
A35: L virtual - PERDAS DE CARGA LOCALIZADAS | F35: P montante mca - PRESSÃO RESIDUAL NA PONTA DOS ESGUICHO
