Workbook

Sheet RESUMO
B3: INFRA-ESTRUTURA
D4: QUANTIDADE
B5: ESCAVAÇÃO | D5: ='ESCAVAÇÃO E REATERRO'!F19 -> 150 | E5: m3
B6: REATERRO MANUAL | D6: ='ESCAVAÇÃO E REATERRO'!F21 -> 111.10513 | E6: m3
B7: FORMA | D7: ='FORMA - INFRA'!H28 -> 349.95 | E7: m2
B8: CONCRETO | D8: ='CONCRETO DA FUNDAÇÃO'!G59 -> 38.894873 | E8: =E5 -> m3
B9: CONCRETO MAGRO | D9: ='CONCRETO DA FUNDAÇÃO'!G60 -> 3.75 | E9: =E8 -> m3
B20: SUPER-ESTRUTURA
D21: QUANTIDADE
B22: CONCRETO | D22: ='CONCRETO -SUPER-ESTRUTURA'!F72 -> 16.66425 | E22: =E5 -> m3
B23: FORMA PILARES | D23: ='FORMA SUPER ESTRUTURA'!F56 -> 165.916 | E23: =E7 -> m2
B24: FORMA VIGAS-CINTAS | D24: ='FORMA SUPER ESTRUTURA'!F67 -> 187.005 | E24: =E23 -> m2
B26: RESUMO
B27: PILARES
B28: ='QUADRO DE FERRO -ESTRUTUR'!B13 -> DIAMETRO(mm) | C28: ='QUADRO DE FERRO -ESTRUTUR'!C13 -> COMP TOTAL(m) | D28: ='QUADRO DE FERRO -ESTRUTUR'!D13 -> PESO(kg) | E28: ='QUADRO DE FERRO -ESTRUTUR'!E13 -> PESO TOTAL(Kg)
B29: 5 | C29: ='QUADRO DE FERRO -ESTRUTUR'!C14 -> 1088.75 | D29: 0.16 | E29: =C29*D29 -> 174.2
B30: 6.3 | C30: ='QUADRO DE FERRO -ESTRUTUR'!C15 -> 312 | D30: 0.25 | E30: =C30*D30 -> 78
B31: 10 | C31: ='QUADRO DE FERRO -ESTRUTUR'!C16 -> 638.82 | D31: 0.62 | E31: =C31*D31 -> 396.0684
B32: 12.5 | C32: ='QUADRO DE FERRO -ESTRUTUR'!C17 -> 560.4 | D32: 1 | E32: =C32*D32 -> 560.4
B33: PESO TOTAL(Kg) | E33: =E29+E30+E31+E32 -> 1208.6684
B37: RESUMO
B38: CINTAS
B39: =B28 -> DIAMETRO(mm) | C39: =C28 -> COMP TOTAL(m) | D39: =D28 -> PESO(kg) | E39: =E28 -> PESO TOTAL(Kg)
B40: 5 | C40: ='QUADRO DE FERRO -ESTRUTUR'!C31 -> 1780 | D40: 0.16 | E40: =C40*D40 -> 284.8
B41: 8 | C41: ='QUADRO DE FERRO -ESTRUTUR'!C32 -> 1068 | D41: 0.39 | E41: =C41*D41 -> 416.52
B42: 10 | C42: ='QUADRO DE FERRO -ESTRUTUR'!C33 -> 801 | D42: 0.62 | E42: =C42*D42 -> 496.62
B43: PESO TOTAL(Kg) | E43: =E40+E41+E42 -> 1197.94
D45: QUANTIDADE
B46: LAJE | D46: 18.92 | E46: M2

Sheet LAJE PREMOLDADA

Sheet QUADRO DE FERRO  -ESTRUTUR
B1: QUADRO DE FERRO
B2: PILARES
B3: N | C3: DIAMETRO(mm) | D3: QUANTIDADE | E3: COMPRIMENTO(m) | F3: COMP TOTAL(m)
B4: N1 | C4: 10 | D4: =6*31 -> 186 | E4: 2.97 | F4: =D4*E4 -> 552.42
B5: N2 | C5: 5 | D5: =25*31 -> 775 | E5: 0.65 | F5: =D5*E5 -> 503.75
B6: N3 | C6: 12.5 | D6: =10*12 -> 120 | E6: 4.67 | F6: =D6*E6 -> 560.4
B7: N4 | C7: 6.3 | D7: =2*39*10 -> 780 | E7: 0.4 | F7: =D7*E7 -> 312
B8: N5 | C8: 5 | D8: =39*10 -> 390 | E8: 1.5 | F8: =D8*E8 -> 585
B9: N6 | C9: 10 | D9: 24 | E9: 3.6 | F9: =D9*E9 -> 86.4
B11: RESUMO
B13: =C3 -> DIAMETRO(mm) | C13: =F3 -> COMP TOTAL(m) | D13: PESO(kg) | E13: PESO TOTAL(Kg)
B14: 5 | C14: =F5+F8 -> 1088.75 | D14: 0.16 | E14: =C14*D14 -> 174.2
B15: 6.3 | C15: =F7 -> 312 | D15: 0.25 | E15: =C15*D15 -> 78
B16: 10 | C16: =F4+F9 -> 638.82 | D16: 0.62 | E16: =C16*D16 -> 396.0684
B17: 12.5 | C17: =F6 -> 560.4 | D17: 1 | E17: =C17*D17 -> 560.4
B18: PESO TOTAL(Kg) | E18: =E14+E15+E16+E17 -> 1208.6684
B21: QUADRO DE FERRO
B22: CINTAMENTO
B23: N | C23: DIAMETRO(mm) | D23: QUANTIDADE | E23: COMPRIMENTO(m) | F23: COMP TOTAL(m)
B24: N1 | C24: 8 | D24: 4 | E24: 267 | F24: =D24*E24 -> 1068
B25: N2 | C25: 10 | D25: 3 | E25: 267 | F25: =D25*E25 -> 801
B26: N3 | C26: 5 | D26: 2225 | E26: 0.8 | F26: =D26*E26 -> 1780
B28: RESUMO
B30: =C23 -> DIAMETRO(mm) | C30: =F23 -> COMP TOTAL(m) | D30: PESO(kg) | E30: PESO TOTAL(Kg)
B31: 5 | C31: =F26 -> 1780 | D31: 0.16 | E31: =C31*D31 -> 284.8
B32: 8 | C32: =F24 -> 1068 | D32: 0.39 | E32: =C32*D32 -> 416.52
B33: 10 | C33: =F25 -> 801 | D33: 0.62 | E33: =C33*D33 -> 496.62
B34: PESO TOTAL(Kg) | E34: =E31+E32+E33 -> 1197.94

Sheet  quadros de ferro da infra 
B1: QUADRO DE FERRO
B2: Sapatas e baldrames
B3: N | C3: DIAMETRO(mm) | D3: QUANTIDADE | E3: COMPRIMENTO(m) | F3: COMP TOTAL(m)
B4: N1 | C4: 10 | D4: =6*35 -> 210 | E4: 1.612 | F4: =D4*E4 -> 338.52
B5: N2 | C5: 10 | D5: =10*35 -> 350 | E5: 1.12 | F5: =D5*E5 -> 392
B6: N3 | C6: 10 | D6: =6*35 -> 210 | E6: 2.2 | F6: =D6*E6 -> 462
B7: N4 | C7: 5 | D7: =15*35 -> 525 | E7: 0.6 | F7: =D7*E7 -> 315
B8: N5 | C8: 12.5 | D8: =12*10 -> 120 | E8: 3 | F8: =D8*E8 -> 360
B9: N6 | C9: 10 | D9: =44*10 -> 440 | E9: 3 | F9: =D9*E9 -> 1320
B10: N7 | C10: 6.3 | D10: =15*10 -> 150 | E10: 1.51 | F10: =D10*E10 -> 226.5
B11: N8 | C11: 10 | D11: 2 | E11: 267 | F11: =D11*E11 -> 534
B12: N9 | C12: 10 | D12: 3 | E12: 267 | F12: =D12*E12 -> 801
B14: RESUMO
B16: =C3 -> DIAMETRO(mm) | C16: =F3 -> COMP TOTAL(m) | D16: PESO(kg) | E16: PESO TOTAL(Kg)
B17: 5 | C17: =F7 -> 315 | D17: 0.16 | E17: =C17*D17 -> 50.4
B18: 6.3 | C18: =F10 -> 226.5 | D18: 0.25 | E18: =C18*D18 -> 56.625
B19: 10 | C19: =F4+F5+F6+F9+F11+F12 -> 3847.52 | D19: 0.62 | E19: =C19*D19 -> 2385.4624
B20: 12.5 | C20: =F8 -> 360 | D20: 1 | E20: =C20*D20 -> 360
B21: PESO TOTAL(Kg) | E21: =E17+E18+E19+E20 -> 2852.4874

Sheet ESCAVAÇÃO E REATERRO
A2: MEMÓRIA DE CÁLCULO DA ESTRUTURA
A4: MERCADO DO MOCAMBO
A5: MUNICIPIO DE ANDARAI-BAHIA
A8: SAPATAS E BALDRAMES
A9: SERVIÇO | B9: QUANTIDADE | C9: BASE (M) | D9: LARGURA (M) | E9: ALTURA (M) | F9: VOLUME (M³)
A12: SAPATA 100X 150 | B12: 35 | C12: 1 | D12: 1.5 | E12: 1.5 | F12: =(E12*D12*C12)*B12 -> 78.75
A13: SAPATA 150X150 | B13: 10 | C13: 1.5 | D13: 1.5 | E13: 2.5 | F13: =(E13*D13*C13)*B13 -> 56.25
A14: BALDRAME 15X40 | B14: 1 | C14: 0.15 | D14: 0.4 | E14: ='comprimento da baldrame'!D23 -> 250 | F14: =(E14*D14*C14)*B14 -> 15
A15: VOLUME TOTAL (M³) DA ESCAVAÇÃO | F15: =+F12+F13+F14 -> 150
A17: REATERRO DA INFRAESTUTURA
A19: VOLUME TOTAL (M³) DA ESCAVAÇÃO | F19: =F15 -> 150
A20: VOLUME TOTAL (M³) DE CONCRETO DA INFRAESTRUTURA | F20: ='CONCRETO DA FUNDAÇÃO'!G59 -> 38.894873
A21: VOLUME TOTAL (M³) DE REATERRO | F21: =F19-F20 -> 111.10513

Sheet FORMA SUPER ESTRUTURA
A1: MEMÓRIA DE CÁLCULO DA ESTRUTURA
A3: ='FORMA - INFRA'!A3:H3 -> MERCADO DO MOCAMBO
A4: ='ESCAVAÇÃO E REATERRO'!A5:F5 -> MUNICIPIO DE ANDARAI-BAHIA
A6: FORMA SUPER-ESTRUTURA
A8: PILARES
A9: ELEMENTO | B9: LARGURA (M) | D9: BASE (M) | E9: ALTURA (M) | F9: ÁREA(M2)
A11: P1 | B11: 0.55 | D11: 0.3 | E11: 4.7 | F11: =(B11*2+D11*2)*E11 -> 7.99
A12: P2 | B12: 0.55 | D12: 0.3 | E12: 4.7 | F12: =(B12*2+D12*2)*E12 -> 7.99
A13: P3 | B13: 0.55 | D13: 0.3 | E13: 4.7 | F13: =(B13*2+D13*2)*E13 -> 7.99
A14: P4 | B14: 0.55 | D14: 0.3 | E14: 4.7 | F14: =(B14*2+D14*2)*E14 -> 7.99
A15: P5 | B15: 0.55 | D15: 0.3 | E15: 4.7 | F15: =(B15*2+D15*2)*E15 -> 7.99
A16: P6 | B16: 0.25 | D16: 0.15 | E16: 3 | F16: =(B16*2+D16*2)*E16 -> 2.4
A17: P7 | B17: =B16 -> 0.25 | D17: 0.15 | E17: 3 | F17: =(B17*2+D17*2)*E17 -> 2.4
A18: P8 | B18: =B17 -> 0.25 | D18: 0.15 | E18: 3 | F18: =(B18*2+D18*2)*E18 -> 2.4
A19: P9 | B19: =B18 -> 0.25 | D19: 0.15 | E19: 3 | F19: =(B19*2+D19*2)*E19 -> 2.4
A20: P10 | B20: =B19 -> 0.25 | D20: 0.15 | E20: 3 | F20: =(B20*2+D20*2)*E20 -> 2.4
A21: P11 | B21: =B20 -> 0.25 | D21: 0.15 | E21: 3 | F21: =(B21*2+D21*2)*E21 -> 2.4
A22: P12 | B22: =B21 -> 0.25 | D22: 0.15 | E22: 3 | F22: =(B22*2+D22*2)*E22 -> 2.4
A23: P13 | B23: =B22 -> 0.25 | D23: 0.15 | E23: 3 | F23: =(B23*2+D23*2)*E23 -> 2.4
A24: P14 | B24: =B23 -> 0.25 | D24: 0.15 | E24: 3 | F24: =(B24*2+D24*2)*E24 -> 2.4
A25: P15 | B25: =B24 -> 0.25 | D25: 0.15 | E25: 3 | F25: =(B25*2+D25*2)*E25 -> 2.4
A26: P16 | B26: =B25 -> 0.25 | D26: 0.15 | E26: 3 | F26: =(B26*2+D26*2)*E26 -> 2.4
A27: P17 | B27: =B26 -> 0.25 | D27: 0.15 | E27: 3 | F27: =(B27*2+D27*2)*E27 -> 2.4
A28: P18 | B28: =B27 -> 0.25 | D28: 0.15 | E28: 3 | F28: =(B28*2+D28*2)*E28 -> 2.4
... A34: P24 | B34: =B33 -> 0.25 | D34: 0.15 | E34: 3 | F34: =(B34*2+D34*2)*E34 -> 2.4
A35: P25 | B35: 0.25 | D35: 0.15 | E35: 3.63 | F35: =(B35*2+D35*2)*E35 -> 2.904
A36: P26 | B36: =B35 -> 0.25 | D36: 0.15 | E36: 3 | F36: =(B36*2+D36*2)*E36 -> 2.4
A37: P27 | B37: =B36 -> 0.25 | D37: 0.15 | E37: 3 | F37: =(B37*2+D37*2)*E37 -> 2.4
A38: P28 | B38: =B37 -> 0.25 | D38: 0.15 | E38: 3 | F38: =(B38*2+D38*2)*E38 -> 2.4
A39: P29 | B39: =B38 -> 0.25 | D39: 0.15 | E39: 3 | F39: =(B39*2+D39*2)*E39 -> 2.4
A40: P30 | B40: =B39 -> 0.25 | D40: 0.15 | E40: 3 | F40: =(B40*2+D40*2)*E40 -> 2.4
A41: P31 | B41: =B40 -> 0.25 | D41: 0.15 | E41: 3 | F41: =(B41*2+D41*2)*E41 -> 2.4
A42: P32 | B42: =B41 -> 0.25 | D42: 0.15 | E42: 3.63 | F42: =(B42*2+D42*2)*E42 -> 2.904
A43: P33 | B43: =B42 -> 0.25 | D43: 0.15 | E43: 3 | F43: =(B43*2+D43*2)*E43 -> 2.4
A44: P34 | B44: 0.55 | D44: 0.3 | E44: 4.7 | F44: =(B44*2+D44*2)*E44 -> 7.99
A45: P35 | B45: 0.25 | D45: 0.15 | E45: 3 | F45: =(B45*2+D45*2)*E45 -> 2.4
A46: P36 | B46: =B45 -> 0.25 | D46: 0.15 | E46: 3.63 | F46: =(B46*2+D46*2)*E46 -> 2.904
A47: P37 | B47: 0.55 | D47: 0.3 | E47: 4.7 | F47: =(B47*2+D47*2)*E47 -> 7.99
A48: P38 | B48: 0.25 | D48: 0.15 | E48: 3.63 | F48: =(B48*2+D48*2)*E48 -> 2.904
A49: P39 | B49: 0.25 | D49: 0.15 | E49: 3 | F49: =(B49*2+D49*2)*E49 -> 2.4
A50: P40 | B50: 0.55 | D50: 0.3 | E50: 4.7 | F50: =(B50*2+D50*2)*E50 -> 7.99
A51: P41 | B51: 0.25 | D51: 0.15 | E51: 3 | F51: =(B51*2+D51*2)*E51 -> 2.4
A52: P42 | B52: 0.25 | D52: 0.15 | E52: 3 | F52: =(B52*2+D52*2)*E52 -> 2.4
A53: P43 | B53: 0.55 | D53: 0.3 | E53: 4.7 | F53: =(B53*2+D53*2)*E53 -> 7.99
A54: P44 | B54: 0.25 | D54: 0.15 | E54: 3 | F54: =(B54*2+D54*2)*E54 -> 2.4
A55: P45 | B55: 0.55 | D55: 0.3 | E55: 4.7 | F55: =(B55*2+D55*2)*E55 -> 7.99
A56: TOTAL | F56: =SUM(F11:F55) -> 165.916
A59: MEMÓRIA DE CÁLCULO DA ESTRUTURA
A62: CONCRETO SUPER-ESTRUTURA
A64: CINTAMENTO-PAREDES
A65: ELEMENTO | B65: COMPRIMENTO (M) | D65: BASE (M) | E65: ALTURA (M) | F65: ÁREA(M2)
A67: CINTAS | B67: 267 | D67: 0.15 | E67: 0.35 | F67: =(B67*2+D67*2)*E67 -> 187.005
A71: TOTAL DE FORMA | F71: =F67+F56 -> 352.921 | G71: M2

Sheet FORMA - INFRA
A1: MEMÓRIA DE CÁLCULO DA ESTRUTURA
A3: ='CONCRETO DA FUNDAÇÃO'!A4:H4 -> MERCADO DO MOCAMBO
A4: ='CONCRETO DA FUNDAÇÃO'!A5:H5 -> MUNICIPIO DE ANDARAI-BAHIA
A6: FORMA DA INFRAESTRUTURA
A8: SAPATAS
A10: SERVIÇO | C10: QUANTIDADE | D10: BASE (M) | E10: LARGURA (M) | F10: ALTURA (M) | G10: PERÍMETRO (M) | H10: ÁREA (M²)
A12: SAPATA 100X150 | B12: BASE | C12: ='CONCRETO DA FUNDAÇÃO'!C14 -> 35 | D12: 1 | E12: 1.5 | F12: 0.15 | G12: =(2*(D12+E12)) -> 5 | H12: =G12*F12*C12 -> 26.25
B13: FUSTE | C13: =C12 -> 35 | D13: 0.15 | E13: 0.25 | F13: 1.1 | G13: =(2*(D13+E13)) -> 0.8 | H13: =G13*F13*C13 -> 30.8
A14: SAPATAS
A15: SERVIÇO | C15: QUANTIDADE | D15: BASE (M) | E15: LARGURA (M) | F15: ALTURA (M) | G15: PERÍMETRO (M) | H15: ÁREA (M²)
A17: SAPATA 150X150 | B17: BASE | C17: ='ESCAVAÇÃO E REATERRO'!B13 -> 10 | D17: 1.5 | E17: 1.5 | F17: 0.35 | G17: =(2*(D17+E17)) -> 6 | H17: =G17*F17*C17 -> 21
B18: FUSTE | C18: =C17 -> 10 | D18: 0.3 | E18: 0.5 | F18: 2.15 | G18: =(2*(D18+E18)) -> 1.6 | H18: =G18*F18*C18 -> 34.4
A20: ÁREA (M²) DE FORMA | H20: =H12+H13+H17+H18 -> 112.45
A22: BALDRAMES
A23: SERVIÇO | C23: QUANTIDADE | D23: BASE (M) | E23: LARGURA (M) | F23: ALTURA (M) | G23: PERÍMETRO (M) | H23: ÁREA (M²)
A25: BALDRAMES | B25: 15X40 | C25: 1 | E25: 0.15 | F25: 0.4 | G25: ='ESCAVAÇÃO E REATERRO'!E14 -> 250 | H25: =(E25+F25*2)*G25 -> 237.5
A28: ÁREA (M²) DE FORMA | H28: =+H25+H20 -> 349.95

Sheet CONCRETO -SUPER-ESTRUTURA
A2: MEMÓRIA DE CÁLCULO DA ESTRUTURA
A4: ='FORMA - INFRA'!A3:H3 -> MERCADO DO MOCAMBO
A5: ='ESCAVAÇÃO E REATERRO'!A5:F5 -> MUNICIPIO DE ANDARAI-BAHIA
A7: CONCRETO SUPER-ESTRUTURA
A9: PILARES
A10: ELEMENTO | B10: LARGURA (M) | D10: BASE (M) | E10: ALTURA (M) | F10: VOLUME(M3)
A12: P1 | B12: 0.55 | D12: 0.3 | E12: 4.7 | F12: =B12*D12*E12 -> 0.7755
A13: P2 | B13: 0.55 | D13: 0.3 | E13: 4.7 | F13: =B13*D13*E13 -> 0.7755
A14: P3 | B14: 0.55 | D14: 0.3 | E14: 4.7 | F14: =B14*D14*E14 -> 0.7755
A15: P4 | B15: 0.55 | D15: 0.3 | E15: 4.7 | F15: =B15*D15*E15 -> 0.7755
A16: P5 | B16: 0.55 | D16: 0.3 | E16: 4.7 | F16: =B16*D16*E16 -> 0.7755
A17: P6 | B17: 0.25 | D17: 0.15 | E17: 3 | F17: =B17*D17*E17 -> 0.1125
A18: P7 | B18: =B17 -> 0.25 | D18: 0.15 | E18: 3 | F18: =B18*D18*E18 -> 0.1125
A19: P8 | B19: =B18 -> 0.25 | D19: 0.15 | E19: 3 | F19: =B19*D19*E19 -> 0.1125
A20: P9 | B20: =B19 -> 0.25 | D20: 0.15 | E20: 3 | F20: =B20*D20*E20 -> 0.1125
A21: P10 | B21: =B20 -> 0.25 | D21: 0.15 | E21: 3 | F21: =B21*D21*E21 -> 0.1125
A22: P11 | B22: =B21 -> 0.25 | D22: 0.15 | E22: 3 | F22: =B22*D22*E22 -> 0.1125
A23: P12 | B23: =B22 -> 0.25 | D23: 0.15 | E23: 3 | F23: =B23*D23*E23 -> 0.1125
A24: P13 | B24: =B23 -> 0.25 | D24: 0.15 | E24: 3 | F24: =B24*D24*E24 -> 0.1125
A25: P14 | B25: =B24 -> 0.25 | D25: 0.15 | E25: 3 | F25: =B25*D25*E25 -> 0.1125
A26: P15 | B26: =B25 -> 0.25 | D26: 0.15 | E26: 3 | F26: =B26*D26*E26 -> 0.1125
A27: P16 | B27: =B26 -> 0.25 | D27: 0.15 | E27: 3 | F27: =B27*D27*E27 -> 0.1125
A28: P17 | B28: =B27 -> 0.25 | D28: 0.15 | E28: 3 | F28: =B28*D28*E28 -> 0.1125
A29: P18 | B29: =B28 -> 0.25 | D29: 0.15 | E29: 3 | F29: =B29*D29*E29 -> 0.1125
... A35: P24 | B35: =B34 -> 0.25 | D35: 0.15 | E35: 3 | F35: =B35*D35*E35 -> 0.1125
A36: P25 | B36: 0.25 | D36: 0.15 | E36: 3.63 | F36: =B36*D36*E36 -> 0.136125
A37: P26 | B37: =B36 -> 0.25 | D37: 0.15 | E37: 3 | F37: =B37*D37*E37 -> 0.1125
A38: P27 | B38: =B37 -> 0.25 | D38: 0.15 | E38: 3 | F38: =B38*D38*E38 -> 0.1125
A39: P28 | B39: =B38 -> 0.25 | D39: 0.15 | E39: 3 | F39: =B39*D39*E39 -> 0.1125
A40: P29 | B40: =B39 -> 0.25 | D40: 0.15 | E40: 3 | F40: =B40*D40*E40 -> 0.1125
A41: P30 | B41: =B40 -> 0.25 | D41: 0.15 | E41: 3 | F41: =B41*D41*E41 -> 0.1125
A42: P31 | B42: =B41 -> 0.25 | D42: 0.15 | E42: 3 | F42: =B42*D42*E42 -> 0.1125
A43: P32 | B43: =B42 -> 0.25 | D43: 0.15 | E43: 3.63 | F43: =B43*D43*E43 -> 0.136125
A44: P33 | B44: =B43 -> 0.25 | D44: 0.15 | E44: 3 | F44: =B44*D44*E44 -> 0.1125
A45: P34 | B45: 0.55 | D45: 0.3 | E45: 4.7 | F45: =B45*D45*E45 -> 0.7755
A46: P35 | B46: 0.25 | D46: 0.15 | E46: 3 | F46: =B46*D46*E46 -> 0.1125
A47: P36 | B47: =B46 -> 0.25 | D47: 0.15 | E47: 3.63 | F47: =B47*D47*E47 -> 0.136125
A48: P37 | B48: 0.55 | D48: 0.3 | E48: 4.7 | F48: =B48*D48*E48 -> 0.7755
A49: P38 | B49: 0.25 | D49: 0.15 | E49: 3.63 | F49: =B49*D49*E49 -> 0.136125
A50: P39 | B50: 0.25 | D50: 0.15 | E50: 3 | F50: =B50*D50*E50 -> 0.1125
A51: P40 | B51: 0.55 | D51: 0.3 | E51: 4.7 | F51: =B51*D51*E51 -> 0.7755
A52: P41 | B52: 0.25 | D52: 0.15 | E52: 3 | F52: =B52*D52*E52 -> 0.1125
A53: P42 | B53: 0.25 | D53: 0.15 | E53: 3 | F53: =B53*D53*E53 -> 0.1125
A54: P43 | B54: 0.55 | D54: 0.3 | E54: 4.7 | F54: =B54*D54*E54 -> 0.7755
A55: P44 | B55: 0.25 | D55: 0.15 | E55: 3 | F55: =B55*D55*E55 -> 0.1125
A56: P45 | B56: 0.55 | D56: 0.3 | E56: 4.7 | F56: =B56*D56*E56 -> 0.7755
A57: TOTAL | F57: =SUM(F12:F56) -> 11.787
A60: MEMÓRIA DE CÁLCULO DA ESTRUTURA
A63: CONCRETO SUPER-ESTRUTURA
A65: CINTAMENTO-PAREDES
A66: ELEMENTO | B66: COMPRIMENTO (M) | D66: BASE (M) | E66: ALTURA (M) | F66: VOLUME(M3)
A68: CINTAS | B68: 92.9 | D68: 0.15 | E68: 0.35 | F68: =B68*D68*E68 -> 4.87725
A72: TOTAL DE CONCRETO | F72: =F68+F57 -> 16.66425 | G72: M3

Sheet comprimento da baldrame
B5: baldrames
B23: 250 | D23: =B23+C23 -> 250 | E23: m

Sheet CONCRETO DA FUNDAÇÃO
A2: MEMÓRIA DE CÁLCULO DA ESTRUTURA
A4: ='ESCAVAÇÃO E REATERRO'!A4:F4 -> MERCADO DO MOCAMBO
A5: ='ESCAVAÇÃO E REATERRO'!A5:F5 -> MUNICIPIO DE ANDARAI-BAHIA
A7: CONCRETO DA INFRAESTRUTURA
A11: SAPATAS
A12: SERVIÇO | B12: BASE | C12: QUANTIDADE | D12: BASE (M) | E12: LARGURA (M) | F12: ALTURA H1 (M) | G12: PERÍMETRO (M) | H12: VOLUME (M³)
A14: SAPATA 100X150 | C14: ='ESCAVAÇÃO E REATERRO'!B12 -> 35 | D14: 1 | E14: 1.5 | F14: 0.15 | G14: =(2*(D14+E14)) -> 5 | H14: =C14*D14*E14*F14 -> 7.875
B15: TRONCO DA PIRÂMIDE | C15: BASE (M) | E15: LARGURA (M) | G15: ÁREA (M²)
B17: ÁREA DA BASE MENOR (PILAR) | C17: 0.15 | E17: 0.25 | G17: =E17*C17 -> 0.0375
B18: ÁREA DA BASE MAIOR (SAPATA) | C18: =D14 -> 1 | E18: =E14 -> 1.5 | G18: =E18*C18 -> 1.5
C19: QUANTIDADE | D19: ÁREA DA BASE MENOR (PILAR) | E19: ÁREA DA BASE MAIOR (SAPATA) | F19: VOLUME POR SAPATA (M³) | G19: ALTURA H2 (M) | H19: VOLUME TOTAL (M³)
C20: =C14 -> 35 | D20: =G17 -> 0.0375 | E20: =G18 -> 1.5 | F20: =G20*(D20+E20+SQRT(D20*E20))/3 -> 0.14788924 | G20: 0.25 | H20: =F20*C20 -> 5.1761232
B21: FUSTE | C21: QUANTIDADE | D21: BASE (M) | E21: LARGURA (M) | F21: ALTURA H3 (M) | H21: VOLUME (M³)
C22: =C14 -> 35 | D22: =C17 -> 0.15 | E22: =E17 -> 0.25 | F22: 1.1 | H22: =((F22-G22)*E22*D22)*C22 -> 1.44375
B23: CONCRETO MAGRO | C23: QUANTIDADE | D23: BASE (M) | E23: LARGURA (M) | F23: ALTURA H4 (M) | G23: VOLUME (M³)
C25: =C14 -> 35 | D25: =D14 -> 1 | E25: =E14 -> 1.5 | F25: 0.05 | G25: =(F25*E25*D25)*C25 -> 2.625
A26: VOLUME TOTAL (M³) DE CONCRETO (FCK= 25MPA) | H26: =H22+H20+H14+H9 -> 14.494873
A27: VOLUME TOTAL (M³) DE CONCRETO MAGRO | H27: =G25 -> 2.625
A29: SAPATAS
A30: SERVIÇO | B30: BASE | C30: QUANTIDADE | D30: BASE (M) | E30: LARGURA (M) | F30: ALTURA H1 (M) | G30: PERÍMETRO (M) | H30: VOLUME (M³)
A32: SAPATA 150X150 | C32: ='ESCAVAÇÃO E REATERRO'!B13 -> 10 | D32: 1.5 | E32: 1.5 | F32: 0.15 | G32: =(2*(D32+E32)) -> 6 | H32: =C32*D32*E32*F32 -> 3.375
B33: TRONCO DA PIRÂMIDE | C33: BASE (M) | E33: LARGURA (M) | G33: ÁREA (M²)
B35: ÁREA DA BASE MENOR (PILAR) | C35: 0.3 | E35: 0.5 | G35: =E35*C35 -> 0.15
B36: ÁREA DA BASE MAIOR (SAPATA) | G36: =E36*C36 -> 0
C37: QUANTIDADE | D37: ÁREA DA BASE MENOR (PILAR) | E37: ÁREA DA BASE MAIOR (SAPATA) | F37: VOLUME POR SAPATA (M³) | G37: ALTURA H2 (M) | H37: VOLUME TOTAL (M³)
C38: =C32 -> 10 | D38: =G35 -> 0.15 | E38: =G36 -> 0 | F38: =G38*(D38+E38+SQRT(D38*E38))/3 -> 0.0175 | G38: 0.35 | H38: =F38*C38 -> 0.175
B39: FUSTE | C39: QUANTIDADE | D39: BASE (M) | E39: LARGURA (M) | F39: ALTURA H3 (M) | H39: VOLUME (M³)
C40: =C32 -> 10 | D40: =C35 -> 0.3 | E40: =E35 -> 0.5 | F40: 2.15 | H40: =((F40-G40)*E40*D40)*C40 -> 3.225
B41: CONCRETO MAGRO | C41: QUANTIDADE | D41: BASE (M) | E41: LARGURA (M) | F41: ALTURA H4 (M) | G41: VOLUME (M³)
C43: =C32 -> 10 | D43: =D32 -> 1.5 | E43: =E32 -> 1.5 | F43: 0.05 | G43: =(F43*E43*D43)*C43 -> 1.125
A44: VOLUME TOTAL (M³) DE CONCRETO (FCK= 25MPA) | H44: =H40+H38+H32+H27 -> 9.4
A45: VOLUME TOTAL (M³) DE CONCRETO MAGRO | H45: =G43 -> 1.125
A51: BALDRAMES
A52: SERVIÇO | B52: BASE | C52: COMPRIMENTO | D52: BASE (M) | E52: ALTURA (M) | F52: ESPESSURA LASTRO(M) | G52: PERÍMETRO (M) | H52: VOLUME (M³)
A54: BALDRAME 15X40 | C54: ='ESCAVAÇÃO E REATERRO'!E14 -> 250 | D54: 0.15 | E54: 0.4 | H54: =C54*D54*E54 -> 15
C59: =A26 -> VOLUME TOTAL (M³) DE CONCRETO (FCK= 25MPA) | G59: =H54+H44+H26 -> 38.894873 | H59: M3
C60: =A27 -> VOLUME TOTAL (M³) DE CONCRETO MAGRO | G60: =H27+H45 -> 3.75 | H60: M3
