Workbook
Name \c: #REF!
Name \c: #REF!
Name \I: #REF!
Name \I: #REF!
Name \S: #REF!
Name \S: #REF!
Name \x: #REF!
Name \x: #REF!
Name \z: #REF!
Name \z: #REF!
Name ________________________________________________________cab1: #REF!
Name ________________________________________________________cab1: #REF!
Name _____________________________________________________cab1: #REF!
Name _____________________________________________________cab1: #REF!
Name _____________________________________________________RET1: #REF!
Name _____________________________________________________RET1: #REF!
Name ____________________________________________________cab1: #REF!
Name ____________________________________________________cab1: #REF!
Name ____________________________________________________TT21: #REF!
Name ____________________________________________________TT21: #REF!
Name ____________________________________________________TT22: #REF!
Name ____________________________________________________TT22: #REF!
Name ___________________________________________________cab1: #REF!
Name ___________________________________________________cab1: #REF!
Name ___________________________________________________oac2: #REF!
Name ___________________________________________________oac2: #REF!
Name __________________________________________________cab1: #REF!
Name __________________________________________________cab1: #REF!
Name __________________________________________________JAZ1: #REF!
Name __________________________________________________JAZ1: #REF!
Name __________________________________________________JAZ11: #REF!
Name __________________________________________________JAZ11: #REF!
Name __________________________________________________JAZ2: #REF!
Name __________________________________________________JAZ2: #REF!
Name __________________________________________________JAZ22: #REF!
Name __________________________________________________JAZ22: #REF!
Name __________________________________________________JAZ3: #REF!
Name __________________________________________________JAZ3: #REF!
Name __________________________________________________JAZ33: #REF!
Name __________________________________________________JAZ33: #REF!
Name __________________________________________________RET1: #REF!
Name __________________________________________________RET1: #REF!
Name _________________________________________________cab1: #REF!
Name _________________________________________________cab1: #REF!
Name _________________________________________________EXT1: #REF!
Name _________________________________________________EXT1: #REF!
Name _________________________________________________ind100: #REF!
Name _________________________________________________ind100: #REF!
Name _________________________________________________JAZ1: #REF!
Name _________________________________________________JAZ1: #REF!
Name _________________________________________________JAZ11: #REF!
Name _________________________________________________JAZ11: #REF!
Name _________________________________________________JAZ2: #REF!
Name _________________________________________________JAZ2: #REF!
Name _________________________________________________JAZ22: #REF!
Name _________________________________________________JAZ22: #REF!
Name _________________________________________________JAZ3: #REF!
Name _________________________________________________JAZ3: #REF!
Name _________________________________________________JAZ33: #REF!
Name _________________________________________________JAZ33: #REF!

Sheet CPAV001-ADM
O1: SINAPI
O2: I-SINAPI
O3: SICRO-SERVIÇOS
O4: SICRO-EQUIPAMENTOS
A5: =CONCATENATE("COMPOSIÇÃO DE CUSTO UNITÁRIO - ",ORÇAMENTO!P2) -> COMPOSIÇÃO DE CUSTO UNITÁRIO - NÃO DESONERADO | O5: SICRO-MÃO-DE-OBRA
A6: CÓDIGO: | B6: SERVIÇO: | K6: UNIDADE: | O6: SICRO-MATERIAIS
A7: CPAV001 | B7: ADMINISTRAÇÃO LOCAL | L7: UN | O7: ANP
A8: CÓDIGO REFERÊNCIA: | O8: COMPOSIÇÃO
A9: CÓDIGO: | B9: TIPO | C9: Mão de obra | D9: Horas/ Dia | E9: Dias/ Mês | F9: Meses | G9: Total Horas | H9: Unidade | J9: Custo | L9: Custo
J10: Horário | L10: Total
A11: 90777 | B11: SINAPI | C11: ENGENHEIRO CIVIL DE OBRA JUNIOR COM ENCARGOS COMPLEMENTARES | D11: 8 | E11: 22 | F11: 8 | G11: =D11*E11*F11 -> 1408 | H11: H | I11: ENGENHEIRO CIVIL DE OBRA JUNIOR COM ENCARGOS COMPLEMENTARES | L11: =TRUNC(G11*J11,2) -> 0
A12: 90776 | B12: SINAPI | C12: ENCARREGADO GERAL COM ENCARGOS COMPLEMENTARES | D12: 8 | E12: 22 | F12: 8 | G12: =D12*E12*F12 -> 1408 | H12: H | I12: ENCARREGADO GERAL COM ENCARGOS COMPLEMENTARES | L12: =TRUNC(G12*J12,2) -> 0
A13: 90781 | B13: SINAPI | C13: TOPOGRAFO COM ENCARGOS COMPLEMENTARES | D13: 8 | E13: 22 | F13: 8 | G13: =D13*E13*F13 -> 1408 | H13: H | I13: TOPOGRAFO COM ENCARGOS COMPLEMENTARES | L13: =TRUNC(G13*J13,2) -> 0
A14: 88253 | B14: SINAPI | C14: AUXILIAR DE TOPÓGRAFO COM ENCARGOS COMPLEMENTARES | D14: 6 | E14: 22 | F14: 8 | G14: =D14*E14*F14 -> 1056 | H14: H | I14: AUXILIAR DE TOPÓGRAFO COM ENCARGOS COMPLEMENTARES | L14: =TRUNC(G14*J14,2) -> 0
A15: 88321 | B15: SINAPI | C15: TÉCNICO DE LABORATÓRIO COM ENCARGOS COMPLEMENTARES | D15: 6 | E15: 22 | F15: 8 | G15: =D15*E15*F15 -> 1056 | H15: H | I15: TÉCNICO DE LABORATÓRIO COM ENCARGOS COMPLEMENTARES | L15: =TRUNC(G15*J15,2) -> 0
A16: 88249 | B16: SINAPI | C16: AUXILIAR DE LABORATÓRIO COM ENCARGOS COMPLEMENTARES | D16: 6 | E16: 22 | F16: 8 | G16: =D16*E16*F16 -> 1056 | H16: H | I16: AUXILIAR DE LABORATÓRIO COM ENCARGOS COMPLEMENTARES | L16: =TRUNC(G16*J16,2) -> 0
A17: CUSTO UNITÁRIO TOTAL : | L17: =SUM(L11:L16) -> 0

Sheet 103689-PLACA DE OBRA
A1: OBRA: | B1: =ORÇAMENTO!H1 -> PAVIMENTAÇÃO ASFÁLTICA E DRENAGEM | J1: SINAPI
A2: LOCAL: | B2: =ORÇAMENTO!H3 -> BAIRRO JARDIM FORTALEZA - PARTE 1 | J2: I-SINAPI
A3: PROPR.: | B3: =ORÇAMENTO!H2 -> PREFEITURA MUNICIPAL DE CANARANA | J3: SICRO-SERVIÇOS
A4: DATA: | B4: =ORÇAMENTO!P5 -> JUNHO/2026 | J4: SICRO-EQUIPAMENTOS
A5: COMPOSIÇÃO DE CUSTO UNITÁRIO - NÃO DESONERADO | J5: SICRO-MÃO-DE-OBRA
A6: CÓDIGO: | B6: SERVIÇO: | C6: FORNECIMENTO E INSTALAÇÃO DE PLACA DE OBRA COM CHAPA GALVANIZADA E ESTRUTURA DE MADEIRA. AF_03/2022_PS | F6: UNIDADE: | J6: SICRO-MATERIAIS
A7: 103689 | G7: M2 | J7: ANP
J8: COMPOSIÇÃO
A9: CÓDIGO | B9: TIPO | C9: Mão de obra | D9: UNIDADE | E9: COEFICIENTE | F9: Custo | G9: Custo
F10: Horário | G10: Total
A11: 102234 | B11: SINAPI | C11: PINTURA IMUNIZANTE PARA MADEIRA, 2 DEMÃOS. AF_01/2021 | D11: M2 | E11: 0.5 | F11: 22.68 | G11: =TRUNC(E11*F11,2) -> 11.34
A12: 88316 | B12: SINAPI | C12: SERVENTE COM ENCARGOS COMPLEMENTARES | D12: H | E12: 1.1186 | F12: 23.2 | G12: =TRUNC(E12*F12,2) -> 25.95
A13: 88262 | B13: SINAPI | C13: CARPINTEIRO DE FORMAS COM ENCARGOS COMPLEMENTARES | D13: H | E13: 0.3729 | F13: 28.69 | G13: =TRUNC(E13*F13,2) -> 10.69
A14: 5069 | B14: I-SINAPI | C14: PREGO DE ACO POLIDO COM CABECA 17 X 27 (2 1/2 X 11) | D14: KG | E14: 0.0132 | F14: 20.71 | G14: =TRUNC(E14*F14,2) -> 0.27
A15: 5065 | B15: I-SINAPI | C15: PREGO DE ACO POLIDO COM CABECA 10 X 10 (7/8 X 17) | D15: KG | E15: 0.0113 | F15: 38.66 | G15: =TRUNC(E15*F15,2) -> 0.43
A16: 4813 | B16: I-SINAPI | C16: PLACA DE OBRA (PARA CONSTRUCAO CIVIL) EM CHAPA GALVANIZADA *N. 22*, ADESIVADA, DE *2,4 X 1,2* M (SEM POSTES PARA FIXACAO) | D16: M2 | E16: 1 | F16: 400 | G16: =TRUNC(E16*F16,2) -> 400
A17: 4509 | B17: I-SINAPI | C17: SARRAFO *2,5 X 10* CM EM PINUS, MISTA OU EQUIVALENTE DA REGIAO - BRUTA | D17: M | E17: 3.2083 | F17: 5.61 | G17: =TRUNC(E17*F17,2) -> 17.99
A18: CUSTO UNITÁRIO TOTAL : | G18: =SUM(G11:G17) -> 466.67
A19: DETALHAMENTO DE PLACA DE OBRA
A35: A medida indicada para confecção desta placa é de 5x2,5m. | D35: A medida indicada para confecção desta placa é de 2,5X1,25m.
A38: Usar sempre a família de fontes Uni Neue para confeccção das placas.
B40: C100 m M 90 Y 00 K 20
A42: * De acordo com o Manual de Placas SINFRA

Sheet CPAV002-BARRACÃO
J1: SINAPI
J2: I-SINAPI
J3: SICRO-SERVIÇOS
J4: SICRO-EQUIPAMENTOS
A5: =CONCATENATE("COMPOSIÇÃO DE CUSTO UNITÁRIO - ",ORÇAMENTO!P2) -> COMPOSIÇÃO DE CUSTO UNITÁRIO - NÃO DESONERADO | J5: SICRO-MÃO-DE-OBRA
A6: CÓDIGO: | B6: SERVIÇO: | C6: BARRACÃO FECHADO PORTE PEQUENO PARA DEPÓSITO DE CIMENTO E ALMOXARIFADO (S=38,72 M2) COM MATERIAIS NOVOS | F6: UNIDADE: | J6: SICRO-MATERIAIS
A7: CPAV002 | G7: UN | J7: COMPOSIÇÃO
A8: CÓDIGO REFERÊNCIA: | C8: 00062/ORSE (JANEIRO 2025) | J8: ANP
A9: CÓDIGO: | B9: TIPO | C9: Mão de obra | D9: UNIDADE | E9: COEFICIENTE | F9: Custo | G9: Custo | J9: COTAÇÃO
F10: Horário | G10: Total
A11: 5088 | B11: I-SINAPI | C11: PORTA CADEADO EM ACO GALVANIZADO, COMPRIMENTO DE 3 1/2" | D11: UN | E11: 2 | G11: =TRUNC(E11*F11,2) -> 0
A12: 5074 | B12: I-SINAPI | C12: PREGO DE ACO POLIDO COM CABECA 15 X 18 (1 1/2 X 13) | D12: KG | E12: 1.2 | G12: =TRUNC(E12*F12,2) -> 0
A13: 43603 | B13: I-SINAPI | C13: CADEADO SIMPLES, CORPO EM LATAO MACICO, COM LARGURA DE 50 MM E ALTURA DE APROX 40 MM, HASTE CEMENTADA EM ACO TEMPERADO COM DIAMETRO DE APROX 8,0 MM, INCLUINDO 2 CHAVES | D13: UN | E13: 2 | G13: =TRUNC(E13*F13,2) -> 0
A14: 11134 | B14: I-SINAPI | C14: COMPENSADO NAVAL - CHAPA/PAINEL EM MADEIRA COMPENSADA PRENSADA, DE 2200 X 1600 MM, E = 10 MM | D14: M2 | E14: 77 | G14: =TRUNC(E14*F14,2) -> 0
A15: 2433 | B15: I-SINAPI | C15: DOBRADICA EM ACO/FERRO, 3" X 2 1/2", E= 1,2 A 1,8 MM, SEM ANEL, CROMADO OU ZINCADO, TAMPA CHATA, COM PARAFUSOS | D15: UN | E15: 4 | G15: =TRUNC(E15*F15,2) -> 0
A16: 4491 | B16: I-SINAPI | C16: PONTALETE *7,5 X 7,5* CM EM PINUS, MISTA OU EQUIVALENTE DA REGIAO - BRUTA | D16: M | E16: 87 | G16: =TRUNC(E16*F16,2) -> 0
A17: 94963 | B17: SINAPI | C17: CONCRETO FCK = 15MPA, TRAÇO 1:3,4:3,5 (EM MASSA SECA DE CIMENTO/ AREIA MÉDIA/ BRITA 1) - PREPARO MECÂNICO COM BETONEIRA 400 L. AF_05/2021 | D17: M3 | E17: 1.3 | G17: =TRUNC(E17*F17,2) -> 0
A18: 102475 | B18: SINAPI | C18: CONCRETO FCK = 20MPA, TRAÇO 1:2,6:2,9 (EM MASSA SECA DE CIMENTO/ AREIA MÉDIA/ SEIXO ROLADO) - PREPARO MECÂNICO COM BETONEIRA 400 L. AF_05/2021 | D18: M3 | E18: 2.8 | G18: =TRUNC(E18*F18,2) -> 0
A19: 103670 | B19: SINAPI | C19: LANÇAMENTO COM USO DE BALDES, ADENSAMENTO E ACABAMENTO DE CONCRETO EM ESTRUTURAS. AF_02/2022 | D19: M3 | E19: 4.1 | G19: =TRUNC(E19*F19,2) -> 0
A20: 92543 | B20: SINAPI | C20: TRAMA DE MADEIRA COMPOSTA POR TERÇAS PARA TELHADOS DE ATÉ 2 ÁGUAS PARA TELHA ONDULADA DE FIBROCIMENTO, METÁLICA, PLÁSTICA OU TERMOACÚSTICA, INCLUSO TRANSPORTE VERTICAL. AF_10/2025 | D20: M2 | E20: 52.92 | G20: =TRUNC(E20*F20,2) -> 0
A21: 94207 | B21: SINAPI | C21: TELHAMENTO COM TELHA ONDULADA DE FIBROCIMENTO E = 6 MM, COM RECOBRIMENTO LATERAL DE 1/4 DE ONDA PARA TELHADO COM INCLINAÇÃO MAIOR QUE 10°, COM ATÉ 2 ÁGUAS, INCLUSO IÇAMENTO. AF_07/2019 | D21: M2 | E21: 52.92 | G21: =TRUNC(E21*F21,2) -> 0
A22: 97097 | B22: SINAPI | C22: ACABAMENTO POLIDO PARA PISO DE CONCRETO ARMADO OU LAJE SOBRE SOLO DE ALTA RESISTÊNCIA. AF_09/2021 | D22: M2 | E22: 56 | G22: =TRUNC(E22*F22,2) -> 0
... A24: 88261 | B24: SINAPI | C24: CARPINTEIRO DE ESQUADRIAS COM ENCARGOS COMPLEMENTARES | D24: H | E24: 16 | G24: =TRUNC(E24*F24,2) -> 0
A25: =A31 -> COMP AUX 001 | B25: COMPOSIÇÃO | C25: PONTO DE LUZ EM TETO OU PAREDE, COM ELETRODUTO DE PVC FLEXIVEL SANFONADO APARENTE Ø 3/4" | D25: UND | E25: 2 | G25: =TRUNC(E25*F25,2) -> 0
A26: =A44 -> COMP AUX 002 | B26: COMPOSIÇÃO | C26: INTERRUPTOR 01 SEÇÃO, COM CAIXA PVC 4" X 2", APARENTE | D26: UND | E26: 2 | G26: =TRUNC(E26*F26,2) -> 0
A27: =A55 -> COMP AUX 003 | B27: COMPOSIÇÃO | C27: PONTO DE TOMADA 2P+T, ABNT, DE EMBUTIR, 10 A, COM ELETRODUTO DE PVC RÍGIDO EMBUTIDO Ø 3/4", FIO RIGIDO 2,5MM² (FIO 12), INCLUSIVE PLACA EM PVC E ATERRAMENTO | D27: UND | E27: 1 | G27: =TRUNC(E27*F27,2) -> 0
A28: CUSTO UNITÁRIO TOTAL : | G28: =SUM(G11:G27) -> 0
A30: CÓDIGO: | B30: SERVIÇO: | C30: PONTO DE LUZ EM TETO OU PAREDE, COM ELETRODUTO DE PVC FLEXIVEL SANFONADO APARENTE Ø 3/4" | F30: UNIDADE:
A31: COMP AUX 001 | G31: UND
A32: CÓDIGO REFERÊNCIA: | C32: 00641/ORSE (JANEIRO 2025)
A33: CÓDIGO: | B33: TIPO | C33: Mão de obra | D33: UNIDADE | E33: COEFICIENTE | F33: Custo | G33: Custo
F34: Horário | G34: Total
A35: 939 | B35: I-SINAPI | C35: FIO DE COBRE, SOLIDO, CLASSE 1, ISOLACAO EM PVC/A, ANTICHAMA BWF-B, 450/750V, SECAO NOMINAL 2,5 MM2 | D35: M | E35: 12 | G35: =TRUNC(E35*F35,2) -> 0
A36: 2688 | B36: I-SINAPI | C36: ELETRODUTO PVC FLEXIVEL CORRUGADO, COR AMARELA, DE 25 MM | D36: M | E36: 6 | G36: =TRUNC(E36*F36,2) -> 0
A37: 12001 | B37: I-SINAPI | C37: CAIXA OCTOGONAL DE FUNDO MOVEL, EM PVC, DE 4" X 4", PARA ELETRODUTO FLEXIVEL CORRUGADO | D37: UN | E37: 1 | G37: =TRUNC(E37*F37,2) -> 0
A38: 20111 | B38: I-SINAPI | C38: FITA ISOLANTE ADESIVA ANTICHAMA, USO ATE 750 V, EM ROLO DE 19 MM X 20 M | D38: UN | E38: 0.15 | G38: =TRUNC(E38*F38,2) -> 0
A39: 88264 | B39: SINAPI | C39: ELETRICISTA COM ENCARGOS COMPLEMENTARES | D39: H | E39: 4 | G39: =TRUNC(E39*F39,2) -> 0
A40: 88316 | B40: SINAPI | C40: SERVENTE COM ENCARGOS COMPLEMENTARES | D40: H | E40: 5 | G40: =TRUNC(E40*F40,2) -> 0
A41: CUSTO UNITÁRIO TOTAL : | G41: =SUM(G35:G40) -> 0
A43: CÓDIGO: | B43: SERVIÇO: | C43: INTERRUPTOR 01 SEÇÃO, COM CAIXA PVC 4" X 2", APARENTE | F43: UNIDADE:
...

Sheet CPAV003- MOB_DESMOB
Q1: SINAPI
Q2: I-SINAPI
Q3: SICRO-SERVIÇOS
Q4: SICRO-EQUIPAMENTOS
A5: =CONCATENATE("COMPOSIÇÃO DE CUSTO UNITÁRIO - ",ORÇAMENTO!P2) -> COMPOSIÇÃO DE CUSTO UNITÁRIO - NÃO DESONERADO | Q5: SICRO-MATERIAIS
A6: CÓDIGO: | B6: UNIDADE: | C6: SERVIÇO: | E6: ORIGEM | F6: =ÍNDICE!$D$8 -> BARRA DO GARÇAS | J6: DMT (km) | L6: PAVIMENTADO | N6: =ÍNDICE!$D$9 -> 325 | Q6: SICRO-MATERIAIS
A7: CPAV003 | B7: UN | C7: MOBILIZAÇÃO E DESMOBILIZAÇÃO | E7: DESTINO | F7: =ÍNDICE!$B$8 -> CANARANA | L7: REVESTIMENTO PRIMÁRIO | N7: =ÍNDICE!$D$10 -> 0.35 | Q7: COMPOSIÇÃO
A8: CÓDIGO: | B8: TIPO | C8: EQUIPAMENTOS DE GRANDE PORTE | D8: VIAGENS (K) | E8: PAVIMENTADO | G8: NÃO PAVIMENTADO | I8: QUANT. | J8: FU | K8: VALOR UNITÁRIO (CH) | L8: VALOR TOTAL | M8: CÓDIGO | N8: TRANSPORTADOR | Q8: ANP
E9: DISTÂNCIA (DM) | F9: VELOCIDADE (V) | G9: DISTÂNCIA (DM) | H9: VELOCIDADE (V) | Q9: COTAÇÃO
A10: E9685 | B10: SICRO-EQUIPAMENTOS | C10: ROLO COMPACTADOR PÉ DE CARNEIRO VIBRATÓRIO AUTOPROPELIDO POR PNEUS DE 11,6 T - 82 KW | D10: 2 | E10: =$N$6 -> 325 | F10: 60 | G10: =$N$7 -> 0.35 | H10: 50 | I10: 1 | J10: 0.5 | L10: =TRUNC(((((E10*D10*J10)/F10)*K10)*I10)+((((G10*D10*J10)/H10)*K10)*I10),2) -> 0 | M10: E9666 | N10: CAVALO MECÂNICO COM SEMIRREBOQUE COM CAPACIDADE DE 32 T - 302 KW
A11: E9762 | B11: SICRO-EQUIPAMENTOS | C11: ROLO COMPACTADOR DE PNEUS AUTOPROPELIDO DE 27 T - 85 KW | D11: 2 | E11: =$N$6 -> 325 | F11: 60 | G11: =$N$7 -> 0.35 | H11: 50 | I11: 1 | J11: 0.5 | L11: =TRUNC(((((E11*D11*J11)/F11)*K11)*I11)+((((G11*D11*J11)/H11)*K11)*I11),2) -> 0 | M11: E9666 | N11: CAVALO MECÂNICO COM SEMIRREBOQUE COM CAPACIDADE DE 32 T - 302 KW
A12: E9511 | B12: SICRO-EQUIPAMENTOS | C12: CARREGADEIRA DE PNEUS COM CAPACIDADE DE 3,40 M³ - 195 KW | D12: 2 | E12: =$N$6 -> 325 | F12: 60 | G12: =$N$7 -> 0.35 | H12: 50 | I12: 1 | J12: 1 | L12: =TRUNC(((((E12*D12*J12)/F12)*K12)*I12)+((((G12*D12*J12)/H12)*K12)*I12),2) -> 0 | M12: E9665 | N12: CAVALO MECÂNICO COM SEMIRREBOQUE COM CAPACIDADE DE 20 T - 276 KW
A13: E9577 | B13: SICRO-EQUIPAMENTOS | C13: TRATOR AGRÍCOLA SOBRE PNEUS - 77 KW | D13: 2 | E13: =$N$6 -> 325 | F13: 60 | G13: =$N$7 -> 0.35 | H13: 50 | I13: 1 | J13: 0.5 | L13: =TRUNC(((((E13*D13*J13)/F13)*K13)*I13)+((((G13*D13*J13)/H13)*K13)*I13),2) -> 0 | M13: E9665 | N13: CAVALO MECÂNICO COM SEMIRREBOQUE COM CAPACIDADE DE 20 T - 276 KW
A14: E9524 | B14: SICRO-EQUIPAMENTOS | C14: MOTONIVELADORA - 93 KW | D14: 2 | E14: =$N$6 -> 325 | F14: 60 | G14: =$N$7 -> 0.35 | H14: 50 | I14: 1 | J14: 1 | L14: =TRUNC(((((E14*D14*J14)/F14)*K14)*I14)+((((G14*D14*J14)/H14)*K14)*I14),2) -> 0 | M14: E9665 | N14: CAVALO MECÂNICO COM SEMIRREBOQUE COM CAPACIDADE DE 20 T - 276 KW
A15: E9558 | B15: SICRO-EQUIPAMENTOS | C15: TANQUE DE ESTOCAGEM DE ASFALTO COM CAPACIDADE DE 30.000 L | D15: 2 | E15: =$N$6 -> 325 | F15: 60 | G15: =$N$7 -> 0.35 | H15: 50 | I15: 2 | J15: 1 | L15: =TRUNC(((((E15*D15*J15)/F15)*K15)*I15)+((((G15*D15*J15)/H15)*K15)*I15),2) -> 0 | M15: E9665 | N15: CAVALO MECÂNICO COM SEMIRREBOQUE COM CAPACIDADE DE 20 T - 276 KW
A16: E9515 | B16: SICRO-EQUIPAMENTOS | C16: ESCAVADEIRA HIDRÁULICA SOBRE ESTEIRAS COM CAÇAMBA COM CAPACIDADE DE 1,56 M³ - 118 KW | D16: 2 | E16: =$N$6 -> 325 | F16: 60 | G16: =$N$7 -> 0.35 | H16: 50 | I16: 2 | J16: 1 | L16: =TRUNC(((((E16*D16*J16)/F16)*K16)*I16)+((((G16*D16*J16)/H16)*K16)*I16),2) -> 0 | M16: E9666 | N16: CAVALO MECÂNICO COM SEMIRREBOQUE COM CAPACIDADE DE 32 T - 302 KW
C17: CONDUÇÃO PRÓPRIA
A18: CÓDIGO: | B18: TIPO | C18: EQUIPAMENTOS DE GRANDE PORTE | D18: VIAGENS (K) | E18: PAVIMENTADO | G18: NÃO PAVIMENTADO | I18: QUANT. | J18: FU | K18: VALOR UNITÁRIO (CH) | L18: VALOR TOTAL | M18: CÓDIGO | N18: TRANSPORTADOR
E19: DISTÂNCIA (DM) | F19: VELOCIDADE (V) | G19: DISTÂNCIA (DM) | H19: VELOCIDADE (V)
A20: 83362 | B20: SINAPI | C20: ESPARGIDOR DE ASFALTO PRESSURIZADO, TANQUE 6 M3 COM ISOLAÇÃO TÉRMICA, AQUECIDO COM 2 MAÇARICOS, COM BARRA ESPARGIDORA 3,60 M, MONTADO SOBRE CAMINHÃO TOCO, PBT 14.300 KG, POTÊNCIA 185 CV - CHP DIURNO. AF_05/2023 | D20: 1 | E20: =$N$6 -> 325 | F20: 60 | G20: =$N$7 -> 0.35 | H20: 50 | I20: 1 | J20: 1 | L20: =TRUNC(((((E20*D20*J20)/F20)*K20)*I20)+((((G20*D20*J20)/H20)*K20)*I20),2) -> 0 | M20: =A20 -> 83362 | N20: CONDUÇÃO POR CONTA PRÓPRIA
A21: 96035 | B21: SINAPI | C21: CAMINHÃO BASCULANTE 10 M3, TRUCADO, POTÊNCIA 230 CV, INCLUSIVE CAÇAMBA METÁLICA, COM DISTRIBUIDOR DE AGREGADOS ACOPLADO - CHP DIURNO. AF_02/2017 | D21: 1 | E21: =$N$6 -> 325 | F21: 60 | G21: =$N$7 -> 0.35 | H21: 50 | I21: 1 | J21: 1 | L21: =TRUNC(((((E21*D21*J21)/F21)*K21)*I21)+((((G21*D21*J21)/H21)*K21)*I21),2) -> 0 | M21: =A21 -> 96035 | N21: CONDUÇÃO POR CONTA PRÓPRIA
A22: 89883 | B22: SINAPI | C22: CAMINHÃO BASCULANTE 18 M3, COM CAVALO MECÂNICO DE CAPACIDADE MÁXIMA DE TRAÇÃO COMBINADO DE 45000 KG, POTÊNCIA 330 CV, INCLUSIVE SEMIREBOQUE COM CAÇAMBA METÁLICA - CHP DIURNO. AF_12/2014 | D22: 1 | E22: =$N$6 -> 325 | F22: 60 | G22: =$N$7 -> 0.35 | H22: 50 | I22: 1 | J22: 1 | L22: =TRUNC(((((E22*D22*J22)/F22)*K22)*I22)+((((G22*D22*J22)/H22)*K22)*I22),2) -> 0 | M22: =A22 -> 89883 | N22: CONDUÇÃO POR CONTA PRÓPRIA
A23: 89876 | B23: SINAPI | C23: CAMINHÃO BASCULANTE 14 M3, COM CAVALO MECÂNICO DE CAPACIDADE MÁXIMA DE TRAÇÃO COMBINADO DE 36000 KG, POTÊNCIA 286 CV, INCLUSIVE SEMIREBOQUE COM CAÇAMBA METÁLICA - CHP DIURNO. AF_12/2014 | D23: 1 | E23: =$N$6 -> 325 | F23: 60 | G23: =$N$7 -> 0.35 | H23: 50 | I23: 1 | J23: 1 | L23: =TRUNC(((((E23*D23*J23)/F23)*K23)*I23)+((((G23*D23*J23)/H23)*K23)*I23),2) -> 0 | M23: =A23 -> 89876 | N23: CONDUÇÃO POR CONTA PRÓPRIA
A24: TOTAL MOBILIZAÇÃO | L24: =SUM(L10:L23) -> 0
A25: TOTAL DESMOBILIZAÇÃO | L25: =L24 -> 0
A26: FÓRMULA
B27: • CMob representa o custo de mobilização;
B28: • DM representa a distância de mobilização, em quilômetros (km) ou em milhas náuticas (mi)
B29: • K representa o fator relacionado à necessidade de retorno do veículo a sua origem;
B30: • FU representa o fator de utilização do veículo transportador;
B31: • V representa a velocidade média de transporte, em km/h ou nós;
B32: • CH representa o custo horário do veículo transportador.
B33: • O fator K será igual a 1 quando o veículo não retornar e 2 quando o veículo transportador retornar ao local de origem.
B34: • O fator FU representa o inverso do número de equipamentos a serem transportados nos diferentes veículos transportadores.
H49: TOTAL MOBILIZAÇÃO
H50: TOTAL DESMOBILIZAÇÃO

Sheet CPAV004 4016096
A1: PLANILHA PARA COMPOSIÇÃO DE CUSTO UNITÁRIO
A2: SISTEMA DE CUSTOS REFERENCIAIS DE OBRAS - SICRO | E2: ESTADO: | F2: MATO GROSSO | H2: FIC | I2: 0.16414
A3: CPAV004 | B3: ESCAVAÇÃO E CARGA DE MATERIAL COM ESCAVADEIRA HIDRÁULICA DE 1,56 M³ | J3: Prod. Equipe: | K3: 230.19 | L3: M³
A4: A | B4: Equipamentos | D4: Quant. | E4: Utilização | G4: SEM DESONERAÇÃO | J4: COM DESONERAÇÃO
G5: Custo Operacional | I5: Custo | J5: Custo Operacional | L5: Custo
E6: Operativa | F6: Improdutiva | G6: Produtivo | H6: Improdutivo | I6: Horário | J6: Produtivo | K6: Improdutivo | L6: Horário
A7: E9515 | B7: ESCAVADEIRA HIDRÁULICA SOBRE ESTEIRAS COM CAÇAMBA COM CAPACIDADE DE 1,56 M³ - 118 KW | D7: 1 | E7: 1 | F7: 0 | L7: =ROUND(D7*((E7*J7)+(K7*F7)),4) -> 0 | P7: ESCAVAÇÃO E CARGA DE MATERIAL DE JAZIDA COM ESCAVADEIRA HIDRÁULICA DE 1,56 M³
A8: Custo Horário de Equipamentos >> | I8: =SUM(I7:I7) -> 0 | L8: =SUM(L7:L7) -> 0
A9: B | B9: Mão de Obra | D9: Quant. | E9: Unidade | G9: SEM DESONERAÇÃO | J9: COM DESONERAÇÃO
G10: Custo Horario | H10: Custo Horário Total | J10: Custo Horario | K10: Custo Horário Total
A11: P9824 | B11: SERVENTE | D11: 1 | E11: H | G11: 24.8221 | K11: =ROUND(J11*D11,4) -> 0
A12: Custo Horário da Mão de Obra >> | H12: =SUM(H11:I11) -> 0 | K12: =SUM(K11:L11) -> 0
A13: Custo Horário total de execução >> | H13: =H12+I8 -> 0 | K13: =K12+L8 -> 0
A14: Custo Unitário de Execução >> | H14: =(H12+I8)/K3 -> 0 | K14: =(K12+L8)/K3 -> 0
A15: Custo FIC >> | H15: =((H11+($D$7*H7))/$K$3)*$I$2 -> 0 | K15: =((K11+($D$7*K7))/$K$3)*$I$2 -> 0
A16: C | B16: Material | D16: Quant. | E16: Und | H16: Preço Unitário | K16: Custo Unitário
O17: M0284
A20: Custo Total do Material >> | K20: =SUM(K17:L19) -> 0
A21: D | B21: ATIVIDADES AUXILIARES** | E21: Quant. | F21: Und | G21: SEM DESONERAÇÃO | J21: COM DESONERAÇÃO
G22: Custo Unitário | H22: Custo Unitário Total | J22: Custo Unitário | K22: Custo Unitário Total
Q23: 1109671
Q24: 1106165
Q25: 3103302
A26: Custo total de atividades auxiliares >> | H26: =SUM(H23:I25) -> 0 | K26: =SUM(K23:L25) -> 0
A27: Subtotal >> | H27: =H14+K20+H26+H15 -> 0 | K27: =K14+K20+K26+K15 -> 0
A28: E | B28: TEMPO FIXO* | D28: Código | E28: Quant. | F28: Und | G28: SEM DESONERAÇÃO | J28: COM DESONERAÇÃO
G29: Custo Unitário | H29: Custo Unitário Total | J29: Custo Unitário | K29: Custo Unitário Total
A32: Custo total de atividades auxiliares >> | H32: =SUM(H30:I31) -> 0 | K32: =SUM(K30:L31) -> 0
A33: F | B33: MOMENTO DE TRANSPORTE | E33: Quant. | F33: Und | G33: DMT | J33: Custo Unitário
G34: LN | H34: RP | I34: P
A37: CUSTO UNITÁRIO DIRETO TOTAL >> | G37: SEM DESONERAÇÃO | J37: COM DESONERAÇÃO
G38: =ROUND(H32+H27,2) -> 0 | J38: =ROUND(K32+K27,2) -> 0
A39: NOTA: COMPOSIÇÃO DE REFERENCIA SICRO 4016096 - ESCAVAÇÃO E CARGA DE MATERIAL DE JAZIDA COM ESCAVADEIRA HIDRÁULICA DE 1,56 M³

Sheet CPAV006-TSD-104389
J1: SINAPI
J2: I-SINAPI
J3: SICRO-SERVIÇOS
J4: SICRO-EQUIPAMENTOS
A5: =CONCATENATE("COMPOSIÇÃO DE CUSTO UNITÁRIO - ",ORÇAMENTO!P2) -> COMPOSIÇÃO DE CUSTO UNITÁRIO - NÃO DESONERADO | J5: SICRO-MÃO-DE-OBRA
A6: CÓDIGO: | B6: SERVIÇO: | C6: PAVIMENTO COM TRATAMENTO SUPERFICIAL DUPLO, COM EMULSÃO ASFÁLTICA RR-2C. AF_01/2020 | F6: UNIDADE: | J6: SICRO-MATERIAIS
A7: CPAV006-1 | G7: M2 | J7: COMPOSIÇÃO
A8: CÓDIGO REFERÊNCIA: | C8: 104389 - SINAPI - Caderno Técnico do Serviço - Tratamentos Superficiais (04/2023) | J8: ANP
A9: CÓDIGO: | B9: TIPO | C9: Mão de obra | D9: UNIDADE | E9: COEFICIENTE | F9: Custo | G9: Custo
F10: Horário | G10: Total
B11: COTAÇÃO | C11: PEDRA BRITADA N. 0, OU PEDRISCO (4,8 A 9,5 MM) POSTO PEDREIRA/FORNECEDOR, SEM FRETE | D11: M3 | E11: 0.0073 | G11: =TRUNC(E11*F11,2) -> 0
B12: COTAÇÃO | C12: PEDRA BRITADA N. 1 (9,5 a 19 MM) POSTO PEDREIRA/FORNECEDOR, SEM FRETE | D12: M3 | E12: 0.015 | G12: =TRUNC(E12*F12,2) -> 0
A13: 6879 | B13: SINAPI | C13: ROLO COMPACTADOR DE PNEUS ESTÁTICO, PRESSÃO VARIÁVEL, POTÊNCIA 111 HP, PESO SEM/COM LASTRO 9,5 / 26 T, LARGURA DE TRABALHO 1,90 M - CHP DIURNO. AF_07/2014 | D13: CHP | E13: 0.0008 | G13: =TRUNC(E13*F13,2) -> 0
A14: 6880 | B14: SINAPI | C14: ROLO COMPACTADOR DE PNEUS ESTÁTICO, PRESSÃO VARIÁVEL, POTÊNCIA 111 HP, PESO SEM/COM LASTRO 9,5 / 26 T, LARGURA DE TRABALHO 1,90 M - CHI DIURNO. AF_07/2014 | D14: CHI | E14: 0.0019 | G14: =TRUNC(E14*F14,2) -> 0
A15: 7030 | B15: SINAPI | C15: TANQUE DE ASFALTO ESTACIONÁRIO COM SERPENTINA, CAPACIDADE 30.000 L - CHP DIURNO. AF_05/2023 | D15: CHP | E15: 0.0027 | G15: =TRUNC(E15*F15,2) -> 0
B16: ANP | C16: EMULSAO ASFALTICA CATIONICA RR-2C PARA USO EM PAVIMENTACAO ASFALTICA | D16: KG | E16: 3.5 | G16: =TRUNC(E16*F16,2) -> 0
A17: 83362 | B17: SINAPI | C17: ESPARGIDOR DE ASFALTO PRESSURIZADO, TANQUE 6 M3 COM ISOLAÇÃO TÉRMICA, AQUECIDO COM 2 MAÇARICOS, COM BARRA ESPARGIDORA 3,60 M, MONTADO SOBRE CAMINHÃO TOCO, PBT 14.300 KG, POTÊNCIA 185 CV - CHP DIURNO. AF_05/2023 | D17: CHP | E17: 0.0009 | G17: =TRUNC(E17*F17,2) -> 0
A18: 88316 | B18: SINAPI | C18: SERVENTE COM ENCARGOS COMPLEMENTARES | D18: H | E18: 0.0215 | G18: =TRUNC(E18*F18,2) -> 0
A19: 89035 | B19: SINAPI | C19: TRATOR DE PNEUS, POTÊNCIA 85 CV, TRAÇÃO 4X4, PESO COM LASTRO DE 4.675 KG - CHP DIURNO. AF_06/2014 | D19: CHP | E19: 0.0005 | G19: =TRUNC(E19*F19,2) -> 0
A20: 89036 | B20: SINAPI | C20: TRATOR DE PNEUS, POTÊNCIA 85 CV, TRAÇÃO 4X4, PESO COM LASTRO DE 4.675 KG - CHI DIURNO. AF_06/2014 | D20: CHI | E20: 0.0022 | G20: =TRUNC(E20*F20,2) -> 0
A21: 91386 | B21: SINAPI | C21: CAMINHÃO BASCULANTE 10 M3, TRUCADO CABINE SIMPLES, PESO BRUTO TOTAL 23.000 KG, CARGA ÚTIL MÁXIMA 15.935 KG, DISTÂNCIA ENTRE EIXOS 4,80 M, POTÊNCIA 230 CV INCLUSIVE CAÇAMBA METÁLICA - CHP DIURNO. AF_06/2014 | D21: CHP | E21: 0.0005 | G21: =TRUNC(E21*F21,2) -> 0
A22: 91486 | B22: SINAPI | C22: ESPARGIDOR DE ASFALTO PRESSURIZADO, TANQUE 6 M3 COM ISOLAÇÃO TÉRMICA, AQUECIDO COM 2 MAÇARICOS, COM BARRA ESPARGIDORA 3,60 M, MONTADO SOBRE CAMINHÃO TOCO, PBT 14.300 KG, POTÊNCIA 185 CV - CHI DIURNO. AF_05/2023 | D22: CHI | E22: 0.0018 | G22: =TRUNC(E22*F22,2) -> 0
A23: CUSTO UNITÁRIO TOTAL : | G23: =SUM(G11:G22) -> 0

Sheet CPAV008-PLACA RUA
J1: SINAPI
J2: I-SINAPI
J3: SICRO-SERVIÇOS
J4: SICRO-EQUIPAMENTOS
A5: =CONCATENATE("COMPOSIÇÃO DE CUSTO UNITÁRIO - ",ORÇAMENTO!P2) -> COMPOSIÇÃO DE CUSTO UNITÁRIO - NÃO DESONERADO | J5: SICRO-MÃO-DE-OBRA
A6: CÓDIGO: | B6: SERVIÇO: | C6: FORNECIMENTO E IMPLANTAÇÃO DE PLACA DE IDENTIFICAÇÃO DE LOGRADOURO | F6: UNIDADE: | J6: SICRO-MATERIAIS
A7: CPAV008 | G7: UN | J7: COMPOSIÇÃO
A8: CÓDIGO REFERÊNCIA: | C8: 04526-ORSE MARÇO/2024 | J8: ANP
A9: CÓDIGO: | B9: TIPO | C9: Mão de obra | D9: UNIDADE | E9: COEFICIENTE | F9: Custo | G9: Custo | J9: COTAÇÃO
F10: Horário | G10: Total
A11: 13521 | B11: I-SINAPI | C11: PLACA DE ACO ESMALTADA PARA IDENTIFICACAO DE RUA, *45 CM X 20* CM | D11: UN | E11: 2 | G11: =TRUNC(E11*F11,2) -> 0
A12: =A18 -> CPAV009 | B12: COMPOSIÇÃO | C12: FORNECIMENTO E IMPLANTAÇÃO DO POSTE EM TUBO DE AÇO GALVANIZADO 2 | D12: UN | E12: 1 | G12: =TRUNC(E12*F12,2) -> 0
A13: 88316 | B13: SINAPI | C13: SERVENTE COM ENCARGOS COMPLEMENTARES | D13: H | E13: 0.2 | G13: =TRUNC(E13*F13,2) -> 0
A14: 88309 | B14: SINAPI | C14: PEDREIRO COM ENCARGOS COMPLEMENTARES | D14: H | E14: 0.2 | G14: =TRUNC(E14*F14,2) -> 0
A15: CUSTO UNITÁRIO TOTAL : | G15: =SUM(G11:G14) -> 0
A17: CÓDIGO: | B17: SERVIÇO: | C17: FORNECIMENTO E IMPLANTAÇÃO DO POSTE EM TUBO DE AÇO GALVANIZADO 2 | F17: UNIDADE:
A18: CPAV009 | G18: UN
A19: CÓDIGO REFERÊNCIA: | C19: 00799/ORSE MARÇO/2024
A20: CÓDIGO: | B20: TIPO | C20: Mão de obra | D20: UNIDADE | E20: COEFICIENTE | F20: Custo | G20: Custo
F21: Horário | G21: Total
A22: 21013 | B22: I-SINAPI | C22: TUBO ACO GALVANIZADO COM COSTURA, CLASSE LEVE, DN 50 MM (2"), E = 3,00 MM, *4,40* KG/M (NBR 5580) | D22: M | E22: 3.2 | G22: =TRUNC(E22*F22,2) -> 0
A23: 94963 | B23: SINAPI | C23: CONCRETO FCK = 15MPA, TRAÇO 1:3,4:3,5 (EM MASSA SECA DE CIMENTO/ AREIA MÉDIA/ BRITA 1) - PREPARO MECÂNICO COM BETONEIRA 400 L. AF_05/2021 | D23: M3 | E23: 0.28 | G23: =TRUNC(E23*F23,2) -> 0
A24: 103670 | B24: SINAPI | C24: LANÇAMENTO COM USO DE BALDES, ADENSAMENTO E ACABAMENTO DE CONCRETO EM ESTRUTURAS. AF_02/2022 | D24: M3 | E24: 0.28 | G24: =TRUNC(E24*F24,2) -> 0
A25: 93358 | B25: SINAPI | C25: ESCAVAÇÃO MANUAL DE VALA. AF_09/2024 | D25: M3 | E25: 0.28 | G25: =TRUNC(E25*F25,2) -> 0
A26: 88316 | B26: SINAPI | C26: SERVENTE COM ENCARGOS COMPLEMENTARES | D26: H | E26: 1.5 | G26: =TRUNC(E26*F26,2) -> 0
A27: 88309 | B27: SINAPI | C27: PEDREIRO COM ENCARGOS COMPLEMENTARES | D27: H | E27: 1.5 | G27: =TRUNC(E27*F27,2) -> 0
A28: CUSTO UNITÁRIO TOTAL : | G28: =SUM(G22:G27) -> 0

Sheet ANP
B2: Agência Nacional do Petróleo, Gás Natural e Biocombustíveis | D2: PIS: | E2: 0.0065
B3: Superintendência de Defesa da Concorrência, Estudos e Regulação Econômica | D3: COFINS: | E3: 0.03
D4: ICMS*: | E4: 0
A6: PREÇO MÉDIO MENSAL PONDERADO PRATICADO PELOS DISTRIBUIDORES DE PRODUTOS ASFÁLTICOS (R$/KG)
A7: Produto | C7: Mato Grosso | D7: PIS/COFINS | E7: Total
A8: 45992 | B8: ASFALTOS DILUÍDOS CM-30 | D8: 0.0365 | E8: -
A9: 45992 | B9: ASFALTOS DILUÍDOS CM-70 | D9: - | E9: -
A10: 45992 | B10: ASFALTOS DILUÍDOS CR-250 | D10: - | E10: -
A11: 45992 | B11: ASFALTOS DILUÍDOS CR-70 | D11: - | E11: -
A12: 45992 | B12: CAP MODIFICADO POR BORRACHA DE PNEU AB22 | D12: - | E12: -
A13: 45992 | B13: CAP MODIFICADO POR BORRACHA DE PNEU AB8 | D13: - | E13: -
A14: 45992 | B14: CAP MODIFICADO POR POLÍMERO 55-75-E | D14: - | E14: -
A15: 45992 | B15: CAP MODIFICADO POR POLÍMERO 60-85-E | D15: 0.0365 | E15: =TRUNC(C15/(1-($E$4+$E$2+$E$3-($E$2+$E$3)*$E$4)),5) -> 0
A16: 45992 | B16: CAP MODIFICADO POR POLÍMERO 65-90-E | D16: - | E16: -
A17: 45992 | B17: CIMENTOS ASFÁLTICOS CAP-150-200 | D17: - | E17: -
A18: 45992 | B18: CIMENTOS ASFÁLTICOS CAP-30-45 | D18: 0.0365 | E18: =TRUNC(C18/(1-($E$4+$E$2+$E$3-($E$2+$E$3)*$E$4)),5) -> 0
A19: 45992 | B19: CIMENTOS ASFÁLTICOS CAP-50-70 | D19: 0.0365 | E19: =TRUNC(C19/(1-($E$4+$E$2+$E$3-($E$2+$E$3)*$E$4)),5) -> 0
A20: 45992 | B20: CIMENTOS ASFÁLTICOS CAP-85-100 | D20: - | E20: -
A21: 45992 | B21: EMULSÃO ASFÁLTICA CATIÔNICA DE RUPTURA CONTROLADA PARA SERVIÇO DE LAMA ASFÁLTICA | D21: - | E21: -
A22: 45992 | B22: EMULSÃO ASFÁLTICA DE RUPTURA LENTA CATIÔNICA PARA SERVIÇO DE LAMA ASFÁLTICA | D22: - | E22: -
A23: 45992 | B23: EMULSÃO ASFÁLTICA DE RUPTURA LENTA DE CARGA NEUTRA PARA SERVIÇO DE LAMA ASFÁLTICA | D23: - | E23: -
A24: 45992 | B24: EMULSÃO ASFÁLTICA PARA SERVIÇO DE IMPRIMAÇÃO | D24: 0.0365 | E24: =TRUNC(C24/(1-($E$4+$E$2+$E$3-($E$2+$E$3)*$E$4)),5) -> 0
A25: 45992 | B25: EMULSÕES ASF. MOD. POR POLÍMEROS RC1C-E | D25: 0.0365 | E25: =TRUNC(C25/(1-($E$4+$E$2+$E$3-($E$2+$E$3)*$E$4)),5) -> 0
A26: 45992 | B26: EMULSÕES ASF. MOD. POR POLÍMEROS RL1C-E | D26: - | E26: -
A27: 45992 | B27: EMULSÕES ASF. MOD. POR POLÍMEROS RM1C-E | D27: - | E27: -
A28: 45992 | B28: EMULSÕES ASF. MOD. POR POLÍMEROS RR1C-E | D28: - | E28: -
A29: 45992 | B29: EMULSÕES ASF. MOD. POR POLÍMEROS RR2C-E | D29: - | E29: -
A30: 45992 | B30: EMULSÕES ASFÁLTICAS RL-1C | D30: 0.0365 | E30: =TRUNC(C30/(1-($E$4+$E$2+$E$3-($E$2+$E$3)*$E$4)),5) -> 0
A31: 45992 | B31: EMULSÕES ASFÁLTICAS RM-1C | D31: - | E31: -
A32: 45992 | B32: EMULSÕES ASFÁLTICAS RM-2C | D32: - | E32: -
A33: 45992 | B33: EMULSÕES ASFÁLTICAS RR-1C
A34: 45992 | B34: EMULSÕES ASFÁLTICAS RR-2C | D34: 0.0365 | E34: =TRUNC(C34/(1-($E$4+$E$2+$E$3-($E$2+$E$3)*$E$4)),5) -> 0
A35: OBS: No cálculo dos preços médios mensais, são considerados os preços à vista segundo regiões de origem do produto, ponderados pelos respectivos volumes comercializados, sem ICMS (em função das diferenças tributárias existentes entre estados), PIS/Pasep e Cofins e sem inclusões de fretes entre origem e destino.

Sheet COTAÇÃOBRITA
B1: =ÍNDICE!A1 -> OBJETO: | C1: =VLOOKUP(B1,ÍNDICE!A:G,2,FALSE) -> PAVIMENTAÇÃO ASFÁLTICA E DRENAGEM
B2: =ÍNDICE!A2 -> CONTRATANTE: | C2: =VLOOKUP(B2,ÍNDICE!A:G,2,FALSE) -> PREFEITURA MUNICIPAL DE CANARANA
B3: =ÍNDICE!A3 -> LOCAL: | C3: =VLOOKUP(B3,ÍNDICE!A:G,2,FALSE) -> BAIRRO JARDIM FORTALEZA - PARTE 1
B4: DATA: | C4: =VLOOKUP(B4,ÍNDICE!A:G,2,FALSE) -> JUNHO/2026
B5: BINÔMIO "AQUISIÇÃO + TRANSPORTE" DE BRITA
B6: DATA DA COTAÇÃO | C6: PREÇO | D6: PREÇO | E6: Rodovia não pav. | G6: Rodovia pav. Até 30km | I6: Adicional 30km | K6: CUSTO TRANSP | L6: AQUIS + TRANSP | M6: DADOS DA EMPRESA
E7: DMT | F7: CUSTO | G7: DMT | H7: CUSTO | I7: DMT | J7: CUSTO
C8: em ton | D8: em m³ | E8: Km | F8: (R$) | G8: Km | H8: (R$) | I8: Km | J8: (R$) | K8: (R$/m³) | L8: (R$) | M8: DISTRIBUIDORA | N8: CNPJ | O8: LOCALIZAÇÃO | P8: TELEFONE | Q8: CONTATO
B9: TIPO DE MATERIAL: PÓ DE PEDRA
B10: 46029 | E10: 4.2 | G10: 30 | I10: =95.8-G10 -> 65.8 | L10: =K10+D10 -> 0 | M10: PEDREIRA SHALON | N10: 20.739.103/0001-85 | O10: ÁGUA BOA | P10: (66) 99281-0169 | Q10: Ingridi Oliveira | R10: 93589
B11: 46029 | E11: =0.35+5.33 -> 5.68 | G11: 30 | I11: =435-G11 -> 405 | L11: =K11+D11 -> 0 | M11: J A MACHNIC-ME | N11: - | O11: PRIMAVERA DO LESTE | P11: (66) 99636-4053 | Q11: - | R11: 95875
B12: 46072 | E12: 0.35 | G12: 30 | I12: =427-G12 -> 397 | L12: =K12+D12 -> 0 | M12: BRITAZIL | N12: 28.942.414/0001-59 | O12: CONFRESA | P12: (66) 99281-0169 | Q12: Francieli Darui | R12: 93590
B13: VALOR ADOTADO = | C13: =C10 -> 0 | D13: =D10 -> 0
B14: TIPO DE MATERIAL: BRITA 0 ou PEDRISCO
B15: =B10 -> 46029 | E15: =E10 -> 4.2 | G15: =G10 -> 30 | I15: =I10 -> 65.8 | M15: =M10 -> PEDREIRA SHALON | N15: =N10 -> 20.739.103/0001-85 | O15: =O10 -> ÁGUA BOA | P15: =P10 -> (66) 99281-0169 | Q15: =Q10 -> Ingridi Oliveira
B16: =B11 -> 46029 | E16: =E11 -> 5.68 | G16: =G11 -> 30 | I16: =I11 -> 405 | M16: =M11 -> J A MACHNIC-ME | N16: =N11 -> - | O16: =O11 -> PRIMAVERA DO LESTE | P16: =P11 -> (66) 99636-4053 | Q16: =Q11 -> -
B17: =B12 -> 46072 | E17: =E12 -> 0.35 | G17: =G12 -> 30 | I17: =I12 -> 397 | M17: =M12 -> BRITAZIL | N17: =N12 -> 28.942.414/0001-59 | O17: =O12 -> CONFRESA | P17: =P12 -> (66) 99281-0169 | Q17: =Q12 -> Francieli Darui
B18: VALOR ADOTADO = | C18: =C15 -> 0 | D18: =D15 -> 0
B19: TIPO DE MATERIAL: BRITA 1
B20: =B15 -> 46029 | E20: =E15 -> 4.2 | G20: =G15 -> 30 | I20: =I15 -> 65.8 | L20: =K20+D20 -> 0 | M20: =M15 -> PEDREIRA SHALON | N20: =N15 -> 20.739.103/0001-85 | O20: =O15 -> ÁGUA BOA | P20: =P15 -> (66) 99281-0169 | Q20: =Q15 -> Ingridi Oliveira
B21: =B16 -> 46029 | E21: =E16 -> 5.68 | G21: =G16 -> 30 | I21: =I16 -> 405 | L21: =K21+D21 -> 0 | M21: =M16 -> J A MACHNIC-ME | N21: =N16 -> - | O21: =O16 -> PRIMAVERA DO LESTE | P21: =P16 -> (66) 99636-4053 | Q21: =Q16 -> -
B22: =B17 -> 46072 | E22: =E17 -> 0.35 | G22: =G17 -> 30 | I22: =I17 -> 397 | L22: =K22+D22 -> 0 | M22: =M17 -> BRITAZIL | N22: =N17 -> 28.942.414/0001-59 | O22: =O17 -> CONFRESA | P22: =P17 -> (66) 99281-0169 | Q22: =Q17 -> Francieli Darui
B23: VALOR ADOTADO = | C23: =C20 -> 0 | D23: =D20 -> 0
B24: TIPO DE MATERIAL: BRITA 2
B25: =B20 -> 46029 | E25: =E20 -> 4.2 | G25: =G20 -> 30 | I25: =I20 -> 65.8 | L25: =K25+D25 -> 0 | M25: =M20 -> PEDREIRA SHALON | N25: =N20 -> 20.739.103/0001-85 | O25: =O20 -> ÁGUA BOA | P25: =P20 -> (66) 99281-0169 | Q25: =Q20 -> Ingridi Oliveira
B26: =B21 -> 46029 | E26: =E21 -> 5.68 | G26: =G21 -> 30 | I26: =I21 -> 405 | L26: =K26+D26 -> 0 | M26: =M21 -> J A MACHNIC-ME | N26: =N21 -> - | O26: =O21 -> PRIMAVERA DO LESTE | P26: =P21 -> (66) 99636-4053 | Q26: =Q21 -> -
B27: =B22 -> 46072 | E27: =E22 -> 0.35 | G27: =G22 -> 30 | I27: =I22 -> 397 | L27: =K27+D27 -> 0 | M27: =M22 -> BRITAZIL | N27: =N22 -> 28.942.414/0001-59 | O27: =O22 -> CONFRESA | P27: =P22 -> (66) 99281-0169 | Q27: =Q22 -> Francieli Darui
B28: VALOR ADOTADO = | C28: =C25 -> 0 | D28: =D25 -> 0
B29: * As cotações fornecidas pelas empresas seguem em anexo.
B30: ** Considerou-se a densidade dos materiais pétreos = 1,5
B31: Pesquisa de Mercado:
B32: Na cotação direta com os fornecedores somente serão admitidos os preços cujas datas não se diferenciem em mais de 180 (cento e oitenta) dias, ou seja, nenhuma proposta direta de fornecedor deve conter diferença de data maior que 180 dias quando comparadas às demais em um grupo de pesquisa de preços junto a fornecedores no mesmo processo. A partir das cotações obtidas, deve-se realizar algum tratamento estatístico sobre os valores coletados para se obter um custo referencial. Entre outros critérios, pode ser utilizada a média, mediana, moda, primeiro quartil ou valor mínimo dos dados pesquisados. Nesse aspecto, a Instrução Normativa SLTI/MPOG nº 7/2014 dispõe que o resultado da pesquisa de preços será a média ou o menor dos preços obtidos, podendo o gestor adotar a forma que melhor atenda ao objeto a ser contratado e à realidade local.
B36: O TCU no Acórdão 7.290/2013 – Segunda Câmara entendeu que, quando da pesquisa de preços de mercado para definição de valores referenciais de licitações, devem ser adotadas as cotações mínimas encontradas sempre que se tratar de insumo ou equipamento fornecido exclusivamente por um conjunto restrito de empresas.
B37: Fonte: TCU - ORIENTAÇÕES PARA ELABORAÇÃO DE PLANILHAS ORÇAMENTÁRIAS DE OBRAS PÚBLICAS
E46: =#REF!*D15 -> #REF!
E47: =#REF!*D20 -> #REF!
E48: =SUM(E46:E47) -> #REF!

Sheet BDI-SERVIÇOS
B3: =1+K8/100+K10/100+K11/100+K12/100 -> #VALUE!
B4: =1+K13/100+K14/100+K15/100+K16/100 -> 1.0608 | E4: =ÍNDICE!$A$1 -> OBJETO: | F4: =VLOOKUP(E4,ÍNDICE!A:G,2,FALSE) -> PAVIMENTAÇÃO ASFÁLTICA E DRENAGEM
E5: =ÍNDICE!$A$2 -> CONTRATANTE: | F5: =VLOOKUP(E5,ÍNDICE!A:G,2,FALSE) -> PREFEITURA MUNICIPAL DE CANARANA
B6: =1+K12/100+K14/100+K15/100 -> 1.0775 | E6: =ÍNDICE!$A$3 -> LOCAL: | F6: =VLOOKUP(E6,ÍNDICE!A:G,2,FALSE) -> BAIRRO JARDIM FORTALEZA - PARTE 1
B7: =1+K13/100+K15/100+K16/100 -> 1.0497 | E7: =ÍNDICE!$A$5 -> ÁREA TOTAL: | F7: =VLOOKUP(E7,ÍNDICE!A:G,2,FALSE) -> 45834.72
B8: =1+K14/100 -> 1.0111 | E8: =ÍNDICE!$A$6 -> EXTENSÃO TOTAL: | F8: =VLOOKUP(E8,ÍNDICE!A:G,2,FALSE) -> 5903.17
E9: =CONCATENATE("BDI - BENEFICIOS E DESPESAS INDIRETAS (SERVIÇOS) - ",ORÇAMENTO!P2) -> BDI - BENEFICIOS E DESPESAS INDIRETAS (SERVIÇOS) - NÃO DESONERADO
E10: ITEM | F10: DISCRIMINAÇÃO | K10: PERCENTUAL
K11: ( % )
B12: MAX | C12: MIN | E12: 1 | F12: ADMINISTRAÇÃO DA OBRA | K12: =K13+K14+K15+K16 -> 6.08
B13: 5.5 | C13: 3 | E13: 1.1 | F13: AC - Administração Central | K13: 4.01 | N13: =1+K13/100+K15/100+K16/100 -> 1.0497
B14: 1.39 | C14: 0.59 | E14: 1.2 | F14: DF - Custos Financeiras | K14: 1.11 | N14: =1+K18/100 -> 1.073
B15: 1.27 | C15: 0.97 | E15: 1.3 | F15: R - Riscos | K15: 0.56 | N15: =1+K14/100 -> 1.0111
E16: 1.4 | F16: S + G - Seguros + Garantias | K16: 0.4 | N16: =1-K21/100 -> 0.941
N17: =N13*N14*N15/N16 -> 1.2102342
E18: 2.0 | F18: LUCRO | K18: =K19 -> 7.3 | N18: =N17-1 -> 0.21023416
B19: 8.96 | C19: 6.16 | E19: 2.1 | F19: L - Lucro Operacional | K19: 7.3
E21: 3.0 | F21: TRIBUTOS | K21: =K22+K23+K24+K25 -> 5.9
E22: 3.1 | F22: **ISS | K22: =(I32*I33)*100 -> 2.25
E23: 3.2 | F23: COFINS | K23: 3
B24: =1+K19/100 -> 1.073 | E24: 3.3 | F24: PIS | K24: 0.65
B25: =1-K21/100 -> 0.941 | E25: 3.4 | F25: Contribuição Previdenciária - Lei nº 12.546/13 | K25: =IF(ORÇAMENTO!P2="DESONERADO",3.6,0) -> 0
B26: =B7*B8*B24 -> 1.1388303 | E26: **ISS - Repassado pelo município
B27: =B26/B25 -> 1.2102342 | E27: De acordo com o acórdão 2622/2013 TCU- Critérios de aceitabilidade para lucros e despesas indiretas.
B28: =B27-1 -> 0.21023416 | E28: TAXA DE BDI A SER APLICADA SOBRE O CUSTO DIRETO | K28: =TRUNC(N18,4) -> 0.2102
B29: =B28 -> 0.21023416
E30: Não incidem IRPJ e CSLL na composição de Tributos.
I32: 0.05 | J32: ISS - Repassado pelo município
I33: 0.45 | J33: % SOBRE MÃO DE OBRA
J34: **Conforme declarado pela prefeitura municipal

Sheet QCI
A2: =ÍNDICE!$A$1 -> OBJETO: | B2: =VLOOKUP(A2,ÍNDICE!A:G,2,FALSE) -> PAVIMENTAÇÃO ASFÁLTICA E DRENAGEM
A3: =ÍNDICE!$A$2 -> CONTRATANTE: | B3: =VLOOKUP(A3,ÍNDICE!A:G,2,FALSE) -> PREFEITURA MUNICIPAL DE CANARANA
A4: =ÍNDICE!$A$3 -> LOCAL: | B4: =VLOOKUP(A4,ÍNDICE!A:G,2,FALSE) -> BAIRRO JARDIM FORTALEZA - PARTE 1
A5: =ÍNDICE!$A$5 -> ÁREA TOTAL: | B5: =VLOOKUP(A5,ÍNDICE!A:G,2,FALSE) -> 45834.72
A6: =ÍNDICE!$A$6 -> EXTENSÃO TOTAL: | B6: =VLOOKUP(A6,ÍNDICE!A:G,2,FALSE) -> 5903.17
A7: =CONCATENATE("QUADRO DE COMPOSIÇÃO DE INVESTIMENTO - QCI - ",ORÇAMENTO!P2) -> QUADRO DE COMPOSIÇÃO DE INVESTIMENTO - QCI - NÃO DESONERADO
A8: Etapa | B8: Descrição da Meta / Sub-Meta | C8: Repasse | D8: Contrapartida Financeira | E8: Outros | F8: Investimento
F10: =C10+D10 -> 0
B12: PAVIMENTAÇÃO | E12: =E13 -> 0 | F12: =F13 -> 0
B13: EXECUÇÃO DE OBRA DE PAVIMENTAÇÃO | F13: =SUM(C13:E13) -> 0
A15: TOTAL | C15: =SUM(C12:C13)/2 -> 0 | D15: =SUM(D12:D13)/2 -> 0 | E15: =SUM(E12:E13)/2 -> 0 | F15: =SUM(F12:F13)/2 -> 0

Sheet RESUMO
B1: =ÍNDICE!$A$1 -> OBJETO: | C1: =VLOOKUP(B1,ÍNDICE!A:G,2,FALSE) -> PAVIMENTAÇÃO ASFÁLTICA E DRENAGEM
B2: =ÍNDICE!$A$2 -> CONTRATANTE: | C2: =VLOOKUP(B2,ÍNDICE!A:G,2,FALSE) -> PREFEITURA MUNICIPAL DE CANARANA
B3: =ÍNDICE!$A$3 -> LOCAL: | C3: =VLOOKUP(B3,ÍNDICE!A:G,2,FALSE) -> BAIRRO JARDIM FORTALEZA - PARTE 1
B4: =ÍNDICE!$A$5 -> ÁREA TOTAL: | C4: =VLOOKUP(B4,ÍNDICE!A:G,2,FALSE) -> 45834.72
B5: =ÍNDICE!$A$6 -> EXTENSÃO TOTAL: | C5: =VLOOKUP(B5,ÍNDICE!A:G,2,FALSE) -> 5903.17
B6: =CONCATENATE("RESUMO DO ORÇAMENTO - ",ORÇAMENTO!P2) -> RESUMO DO ORÇAMENTO - NÃO DESONERADO
B7: ITEM | C7: DESCRIÇÃO DO SERVIÇO | D7: TOTAL EXECUÇÃO | E7: %
A8: 1 | B8: =CONCATENATE(A8,".0") -> 1.0 | C8: =INDEX(ORÇAMENTO!$K:$K,MATCH(RESUMO!$B8,ORÇAMENTO!$J:$J,0)) -> ADMINISTRAÇÃO LOCAL | D8: =INDEX(ORÇAMENTO!$P:$P,MATCH(RESUMO!$B8,ORÇAMENTO!$J:$J,0)) -> 0 | E8: =INDEX(ORÇAMENTO!$Q:$Q,MATCH(RESUMO!$B8,ORÇAMENTO!$J:$J,0)) -> 0
A9: =A8+1 -> 2 | B9: =CONCATENATE(A9,".0") -> 2.0 | C9: =INDEX(ORÇAMENTO!$K:$K,MATCH(RESUMO!$B9,ORÇAMENTO!$J:$J,0)) -> SERVIÇOS PRELIMINARES | D9: =INDEX(ORÇAMENTO!$P:$P,MATCH(RESUMO!$B9,ORÇAMENTO!$J:$J,0)) -> 0 | E9: =INDEX(ORÇAMENTO!$Q:$Q,MATCH(RESUMO!$B9,ORÇAMENTO!$J:$J,0)) -> 0
A10: =A9+1 -> 3 | B10: =CONCATENATE(A10,".0") -> 3.0 | C10: =INDEX(ORÇAMENTO!$K:$K,MATCH(RESUMO!$B10,ORÇAMENTO!$J:$J,0)) -> MOBILIZAÇÃO E DESMOBILIZAÇÃO | D10: =INDEX(ORÇAMENTO!$P:$P,MATCH(RESUMO!$B10,ORÇAMENTO!$J:$J,0)) -> 0 | E10: =INDEX(ORÇAMENTO!$Q:$Q,MATCH(RESUMO!$B10,ORÇAMENTO!$J:$J,0)) -> 0
A11: =A10+1 -> 4 | B11: =CONCATENATE(A11,".0") -> 4.0 | C11: =INDEX(ORÇAMENTO!$K:$K,MATCH(RESUMO!$B11,ORÇAMENTO!$J:$J,0)) -> TERRAPLANAGEM | D11: =INDEX(ORÇAMENTO!$P:$P,MATCH(RESUMO!$B11,ORÇAMENTO!$J:$J,0)) -> 0 | E11: =INDEX(ORÇAMENTO!$Q:$Q,MATCH(RESUMO!$B11,ORÇAMENTO!$J:$J,0)) -> 0
A12: =A11+1 -> 5 | B12: =CONCATENATE(A12,".0") -> 5.0 | C12: =INDEX(ORÇAMENTO!$K:$K,MATCH(RESUMO!$B12,ORÇAMENTO!$J:$J,0)) -> PAVIMENTAÇÃO | D12: =INDEX(ORÇAMENTO!$P:$P,MATCH(RESUMO!$B12,ORÇAMENTO!$J:$J,0)) -> 0 | E12: =INDEX(ORÇAMENTO!$Q:$Q,MATCH(RESUMO!$B12,ORÇAMENTO!$J:$J,0)) -> 0
A13: =A12+1 -> 6 | B13: =CONCATENATE(A13,".0") -> 6.0 | C13: =INDEX(ORÇAMENTO!$K:$K,MATCH(RESUMO!$B13,ORÇAMENTO!$J:$J,0)) -> SINALIZAÇÃO VIÁRIA | D13: =INDEX(ORÇAMENTO!$P:$P,MATCH(RESUMO!$B13,ORÇAMENTO!$J:$J,0)) -> 0 | E13: =INDEX(ORÇAMENTO!$Q:$Q,MATCH(RESUMO!$B13,ORÇAMENTO!$J:$J,0)) -> 0
A14: =A13+1 -> 7 | B14: =CONCATENATE(A14,".0") -> 7.0 | C14: =INDEX(ORÇAMENTO!$K:$K,MATCH(RESUMO!$B14,ORÇAMENTO!$J:$J,0)) -> SINALIZAÇÃO HORIZONTAL | D14: =INDEX(ORÇAMENTO!$P:$P,MATCH(RESUMO!$B14,ORÇAMENTO!$J:$J,0)) -> 0 | E14: =INDEX(ORÇAMENTO!$Q:$Q,MATCH(RESUMO!$B14,ORÇAMENTO!$J:$J,0)) -> 0
B15: TOTAL GERAL >> | D15: =SUM(D8:D14) -> 0 | E15: =SUM(E8:E14) -> 0

Sheet ORÇAMENTO
G1: =ÍNDICE!$A$1 -> OBJETO: | H1: =VLOOKUP(G1,ÍNDICE!A:G,2,FALSE) -> PAVIMENTAÇÃO ASFÁLTICA E DRENAGEM | N1: TABELAS DE REFERÊNCIA: | P1: SINAPI (DEZEMBRO/2025) ANP (DEZEMBRO/2025) SICRO (OUTUBRO/2025) | T1: DESONERADO | V1: SERVIÇO | AC1: INSUMO
G2: =ÍNDICE!$A$2 -> CONTRATANTE: | H2: =VLOOKUP(G2,ÍNDICE!A:G,2,FALSE) -> PREFEITURA MUNICIPAL DE CANARANA | N2: ENCARGOS SOCIAIS: | P2: NÃO DESONERADO | T2: NÃO DESONERADO | V2: DIFERENCIADO
G3: =ÍNDICE!$A$3 -> LOCAL: | H3: =VLOOKUP(G3,ÍNDICE!A:G,2,FALSE) -> BAIRRO JARDIM FORTALEZA - PARTE 1 | N3: BDI SERVIÇOS: | P3: ='BDI-SERVIÇOS'!K28 -> 0.2102 | V3: SINAPI
G4: =ÍNDICE!$A$5 -> ÁREA TOTAL: | H4: =VLOOKUP(G4,ÍNDICE!A:G,2,FALSE) -> 45834.72 | N4: BDI DIFERENCIADO: | P4: =IF(P2="NÃO DESONERADO",15%,19.95%) -> 0.15 | V4: I-SINAPI
G5: =ÍNDICE!$A$6 -> EXTENSÃO TOTAL: | H5: =VLOOKUP(G5,ÍNDICE!A:G,2,FALSE) -> 5903.17 | N5: DATA: | P5: =UPPER(TEXT(TODAY(),"mmmm/aaaa")) -> JUNHO/2026 | V5: I-SINAPI
K6: =CONCATENATE("PLANILHA ORÇAMENTÁRIA - ",P2) -> PLANILHA ORÇAMENTÁRIA - NÃO DESONERADO | V6: SICRO-SERVIÇOS
G7: BOLETIM | H7: CÓDIGO | I7: BDI | J7: ITEM | K7: DESCRIÇÃO DO SERVIÇO | L7: UN | M7: QUANTIDADE | N7: VALOR | V7: SICRO-EQUIPAMENTOS
N8: UNITÁRIO | O8: COM BDI | P8: TOTAL | Q8: % | V8: SICRO-MÃO-DE-OBRA
A9: =IF(LEN(D9),OFFSET(A9,-1,0)+1,OFFSET(A9,-1,0)) -> 1 | B9: =IF(OR(C9=1,D9=1),SUMIF($A$9:A9,A9,$C$9:C9),"") -> 0 | C9: =IF(I9>0,1,"") | D9: =IF(AND(CONCATENATE(K9,L9,M9,N9,O9,P9,R9)=K9&P9&R9,CONCATENATE(K9,L9,M9,N9,O9,P9,R9)<>"",P9<>""),1,"") -> 1 | J9: =IFERROR(IF(B9<>"",A9&"."&B9,""),"S/Nº") -> 1.0 | K9: ADMINISTRAÇÃO LOCAL | P9: =P10 -> 0 | Q9: =IF(P9>0,P9/$P$99,0) -> 0 | V9: SICRO-MATERIAIS
A10: =IF(LEN(D10),OFFSET(A10,-1,0)+1,OFFSET(A10,-1,0)) -> 1 | B10: =IF(OR(C10=1,D10=1),SUMIF($A$9:A10,A10,$C$9:C10),"") -> 1 | C10: =IF(I10>0,1,"") -> 1 | D10: =IF(AND(CONCATENATE(K10,L10,M10,N10,O10,P10,R10)=K10&P10&R10,CONCATENATE(K10,L10,M10,N10,O10,P10,R10)<>"",P10<>""),1,"") | G10: COMPOSIÇÃO | H10: ='CPAV001-ADM'!A7 -> CPAV001 | I10: SERVIÇO | J10: =IFERROR(IF(B10<>"",A10&"."&B10,""),"S/Nº") -> 1.1 | K10: ADMINISTRAÇÃO LOCAL | L10: UN | M10: 1 | Q10: =IF(P10>0,P10/$P$99,0) -> 0 | V10: ANP
A11: =IF(LEN(D11),OFFSET(A11,-1,0)+1,OFFSET(A11,-1,0)) -> 2 | B11: =IF(OR(C11=1,D11=1),SUMIF($A$9:A11,A11,$C$9:C11),"") -> 0 | C11: =IF(I11>0,1,"") | D11: =IF(AND(CONCATENATE(K11,L11,M11,N11,O11,P11,R11)=K11&P11&R11,CONCATENATE(K11,L11,M11,N11,O11,P11,R11)<>"",P11<>""),1,"") -> 1 | J11: =IFERROR(IF(B11<>"",A11&"."&B11,""),"S/Nº") -> 2.0 | K11: SERVIÇOS PRELIMINARES | P11: =SUM(P12:P13) -> 0 | Q11: =IF(P11>0,P11/$P$99,0) -> 0 | V11: COMPOSIÇÃO
A12: =IF(LEN(D12),OFFSET(A12,-1,0)+1,OFFSET(A12,-1,0)) -> 2 | B12: =IF(OR(C12=1,D12=1),SUMIF($A$9:A12,A12,$C$9:C12),"") -> 1 | C12: =IF(I12>0,1,"") -> 1 | D12: =IF(AND(CONCATENATE(K12,L12,M12,N12,O12,P12,R12)=K12&P12&R12,CONCATENATE(K12,L12,M12,N12,O12,P12,R12)<>"",P12<>""),1,"") | G12: SINAPI | H12: 103689 | I12: SERVIÇO | J12: =IFERROR(IF(B12<>"",A12&"."&B12,""),"S/Nº") -> 2.1 | K12: FORNECIMENTO E INSTALAÇÃO DE PLACA DE OBRA COM CHAPA GALVANIZADA E ESTRUTURA DE MADEIRA. AF_03/2022_PS | L12: M2 | M12: 15.62 | Q12: =IF(P12>0,P12/$P$99,0) -> 0
A13: =IF(LEN(D13),OFFSET(A13,-1,0)+1,OFFSET(A13,-1,0)) -> 2 | B13: =IF(OR(C13=1,D13=1),SUMIF($A$9:A13,A13,$C$9:C13),"") -> 2 | C13: =IF(I13>0,1,"") -> 1 | D13: =IF(AND(CONCATENATE(K13,L13,M13,N13,O13,P13,R13)=K13&P13&R13,CONCATENATE(K13,L13,M13,N13,O13,P13,R13)<>"",P13<>""),1,"") | G13: COMPOSIÇÃO | H13: CPAV002 | I13: SERVIÇO | J13: =IFERROR(IF(B13<>"",A13&"."&B13,""),"S/Nº") -> 2.2 | K13: BARRACÃO FECHADO PORTE PEQUENO PARA DEPÓSITO DE CIMENTO E ALMOXARIFADO (S=38,72 M2) COM MATERIAIS NOVOS | L13: UN | M13: 1 | Q13: =IF(P13>0,P13/$P$99,0) -> 0
A14: =IF(LEN(D14),OFFSET(A14,-1,0)+1,OFFSET(A14,-1,0)) -> 3 | B14: =IF(OR(C14=1,D14=1),SUMIF($A$9:A14,A14,$C$9:C14),"") -> 0 | C14: =IF(I14>0,1,"") | D14: =IF(AND(CONCATENATE(K14,L14,M14,N14,O14,P14,R14)=K14&P14&R14,CONCATENATE(K14,L14,M14,N14,O14,P14,R14)<>"",P14<>""),1,"") -> 1 | J14: =IFERROR(IF(B14<>"",A14&"."&B14,""),"S/Nº") -> 3.0 | K14: MOBILIZAÇÃO E DESMOBILIZAÇÃO | P14: =SUM(P15:P16) -> 0 | Q14: =IF(P14>0,P14/$P$99,0) -> 0 | V14: COMPOSIÇÃO
A15: =IF(LEN(D15),OFFSET(A15,-1,0)+1,OFFSET(A15,-1,0)) -> 3 | B15: =IF(OR(C15=1,D15=1),SUMIF($A$9:A15,A15,$C$9:C15),"") -> 1 | C15: =IF(I15>0,1,"") -> 1 | D15: =IF(AND(CONCATENATE(K15,L15,M15,N15,O15,P15,R15)=K15&P15&R15,CONCATENATE(K15,L15,M15,N15,O15,P15,R15)<>"",P15<>""),1,"") | G15: COMPOSIÇÃO | H15: CPAV003-1 | I15: SERVIÇO | J15: =IFERROR(IF(B15<>"",A15&"."&B15,""),"S/Nº") -> 3.1 | K15: MOBILIZAÇÃO | L15: UN | M15: 1 | Q15: =IF(P15>0,P15/$P$99,0) -> 0
A16: =IF(LEN(D16),OFFSET(A16,-1,0)+1,OFFSET(A16,-1,0)) -> 3 | B16: =IF(OR(C16=1,D16=1),SUMIF($A$9:A16,A16,$C$9:C16),"") -> 2 | C16: =IF(I16>0,1,"") -> 1 | D16: =IF(AND(CONCATENATE(K16,L16,M16,N16,O16,P16,R16)=K16&P16&R16,CONCATENATE(K16,L16,M16,N16,O16,P16,R16)<>"",P16<>""),1,"") | G16: COMPOSIÇÃO | H16: CPAV003-2 | I16: SERVIÇO | J16: =IFERROR(IF(B16<>"",A16&"."&B16,""),"S/Nº") -> 3.2 | K16: DESMOBILIZAÇÃO | L16: UN | M16: 1 | Q16: =IF(P16>0,P16/$P$99,0) -> 0
A17: =IF(LEN(D17),OFFSET(A17,-1,0)+1,OFFSET(A17,-1,0)) -> 4 | B17: =IF(OR(C17=1,D17=1),SUMIF($A$9:A17,A17,$C$9:C17),"") -> 0 | C17: =IF(I17>0,1,"") | D17: =IF(AND(CONCATENATE(K17,L17,M17,N17,O17,P17,R17)=K17&P17&R17,CONCATENATE(K17,L17,M17,N17,O17,P17,R17)<>"",P17<>""),1,"") -> 1 | J17: =IFERROR(IF(B17<>"",A17&"."&B17,""),"S/Nº") -> 4.0 | K17: TERRAPLANAGEM | P17: =SUM(P18:P22) -> 0 | Q17: =IF(P17>0,P17/$P$99,0) -> 0
A18: =IF(LEN(D18),OFFSET(A18,-1,0)+1,OFFSET(A18,-1,0)) -> 4 | B18: =IF(OR(C18=1,D18=1),SUMIF($A$9:A18,A18,$C$9:C18),"") -> 1 | C18: =IF(I18>0,1,"") -> 1 | D18: =IF(AND(CONCATENATE(K18,L18,M18,N18,O18,P18,R18)=K18&P18&R18,CONCATENATE(K18,L18,M18,N18,O18,P18,R18)<>"",P18<>""),1,"") | G18: SINAPI | H18: 98525 | I18: SERVIÇO | J18: =IFERROR(IF(B18<>"",A18&"."&B18,""),"S/Nº") -> 4.1 | K18: LIMPEZA MECANIZADA DE CAMADA VEGETAL, VEGETAÇÃO E PEQUENAS ÁRVORES (DIÂMETRO DE TRONCO MENOR QUE 0,20 M), COM TRATOR DE ESTEIRAS. AF_03/2024 | L18: M2 | M18: =LIMPEZA!O61 -> 6220.14 | Q18: =IF(P18>0,P18/$P$99,0) -> 0
A19: =IF(LEN(D19),OFFSET(A19,-1,0)+1,OFFSET(A19,-1,0)) -> 4 | B19: =IF(OR(C19=1,D19=1),SUMIF($A$9:A19,A19,$C$9:C19),"") -> 2 | C19: =IF(I19>0,1,"") -> 1 | D19: =IF(AND(CONCATENATE(K19,L19,M19,N19,O19,P19,R19)=K19&P19&R19,CONCATENATE(K19,L19,M19,N19,O19,P19,R19)<>"",P19<>""),1,"") | G19: COMPOSIÇÃO | H19: CPAV004 | I19: SERVIÇO | J19: =IFERROR(IF(B19<>"",A19&"."&B19,""),"S/Nº") -> 4.2 | K19: ESCAVAÇÃO E CARGA DE MATERIAL COM ESCAVADEIRA HIDRÁULICA DE 1,56 M³ | L19: M³ | M19: =TERRAPLENAGEM!J46 -> 17256.96 | Q19: =IF(P19>0,P19/$P$99,0) -> 0
A20: =IF(LEN(D20),OFFSET(A20,-1,0)+1,OFFSET(A20,-1,0)) -> 4 | B20: =IF(OR(C20=1,D20=1),SUMIF($A$9:A20,A20,$C$9:C20),"") -> 3 | C20: =IF(I20>0,1,"") -> 1 | D20: =IF(AND(CONCATENATE(K20,L20,M20,N20,O20,P20,R20)=K20&P20&R20,CONCATENATE(K20,L20,M20,N20,O20,P20,R20)<>"",P20<>""),1,"") | G20: SINAPI | H20: 93592 | I20: SERVIÇO | J20: =IFERROR(IF(B20<>"",A20&"."&B20,""),"S/Nº") -> 4.3 | K20: TRANSPORTE COM CAMINHÃO BASCULANTE DE 14 M³, EM VIA URBANA EM REVESTIMENTO PRIMÁRIO (UNIDADE: M3XKM). AF_07/2020 | L20: M3XKM | M20: =TERRAPLENAGEM!O46 -> 58686.31 | Q20: =IF(P20>0,P20/$P$99,0) -> 0
A21: =IF(LEN(D21),OFFSET(A21,-1,0)+1,OFFSET(A21,-1,0)) -> 4 | B21: =IF(OR(C21=1,D21=1),SUMIF($A$9:A21,A21,$C$9:C21),"") -> 4 | C21: =IF(I21>0,1,"") -> 1 | D21: =IF(AND(CONCATENATE(K21,L21,M21,N21,O21,P21,R21)=K21&P21&R21,CONCATENATE(K21,L21,M21,N21,O21,P21,R21)<>"",P21<>""),1,"") | G21: SINAPI | H21: 95876 | I21: SERVIÇO | J21: =IFERROR(IF(B21<>"",A21&"."&B21,""),"S/Nº") -> 4.4 | K21: TRANSPORTE COM CAMINHÃO BASCULANTE DE 14 M³, EM VIA URBANA PAVIMENTADA, DMT ATÉ 30 KM (UNIDADE: M3XKM). AF_07/2020 | L21: M3XKM | M21: =TERRAPLENAGEM!Q46 -> 144459.08 | Q21: =IF(P21>0,P21/$P$99,0) -> 0
A22: =IF(LEN(D22),OFFSET(A22,-1,0)+1,OFFSET(A22,-1,0)) -> 4 | B22: =IF(OR(C22=1,D22=1),SUMIF($A$9:A22,A22,$C$9:C22),"") -> 5 | C22: =IF(I22>0,1,"") -> 1 | D22: =IF(AND(CONCATENATE(K22,L22,M22,N22,O22,P22,R22)=K22&P22&R22,CONCATENATE(K22,L22,M22,N22,O22,P22,R22)<>"",P22<>""),1,"") | G22: SINAPI | H22: 96385 | I22: SERVIÇO | J22: =IFERROR(IF(B22<>"",A22&"."&B22,""),"S/Nº") -> 4.5 | K22: EXECUÇÃO E COMPACTAÇÃO DE CORPO DE ATERRO DE ATERRO (95% DE ENERGIA DO PROCTOR NORMAL) COM SOLO PREDOMINANTEMENTE ARGILOSO ESPESSURA 15 CM - EXCLUSIVE MATERIAL, ESCAVAÇÃO, CARGA E TRANSPORTE. AF_09/2024 | L22: M3 | M22: =TERRAPLENAGEM!K46 -> 59.45 | Q22: =IF(P22>0,P22/$P$99,0) -> 0
A23: =IF(LEN(D23),OFFSET(A23,-1,0)+1,OFFSET(A23,-1,0)) -> 5 | B23: =IF(OR(C23=1,D23=1),SUMIF($A$9:A23,A23,$C$9:C23),"") -> 0 | C23: =IF(I23>0,1,"") | D23: =IF(AND(CONCATENATE(K23,L23,M23,N23,O23,P23,R23)=K23&P23&R23,CONCATENATE(K23,L23,M23,N23,O23,P23,R23)<>"",P23<>""),1,"") -> 1 | J23: =IFERROR(IF(B23<>"",A23&"."&B23,""),"S/Nº") -> 5.0 | K23: PAVIMENTAÇÃO | P23: =SUM(P24:P41) -> 0 | Q23: =IF(P23>0,P23/$P$99,0) -> 0
A24: =IF(LEN(D24),OFFSET(A24,-1,0)+1,OFFSET(A24,-1,0)) -> 5 | B24: =IF(OR(C24=1,D24=1),SUMIF($A$9:A24,A24,$C$9:C24),"") | C24: =IF(I24>0,1,"") | D24: =IF(AND(CONCATENATE(K24,L24,M24,N24,O24,P24,R24)=K24&P24&R24,CONCATENATE(K24,L24,M24,N24,O24,P24,R24)<>"",P24<>""),1,"") | K24: EXECUÇÃO DE PAVIMENTO
A25: =IF(LEN(D25),OFFSET(A25,-1,0)+1,OFFSET(A25,-1,0)) -> 5 | B25: =IF(OR(C25=1,D25=1),SUMIF($A$9:A25,A25,$C$9:C25),"") -> 1 | C25: =IF(I25>0,1,"") -> 1 | D25: =IF(AND(CONCATENATE(K25,L25,M25,N25,O25,P25,R25)=K25&P25&R25,CONCATENATE(K25,L25,M25,N25,O25,P25,R25)<>"",P25<>""),1,"") | G25: SINAPI | H25: 100577 | I25: SERVIÇO | J25: =IFERROR(IF(B25<>"",A25&"."&B25,""),"S/Nº") -> 5.1 | K25: REGULARIZAÇÃO E COMPACTAÇÃO DE SUBLEITO DE SOLO PREDOMINANTEMENTE ARENOSO, PARA OBRAS DE CONSTRUÇÃO DE PAVIMENTOS. AF_09/2024 | L25: M2 | M25: ='SUBLEITO-BASE-SUB.'!G46 -> 50764.75 | Q25: =IF(P25>0,P25/$P$99,0) -> 0
A26: =IF(LEN(D26),OFFSET(A26,-1,0)+1,OFFSET(A26,-1,0)) -> 5 | B26: =IF(OR(C26=1,D26=1),SUMIF($A$9:A26,A26,$C$9:C26),"") -> 2 | C26: =IF(I26>0,1,"") -> 1 | D26: =IF(AND(CONCATENATE(K26,L26,M26,N26,O26,P26,R26)=K26&P26&R26,CONCATENATE(K26,L26,M26,N26,O26,P26,R26)<>"",P26<>""),1,"") | G26: SICRO-SERVIÇOS | H26: 4011227 | I26: SERVIÇO | J26: =IFERROR(IF(B26<>"",A26&"."&B26,""),"S/Nº") -> 5.2 | K26: SUB-BASE DE SOLO ESTABILIZADO GRANULOMETRICAMENTE SEM MISTURA COM MATERIAL DE JAZIDA - 100% PROCTOR INTERMEDIÁRIO | L26: M³ | M26: ='SUBLEITO-BASE-SUB.'!J46 -> 10152.95 | Q26: =IF(P26>0,P26/$P$99,0) -> 0
A27: =IF(LEN(D27),OFFSET(A27,-1,0)+1,OFFSET(A27,-1,0)) -> 5 | B27: =IF(OR(C27=1,D27=1),SUMIF($A$9:A27,A27,$C$9:C27),"") -> 3 | C27: =IF(I27>0,1,"") -> 1 | D27: =IF(AND(CONCATENATE(K27,L27,M27,N27,O27,P27,R27)=K27&P27&R27,CONCATENATE(K27,L27,M27,N27,O27,P27,R27)<>"",P27<>""),1,"") | G27: SICRO-SERVIÇOS | H27: 4011219 | I27: SERVIÇO | J27: =IFERROR(IF(B27<>"",A27&"."&B27,""),"S/Nº") -> 5.3 | K27: BASE DE SOLO ESTABILIZADO GRANULOMETRICAMENTE SEM MISTURA COM MATERIAL DE JAZIDA - 100% PROCTOR MODIFICADO | L27: M³ | M27: ='SUBLEITO-BASE-SUB.'!L46 -> 10152.95 | Q27: =IF(P27>0,P27/$P$99,0) -> 0
A28: =IF(LEN(D28),OFFSET(A28,-1,0)+1,OFFSET(A28,-1,0)) -> 5 | B28: =IF(OR(C28=1,D28=1),SUMIF($A$9:A28,A28,$C$9:C28),"") -> 4 | C28: =IF(I28>0,1,"") -> 1 | D28: =IF(AND(CONCATENATE(K28,L28,M28,N28,O28,P28,R28)=K28&P28&R28,CONCATENATE(K28,L28,M28,N28,O28,P28,R28)<>"",P28<>""),1,"") | G28: SICRO-SERVIÇOS | H28: 4011352 | I28: SERVIÇO | J28: =IFERROR(IF(B28<>"",A28&"."&B28,""),"S/Nº") -> 5.4 | K28: IMPRIMAÇÃO COM EMULSÃO ASFÁLTICA | L28: M² | M28: =RUAS!O45 -> 45834.72 | Q28: =IF(P28>0,P28/$P$99,0) -> 0
A29: =IF(LEN(D29),OFFSET(A29,-1,0)+1,OFFSET(A29,-1,0)) -> 5 | B29: =IF(OR(C29=1,D29=1),SUMIF($A$9:A29,A29,$C$9:C29),"") -> 5 | C29: =IF(I29>0,1,"") -> 1 | D29: =IF(AND(CONCATENATE(K29,L29,M29,N29,O29,P29,R29)=K29&P29&R29,CONCATENATE(K29,L29,M29,N29,O29,P29,R29)<>"",P29<>""),1,"") | G29: COMPOSIÇÃO | H29: ='CPAV006-TSD-104389'!$A$7 -> CPAV006-1 | I29: SERVIÇO | J29: =IFERROR(IF(B29<>"",A29&"."&B29,""),"S/Nº") -> 5.5 | K29: PAVIMENTO COM TRATAMENTO SUPERFICIAL DUPLO, COM EMULSÃO ASFÁLTICA RR-2C. AF_01/2020 | L29: M2 | M29: =M28 -> 45834.72 | Q29: =IF(P29>0,P29/$P$99,0) -> 0
A30: =IF(LEN(D30),OFFSET(A30,-1,0)+1,OFFSET(A30,-1,0)) -> 5 | B30: =IF(OR(C30=1,D30=1),SUMIF($A$9:A30,A30,$C$9:C30),"") | C30: =IF(I30>0,1,"") | D30: =IF(AND(CONCATENATE(K30,L30,M30,N30,O30,P30,R30)=K30&P30&R30,CONCATENATE(K30,L30,M30,N30,O30,P30,R30)<>"",P30<>""),1,"") | K30: AQUISIÇÃO DOS PRODUTOS ASFÁLTICOS
A31: =IF(LEN(D31),OFFSET(A31,-1,0)+1,OFFSET(A31,-1,0)) -> 5 | B31: =IF(OR(C31=1,D31=1),SUMIF($A$9:A31,A31,$C$9:C31),"") -> 6 | C31: =IF(I31>0,1,"") -> 1 | D31: =IF(AND(CONCATENATE(K31,L31,M31,N31,O31,P31,R31)=K31&P31&R31,CONCATENATE(K31,L31,M31,N31,O31,P31,R31)<>"",P31<>""),1,"") | G31: ANP | I31: DIFERENCIADO | J31: =IFERROR(IF(B31<>"",A31&"."&B31,""),"S/Nº") -> 5.6 | K31: =ANP!B24 -> EMULSÃO ASFÁLTICA PARA SERVIÇO DE IMPRIMAÇÃO | L31: T | M31: =PAVIMENTO!I45 -> 59.58 | Q31: =IF(P31>0,P31/$P$99,0) -> 0 | R31: =P31+P32 -> 0
A32: =IF(LEN(D32),OFFSET(A32,-1,0)+1,OFFSET(A32,-1,0)) -> 5 | B32: =IF(OR(C32=1,D32=1),SUMIF($A$9:A32,A32,$C$9:C32),"") -> 7 | C32: =IF(I32>0,1,"") -> 1 | D32: =IF(AND(CONCATENATE(K32,L32,M32,N32,O32,P32,R32)=K32&P32&R32,CONCATENATE(K32,L32,M32,N32,O32,P32,R32)<>"",P32<>""),1,"") | G32: ANP | I32: DIFERENCIADO | J32: =IFERROR(IF(B32<>"",A32&"."&B32,""),"S/Nº") -> 5.7 | K32: =ANP!B34 -> EMULSÕES ASFÁLTICAS RR-2C | L32: T | M32: =PAVIMENTO!K45 -> 160.42 | Q32: =IF(P32>0,P32/$P$99,0) -> 0
A33: =IF(LEN(D33),OFFSET(A33,-1,0)+1,OFFSET(A33,-1,0)) -> 5 | B33: =IF(OR(C33=1,D33=1),SUMIF($A$9:A33,A33,$C$9:C33),"") | C33: =IF(I33>0,1,"") | D33: =IF(AND(CONCATENATE(K33,L33,M33,N33,O33,P33,R33)=K33&P33&R33,CONCATENATE(K33,L33,M33,N33,O33,P33,R33)<>"",P33<>""),1,"") | K33: TRANSPORTE DE MATERIAIS DE PAVIMENTAÇÃO
A34: =IF(LEN(D34),OFFSET(A34,-1,0)+1,OFFSET(A34,-1,0)) -> 5 | B34: =IF(OR(C34=1,D34=1),SUMIF($A$9:A34,A34,$C$9:C34),"") -> 8 | C34: =IF(I34>0,1,"") -> 1 | D34: =IF(AND(CONCATENATE(K34,L34,M34,N34,O34,P34,R34)=K34&P34&R34,CONCATENATE(K34,L34,M34,N34,O34,P34,R34)<>"",P34<>""),1,"") | G34: SINAPI | H34: 93598 | I34: SERVIÇO | J34: =IFERROR(IF(B34<>"",A34&"."&B34,""),"S/Nº") -> 5.8 | K34: TRANSPORTE COM CAMINHÃO BASCULANTE DE 14 M³, EM VIA URBANA EM REVESTIMENTO PRIMÁRIO (UNIDADE: TXKM). AF_07/2020 | L34: TXKM | M34: ='TRANSP. MAT.PAV'!K7 -> 31410.66 | Q34: =IF(P34>0,P34/$P$99,0) -> 0 | R34: =SUM(M34:M41) -> 505916.53
A35: =IF(LEN(D35),OFFSET(A35,-1,0)+1,OFFSET(A35,-1,0)) -> 5 | B35: =IF(OR(C35=1,D35=1),SUMIF($A$9:A35,A35,$C$9:C35),"") -> 9 | C35: =IF(I35>0,1,"") -> 1 | D35: =IF(AND(CONCATENATE(K35,L35,M35,N35,O35,P35,R35)=K35&P35&R35,CONCATENATE(K35,L35,M35,N35,O35,P35,R35)<>"",P35<>""),1,"") | G35: SINAPI | H35: 95879 | I35: SERVIÇO | J35: =IFERROR(IF(B35<>"",A35&"."&B35,""),"S/Nº") -> 5.9 | K35: TRANSPORTE COM CAMINHÃO BASCULANTE DE 14 M³, EM VIA URBANA PAVIMENTADA, DMT ATÉ 30 KM (UNIDADE: TXKM). AF_07/2020 | L35: TXKM | M35: ='TRANSP. MAT.PAV'!K11 -> 182181.9 | Q35: =IF(P35>0,P35/$P$99,0) -> 0
A36: =IF(LEN(D36),OFFSET(A36,-1,0)+1,OFFSET(A36,-1,0)) -> 5 | B36: =IF(OR(C36=1,D36=1),SUMIF($A$9:A36,A36,$C$9:C36),"") -> 10 | C36: =IF(I36>0,1,"") -> 1 | D36: =IF(AND(CONCATENATE(K36,L36,M36,N36,O36,P36,R36)=K36&P36&R36,CONCATENATE(K36,L36,M36,N36,O36,P36,R36)<>"",P36<>""),1,"") | G36: SINAPI | H36: 93598 | I36: SERVIÇO | J36: =IFERROR(IF(B36<>"",A36&"."&B36,""),"S/Nº") -> 5.10 | K36: TRANSPORTE COM CAMINHÃO BASCULANTE DE 14 M³, EM VIA URBANA EM REVESTIMENTO PRIMÁRIO (UNIDADE: TXKM). AF_07/2020 | L36: TXKM | M36: ='TRANSP. MAT.PAV'!K15 -> 6439.3 | Q36: =IF(P36>0,P36/$P$99,0) -> 0
A37: =IF(LEN(D37),OFFSET(A37,-1,0)+1,OFFSET(A37,-1,0)) -> 5 | B37: =IF(OR(C37=1,D37=1),SUMIF($A$9:A37,A37,$C$9:C37),"") -> 11 | C37: =IF(I37>0,1,"") -> 1 | D37: =IF(AND(CONCATENATE(K37,L37,M37,N37,O37,P37,R37)=K37&P37&R37,CONCATENATE(K37,L37,M37,N37,O37,P37,R37)<>"",P37<>""),1,"") | G37: SINAPI | H37: 95879 | I37: SERVIÇO | J37: =IFERROR(IF(B37<>"",A37&"."&B37,""),"S/Nº") -> 5.11 | K37: TRANSPORTE COM CAMINHÃO BASCULANTE DE 14 M³, EM VIA URBANA PAVIMENTADA, DMT ATÉ 30 KM (UNIDADE: TXKM). AF_07/2020 | L37: TXKM | M37: ='TRANSP. MAT.PAV'!K19 -> 45995.1 | Q37: =IF(P37>0,P37/$P$99,0) -> 0
A38: =IF(LEN(D38),OFFSET(A38,-1,0)+1,OFFSET(A38,-1,0)) -> 5 | B38: =IF(OR(C38=1,D38=1),SUMIF($A$9:A38,A38,$C$9:C38),"") -> 12 | C38: =IF(I38>0,1,"") -> 1 | D38: =IF(AND(CONCATENATE(K38,L38,M38,N38,O38,P38,R38)=K38&P38&R38,CONCATENATE(K38,L38,M38,N38,O38,P38,R38)<>"",P38<>""),1,"") | G38: SINAPI | H38: 93599 | I38: SERVIÇO | J38: =IFERROR(IF(B38<>"",A38&"."&B38,""),"S/Nº") -> 5.12 | K38: TRANSPORTE COM CAMINHÃO BASCULANTE DE 14 M³, EM VIA URBANA PAVIMENTADA, ADICIONAL PARA DMT EXCEDENTE A 30 KM (UNIDADE: TXKM). AF_07/2020 | L38: TXKM | M38: ='TRANSP. MAT.PAV'!K23 -> 100882.58 | Q38: =IF(P38>0,P38/$P$99,0) -> 0
