Workbook

Sheet QUEDA DE TENSÃO
B1: CÁLCULO DE QUEDA DE TENSÃO
A3: CIRCUITO | C3: S [mm²] | D3: SEÇÃO TABELA[mm²] | E3: TENSÃO [V] | F3: LOCAL | G3: CARGA NO TRAFO [W] | H3: TRECHO 1 | J3: TRECHO 2 | L3: TRECHO 3 | N3: TRECHO 4 | P3: TRECHO 5 | R3: TRECHO 6 | T3: TRECHO 7 | V3: TRECHO 8 | X3: TRECHO 9 | Z3: TRECHO 10
A4: N° | B4: TIPO | H4: P [VA] | I4: L (m) | J4: P [VA] | K4: L (m) | L4: P [VA] | M4: L (m) | N4: P [VA] | O4: L (m) | P4: P [VA] | Q4: L (m) | R4: P [VA] | S4: L (m) | T4: P [VA] | U4: L (m) | V4: P [VA] | W4: L (m) | X4: P [VA] | Y4: L (m) | Z4: P [VA] | AA4: L (m)
A5: 1 | B5: ILUMINAÇÃO | C5: =IF($F$15=2,(IF($F$13="ALUMÍNIO",200*$B$19*((H5*I5)+(J5*K5)+(L5*M5)+(N5*O5)+(P5*Q5)+(R5*S5)+T5*U5+V5*W5+X5*Y5+Z5*AA5)/($D$19*(E5^2)),IF($F$13="COBRE",200*$C$19*((H5*I5)+(J5*K5)+(L5*M5)+(N5*O5)+(P5*Q5)+(R5*S5)+T5*U5+V5*W5+X5*Y5+Z5*AA5)/($D$19*(E5^2)),""))),IF($F$15=3,(IF($F$13="ALUMÍNIO",100*1.732*$B$19*((H5*I5)+(J5*K5)+(L5*M5)+(N5*O5)+(P5*Q5)+(R5*S5)+T5*U5+V5*W5+X5*Y5+Z5*AA5)/($D$19*(E5^2)),IF($F$13="COBRE",100*1.732*$C$19*((H5*I5)+(J5*K5)+(L5*M5)+(N5*O5)+(P5*Q5)+(R5*S5)+T5*U5+V5*W5+X5*Y5+Z5*AA5)/($D$19*(E5^2)),""))),"")) -> 4.5411322 | D5: =IF(C5<0.5,0.5,IF(C5<=0.75,0.75,IF(C5<=1,1,IF(C5<=1.5,1.5,IF(C5<=2.5,2.5,IF(C5<=4,4,IF(C5<=6,6,IF(C5<=10,10,IF(C5<=16,16,IF(C5<=25,25,IF(C5<=25,25,IF(C5<=35,35,70)))))))))))) -> 6 | E5: 220 | F5: PONTO 01 | G5: 5600 | H5: 2400 | I5: 40 | J5: 1600 | K5: 35 | L5: 800 | M5: 35
A6: 2 | B6: ILUMINAÇÃO | C6: =IF($F$15=2,(IF($F$13="ALUMÍNIO",200*$B$19*((H6*I6)+(J6*K6)+(L6*M6)+(N6*O6)+(P6*Q6)+(R6*S6)+T6*U6+V6*W6+X6*Y6+Z6*AA6)/($D$19*(E6^2)),IF($F$13="COBRE",200*$C$19*((H6*I6)+(J6*K6)+(L6*M6)+(N6*O6)+(P6*Q6)+(R6*S6)+T6*U6+V6*W6+X6*Y6+Z6*AA6)/($D$19*(E6^2)),""))),IF($F$15=3,(IF($F$13="ALUMÍNIO",100*1.732*$B$19*((H6*I6)+(J6*K6)+(L6*M6)+(N6*O6)+(P6*Q6)+(R6*S6)+T6*U6+V6*W6+X6*Y6+Z6*AA6)/($D$19*(E6^2)),IF($F$13="COBRE",100*1.732*$C$19*((H6*I6)+(J6*K6)+(L6*M6)+(N6*O6)+(P6*Q6)+(R6*S6)+T6*U6+V6*W6+X6*Y6+Z6*AA6)/($D$19*(E6^2)),""))),"")) -> 15.379301 | D6: =IF(C6<0.5,0.5,IF(C6<=0.75,0.75,IF(C6<=1,1,IF(C6<=1.5,1.5,IF(C6<=2.5,2.5,IF(C6<=4,4,IF(C6<=6,6,IF(C6<=10,10,IF(C6<=16,16,IF(C6<=25,25,IF(C6<=25,25,IF(C6<=35,35,70)))))))))))) -> 16 | E6: 220 | F6: PONTO 02 | G6: 10400 | H6: 10400 | I6: 30 | J6: 4800 | K6: 32 | L6: 2400 | M6: 30 | N6: 1600 | O6: 30 | P6: 800 | Q6: 30
A7: 4 | B7: ILUMINAÇÃO | C7: =IF($F$15=2,(IF($F$13="ALUMÍNIO",200*$B$19*((H7*I7)+(J7*K7)+(L7*M7)+(N7*O7)+(P7*Q7)+(R7*S7)+T7*U7+V7*W7+X7*Y7+Z7*AA7)/($D$19*(E7^2)),IF($F$13="COBRE",200*$C$19*((H7*I7)+(J7*K7)+(L7*M7)+(N7*O7)+(P7*Q7)+(R7*S7)+T7*U7+V7*W7+X7*Y7+Z7*AA7)/($D$19*(E7^2)),""))),IF($F$15=3,(IF($F$13="ALUMÍNIO",100*1.732*$B$19*((H7*I7)+(J7*K7)+(L7*M7)+(N7*O7)+(P7*Q7)+(R7*S7)+T7*U7+V7*W7+X7*Y7+Z7*AA7)/($D$19*(E7^2)),IF($F$13="COBRE",100*1.732*$C$19*((H7*I7)+(J7*K7)+(L7*M7)+(N7*O7)+(P7*Q7)+(R7*S7)+T7*U7+V7*W7+X7*Y7+Z7*AA7)/($D$19*(E7^2)),""))),"")) -> 15.318753 | D7: =IF(C7<0.5,0.5,IF(C7<=0.75,0.75,IF(C7<=1,1,IF(C7<=1.5,1.5,IF(C7<=2.5,2.5,IF(C7<=4,4,IF(C7<=6,6,IF(C7<=10,10,IF(C7<=16,16,IF(C7<=25,25,IF(C7<=25,25,IF(C7<=35,35,70)))))))))))) -> 16 | E7: 220 | F7: PONTO 03 | G7: =13*800 -> 10400 | H7: =G7 -> 10400 | I7: 23 | J7: 4000 | K7: 32 | L7: 3200 | M7: 30 | N7: 2400 | O7: 30 | P7: 1600 | Q7: 30 | R7: 800 | S7: 30
A8: 5 | B8: ILUMINAÇÃO | C8: =IF($F$15=2,(IF($F$13="ALUMÍNIO",200*$B$19*((H8*I8)+(J8*K8)+(L8*M8)+(N8*O8)+(P8*Q8)+(R8*S8)+T8*U8+V8*W8+X8*Y8+Z8*AA8)/($D$19*(E8^2)),IF($F$13="COBRE",200*$C$19*((H8*I8)+(J8*K8)+(L8*M8)+(N8*O8)+(P8*Q8)+(R8*S8)+T8*U8+V8*W8+X8*Y8+Z8*AA8)/($D$19*(E8^2)),""))),IF($F$15=3,(IF($F$13="ALUMÍNIO",100*1.732*$B$19*((H8*I8)+(J8*K8)+(L8*M8)+(N8*O8)+(P8*Q8)+(R8*S8)+T8*U8+V8*W8+X8*Y8+Z8*AA8)/($D$19*(E8^2)),IF($F$13="COBRE",100*1.732*$C$19*((H8*I8)+(J8*K8)+(L8*M8)+(N8*O8)+(P8*Q8)+(R8*S8)+T8*U8+V8*W8+X8*Y8+Z8*AA8)/($D$19*(E8^2)),""))),"")) -> 9.4657379 | D8: =IF(C8<0.5,0.5,IF(C8<=0.75,0.75,IF(C8<=1,1,IF(C8<=1.5,1.5,IF(C8<=2.5,2.5,IF(C8<=4,4,IF(C8<=6,6,IF(C8<=10,10,IF(C8<=16,16,IF(C8<=25,25,IF(C8<=25,25,IF(C8<=35,35,70)))))))))))) -> 10 | E8: 220 | F8: PONTO 04 | G8: 5600 | H8: =G8 -> 5600 | I8: 23 | J8: 3200 | K8: 32 | L8: 2400 | M8: 30 | N8: 1600 | O8: 30 | P8: 800 | Q8: 30
B9: QUEDA DE TENSÃO TRECHO A TRECHO [%] | J9: TRECHO TOTAL [M] | M9: CARGA INSTALADA [W]
B10: ∆V% = (200.p .P. L) / (S.V²) OBS: TRIFÁSICO TROCAR 200 POR 100√3 | J10: 1000 | M10: =36*800 -> 28800
B12: LEGENDA | F12: TIPO DE CABO - [1] ALUMINIO - [2] COBRE
B13: p | C13: resistividade | F13: =IF(G13=1,"ALUMÍNIO",IF(G13=2,"COBRE","")) -> ALUMÍNIO | G13: 1
B14: P | C14: potência útil | F14: NÚMERO DE FASES DO TRAFO
B15: L | C15: comprimento (m) | F15: 3
B16: S | C16: bitola
B17: V | C17: tensão
B18: Resistividade aluminio a 70° C | C18: Resistividade cobre a 70° C | D18: ∆V%
B19: 0.0282 | C19: 0.020833333 | D19: 4
B20: POTÊNCIA LUMINÁRIA [W] | C20: VÃO DE POSTE [M]
B21: 200 | C21: 60

Sheet RESUMO
D1: Obra | E1: Bancos | F1: B.D.I. | I1: Encargos Sociais
D2: EXTENSÃO DE REDE DE ILUMINÇÃO PÚBLICA (AV. TARUMÃS) | E2: SINAPI - 05/2024 - MATO GROSSO SBC - 06/2024 - GNA - Goiânia - GO SICRO3 - 01/2024 - MATO GROSSO ORSE - 04/2024 - Sergipe SEDOP - 05/2024 - PARÁ - COM LEIS SOCIAIS SEINFRA - 028 - Ceará SETOP - 01/2024 - MINAS GERAIS - CENTRAL IOPES - 03/2024 - Espírito Santo SIURB - 01/2024 - SÃO PAULO SIURB INFRA - 01/2024 - São Paulo SUDECAP - 01/2024 - MINAS GERAIS CPOS/CDHU - 06/2024 - São Paulo FDE - 04/2024 - SÃO PAULO AGESUL - 01/2024 - Mato Grosso do Sul AGETOP CIVIL - 02/2024 - GOIÁS AGETOP RODOVIARIA - 02/2024 - Goiás EMBASA - 01/2024 - BAHIA CAERN - 11/2023 - Rio Grande do Norte COMPESA - 07/2023 - PERNAMBUCO EMOP - 04/2024 - Rio de Janeiro DERPR - 09/2023 - PARANÁ SCO - 05/2024 - Rio de Janeiro | F2: 20,7% | I2: Não Desonerado: embutido nos preços unitário dos insumos de mão de obra, de acordo com as bases.
A3: Planilha Orçamentária Resumida
A4: Item | D4: Descrição | J4: Total | K4: Peso (%)
G6: Total sem BDI | K6: ='ORÇAMENTO ANALÍTICO'!H368 -> 320761.78
G7: Total do BDI | K7: ='ORÇAMENTO ANALÍTICO'!H369 -> 66349.953
G8: Total Geral | K8: ='ORÇAMENTO ANALÍTICO'!H370 -> 387111.73
A10: ='ORÇAMENTO ANALÍTICO'!A372 -> _______________________________________________________________ Junior Cesar Ferreira Engenheiro Eletricista

Sheet ORÇAMENTO ANALÍTICO
C1: Obra | E1: Bancos | G1: B.D.I. | I1: Encargos Sociais
C2: EXTENSÃO DE REDE DE ILUMINÇÃO PÚBLICA (AV. TARUMÃS) | E2: SINAPI - 05/2024 - MATO GROSSO SBC - 06/2024 - GNA - Goiânia - GO SICRO3 - 01/2024 - MATO GROSSO ORSE - 04/2024 - Sergipe SEDOP - 05/2024 - PARÁ - COM LEIS SOCIAIS SEINFRA - 028 - Ceará SETOP - 01/2024 - MINAS GERAIS - CENTRAL IOPES - 03/2024 - Espírito Santo SIURB - 01/2024 - SÃO PAULO SIURB INFRA - 01/2024 - São Paulo SUDECAP - 01/2024 - MINAS GERAIS CPOS/CDHU - 06/2024 - São Paulo FDE - 04/2024 - SÃO PAULO AGESUL - 01/2024 - Mato Grosso do Sul AGETOP CIVIL - 02/2024 - GOIÁS AGETOP RODOVIARIA - 02/2024 - Goiás EMBASA - 01/2024 - BAHIA CAERN - 11/2023 - Rio Grande do Norte COMPESA - 07/2023 - PERNAMBUCO EMOP - 04/2024 - Rio de Janeiro DERPR - 09/2023 - PARANÁ SCO - 05/2024 - Rio de Janeiro | G2: 20,7% | I2: Não Desonerado: embutido nos preços unitário dos insumos de mão de obra, de acordo com as bases.
A3: Planilha Orçamentária Analítica
A4: 1 | B4: Código | C4: Banco | D4: Descrição | E4: Tipo | G4: Und | H4: Quant. | I4: Valor Unit | J4: Total
A5: Composição | B5: COMP. | C5: Próprio | D5: ADMINISTRAÇÃO LOCAL | E5: SEOP - SERVIÇOS OPERACIONAIS | G5: h | H5: 1 | I5: 66.8 | J5: 66.8
A6: Composição Auxiliar | B6: 90776 | C6: SINAPI | D6: ENCARREGADO GERAL COM ENCARGOS COMPLEMENTARES | E6: SEDI - SERVIÇOS DIVERSOS | G6: H | H6: 1 | I6: 29.84 | J6: 29.84
A7: Composição Auxiliar | B7: 88266 | C7: SINAPI | D7: ELETROTÉCNICO COM ENCARGOS COMPLEMENTARES | E7: SEDI - SERVIÇOS DIVERSOS | G7: H | H7: 1 | I7: 32.85 | J7: 32.85
A8: Insumo | B8: 00037372 | C8: SINAPI | D8: EXAMES - HORISTA (COLETADO CAIXA - ENCARGOS COMPLEMENTARES) | E8: Outros | G8: H | H8: 2 | I8: 1.34 | J8: 2.68
A9: Insumo | B9: 00037373 | C9: SINAPI | D9: SEGURO - HORISTA (COLETADO CAIXA - ENCARGOS COMPLEMENTARES) | E9: Taxas | G9: H | H9: 2 | I9: 0.04 | J9: 0.08
A10: Insumo | B10: 00043463 | C10: SINAPI | D10: FERRAMENTAS - FAMILIA ENCARREGADO GERAL - HORISTA (ENCARGOS COMPLEMENTARES - COLETADO CAIXA) | E10: Equipamento | G10: H | H10: 1 | I10: 0.1 | J10: 0.1
A11: Insumo | B11: 00043487 | C11: SINAPI | D11: EPI - FAMILIA ENCARREGADO GERAL - HORISTA (ENCARGOS COMPLEMENTARES - COLETADO CAIXA) | E11: Equipamento | G11: H | H11: 1 | I11: 1.25 | J11: 1.25
E12: MO sem LS => | F12: 54.62 | G12: LS => | H12: 0 | I12: MO com LS => | J12: 54.62
E13: Valor do BDI => | F13: 13.82 | H13: Valor com BDI => | J13: 80.62
G14: Quant. => | H14: 220 | I14: Preço Total => | J14: =+J13*H14 -> 17736.4
A16: 2 | B16: Código | C16: Banco | D16: Descrição | E16: Tipo | G16: Und | H16: Quant. | I16: Valor Unit | J16: Total
A17: Composição | B17: 103689 | C17: SINAPI | D17: FORNECIMENTO E INSTALAÇÃO DE PLACA DE OBRA COM CHAPA GALVANIZADA E ESTRUTURA DE MADEIRA. AF_03/2022_PS | E17: PAVI - PAVIMENTAÇÃO | G17: m² | H17: 1 | I17: 387.39 | J17: 387.39
A18: Composição Auxiliar | B18: 102234 | C18: SINAPI | D18: PINTURA IMUNIZANTE PARA MADEIRA, 2 DEMÃOS. AF_01/2021 | E18: PINT - PINTURAS | G18: m² | H18: 0.5 | I18: 23.73 | J18: 11.86
A19: Composição Auxiliar | B19: 88262 | C19: SINAPI | D19: CARPINTEIRO DE FORMAS COM ENCARGOS COMPLEMENTARES | E19: SEDI - SERVIÇOS DIVERSOS | G19: H | H19: 0.3729 | I19: 25.26 | J19: 9.41
A20: Composição Auxiliar | B20: 88316 | C20: SINAPI | D20: SERVENTE COM ENCARGOS COMPLEMENTARES | E20: SEDI - SERVIÇOS DIVERSOS | G20: H | H20: 1.1186 | I20: 20.32 | J20: 22.72
A21: Insumo | B21: 00004509 | C21: SINAPI | D21: SARRAFO *2,5 X 10* CM EM PINUS, MISTA OU EQUIVALENTE DA REGIAO - BRUTA | E21: Material | G21: M | H21: 3.2083 | I21: 5.68 | J21: 18.22
A22: Insumo | B22: 00004813 | C22: SINAPI | D22: PLACA DE OBRA (PARA CONSTRUCAO CIVIL) EM CHAPA GALVANIZADA *N. 22*, ADESIVADA, DE *2,4 X 1,2* M (SEM POSTES PARA FIXACAO) | E22: Material | G22: m² | H22: 1 | I22: 250 | J22: 250
A23: Insumo | B23: 00005065 | C23: SINAPI | D23: PREGO DE ACO POLIDO COM CABECA 10 X 10 (7/8 X 17) | E23: Material | G23: KG | H23: 0.0113 | I23: 34.83 | J23: 0.39
A24: Insumo | B24: 00005069 | C24: SINAPI | D24: PREGO DE ACO POLIDO COM CABECA 17 X 27 (2 1/2 X 11) | E24: Material | G24: KG | H24: 0.0132 | I24: 18.66 | J24: 0.24
A25: Insumo | B25: 00004425 | C25: SINAPI | D25: VIGA NAO APARELHADA *6 X 12* CM, EM MACARANDUBA/MASSARANDUBA, ANGELIM OU EQUIVALENTE DA REGIAO - BRUTA | E25: Material | G25: M | H25: 3 | I25: 24.85 | J25: 74.55
E26: MO sem LS => | F26: 28.89 | G26: LS => | H26: 0 | I26: MO com LS => | J26: 28.89
E27: Valor do BDI => | F27: 80.18 | H27: Valor com BDI => | J27: 467.57
G28: Quant. => | H28: 2.88 | I28: Preço Total => | J28: =+J27*H28 -> 1346.6016
A30: 3 | B30: Código | C30: Banco | D30: Descrição | E30: Tipo | G30: Und | H30: Quant. | I30: Valor Unit | J30: Total
A31: Composição | B31: 99059 | C31: SINAPI | D31: LOCACAO CONVENCIONAL DE OBRA, UTILIZANDO PONTALETES A CADA 80,00M - 2 UTILIZAÇÕES. AF_10/2018 | E31: SERT - SERVIÇOS TÉCNICOS | G31: UN | H31: 1 | I31: 23.59 | J31: 23.54
A32: Composição Auxiliar | B32: 91692 | C32: SINAPI | D32: SERRA CIRCULAR DE BANCADA COM MOTOR ELÉTRICO POTÊNCIA DE 5HP, COM COIFA PARA DISCO 10" - CHP DIURNO. AF_08/2015 | E32: CHOR - CUSTOS HORÁRIOS DE MÁQUINAS E EQUIPAMENTOS | G32: CHP | H32: 0.0039 | I32: 23.37 | J32: 0.09
A33: Composição Auxiliar | B33: 99062 | C33: SINAPI | D33: MARCAÇÃO DE PONTOS EM GABARITO OU CAVALETE. AF_10/2018 | E33: SERT - SERVIÇOS TÉCNICOS | G33: UN | H33: 1.5 | I33: 2.37 | J33: 3.55
A34: Composição Auxiliar | B34: 90781 | C34: SINAPI | D34: TOPOGRAFO COM ENCARGOS COMPLEMENTARES | E34: SEDI - SERVIÇOS DIVERSOS | G34: H | H34: 0.35 | I34: 22.13 | J34: 7.74
A35: Composição Auxiliar | B35: 88253 | C35: SINAPI | D35: AUXILIAR DE TOPÓGRAFO COM ENCARGOS COMPLEMENTARES | E35: SEDI - SERVIÇOS DIVERSOS | G35: H | H35: 0.35 | I35: 11.13 | J35: 3.89
A36: Composição Auxiliar | B36: 73493 | C36: SINAPI | D36: TEODOLITO CONVENCIONAL DE MICROMETRO C/LEITURA NUMERICA (CP) PRECISAO DE 6S PARA LEVANTAMENTO DE TERRENOS DIVERSOS | E36: SEDI - SERVIÇOS DIVERSOS | G36: H | H36: 0.35 | I36: 2.32 | J36: 0.81
A37: Insumo | B37: 00004417 | C37: SINAPI | D37: SARRAFO NAO APARELHADO *2,5 X 7* CM, EM MACARANDUBA/MASSARANDUBA, ANGELIM, PEROBA-ROSA OU EQUIVALENTE DA REGIAO - BRUTA | E37: Material | G37: M | H37: 0.7445 | I37: 6.39 | J37: 4.75
A38: Insumo | B38: 00005068 | C38: SINAPI | D38: PREGO DE ACO POLIDO COM CABECA 17 X 21 (2 X 11) | E38: Material | G38: KG | H38: 0.111 | I38: 18.31 | J38: 2.03
A39: Insumo | B39: 00007356 | C39: SINAPI | D39: TINTA LATEX ACRILICA PREMIUM, COR BRANCO FOSCO | E39: Material | G39: L | H39: 0.0256 | I39: 28.56 | J39: =+I39*H39 -> 0.731136
E40: MO sem LS => | F40: 12.88 | G40: LS => | H40: 0 | I40: MO com LS => | J40: 12.88
E41: Valor do BDI => | F41: 4.87 | H41: Valor com BDI => | J41: 28.41
G42: Quant. => | H42: 36 | I42: Preço Total => | J42: =+H42*J41 -> 1022.76
...

Sheet ORÇAMENTO SINTÉTICO
D1: Obra | E1: Bancos | G1: B.D.I. | I1: Encargos Sociais
D2: EXTENSÃO DE REDE DE ILUMINÇÃO PÚBLICA (AV. TARUMÃS) | E2: SINAPI - 05/2024 - MATO GROSSO SBC - 06/2024 - GNA - Goiânia - GO SICRO3 - 01/2024 - MATO GROSSO ORSE - 04/2024 - Sergipe SEDOP - 05/2024 - PARÁ - COM LEIS SOCIAIS SEINFRA - 028 - Ceará SETOP - 01/2024 - MINAS GERAIS - CENTRAL IOPES - 03/2024 - Espírito Santo SIURB - 01/2024 - SÃO PAULO SIURB INFRA - 01/2024 - São Paulo SUDECAP - 01/2024 - MINAS GERAIS CPOS/CDHU - 06/2024 - São Paulo FDE - 04/2024 - SÃO PAULO AGESUL - 01/2024 - Mato Grosso do Sul AGETOP CIVIL - 02/2024 - GOIÁS AGETOP RODOVIARIA - 02/2024 - Goiás EMBASA - 01/2024 - BAHIA CAERN - 11/2023 - Rio Grande do Norte COMPESA - 07/2023 - PERNAMBUCO EMOP - 04/2024 - Rio de Janeiro DERPR - 09/2023 - PARANÁ SCO - 05/2024 - Rio de Janeiro | G2: 20,7% | I2: Não Desonerado: embutido nos preços unitário dos insumos de mão de obra, de acordo com as bases.
A3: Orçamento Sintético
A4: Item | B4: Código | C4: Banco | D4: Descrição | E4: Und | F4: Quant. | G4: Valor Unit | H4: Valor Unit com BDI | I4: Total | J4: Peso (%)
A5: 1 | B5: COMP. | C5: Próprio | D5: ADMINISTRAÇÃO LOCAL | E5: h | F5: ='ORÇAMENTO ANALÍTICO'!H14 -> 220 | G5: ='ORÇAMENTO ANALÍTICO'!J5 -> 66.8 | H5: ='ORÇAMENTO ANALÍTICO'!J13 -> 80.62 | I5: =+H5*F5 -> 17736.4 | J5: =+I5/$J$51 -> 0.045817263
A6: 2 | B6: 103689 | C6: SINAPI | D6: FORNECIMENTO E INSTALAÇÃO DE PLACA DE OBRA COM CHAPA GALVANIZADA E ESTRUTURA DE MADEIRA. AF_03/2022_PS | E6: m² | F6: ='ORÇAMENTO ANALÍTICO'!H28 -> 2.88 | G6: ='ORÇAMENTO ANALÍTICO'!J17 -> 387.39 | H6: ='ORÇAMENTO ANALÍTICO'!J27 -> 467.57 | I6: =+H6*F6 -> 1346.6016 | J6: =+I6/$J$51 -> 0.0034785864
A7: 3 | B7: 99059 | C7: SINAPI | D7: LOCACAO CONVENCIONAL DE OBRA, UTILIZANDO PONTALETES A CADA 80,00M - 2 UTILIZAÇÕES. AF_10/2018 | E7: UN | F7: ='ORÇAMENTO ANALÍTICO'!H42 -> 36 | G7: ='ORÇAMENTO ANALÍTICO'!J31 -> 23.54 | H7: ='ORÇAMENTO ANALÍTICO'!J41 -> 28.41 | I7: =+H7*F7 -> 1022.76 | J7: =+I7/$J$51 -> 0.0026420279
A8: 4 | B8: 1616 | C8: AGESUL | D8: LOCACAO DE BANHEIRO QUIMICO, INCLUSO 4 HIGIENIZAÇOES, MOBILIZACAO E DESMOBILIZACAO | E8: MÊS | F8: ='ORÇAMENTO ANALÍTICO'!H48 -> 1 | G8: ='ORÇAMENTO ANALÍTICO'!J45 -> 1405 | H8: ='ORÇAMENTO ANALÍTICO'!J47 -> 1695.835 | I8: =+H8*F8 -> 1695.835 | J8: =+I8/$J$51 -> 0.0043807378
A9: 5 | B9: 13751 | C9: ORSE | D9: Tenda confeccionada em lona TD-1000 Anti-chama tipo pirânide com Estrutura metalica em tubo galv.1 1/4, 1 1/5 e pés c/ 2",( dim. 5m x5m) | E9: MÊS | F9: ='ORÇAMENTO ANALÍTICO'!H54 -> 1 | G9: ='ORÇAMENTO ANALÍTICO'!J51 -> 3800 | H9: ='ORÇAMENTO ANALÍTICO'!J53 -> 4586.6 | I9: =+H9*F9 -> 4586.6 | J9: =+I9/$J$51 -> 0.011848259
A10: 6 | B10: 100951 | C10: SINAPI | D10: TRANSPORTE COM CAMINHÃO CARROCERIA COM GUINDAUTO (MUNCK), MOMENTO MÁXIMO DE CARGA 11,7 TM, EM VIA URBANA EM REVESTIMENTO PRIMÁRIO (UNIDADE: TXKM). AF_07/2020 | E10: TXKM | F10: ='ORÇAMENTO ANALÍTICO'!H62 -> 1235.5 | G10: ='ORÇAMENTO ANALÍTICO'!J57 -> 3.14 | H10: ='ORÇAMENTO ANALÍTICO'!J61 -> 3.78 | I10: =+H10*F10 -> 4670.19 | J10: =+I10/$J$51 -> 0.012064191
A11: 7 | B11: 00005036 | C11: SINAPI | D11: POSTE DE CONCRETO ARMADO DE SECAO CIRCULAR, EXTENSAO DE 14,00 M, RESISTENCIA DE 300 A 400 DAN, TIPO C-17 | E11: UN | F11: ='ORÇAMENTO ANALÍTICO'!H68 -> 36 | G11: ='ORÇAMENTO ANALÍTICO'!J65 -> 2524.88 | H11: ='ORÇAMENTO ANALÍTICO'!J67 -> 3047.5302 | I11: =+H11*F11 -> 109711.09 | J11: =+I11/$J$51 -> 0.28340936
A12: 8 | B12: 100591 | C12: SINAPI | D12: ASSENTAMENTO DE POSTE DE CONCRETO COM COMPRIMENTO NOMINAL DE 14 M, CARGA NOMINAL MENOR OU IGUAL A 1000 DAN, ENGASTAMENTO SIMPLES COM 2 M DE SOLO (NÃO INCLUI FORNECIMENTO). AF_11/2019 | E12: UN | F12: ='ORÇAMENTO ANALÍTICO'!H77 -> 36 | G12: ='ORÇAMENTO ANALÍTICO'!J71 -> 232.84 | H12: ='ORÇAMENTO ANALÍTICO'!J76 -> 281.03 | I12: =+H12*F12 -> 10117.08 | J12: =+I12/$J$51 -> 0.02613478
A13: 9 | B13: 072369 | C13: AGETOP CIVIL | D13: SUPORTE PARA 4 PÉTALAS PARA LUMINÁRIA DE ILUMINAÇÃO PÚBLICA | E13: Un | F13: ='ORÇAMENTO ANALÍTICO'!H86 -> 36 | G13: ='ORÇAMENTO ANALÍTICO'!J80 -> 210.89 | H13: ='ORÇAMENTO ANALÍTICO'!J85 -> 254.54423 | I13: =+H13*F13 -> 9163.5923 | J13: =+I13/$J$51 -> 0.023671699
A14: 10 | B14: 101659 | C14: SINAPI | D14: LUMINÁRIA DE LED PARA ILUMINAÇÃO PÚBLICA, DE 181 W ATÉ 239 W - FORNECIMENTO E INSTALAÇÃO. AF_08/2020 | E14: UN | F14: ='ORÇAMENTO ANALÍTICO'!H97 -> 144 | G14: ='ORÇAMENTO ANALÍTICO'!J89 -> 469.02 | H14: ='ORÇAMENTO ANALÍTICO'!J96 -> 566.10714 | I14: =+H14*F14 -> 81519.428 | J14: =+I14/$J$51 -> 0.21058372
A15: 11 | B15: 11413 | C15: ORSE | D15: Cabo de cobre PP Cordplast 3 x 1,5 mm2, 450/750v - fornecimento e instalação | E15: M | F15: ='ORÇAMENTO ANALÍTICO'!H108 -> 797 | G15: ='ORÇAMENTO ANALÍTICO'!J100 -> 9.28 | H15: ='ORÇAMENTO ANALÍTICO'!J107 -> 11.2 | I15: =+H15*F15 -> 8926.4 | J15: =+I15/$J$51 -> 0.023058976
A16: 12 | B16: 13973 | C16: ORSE | D16: Conector elétrico 2P p/fio 2,5mm2, WAGO ou similar | E16: un | F16: ='ORÇAMENTO ANALÍTICO'!H114 -> 108 | G16: ='ORÇAMENTO ANALÍTICO'!J111 -> 0.95 | H16: ='ORÇAMENTO ANALÍTICO'!J113 -> 1.14 | I16: =+H16*F16 -> 123.12 | J16: =+I16/$J$51 -> 0.00031804771
A17: 13 | B17: 102282 | C17: SINAPI | D17: ESCAVAÇÃO MECANIZADA DE VALA COM PROF. ATÉ 1,5 M (MÉDIA MONTANTE E JUSANTE/UMA COMPOSIÇÃO POR TRECHO), ESCAVADEIRA (0,8 M3),LARG. MENOR QUE 1,5 M, EM SOLO DE MOLE, EM LOCAIS COM ALTO NÍVEL DE INTERFERÊNCIA. AF_02/2021 | E17: m³ | F17: ='ORÇAMENTO ANALÍTICO'!H123 -> 400 | G17: ='ORÇAMENTO ANALÍTICO'!J117 -> 13.53 | H17: ='ORÇAMENTO ANALÍTICO'!J122 -> 16.33 | I17: =+H17*F17 -> 6532 | J17: =+I17/$J$51 -> 0.016873681
A18: 14 | B18: 97668 | C18: SINAPI | D18: ELETRODUTO FLEXÍVEL CORRUGADO, PEAD, DN 63 (2"), PARA REDE ENTERRADA DE DISTRIBUIÇÃO DE ENERGIA ELÉTRICA - FORNECIMENTO E INSTALAÇÃO. AF_12/2021 | E18: M | F18: ='ORÇAMENTO ANALÍTICO'!H132 -> 1900 | G18: ='ORÇAMENTO ANALÍTICO'!J126 -> 11.267 | H18: ='ORÇAMENTO ANALÍTICO'!J131 -> 13.599269 | I18: =+H18*F18 -> 25838.611 | J18: =+I18/$J$51 -> 0.066747167
A19: 15 | B19: 090569 | C19: SIURB | D19: CAIXA DE PASSAGEM E TAMPA PRÉ-MOLDADAS EM CONCRETO, SEM FUNDO, 30X30CM | E19: UN | F19: ='ORÇAMENTO ANALÍTICO'!H141 -> 36 | G19: ='ORÇAMENTO ANALÍTICO'!J135 -> 165.924 | H19: ='ORÇAMENTO ANALÍTICO'!J140 -> 200.27027 | I19: =+H19*F19 -> 7209.7296 | J19: =+I19/$J$51 -> 0.018624415
A20: 16 | B20: ED-24042 | C20: SETOP | D20: FORNECIMENTO E INSTALAÇÃO DE FITA SUBTERRÂNEA PARA SINALIZAÇÃO DE REDES OU TUBULAÇÕES | E20: m | F20: ='ORÇAMENTO ANALÍTICO'!H164 -> 1900 | G20: ='ORÇAMENTO ANALÍTICO'!J144 -> 4.96 | H20: ='ORÇAMENTO ANALÍTICO'!J163 -> 5.98 | I20: =+H20*F20 -> 11362 | J20: =+I20/$J$51 -> 0.029350699
A21: 17 | B21: IN-03 | C21: Próprio | D21: CABO DE ALUMÍNIO C4 SINGELO PT XLPE 1KV 25MM2 | E21: M | F21: ='ORÇAMENTO ANALÍTICO'!H170 -> 5620 | G21: ='ORÇAMENTO ANALÍTICO'!J167 -> 6.1 | H21: ='ORÇAMENTO ANALÍTICO'!J169 -> 7.36 | I21: =+H21*F21 -> 41363.2 | J21: =+I21/$J$51 -> 0.10685081
A22: 18 | B22: 090333 | C22: SIURB | D22: PASSAGEM DE CABO 25,00MM2 - ISOLAMENTO PARA 1,0KV - CLASSE 4 - FLEXÍVEL | E22: M | F22: ='ORÇAMENTO ANALÍTICO'!H178 -> 1940 | G22: ='ORÇAMENTO ANALÍTICO'!J173 -> 5.03 | H22: ='ORÇAMENTO ANALÍTICO'!J177 -> 6.07 | I22: =+H22*F22 -> 11775.8 | J22: =+I22/$J$51 -> 0.030419641
A23: 19 | B23: 104733 | C23: SINAPI | D23: REATERRO MECANIZADO DE VALA COM RETROESCAVADEIRA (CAPACIDADE DA CAÇAMBA DA RETRO: 0,26 M³/POTÊNCIA: 88 HP), LARGURA ATÉ 0,8 M, PROFUNDIDADE ATÉ 1,5 M, COM SOLO (SEM SUBSTITUIÇÃO) DE 1ª CATEGORIA, COM PLACA VIBRATÓRIA. AF_08/2023 | E23: m³ | F23: ='ORÇAMENTO ANALÍTICO'!H190 -> 400 | G23: ='ORÇAMENTO ANALÍTICO'!J181 -> 17.693284 | H23: ='ORÇAMENTO ANALÍTICO'!J189 -> 21.355794 | I23: =+H23*F23 -> 8542.3175 | J23: =+I23/$J$51 -> 0.022066801
A24: 20 | B24: 2637 | C24: ORSE | D24: Conector perfuração 25-95/2 95 mm | E24: un | F24: ='ORÇAMENTO ANALÍTICO'!H196 -> 105 | G24: ='ORÇAMENTO ANALÍTICO'!J193 -> 9.9 | H24: ='ORÇAMENTO ANALÍTICO'!J195 -> 11.94 | I24: =+H24*F24 -> 1253.7 | J24: =+I24/$J$51 -> 0.0032385999
A25: 21 | B25: 96986 | C25: SINAPI | D25: HASTE DE ATERRAMENTO, DIÂMETRO 3/4", COM 3 METROS - FORNECIMENTO E INSTALAÇÃO. AF_08/2023 | E25: UN | F25: ='ORÇAMENTO ANALÍTICO'!H205 -> 44 | G25: ='ORÇAMENTO ANALÍTICO'!J199 -> 112.41 | H25: ='ORÇAMENTO ANALÍTICO'!J204 -> 135.67887 | I25: =+H25*F25 -> 5969.8703 | J25: =+I25/$J$51 -> 0.015421569
A26: 22 | B26: 00000426 | C26: SINAPI | D26: GRAMPO METALICO TIPO U PARA HASTE DE ATERRAMENTO DE ATE 3/4 | E26: UN | F26: ='ORÇAMENTO ANALÍTICO'!H211 -> 44 | G26: ='ORÇAMENTO ANALÍTICO'!J208 -> 33.03 | H26: ='ORÇAMENTO ANALÍTICO'!J210 -> 39.86721 | I26: =+H26*F26 -> 1754.1572 | J26: =+I26/$J$51 -> 0.0045313978
A27: 23 | B27: 101538 | C27: SINAPI | D27: ARMAÇÃO SECUNDÁRIA, COM 1 ESTRIBO E 1 ISOLADOR - FORNECIMENTO E INSTALAÇÃO. AF_07/2020 | E27: UN | F27: ='ORÇAMENTO ANALÍTICO'!H223 -> 8 | G27: ='ORÇAMENTO ANALÍTICO'!J214 -> 58.74088 | H27: ='ORÇAMENTO ANALÍTICO'!J222 -> 70.900242 | I27: =+H27*F27 -> 567.20194 | J27: =+I27/$J$51 -> 0.0014652151
A28: 24 | B28: 00000420 | C28: SINAPI | D28: CINTA CIRCULAR EM ACO GALVANIZADO DE 150 MM DE DIAMETRO PARA FIXACAO DE CAIXA MEDICAO, INCLUI PARAFUSOS E PORCAS | E28: UN | F28: ='ORÇAMENTO ANALÍTICO'!H229 -> 16 | G28: ='ORÇAMENTO ANALÍTICO'!J226 -> 45.52 | H28: ='ORÇAMENTO ANALÍTICO'!J228 -> 54.94264 | I28: =+H28*F28 -> 879.08224 | J28: =+I28/$J$51 -> 0.0022708747
A29: 25 | B29: 00000431 | C29: SINAPI | D29: PARAFUSO M16 EM ACO GALVANIZADO, COMPRIMENTO = 200 MM, DIAMETRO = 16 MM, ROSCA MAQUINA, CABECA QUADRADA | E29: UN | F29: ='ORÇAMENTO ANALÍTICO'!H235 -> 4 | G29: ='ORÇAMENTO ANALÍTICO'!J232 -> 15.55 | H29: ='ORÇAMENTO ANALÍTICO'!J234 -> 18.76885 | I29: =+H29*F29 -> 75.0754 | J29: =+I29/$J$51 -> 0.00019393729
A30: 26 | B30: 101554 | C30: SINAPI | D30: ALÇA PREFORMADA DE DISTRIBUIÇÃO, EM AÇO GALVANIZADO, AWG 2 - FORNECIMENTO E INSTALAÇÃO. AF_07/2020 | E30: UN | F30: ='ORÇAMENTO ANALÍTICO'!H244 -> 8 | G30: ='ORÇAMENTO ANALÍTICO'!J238 -> 14.23 | H30: ='ORÇAMENTO ANALÍTICO'!J243 -> 17.17561 | I30: =+H30*F30 -> 137.40488 | J30: =+I30/$J$51 -> 0.00035494889
A31: 27 | B31: 4618 | C31: ORSE | D31: Cabo de aluminio 0,6/1kv multiplexados 3x1x35 +35mm² | E31: m | F31: ='ORÇAMENTO ANALÍTICO'!H250 -> 90 | G31: ='ORÇAMENTO ANALÍTICO'!J247 -> 16.1 | H31: ='ORÇAMENTO ANALÍTICO'!J249 -> 19.4327 | I31: =+H31*F31 -> 1748.943 | J31: =+I31/$J$51 -> 0.0045179282
A32: 28 | B32: 93020 | C32: SINAPI | D32: CURVA 90 GRAUS PARA ELETRODUTO, PVC, ROSCÁVEL, DN 60 MM (2"), PARA REDE ENTERRADA DE DISTRIBUIÇÃO DE ENERGIA ELÉTRICA - FORNECIMENTO E INSTALAÇÃO. AF_12/2021 | E32: UN | F32: ='ORÇAMENTO ANALÍTICO'!H259 -> 4 | G32: ='ORÇAMENTO ANALÍTICO'!J253 -> 29.58 | H32: ='ORÇAMENTO ANALÍTICO'!J258 -> 35.7 | I32: =+H32*F32 -> 142.8 | J32: =+I32/$J$51 -> 0.00036888575
A33: 29 | B33: 91910 | C33: SINAPI | D33: CURVA 180 GRAUS PARA ELETRODUTO, PVC, ROSCÁVEL, DN 60 MM (2"), PARA CIRCUITOS TERMINAIS, INSTALADA EM LAJE - FORNECIMENTO E INSTALAÇÃO. AF_03/2023 | E33: UN | F33: ='ORÇAMENTO ANALÍTICO'!H268 -> 4 | G33: ='ORÇAMENTO ANALÍTICO'!J262 -> 19.38 | H33: ='ORÇAMENTO ANALÍTICO'!J267 -> 23.39 | I33: =+H33*F33 -> 93.56 | J33: =+I33/$J$51 -> 0.00024168733
A34: 30 | B34: 93014 | C34: SINAPI | D34: LUVA PARA ELETRODUTO, PVC, ROSCÁVEL, DN 60 MM (2"), PARA REDE ENTERRADA DE DISTRIBUIÇÃO DE ENERGIA ELÉTRICA - FORNECIMENTO E INSTALAÇÃO. AF_12/2021 | E34: UN | F34: ='ORÇAMENTO ANALÍTICO'!H277 -> 4 | G34: ='ORÇAMENTO ANALÍTICO'!J271 -> 18.53 | H34: ='ORÇAMENTO ANALÍTICO'!J276 -> 22.36 | I34: =+H34*F34 -> 89.44 | J34: =+I34/$J$51 -> 0.00023104441
A35: 31 | B35: 93009 | C35: SINAPI | D35: ELETRODUTO RÍGIDO ROSCÁVEL, PVC, DN 60 MM (2"), PARA REDE ENTERRADA DE DISTRIBUIÇÃO DE ENERGIA ELÉTRICA - FORNECIMENTO E INSTALAÇÃO. AF_12/2021 | E35: M | F35: ='ORÇAMENTO ANALÍTICO'!H286 -> 32 | G35: ='ORÇAMENTO ANALÍTICO'!J280 -> 28.38 | H35: ='ORÇAMENTO ANALÍTICO'!J285 -> 34.25 | I35: =+H35*F35 -> 1096 | J35: =+I35/$J$51 -> 0.0028312239
A36: 32 | B36: 3141 | C36: AGETOP CIVIL | D36: CAIXA PARA QUADRO DE COMANDO METÁLICA DE SOBREPOR 30X30X20 CM | E36: un | F36: ='ORÇAMENTO ANALÍTICO'!H292 -> 4 | G36: ='ORÇAMENTO ANALÍTICO'!J289 -> 180.86 | H36: ='ORÇAMENTO ANALÍTICO'!J291 -> 218.29802 | I36: =+H36*F36 -> 873.19208 | J36: =+I36/$J$51 -> 0.0022556591
A37: 33 | B37: 102136 | C37: SINAPI | D37: INSTALAÇÃO DE QUADRO ELÉTRICO PARA BOMBAS TRIFÁSICAS ATÉ 25 CV (NÃO INCLUI O FORNECIMENTO DO QUADRO). AF_12/2020 | E37: UN | F37: ='ORÇAMENTO ANALÍTICO'!H301 -> 4 | G37: ='ORÇAMENTO ANALÍTICO'!J295 -> 69.07 | H37: ='ORÇAMENTO ANALÍTICO'!J300 -> 83.36 | I37: =+H37*F37 -> 333.44 | J37: =+I37/$J$51 -> 0.00086135339
A38: 34 | B38: 00000344 | C38: SINAPI | D38: ARAME GALVANIZADO 16 BWG, D = 1,65MM (0,0166 KG/M) | E38: KG | F38: ='ORÇAMENTO ANALÍTICO'!H307 -> 2 | G38: ='ORÇAMENTO ANALÍTICO'!J304 -> 32.85 | H38: ='ORÇAMENTO ANALÍTICO'!J306 -> 39.64995 | I38: =+H38*F38 -> 79.2999 | J38: =+I38/$J$51 -> 0.00020485016
A39: 35 | B39: I7410 | C39: SEINFRA | D39: TRILHO SUPORTE P/ FIXAÇÃO RÁPIDA DIN | E39: M | F39: ='ORÇAMENTO ANALÍTICO'!H313 -> 1 | G39: ='ORÇAMENTO ANALÍTICO'!J310 -> 11.56 | H39: ='ORÇAMENTO ANALÍTICO'!J312 -> 13.95 | I39: =+H39*F39 -> 13.95 | J39: =+I39/$J$51 -> 3.6036108e-05
A40: 36 | B40: 00034709 | C40: SINAPI | D40: DISJUNTOR TERMOMAGNETICO PARA TRILHO DIN (IEC), TRIPOLAR, 10 - 50 A | E40: UN | F40: ='ORÇAMENTO ANALÍTICO'!H319 -> 4 | G40: ='ORÇAMENTO ANALÍTICO'!J316 -> 64.2 | H40: ='ORÇAMENTO ANALÍTICO'!J318 -> 77.4894 | I40: =+H40*F40 -> 309.9576 | J40: =+I40/$J$51 -> 0.00080069286
...

Sheet CRONOGRAMA
B1: Obra | C1: Bancos | D1: B.D.I. | E1: Encargos Sociais
B2: EXTENSÃO DE REDE DE ILUMINÇÃO PÚBLICA (AV. TARUMÃS) | C2: SINAPI - 05/2024 - MATO GROSSO SBC - 06/2024 - GNA - Goiânia - GO SICRO3 - 01/2024 - MATO GROSSO ORSE - 04/2024 - Sergipe SEDOP - 05/2024 - PARÁ - COM LEIS SOCIAIS SEINFRA - 028 - Ceará SETOP - 01/2024 - MINAS GERAIS - CENTRAL IOPES - 03/2024 - Espírito Santo SIURB - 01/2024 - SÃO PAULO SIURB INFRA - 01/2024 - São Paulo SUDECAP - 01/2024 - MINAS GERAIS CPOS/CDHU - 06/2024 - São Paulo FDE - 04/2024 - SÃO PAULO AGESUL - 01/2024 - Mato Grosso do Sul AGETOP CIVIL - 02/2024 - GOIÁS AGETOP RODOVIARIA - 02/2024 - Goiás EMBASA - 01/2024 - BAHIA CAERN - 11/2023 - Rio Grande do Norte COMPESA - 07/2023 - PERNAMBUCO EMOP - 04/2024 - Rio de Janeiro DERPR - 09/2023 - PARANÁ SCO - 05/2024 - Rio de Janeiro | D2: 20,7% | E2: Não Desonerado: embutido nos preços unitário dos insumos de mão de obra, de acordo com as bases.
A3: Cronograma Físico e Financeiro | C3: TOTAL | E3: 30 dias | G3: 60 dias
A4: Item | B4: Descrição | C4: VALOR | D4: % | E4: VALOR | F4: % | G4: VALOR | H4: %
A5: ='ORÇAMENTO SINTÉTICO'!A5 -> 1 | B5: ='ORÇAMENTO SINTÉTICO'!D5 -> ADMINISTRAÇÃO LOCAL | C5: ='ORÇAMENTO SINTÉTICO'!I5 -> 17736.4 | D5: 1 | E5: =+F5*C5 -> 8868.2 | F5: 0.5 | G5: =+H5*C5 -> 8868.2 | H5: =+D5-F5 -> 0.5
A6: ='ORÇAMENTO SINTÉTICO'!A6 -> 2 | B6: ='ORÇAMENTO SINTÉTICO'!D6 -> FORNECIMENTO E INSTALAÇÃO DE PLACA DE OBRA COM CHAPA GALVANIZADA E ESTRUTURA DE MADEIRA. AF_03/2022_PS | C6: ='ORÇAMENTO SINTÉTICO'!I6 -> 1346.6016 | D6: 1 | E6: =+F6*C6 -> 1346.6016 | F6: 1 | G6: =+H6*C6 -> 0 | H6: =+D6-F6 -> 0
A7: ='ORÇAMENTO SINTÉTICO'!A7 -> 3 | B7: ='ORÇAMENTO SINTÉTICO'!D7 -> LOCACAO CONVENCIONAL DE OBRA, UTILIZANDO PONTALETES A CADA 80,00M - 2 UTILIZAÇÕES. AF_10/2018 | C7: ='ORÇAMENTO SINTÉTICO'!I7 -> 1022.76 | D7: 1 | E7: =+F7*C7 -> 1022.76 | F7: 1 | G7: =+H7*C7 -> 0 | H7: =+D7-F7 -> 0
A8: ='ORÇAMENTO SINTÉTICO'!A8 -> 4 | B8: ='ORÇAMENTO SINTÉTICO'!D8 -> LOCACAO DE BANHEIRO QUIMICO, INCLUSO 4 HIGIENIZAÇOES, MOBILIZACAO E DESMOBILIZACAO | C8: ='ORÇAMENTO SINTÉTICO'!I8 -> 1695.835 | D8: 1 | E8: =+F8*C8 -> 1695.835 | F8: 1 | G8: =+H8*C8 -> 0 | H8: =+D8-F8 -> 0
A9: ='ORÇAMENTO SINTÉTICO'!A9 -> 5 | B9: ='ORÇAMENTO SINTÉTICO'!D9 -> Tenda confeccionada em lona TD-1000 Anti-chama tipo pirânide com Estrutura metalica em tubo galv.1 1/4, 1 1/5 e pés c/ 2",( dim. 5m x5m) | C9: ='ORÇAMENTO SINTÉTICO'!I9 -> 4586.6 | D9: 1 | E9: =+F9*C9 -> 4586.6 | F9: 1 | G9: =+H9*C9 -> 0 | H9: =+D9-F9 -> 0
A10: ='ORÇAMENTO SINTÉTICO'!A10 -> 6 | B10: ='ORÇAMENTO SINTÉTICO'!D10 -> TRANSPORTE COM CAMINHÃO CARROCERIA COM GUINDAUTO (MUNCK), MOMENTO MÁXIMO DE CARGA 11,7 TM, EM VIA URBANA EM REVESTIMENTO PRIMÁRIO (UNIDADE: TXKM). AF_07/2020 | C10: ='ORÇAMENTO SINTÉTICO'!I10 -> 4670.19 | D10: 1 | E10: =+F10*C10 -> 4670.19 | F10: 1 | G10: =+H10*C10 -> 0 | H10: =+D10-F10 -> 0
A11: ='ORÇAMENTO SINTÉTICO'!A11 -> 7 | B11: ='ORÇAMENTO SINTÉTICO'!D11 -> POSTE DE CONCRETO ARMADO DE SECAO CIRCULAR, EXTENSAO DE 14,00 M, RESISTENCIA DE 300 A 400 DAN, TIPO C-17 | C11: ='ORÇAMENTO SINTÉTICO'!I11 -> 109711.09 | D11: 1 | E11: =+F11*C11 -> 109711.09 | F11: 1 | G11: =+H11*C11 -> 0 | H11: =+D11-F11 -> 0
A12: ='ORÇAMENTO SINTÉTICO'!A12 -> 8 | B12: ='ORÇAMENTO SINTÉTICO'!D12 -> ASSENTAMENTO DE POSTE DE CONCRETO COM COMPRIMENTO NOMINAL DE 14 M, CARGA NOMINAL MENOR OU IGUAL A 1000 DAN, ENGASTAMENTO SIMPLES COM 2 M DE SOLO (NÃO INCLUI FORNECIMENTO). AF_11/2019 | C12: ='ORÇAMENTO SINTÉTICO'!I12 -> 10117.08 | D12: 1 | E12: =+F12*C12 -> 10117.08 | F12: 1 | G12: =+H12*C12 -> 0 | H12: =+D12-F12 -> 0
A13: ='ORÇAMENTO SINTÉTICO'!A13 -> 9 | B13: ='ORÇAMENTO SINTÉTICO'!D13 -> SUPORTE PARA 4 PÉTALAS PARA LUMINÁRIA DE ILUMINAÇÃO PÚBLICA | C13: ='ORÇAMENTO SINTÉTICO'!I13 -> 9163.5923 | D13: 1 | E13: =+F13*C13 -> 9163.5923 | F13: 1 | G13: =+H13*C13 -> 0 | H13: =+D13-F13 -> 0
A14: ='ORÇAMENTO SINTÉTICO'!A14 -> 10 | B14: ='ORÇAMENTO SINTÉTICO'!D14 -> LUMINÁRIA DE LED PARA ILUMINAÇÃO PÚBLICA, DE 181 W ATÉ 239 W - FORNECIMENTO E INSTALAÇÃO. AF_08/2020 | C14: ='ORÇAMENTO SINTÉTICO'!I14 -> 81519.428 | D14: 1 | E14: =+F14*C14 -> 81519.428 | F14: 1 | G14: =+H14*C14 -> 0 | H14: =+D14-F14 -> 0
A15: ='ORÇAMENTO SINTÉTICO'!A15 -> 11 | B15: ='ORÇAMENTO SINTÉTICO'!D15 -> Cabo de cobre PP Cordplast 3 x 1,5 mm2, 450/750v - fornecimento e instalação | C15: ='ORÇAMENTO SINTÉTICO'!I15 -> 8926.4 | D15: 1 | E15: =+F15*C15 -> 0 | F15: 0 | G15: =+H15*C15 -> 8926.4 | H15: =+D15-F15 -> 1
A16: ='ORÇAMENTO SINTÉTICO'!A16 -> 12 | B16: ='ORÇAMENTO SINTÉTICO'!D16 -> Conector elétrico 2P p/fio 2,5mm2, WAGO ou similar | C16: ='ORÇAMENTO SINTÉTICO'!I16 -> 123.12 | D16: 1 | E16: =+F16*C16 -> 0 | F16: 0 | G16: =+H16*C16 -> 123.12 | H16: =+D16-F16 -> 1
... A47: ='ORÇAMENTO SINTÉTICO'!A47 -> 43 | B47: ='ORÇAMENTO SINTÉTICO'!D47 -> CABO DE COBRE NU 35MM2 - FORNECIMENTO E INSTALACAO | C47: ='ORÇAMENTO SINTÉTICO'!I47 -> 3234.8315 | D47: 1 | E47: =+F47*C47 -> 0 | F47: 0 | G47: =+H47*C47 -> 3234.8315 | H47: =+D47-F47 -> 1
B48: Porcentagem do período Total do período | C48: =SUM(C5:C47) -> 387111.73 | D48: 1 | E48: =SUM(E5:E47) -> 284742.04 | F48: =+E48/C48 -> 0.73555519 | G48: =SUM(G5:G47) -> 102369.69 | H48: =+G48/C48 -> 0.26444481
B49: Porcentagem acumulada Total acumulado | E49: =E48 -> 284742.04 | F49: =F48 -> 0.73555519 | G49: =G48+E49 -> 387111.73 | H49: =+H48+F49 -> 1
C51: Total sem BDI | F51: ='ORÇAMENTO ANALÍTICO'!H368 -> 320761.78
C52: Total do BDI | F52: ='ORÇAMENTO ANALÍTICO'!H369 -> 66349.953
C53: Total Geral | F53: ='ORÇAMENTO ANALÍTICO'!H370 -> 387111.73
A55: ='ORÇAMENTO ANALÍTICO'!A372 -> _______________________________________________________________ Junior Cesar Ferreira Engenheiro Eletricista

Sheet MEDIÇÃO
A2: Bancos: | C2: BDI Padrão: 20,700%
A3: ='ORÇAMENTO ANALÍTICO'!E2 -> SINAPI - 05/2024 - MATO GROSSO SBC - 06/2024 - GNA - Goiânia - GO SICRO3 - 01/2024 - MATO GROSSO ORSE - 04/2024 - Sergipe SEDOP - 05/2024 - PARÁ - COM LEIS SOCIAIS SEINFRA - 028 - Ceará SETOP - 01/2024 - MINAS GERAIS - CENTRAL IOPES - 03/2024 - Espírito Santo SIURB - 01/2024 - SÃO PAULO SIURB INFRA - 01/2024 - São Paulo SUDECAP - 01/2024 - MINAS GERAIS CPOS/CDHU - 06/2024 - São Paulo FDE - 04/2024 - SÃO PAULO AGESUL - 01/2024 - Mato Grosso do Sul AGETOP CIVIL - 02/2024 - GOIÁS AGETOP RODOVIARIA - 02/2024 - Goiás EMBASA - 01/2024 - BAHIA CAERN - 11/2023 - Rio Grande do Norte COMPESA - 07/2023 - PERNAMBUCO EMOP - 04/2024 - Rio de Janeiro DERPR - 09/2023 - PARANÁ SCO - 05/2024 - Rio de Janeiro | C3: Obra: REDE DE ILUMINAÇÃO PÚBLICA
C5: MEDIÇÃO
C7: TOTAL | E7: 1ª MED (XXX À XXX)
A8: Item | B8: Descrição | C8: Valor | D8: QTD | E8: Valor | F8: QTD | G8: %
A9: ='ORÇAMENTO SINTÉTICO'!A5 -> 1 | B9: ='ORÇAMENTO SINTÉTICO'!D5 -> ADMINISTRAÇÃO LOCAL | C9: ='ORÇAMENTO SINTÉTICO'!I5 -> 17736.4 | D9: ='ORÇAMENTO SINTÉTICO'!F5 -> 220 | E9: =$C9/$D9*F9 -> 0 | F9: 0 | G9: =+F9/$D9 -> 0
A10: ='ORÇAMENTO SINTÉTICO'!A6 -> 2 | B10: ='ORÇAMENTO SINTÉTICO'!D6 -> FORNECIMENTO E INSTALAÇÃO DE PLACA DE OBRA COM CHAPA GALVANIZADA E ESTRUTURA DE MADEIRA. AF_03/2022_PS | C10: ='ORÇAMENTO SINTÉTICO'!I6 -> 1346.6016 | D10: ='ORÇAMENTO SINTÉTICO'!F6 -> 2.88 | E10: =$C10/$D10*F10 -> 0 | F10: 0 | G10: =+F10/$D10 -> 0
A11: ='ORÇAMENTO SINTÉTICO'!A7 -> 3 | B11: ='ORÇAMENTO SINTÉTICO'!D7 -> LOCACAO CONVENCIONAL DE OBRA, UTILIZANDO PONTALETES A CADA 80,00M - 2 UTILIZAÇÕES. AF_10/2018 | C11: ='ORÇAMENTO SINTÉTICO'!I7 -> 1022.76 | D11: ='ORÇAMENTO SINTÉTICO'!F7 -> 36 | E11: =$C11/$D11*F11 -> 0 | F11: 0 | G11: =+F11/$D11 -> 0
A12: ='ORÇAMENTO SINTÉTICO'!A8 -> 4 | B12: ='ORÇAMENTO SINTÉTICO'!D8 -> LOCACAO DE BANHEIRO QUIMICO, INCLUSO 4 HIGIENIZAÇOES, MOBILIZACAO E DESMOBILIZACAO | C12: ='ORÇAMENTO SINTÉTICO'!I8 -> 1695.835 | D12: ='ORÇAMENTO SINTÉTICO'!F8 -> 1 | E12: =$C12/$D12*F12 -> 0 | F12: 0 | G12: =+F12/$D12 -> 0
A13: ='ORÇAMENTO SINTÉTICO'!A9 -> 5 | B13: ='ORÇAMENTO SINTÉTICO'!D9 -> Tenda confeccionada em lona TD-1000 Anti-chama tipo pirânide com Estrutura metalica em tubo galv.1 1/4, 1 1/5 e pés c/ 2",( dim. 5m x5m) | C13: ='ORÇAMENTO SINTÉTICO'!I9 -> 4586.6 | D13: ='ORÇAMENTO SINTÉTICO'!F9 -> 1 | E13: =$C13/$D13*F13 -> 0 | F13: 0 | G13: =+F13/$D13 -> 0
A14: ='ORÇAMENTO SINTÉTICO'!A10 -> 6 | B14: ='ORÇAMENTO SINTÉTICO'!D10 -> TRANSPORTE COM CAMINHÃO CARROCERIA COM GUINDAUTO (MUNCK), MOMENTO MÁXIMO DE CARGA 11,7 TM, EM VIA URBANA EM REVESTIMENTO PRIMÁRIO (UNIDADE: TXKM). AF_07/2020 | C14: ='ORÇAMENTO SINTÉTICO'!I10 -> 4670.19 | D14: ='ORÇAMENTO SINTÉTICO'!F10 -> 1235.5 | E14: =$C14/$D14*F14 -> 0 | F14: 0 | G14: =+F14/$D14 -> 0
A15: ='ORÇAMENTO SINTÉTICO'!A11 -> 7 | B15: ='ORÇAMENTO SINTÉTICO'!D11 -> POSTE DE CONCRETO ARMADO DE SECAO CIRCULAR, EXTENSAO DE 14,00 M, RESISTENCIA DE 300 A 400 DAN, TIPO C-17 | C15: ='ORÇAMENTO SINTÉTICO'!I11 -> 109711.09 | D15: ='ORÇAMENTO SINTÉTICO'!F11 -> 36 | E15: =$C15/$D15*F15 -> 0 | F15: 0 | G15: =+F15/$D15 -> 0
A16: ='ORÇAMENTO SINTÉTICO'!A12 -> 8 | B16: ='ORÇAMENTO SINTÉTICO'!D12 -> ASSENTAMENTO DE POSTE DE CONCRETO COM COMPRIMENTO NOMINAL DE 14 M, CARGA NOMINAL MENOR OU IGUAL A 1000 DAN, ENGASTAMENTO SIMPLES COM 2 M DE SOLO (NÃO INCLUI FORNECIMENTO). AF_11/2019 | C16: ='ORÇAMENTO SINTÉTICO'!I12 -> 10117.08 | D16: ='ORÇAMENTO SINTÉTICO'!F12 -> 36 | E16: =$C16/$D16*F16 -> 0 | F16: 0 | G16: =+F16/$D16 -> 0
A17: ='ORÇAMENTO SINTÉTICO'!A13 -> 9 | B17: ='ORÇAMENTO SINTÉTICO'!D13 -> SUPORTE PARA 4 PÉTALAS PARA LUMINÁRIA DE ILUMINAÇÃO PÚBLICA | C17: ='ORÇAMENTO SINTÉTICO'!I13 -> 9163.5923 | D17: ='ORÇAMENTO SINTÉTICO'!F13 -> 36 | E17: =$C17/$D17*F17 -> 0 | F17: 0 | G17: =+F17/$D17 -> 0
A18: ='ORÇAMENTO SINTÉTICO'!A14 -> 10 | B18: ='ORÇAMENTO SINTÉTICO'!D14 -> LUMINÁRIA DE LED PARA ILUMINAÇÃO PÚBLICA, DE 181 W ATÉ 239 W - FORNECIMENTO E INSTALAÇÃO. AF_08/2020 | C18: ='ORÇAMENTO SINTÉTICO'!I14 -> 81519.428 | D18: ='ORÇAMENTO SINTÉTICO'!F14 -> 144 | E18: =$C18/$D18*F18 -> 0 | F18: 0 | G18: =+F18/$D18 -> 0
A19: ='ORÇAMENTO SINTÉTICO'!A15 -> 11 | B19: ='ORÇAMENTO SINTÉTICO'!D15 -> Cabo de cobre PP Cordplast 3 x 1,5 mm2, 450/750v - fornecimento e instalação | C19: ='ORÇAMENTO SINTÉTICO'!I15 -> 8926.4 | D19: ='ORÇAMENTO SINTÉTICO'!F15 -> 797 | E19: =$C19/$D19*F19 -> 0 | F19: 0 | G19: =+F19/$D19 -> 0
A20: ='ORÇAMENTO SINTÉTICO'!A16 -> 12 | B20: ='ORÇAMENTO SINTÉTICO'!D16 -> Conector elétrico 2P p/fio 2,5mm2, WAGO ou similar | C20: ='ORÇAMENTO SINTÉTICO'!I16 -> 123.12 | D20: ='ORÇAMENTO SINTÉTICO'!F16 -> 108 | E20: =$C20/$D20*F20 -> 0 | F20: 0 | G20: =+F20/$D20 -> 0
... A51: ='ORÇAMENTO SINTÉTICO'!A47 -> 43 | B51: ='ORÇAMENTO SINTÉTICO'!D47 -> CABO DE COBRE NU 35MM2 - FORNECIMENTO E INSTALACAO | C51: ='ORÇAMENTO SINTÉTICO'!I47 -> 3234.8315 | D51: ='ORÇAMENTO SINTÉTICO'!F47 -> 56 | E51: =$C51/$D51*F51 -> 0 | F51: 0 | G51: =+F51/$D51 -> 0
B52: Porcentagem do período Total do período | C52: =SUM(C9:C51) -> 387111.73 | D52: 1 | E52: =SUM(E9:E51) -> 0 | F52: =E52/C52 -> 0
B53: Porcentagem acumulada Total acumulado | E53: =E52 -> 0 | F53: =F52 -> 0
B54: Total | D54: =+C52*1 -> 387111.73 | E54: 1ª Medição | F54: =+E52*0.985 -> 0
B55: SALDO | D55: =+D54-F54 -> 387111.73

Sheet PESQUISA DE PREÇO
A1: Bancos: | F1: BDI Padrão: 20,700%
B2: PIZZATO MATERIAIS ELÉTRICOS | D2: Obra: REDE DE ILUMINAÇÃO PÚBLICA
B3: BRANEL COMERCIO DE MATERIAIS ELÉTRICOS
B4: ELÉTRICA PARANÁ | D4: PESQUISA DE PREÇO
A7: Item | B7: Descrição | C7: Pizzato | D7: Branel | E7: Paraná | F7: Mediana
A8: 5 | B8: Cabo de aluminio c4 singelo PT XLPE 1KV 25mm² | C8: 5.41 | D8: 6.1 | E8: 7.5 | F8: =MEDIAN(C8:E8) -> 6.1
