Workbook
Name \: #REF!
Name \: #REF!
Name \c: #REF!
Name \c: #REF!
Name \I: #REF!
Name \I: #REF!
Name \p: #REF!
Name \S: #REF!
Name \t: #REF!
Name _____PL1: #REF!
Name ____PL1: #REF!
Name ____PNV2002: #REF!
Name ____PNV2003: #REF!
Name ___PL1: #REF!
Name ___PNV2002: #REF!
Name ___PNV2003: #REF!
Name __PL1: #REF!
Name __PNV2002: #REF!
Name __PNV2003: #REF!
Name _01_09_96: #REF!
Name _02: #REF!
Name _1830201: #N/A
Name _3: #REF!
Name _33: #REF!
Name _4: #REF!
Name _A254001: #REF!
Name _A810101: #REF!
Name _A810102: #REF!
Name _A810105555: #REF!
Name _A810112: #REF!
Name _A840300: #REF!
Name _AHAH: #REF!
Name _DAT1: #REF!
Name _DAT10: #REF!
Name _DAT11: #REF!
Name _DAT12: #REF!
Name _DAT13: #REF!
Name _DAT14: #REF!
Name _DAT15: #REF!
Name _DAT16: #REF!
Name _DAT17: #REF!
Name _DAT18: #REF!
Name _DAT19: #REF!
Name _DAT2: #REF!
Name _DAT20: #REF!
Name _DAT21: #REF!
Name _DAT22: #REF!
Name _DAT23: #REF!
Name _DAT24: #REF!
Name _DAT3: #REF!
Name _DAT4: #REF!
Name _DAT5: #REF!
Name _DAT6: #REF!
Name _DAT7: #REF!
Name _DAT8: #REF!
Name _DAT9: #REF!
Name _Order1: 255
Name _Order2: 255
Name _PE006: #REF!
Name _PE006: #REF!

Sheet Memória de Drenagem
A1: PLANILHA DE QUANTIDADES DE SERVIÇOS DA TERRAPLENAGEM DE DRENAGEM | B1: TRECHOS | E1: und | F1: =DIMENS!A16 -> T-01 | G1: =DIMENS!A17 -> T-02 | H1: =DIMENS!A18 -> T-03 | I1: =DIMENS!A19 -> T-04 | J1: =DIMENS!A20 -> T-05 | K1: =DIMENS!A21 -> T-06 | L1: =DIMENS!A22 -> T-07 | M1: =DIMENS!A23 -> T-08 | N1: =DIMENS!A24 -> T-09 | O1: =DIMENS!A25 -> T-10 | P1: =DIMENS!A26 -> T-11 | Q1: =DIMENS!A27 -> T-12 | R1: T-13 (BUEIRO METÁLICO) | S1: =DIMENS!A29 -> T-14 | T1: =DIMENS!A30 -> T-15 | U1: TE-21 | V1: TE-21 A | W1: TE-17 | X1: TE-12 A | Y1: TE-12 B | Z1: TE-22 | AA1: TE-22 A | AB1: TE-22 B | AC1: TE-23 | AD1: BIGODE | AE1: CHAMINÉ | AF1: TOTAL | AH1: TUDO DE CONCRETO | AI1: TOTAL DN | AJ1: EXTENSÃO(M) | AK1: Diâmetro | AL1: Peso linear (tf/m)
B2: EXTENSÃO | E2: m | F2: =DIMENS!B16 -> 21 | G2: =DIMENS!B17 -> 62 | H2: =DIMENS!B18 -> 42 | I2: =DIMENS!B19 -> 42 | J2: =DIMENS!B20 -> 45 | K2: =DIMENS!B21 -> 51 | L2: =DIMENS!B22 -> 49 | M2: =DIMENS!B23 -> 57 | N2: =DIMENS!B24 -> 26 | O2: =DIMENS!B25 -> 50 | P2: =DIMENS!B26 -> 21 | Q2: =DIMENS!B27 -> 68 | R2: =DIMENS!B28 -> 29 | S2: =DIMENS!B29 -> 36 | T2: =DIMENS!B30 -> 13 | AD2: =AF6 -> 459 | AF2: =SUM(F2:AD2) -> 1071 | AI2: 400 | AJ2: =AF6 -> 459 | AK2: 400 | AL2: 0.158
B3: TUBULAÇÕES / ESTRUTURAS | C3: Nº LINHAS | E3: und | F3: =DIMENS!K16 -> 1 | G3: =DIMENS!K17 -> 1 | H3: =DIMENS!K18 -> 1 | I3: =DIMENS!K19 -> 1 | J3: =DIMENS!K20 -> 1 | K3: =DIMENS!K21 -> 1 | L3: =DIMENS!K22 -> 1 | M3: =DIMENS!K23 -> 1 | N3: =DIMENS!K24 -> 1 | O3: =DIMENS!K25 -> 1 | P3: =DIMENS!K26 -> 1 | Q3: =DIMENS!K27 -> 1 | R3: =DIMENS!K28 -> 1 | S3: =DIMENS!K29 -> 1 | T3: =DIMENS!K30 -> 1 | AD3: 1 | AF3: =SUM(F3:AD3) -> 16 | AI3: 600 | AJ3: =SUMIF($F$4:$AE$4,600,$F$2:$AE$2) -> 351 | AK3: 500 | AL3: 0.2495
C4: DIÂMETRO NOMINAL | E4: mm | F4: =DIMENS!J16 -> 600 | G4: =DIMENS!J17 -> 600 | H4: =DIMENS!J18 -> 600 | I4: =DIMENS!J19 -> 600 | J4: =DIMENS!J20 -> 600 | K4: =DIMENS!J21 -> 800 | L4: =DIMENS!J22 -> 800 | M4: =DIMENS!J23 -> 800 | N4: =DIMENS!J24 -> 800 | O4: =DIMENS!J25 -> 600 | P4: =DIMENS!J26 -> 600 | Q4: =DIMENS!J27 -> 600 | R4: =DIMENS!J28 -> 1200 | S4: =DIMENS!J29 -> 800 | T4: =DIMENS!J30 -> 800 | U4: 400 | V4: 400 | W4: 400 | X4: 400 | Y4: 400 | Z4: 400 | AA4: 400 | AB4: 400 | AC4: 400 | AD4: 400 | AI4: 800 | AJ4: =SUMIF($F$4:$AE$4,800,$F$2:$AE$2) -> 232 | AK4: 600 | AL4: 0.341
C5: POÇO DE VISITA -PS-1 / PA-1 / PA-2 / PVC | E5: - | F5: =IF(F4>600,"PA-1","PS-1") -> PS-1 | G5: =IF(G4>600,"PA-1","PS-1") -> PS-1 | H5: =IF(H4>600,"PA-1","PS-1") -> PS-1 | I5: =IF(I4>600,"PA-1","PS-1") -> PS-1 | J5: =IF(J4>600,"PA-1","PS-1") -> PS-1 | K5: =IF(K4>600,"PA-1","PS-1") -> PA-1 | L5: =IF(L4>600,"PA-1","PS-1") -> PA-1 | M5: =IF(M4>600,"PA-1","PS-1") -> PA-1 | ... T5: =IF(T4>600,"PA-1","PS-1") -> PA-1 | V5: =IF(V4>600,"PA-1","PS-1") -> PS-1 | X5: =IF(X4>600,"PA-1","PS-1") -> PS-1 | Y5: =IF(Y4>600,"PA-1","PS-1") -> PS-1 | AA5: =IF(AA4>600,"PA-1","PS-1") -> PS-1 | AB5: =IF(AB4>600,"PA-1","PS-1") -> PS-1 | AF5: =SUM(F5:AD5) -> 0 | AI5: 1000 | AJ5: =SUMIF($F$4:$AE$4,1000,$F$2:$AE$2) -> 0 | AK5: 700 | AL5: 0.488
C6: TUBO DE LIGAÇÃO- 400mm | E6: m | F6: 21 | G6: 14 | H6: =15+15+15+15 -> 60 | I6: 16 | J6: 14 | K6: =16+16+15+15 -> 62 | L6: 16 | M6: =11+11+16+16 -> 54 | N6: =8+9 -> 17 | O6: 14 | P6: =8+9 -> 17 | U6: =24+7 -> 31 | V6: 10 | W6: 30 | X6: 13 | Y6: 11 | Z6: 28 | AA6: 9 | AB6: 10 | AC6: 12 | AF6: =SUM(F6:AD6) -> 459 | AI6: 1200 | AJ6: =SUMIF($F$4:$AE$4,1200,$F$2:$AE$2) -> 29 | AK6: 800 | AL6: 0.635
C7: CAIXA DE PASSAGEM | E7: und | AF7: =SUM(F7:AD7) -> 0
C8: PV1 | E8: und | F8: 1 | G8: 1 | H8: 1 | I8: 1 | J8: 1 | K8: 1 | L8: 1 | M8: 1 | N8: 1 | O8: 1 | P8: 1 | Q8: 1 | R8: 1 | S8: 1 | T8: 1 | V8: 1 | X8: 1 | Y8: 1 | AA8: 1 | AB8: 1 | AF8: =SUM(F8:AD8) -> 20 | AI8: 1500 | AJ8: =SUMIF($F$4:$AE$4,1500,$F$2:$AE$2) -> 0 | AK8: 900 | AL8: 0.7585
C9: BLS | E9: und | G9: 2 | H9: 4 | I9: 2 | J9: 2 | K9: 4 | L9: 2 | M9: 4 | N9: 2 | U9: 2 | V9: 2 | X9: 2 | Y9: 2 | Z9: 2 | AA9: 2 | AB9: 2 | AC9: 2 | AF9: =SUM(F9:AD9) -> 38 | AK9: 1000 | AL9: 0.882
C10: BLD | E10: und | F10: 2 | O10: 2 | P10: 4 | W10: 2 | AF10: =SUM(F10:AD10) -> 10 | AK10: 1200 | AL10: 1.286
C11: BLT | E11: und | AF11: =SUM(F11:AD11) -> 0 | AK11: 1500 | AL11: 2.009
C12: SARJETÃO | E12: m | F12: 12 | M12: 15 | AF12: =SUM(F12:AD12) -> 27
C13: TRANSP DE BRITA (DMT=30 KM) | E13: m3.km | F13: =((0.702*0.585*F9)+(1.27*0.585*F10)+(1.74*0.585*F11)+(((1.02+1.74*0.585+0.64*0.585)*F8)))*1.3*30 -> 152.0298 | G13: =((0.702*0.585*G9)+(1.27*0.585*G10)+(1.74*0.585*G11)+(((1.02+1.74*0.585+0.64*0.585)*G8)))*1.3*30 -> 126.11196 | H13: =((0.702*0.585*H9)+(1.27*0.585*H10)+(1.74*0.585*H11)+(((1.02+1.74*0.585+0.64*0.585)*H8)))*1.3*30 -> 158.14422 | I13: =((0.702*0.585*I9)+(1.27*0.585*I10)+(1.74*0.585*I11)+(((1.02+1.74*0.585+0.64*0.585)*I8)))*1.3*30 -> 126.11196 | J13: =((0.702*0.585*J9)+(1.27*0.585*J10)+(1.74*0.585*J11)+(((1.02+1.74*0.585+0.64*0.585)*J8)))*1.3*30 -> 126.11196 | K13: =((0.702*0.585*K9)+(1.27*0.585*K10)+(1.74*0.585*K11)+(((1.02+1.74*0.585+0.64*0.585)*K8)))*1.3*30 -> 158.14422 | L13: =((0.702*0.585*L9)+(1.27*0.585*L10)+(1.74*0.585*L11)+(((1.02+1.74*0.585+0.64*0.585)*L8)))*1.3*30 -> 126.11196 | M13: =((0.702*0.585*M9)+(1.27*0.585*M10)+(1.74*0.585*M11)+(((1.02+1.74*0.585+0.64*0.585)*M8)))*1.3*30 -> 158.14422 | ... AC13: =((0.702*0.585*AC9)+(1.27*0.585*AC10)+(1.74*0.585*AC11)+(((1.02+1.74*0.585+0.64*0.585)*AC8)))*1.3*30 -> 32.03226 | AF13: =SUM(F13:AD13) -> 2779.9574
C14: DISSIPADOR TIPO | E14: m3
B15: ISOLAMENTO COM TELA PLÁSTICA | E15: m | F15: =F8*11.6 -> 11.6 | G15: =G8*11.6 -> 11.6 | H15: =H8*11.6 -> 11.6 | I15: =I8*11.6 -> 11.6 | J15: =J8*11.6 -> 11.6 | K15: =K8*11.6 -> 11.6 | L15: =L8*11.6 -> 11.6 | M15: =M8*11.6 -> 11.6 | ... T15: =T8*11.6 -> 11.6 | V15: =V8*11.6 -> 11.6 | X15: =X8*11.6 -> 11.6 | Y15: =Y8*11.6 -> 11.6 | AA15: =AA8*11.6 -> 11.6 | AB15: =AB8*11.6 -> 11.6 | AF15: =SUM(F15:AD15) -> 232
B16: PROFUNDIDADE DA LINHA D'ÁGUA | D16: MONTANTE | E16: m | F16: =DIMENS!X16 -> 0.96 | G16: =DIMENS!X17 -> 0.85 | H16: =DIMENS!X18 -> 1.164 | I16: =DIMENS!X19 -> 1.21 | J16: =DIMENS!X20 -> 0.93 | K16: =DIMENS!X21 -> 1.447 | L16: =DIMENS!X22 -> 1.4015 | M16: =DIMENS!X23 -> 1.213 | N16: =DIMENS!X24 -> 1.1515 | O16: =DIMENS!X25 -> 0.71 | P16: =DIMENS!X26 -> 0.954 | Q16: =DIMENS!X27 -> 0.863 | R16: =DIMENS!X28 -> 2.1105 | S16: =DIMENS!X29 -> 2.1345 | T16: =DIMENS!X30 -> 1.9145 | U16: 0 | V16: 0 | W16: 0 | X16: 0 | Y16: 0 | Z16: 0 | AA16: 0 | AB16: 0 | AC16: 0 | AD16: 0.8 | AH16: TUDO PEAD | AI16: TOTAL DN | AJ16: EXTENSÃO(M) | AK16: Diâmetro | AL16: Peso linear (t/m)
D17: JUSANTE | E17: m | F17: =DIMENS!Y16 -> 0.93 | G17: =DIMENS!Y17 -> 1.164 | H17: =DIMENS!Y18 -> 1.21 | I17: =DIMENS!Y19 -> 1.247 | J17: =DIMENS!Y20 -> 1.082 | K17: =DIMENS!Y21 -> 1.4015 | L17: =DIMENS!Y22 -> 1.213 | M17: =DIMENS!Y23 -> 1.1515 | N17: =DIMENS!Y24 -> 1.5705 | O17: =DIMENS!Y25 -> 0.954 | P17: =DIMENS!Y26 -> 0.863 | Q17: =DIMENS!Y27 -> 1.357 | R17: =DIMENS!Y28 -> 2.1345 | S17: =DIMENS!Y29 -> 1.9145 | T17: =DIMENS!Y30 -> 1.3295 | U17: 0 | V17: 0 | W17: 0 | X17: 0 | Y17: 0 | Z17: 0 | AA17: 0 | AB17: 0 | AC17: 0 | AD17: 1.5
B18: ESPESSURA LASTRO (RACHÃO) - BASE DA GALERIA | E18: m | F18: 0.3 | G18: 0.3 | H18: 0.3 | I18: 0.3 | J18: 0.3 | K18: 0.3 | L18: 0.3 | M18: 0.3 | N18: 0.3 | O18: 0.3 | P18: 0.3 | Q18: 0.3 | R18: - | S18: 0.3 | AI18: 400 | AJ18: =AF6 -> 459 | AK18: 400 | AL18: =(48/6)/1000 -> 0.008
B19: ESPESSURA LASTRO (BRITA) - BASE DA GALERIA | E19: m | F19: 0.08 | G19: 0.08 | H19: 0.08 | I19: 0.08 | J19: 0.08 | K19: 0.08 | L19: 0.08 | M19: 0.08 | N19: 0.08 | O19: 0.08 | P19: 0.08 | Q19: 0.08 | R19: - | S19: 0.08
B20: INCLINAÇÃO TALUDE - 1:(V) | E20: - | F20: 5 | G20: 5 | H20: 5 | I20: 5 | J20: 5 | K20: 5 | L20: 5 | M20: 5 | N20: 5 | O20: 5 | P20: 5 | Q20: 5 | R20: - | S20: 5 | T20: 5 | AD20: 5 | AI20: 600 | AJ20: =SUMIF($F$4:$AE$4,600,$F$2:$AE$2) -> 351 | AK20: 600 | AL20: =(100/6)/1000 -> 0.016666667
B21: PROFUNDIDADE DA VALA | D21: MÉDIA ENTRE MONTANTE E JUSANTE | E21: m | F21: =AVERAGE(F16:F17) -> 0.945 | G21: =AVERAGE(G16:G17) -> 1.007 | H21: =AVERAGE(H16:H17) -> 1.187 | I21: =AVERAGE(I16:I17) -> 1.2285 | J21: =AVERAGE(J16:J17) -> 1.006 | K21: =AVERAGE(K16:K17) -> 1.42425 | L21: =AVERAGE(L16:L17) -> 1.30725 | M21: =AVERAGE(M16:M17) -> 1.18225 | ... Q21: =AVERAGE(Q16:Q17) -> 1.11 | R21: - | S21: =AVERAGE(S16:S17) -> 2.0245 | T21: =AVERAGE(T16:T17) -> 1.622 | AD21: =AVERAGE(AD16:AD17) -> 1.15 | AF21: =SUM(F21:AD21) -> 18.29525 | AI21: 800 | AJ21: =SUMIF($F$4:$AE$4,800,$F$2:$AE$2) -> 232 | AK21: 800 | AL21: =(195/6)/1000 -> 0.0325
D22: TOTAL (MÉDIA + BOLSA + LASTRO) | E22: m | F22: =F21+F18+0.21*F4/1000 -> 1.371 | G22: =G21+G18+0.21*G4/1000 -> 1.433 | H22: =H21+H18+0.21*H4/1000 -> 1.613 | I22: =I21+I18+0.21*I4/1000 -> 1.6545 | J22: =J21+J18+0.21*J4/1000 -> 1.432 | K22: =K21+K18+0.21*K4/1000 -> 1.89225 | L22: =L21+L18+0.21*L4/1000 -> 1.77525 | M22: =M21+M18+0.21*M4/1000 -> 1.65025 | ... Q22: =Q21+Q18+0.21*Q4/1000 -> 1.536 | R22: , | S22: =S21+S18+0.21*S4/1000 -> 2.4925 | T22: =T21+T18+0.21*T4/1000 -> 1.79 | AD22: =AD21+AD18+0.21*AD4/1000 -> 1.234 | AE22: =(AVERAGE(F22:AD22)-1)*AF8 -> 12.393667 | AF22: =SUM(F22:AD22) -> 24.29525 | AI22: 1050 | AJ22: =SUMIF($F$4:$AE$4,1000,$F$2:$AE$2) -> 0 | AK22: 1050 | AL22: =(244/6)/1000 -> 0.040666667
B23: LARGURA DA VALA | D23: INFERIOR (BASE DA VALA) | E23: m | F23: =IF(F3>1,F3*1.49*F4/1000+((F3-1)+2)*0.5,2*F4/1000) -> 1.2 | G23: =IF(G3>1,G3*1.49*G4/1000+((G3-1)+2)*0.5,2*G4/1000) -> 1.2 | H23: =IF(H3>1,H3*1.49*H4/1000+((H3-1)+2)*0.5,2*H4/1000) -> 1.2 | I23: =IF(I3>1,I3*1.49*I4/1000+((I3-1)+2)*0.5,2*I4/1000) -> 1.2 | J23: =IF(J3>1,J3*1.49*J4/1000+((J3-1)+2)*0.5,2*J4/1000) -> 1.2 | K23: =IF(K3>1,K3*1.49*K4/1000+((K3-1)+2)*0.5,2*K4/1000) -> 1.6 | L23: =IF(L3>1,L3*1.49*L4/1000+((L3-1)+2)*0.5,2*L4/1000) -> 1.6 | M23: =IF(M3>1,M3*1.49*M4/1000+((M3-1)+2)*0.5,2*M4/1000) -> 1.6 | ... Q23: =IF(Q3>1,Q3*1.49*Q4/1000+((Q3-1)+2)*0.5,2*Q4/1000) -> 1.2 | S23: =IF(S3>1,S3*1.49*S4/1000+((S3-1)+2)*0.5,2*S4/1000) -> 1.6 | T23: =IF(T3>1,T3*1.49*T4/1000+((T3-1)+2)*0.5,2*T4/1000) -> 1.6 | AD23: =IF(AD3>1,AD3*1.49*AD4/1000+((AD3-1)+2)*0.5,2*AD4/1000) -> 0.8 | AF23: =SUM(F23:AD23) -> 20 | AI23: 1200 | AJ23: =SUMIF($F$4:$AE$4,1200,$F$2:$AE$2) -> 29 | AK23: 1200 | AL23: =(217.02/6)/1000 -> 0.03617
D24: SUPERIOR (TOPO DA VALA) | E24: m | F24: =F23+2*(1/F20)*F22 -> 1.7484 | G24: =G23+2*(1/G20)*G22 -> 1.7732 | H24: =H23+2*(1/H20)*H22 -> 1.8452 | I24: =I23+2*(1/I20)*I22 -> 1.8618 | J24: =J23+2*(1/J20)*J22 -> 1.7728 | K24: =K23+2*(1/K20)*K22 -> 2.3569 | L24: =L23+2*(1/L20)*L22 -> 2.3101 | M24: =M23+2*(1/M20)*M22 -> 2.2601 | ... Q24: =Q23+2*(1/Q20)*Q22 -> 1.8144 | R24: - | S24: =S23+2*(1/S20)*S22 -> 2.597 | T24: =T23+2*(1/T20)*T22 -> 2.316 | AD24: =AD23+2*(1/AD20)*AD22 -> 1.2936 | AF24: =SUM(F24:AD24) -> 29.7181 | AI24: 1500 | AJ24: =SUMIF($F$4:$AE$4,1500,$F$2:$AE$2) -> 0 | AK24: 1500 | AL24: =(400/6)/1000 -> 0.066666667
B25: MANTA GEOTÊXTIL | E25: m2 | F25: =F2*(F23*2+0.76) -> 66.36 | G25: =G2*(G23*2+0.76) -> 195.92 | H25: =H2*(H23*2+0.76) -> 132.72 | I25: =I2*(I23*2+0.76) -> 132.72 | J25: =J2*(J23*2+0.76) -> 142.2 | K25: =K2*(K23*2+0.76) -> 201.96 | L25: =L2*(L23*2+0.76) -> 194.04 | M25: =M2*(M23*2+0.76) -> 225.72 | ... Q25: =Q2*(Q23*2+0.76) -> 214.88 | S25: =S2*(S23*2+0.76) -> 142.56 | T25: =T2*(T23*2+0.76) -> 51.48 | AF25: =(SUM(F25:T25)) -> 2027.88
B26: ESCAVAÇÃO MECÂNICA | C26: 90105 | D26: 0,00 < PROF ≤ 1,50 (0,00 < LARG ≤ 0,80) | E26: m³ | F26: =IF(AND(F22<=1.5,F24<=0.8),(F24+F23)*F22/2*F2,"") | G26: =IF(AND(G22<=1.5,G24<=0.8),(G24+G23)*G22/2*G2,"") | H26: =IF(AND(H22<=1.5,H24<=0.8),(H24+H23)*H22/2*H2,"") | I26: =IF(AND(I22<=1.5,I24<=0.8),(I24+I23)*I22/2*I2,"") | J26: =IF(AND(J22<=1.5,J24<=0.8),(J24+J23)*J22/2*J2,"") | K26: =IF(AND(K22<=1.5,K24<=0.8),(K24+K23)*K22/2*K2,"") | L26: =IF(AND(L22<=1.5,L24<=0.8),(L24+L23)*L22/2*L2,"") | M26: =IF(AND(M22<=1.5,M24<=0.8),(M24+M23)*M22/2*M2,"") | ... Q26: =IF(AND(Q22<=1.5,Q24<=0.8),(Q24+Q23)*Q22/2*Q2,"") | R26: - | S26: =S3*(S24*2+0.76) -> 5.954 | T26: =IF(AND(T22<=1.5,T24<=0.8),(T24+T23)*T22/2*T2,"") | U26: =IF(AND(U22<=1.5,U24<=0.8),(U24+U23)*U22/2*U2,"") -> 0 | V26: =IF(AND(V22<=1.5,V24<=0.8),(V24+V23)*V22/2*V2,"") -> 0 | W26: =IF(AND(W22<=1.5,W24<=0.8),(W24+W23)*W22/2*W2,"") -> 0 | X26: =IF(AND(X22<=1.5,X24<=0.8),(X24+X23)*X22/2*X2,"") -> 0 | Y26: =IF(AND(Y22<=1.5,Y24<=0.8),(Y24+Y23)*Y22/2*Y2,"") -> 0 | Z26: =IF(AND(Z22<=1.5,Z24<=0.8),(Z24+Z23)*Z22/2*Z2,"") -> 0 | AA26: =IF(AND(AA22<=1.5,AA24<=0.8),(AA24+AA23)*AA22/2*AA2,"") -> 0 | ... AD26: =IF(AND(AD22<=1.5,AD24<=0.8),(AD24+AD23)*AD22/2*AD2,"") | AF26: =SUM(F26:AD26) -> 5.954 | AK26: 1000 | AL26: 0.882
C27: 90106 | D27: 0,00 < PROF ≤ 1,50 (0,80 < LARG ≤ 1,50) | E27: m³ | F27: =IF(AND(F22<=1.5,F24>0.8,F24<=1.5),(F24+F23)*F22/2*F2,"") | G27: =IF(AND(G22<=1.5,G24>0.8,G24<=1.5),(G24+G23)*G22/2*G2,"") | H27: =IF(AND(H22<=1.5,H24>0.8,H24<=1.5),(H24+H23)*H22/2*H2,"") | I27: =IF(AND(I22<=1.5,I24>0.8,I24<=1.5),(I24+I23)*I22/2*I2,"") | J27: =IF(AND(J22<=1.5,J24>0.8,J24<=1.5),(J24+J23)*J22/2*J2,"") | K27: =IF(AND(K22<=1.5,K24>0.8,K24<=1.5),(K24+K23)*K22/2*K2,"") | L27: =IF(AND(L22<=1.5,L24>0.8,L24<=1.5),(L24+L23)*L22/2*L2,"") | M27: =IF(AND(M22<=1.5,M24>0.8,M24<=1.5),(M24+M23)*M22/2*M2,"") | ... Q27: =IF(AND(Q22<=1.5,Q24>0.8,Q24<=1.5),(Q24+Q23)*Q22/2*Q2,"") | R27: - | S27: =IF(AND(S22<=1.5,S24>0.8,S24<=1.5),(S24+S23)*S22/2*S2,"") | T27: =IF(AND(T22<=1.5,T24>0.8,T24<=1.5),(T24+T23)*T22/2*T2,"") | U27: =IF(AND(U22<=1.5,U24>0.8,U24<=1.5),(U24+U23)*U22/2*U2,"") | V27: =IF(AND(V22<=1.5,V24>0.8,V24<=1.5),(V24+V23)*V22/2*V2,"") | W27: =IF(AND(W22<=1.5,W24>0.8,W24<=1.5),(W24+W23)*W22/2*W2,"") | X27: =IF(AND(X22<=1.5,X24>0.8,X24<=1.5),(X24+X23)*X22/2*X2,"") | Y27: =IF(AND(Y22<=1.5,Y24>0.8,Y24<=1.5),(Y24+Y23)*Y22/2*Y2,"") | Z27: =IF(AND(Z22<=1.5,Z24>0.8,Z24<=1.5),(Z24+Z23)*Z22/2*Z2,"") | ... AD27: =IF(AND(AD22<=1.5,AD24>0.8,AD24<=1.5),(AD24+AD23)*AD22/2*AD2,"") -> 592.9138 | AF27: =SUM(F27:AD27) -> 592.9138 | AK27: 1200 | AL27: 1.286
C28: 90091 | D28: 0,00 < PROF ≤ 1,50 (1,50 < LARG ≤ 2,50) | E28: m³ | F28: =IF(AND(F22<=1.5,F24>1.5),(F24+F23)*F22/2*F2,"") -> 42.443692 | G28: =IF(AND(G22<=1.5,G24>1.5),(G24+G23)*G22/2*G2,"") -> 132.07846 | H28: =IF(AND(H22<=1.5,H24>1.5),(H24+H23)*H22/2*H2,"") | I28: =IF(AND(I22<=1.5,I24>1.5),(I24+I23)*I22/2*I2,"") | J28: =IF(AND(J22<=1.5,J24>1.5),(J24+J23)*J22/2*J2,"") -> 95.783616 | K28: =IF(AND(K22<=1.5,K24>1.5),(K24+K23)*K22/2*K2,"") | L28: =IF(AND(L22<=1.5,L24>1.5),(L24+L23)*L22/2*L2,"") | M28: =IF(AND(M22<=1.5,M24>1.5),(M24+M23)*M22/2*M2,"") | ... Q28: =IF(AND(Q22<=1.5,Q24>1.5),(Q24+Q23)*Q22/2*Q2,"") | R28: - | S28: =IF(AND(S22<=1.5,S24>1.5),(S24+S23)*S22/2*S2,"") | T28: =IF(AND(T22<=1.5,T24>1.5),(T24+T23)*T22/2*T2,"") | U28: =IF(AND(U22<=1.5,U24>1.5),(U24+U23)*U22/2*U2,"") | V28: =IF(AND(V22<=1.5,V24>1.5),(V24+V23)*V22/2*V2,"") | W28: =IF(AND(W22<=1.5,W24>1.5),(W24+W23)*W22/2*W2,"") | X28: =IF(AND(X22<=1.5,X24>1.5),(X24+X23)*X22/2*X2,"") | Y28: =IF(AND(Y22<=1.5,Y24>1.5),(Y24+Y23)*Y22/2*Y2,"") | Z28: =IF(AND(Z22<=1.5,Z24>1.5),(Z24+Z23)*Z22/2*Z2,"") | ... AD28: =IF(AND(AD22<=1.5,AD24>1.5),(AD24+AD23)*AD22/2*AD2,"") | AF28: =SUM(F28:AD28) -> 402.72055 | AK28: 1500 | AL28: 2.009
C29: 90107 | D29: 1,50 < PROF ≤ 3,00 (0,00 < LARG ≤ 0,80) | E29: m³ | F29: =IF(AND(F22>1.5,F22<=3,F24<=0.8),(F24+F23)*F22/2*F2,"") | G29: =IF(AND(G22>1.5,G22<=3,G24<=0.8),(G24+G23)*G22/2*G2,"") | H29: =IF(AND(H22>1.5,H22<=3,H24<=0.8),(H24+H23)*H22/2*H2,"") | I29: =IF(AND(I22>1.5,I22<=3,I24<=0.8),(I24+I23)*I22/2*I2,"") | J29: =IF(AND(J22>1.5,J22<=3,J24<=0.8),(J24+J23)*J22/2*J2,"") | K29: =IF(AND(K22>1.5,K22<=3,K24<=0.8),(K24+K23)*K22/2*K2,"") | L29: =IF(AND(L22>1.5,L22<=3,L24<=0.8),(L24+L23)*L22/2*L2,"") | M29: =IF(AND(M22>1.5,M22<=3,M24<=0.8),(M24+M23)*M22/2*M2,"") | ... Q29: =IF(AND(Q22>1.5,Q22<=3,Q24<=0.8),(Q24+Q23)*Q22/2*Q2,"") | R29: - | S29: =IF(AND(S22>1.5,S22<=3,S24<=0.8),(S24+S23)*S22/2*S2,"") | T29: =IF(AND(T22>1.5,T22<=3,T24<=0.8),(T24+T23)*T22/2*T2,"") | U29: =IF(AND(U22>1.5,U22<=3,U24<=0.8),(U24+U23)*U22/2*U2,"") | V29: =IF(AND(V22>1.5,V22<=3,V24<=0.8),(V24+V23)*V22/2*V2,"") | W29: =IF(AND(W22>1.5,W22<=3,W24<=0.8),(W24+W23)*W22/2*W2,"") | X29: =IF(AND(X22>1.5,X22<=3,X24<=0.8),(X24+X23)*X22/2*X2,"") | Y29: =IF(AND(Y22>1.5,Y22<=3,Y24<=0.8),(Y24+Y23)*Y22/2*Y2,"") | Z29: =IF(AND(Z22>1.5,Z22<=3,Z24<=0.8),(Z24+Z23)*Z22/2*Z2,"") | ... AD29: =IF(AND(AD22>1.5,AD22<=3,AD24<=0.8),(AD24+AD23)*AD22/2*AD2,"") | AF29: =SUM(F29:AD29) -> 0
C30: 90108 | D30: 1,50 < PROF ≤ 3,00 (0,80 < LARG ≤ 1,50) | E30: m³ | F30: =IF(AND(F22>1.5,F22<=3,F24>0.8,F24<=1.5),(F24+F23)*F22/2*F2,"") | G30: =IF(AND(G22>1.5,G22<=3,G24>0.8,G24<=1.5),(G24+G23)*G22/2*G2,"") | H30: =IF(AND(H22>1.5,H22<=3,H24>0.8,H24<=1.5),(H24+H23)*H22/2*H2,"") | I30: =IF(AND(I22>1.5,I22<=3,I24>0.8,I24<=1.5),(I24+I23)*I22/2*I2,"") | J30: =IF(AND(J22>1.5,J22<=3,J24>0.8,J24<=1.5),(J24+J23)*J22/2*J2,"") | K30: =IF(AND(K22>1.5,K22<=3,K24>0.8,K24<=1.5),(K24+K23)*K22/2*K2,"") | L30: =IF(AND(L22>1.5,L22<=3,L24>0.8,L24<=1.5),(L24+L23)*L22/2*L2,"") | M30: =IF(AND(M22>1.5,M22<=3,M24>0.8,M24<=1.5),(M24+M23)*M22/2*M2,"") | ... Q30: =IF(AND(Q22>1.5,Q22<=3,Q24>0.8,Q24<=1.5),(Q24+Q23)*Q22/2*Q2,"") | R30: - | S30: =IF(AND(S22>1.5,S22<=3,S24>0.8,S24<=1.5),(S24+S23)*S22/2*S2,"") | T30: =IF(AND(T22>1.5,T22<=3,T24>0.8,T24<=1.5),(T24+T23)*T22/2*T2,"") | U30: =IF(AND(U22>1.5,U22<=3,U24>0.8,U24<=1.5),(U24+U23)*U22/2*U2,"") | V30: =IF(AND(V22>1.5,V22<=3,V24>0.8,V24<=1.5),(V24+V23)*V22/2*V2,"") | W30: =IF(AND(W22>1.5,W22<=3,W24>0.8,W24<=1.5),(W24+W23)*W22/2*W2,"") | X30: =IF(AND(X22>1.5,X22<=3,X24>0.8,X24<=1.5),(X24+X23)*X22/2*X2,"") | Y30: =IF(AND(Y22>1.5,Y22<=3,Y24>0.8,Y24<=1.5),(Y24+Y23)*Y22/2*Y2,"") | Z30: =IF(AND(Z22>1.5,Z22<=3,Z24>0.8,Z24<=1.5),(Z24+Z23)*Z22/2*Z2,"") | ... AD30: =IF(AND(AD22>1.5,AD22<=3,AD24>0.8,AD24<=1.5),(AD24+AD23)*AD22/2*AD2,"") | AF30: =SUM(F30:AD30) -> 0
C31: 102281 | D31: 1,50 < PROF ≤ 3,00 (1,50 < LARG ≤ 2,50) | E31: m³ | F31: =IF(AND(F22>1.5,F22<=3,F24>1.5),(F24+F23)*F22/2*F2,"") | G31: =IF(AND(G22>1.5,G22<=3,G24>1.5),(G24+G23)*G22/2*G2,"") | H31: =IF(AND(H22>1.5,H22<=3,H24>1.5),(H24+H23)*H22/2*H2,"") -> 103.15006 | I31: =IF(AND(I22>1.5,I22<=3,I24>1.5),(I24+I23)*I22/2*I2,"") -> 106.38071 | J31: =IF(AND(J22>1.5,J22<=3,J24>1.5),(J24+J23)*J22/2*J2,"") | K31: =IF(AND(K22>1.5,K22<=3,K24>1.5),(K24+K23)*K22/2*K2,"") -> 190.92982 | L31: =IF(AND(L22>1.5,L22<=3,L24>1.5),(L24+L23)*L22/2*L2,"") -> 170.06442 | M31: =IF(AND(M22>1.5,M22<=3,M24>1.5),(M24+M23)*M22/2*M2,"") -> 181.54871 | ... Q31: =IF(AND(Q22>1.5,Q22<=3,Q24>1.5),(Q24+Q23)*Q22/2*Q2,"") -> 157.42403 | R31: - | S31: =IF(AND(S22>1.5,S22<=3,S24>1.5),(S24+S23)*S22/2*S2,"") -> 188.29841 | T31: =IF(AND(T22>1.5,T22<=3,T24>1.5),(T24+T23)*T22/2*T2,"") -> 45.56266 | U31: =IF(AND(U22>1.5,U22<=3,U24>1.5),(U24+U23)*U22/2*U2,"") | V31: =IF(AND(V22>1.5,V22<=3,V24>1.5),(V24+V23)*V22/2*V2,"") | W31: =IF(AND(W22>1.5,W22<=3,W24>1.5),(W24+W23)*W22/2*W2,"") | X31: =IF(AND(X22>1.5,X22<=3,X24>1.5),(X24+X23)*X22/2*X2,"") | Y31: =IF(AND(Y22>1.5,Y22<=3,Y24>1.5),(Y24+Y23)*Y22/2*Y2,"") | Z31: =IF(AND(Z22>1.5,Z22<=3,Z24>1.5),(Z24+Z23)*Z22/2*Z2,"") | ... AD31: =IF(AND(AD22>1.5,AD22<=3,AD24>1.5),(AD24+AD23)*AD22/2*AD2,"") | AF31: =SUM(F31:AD31) -> 1236.8405 | AI31: PEAD TRASNPORTE
C32: 90094 | D32: 3,00 < PROF ≤ 4,50 (0,00 < LARG ≤ 0,80) | E32: m³ | F32: =IF(AND(F22>3,F22<=4.5,F24<=0.8),(F24+F23)*F22/2*F2,"") | G32: =IF(AND(G22>3,G22<=4.5,G24<=0.8),(G24+G23)*G22/2*G2,"") | H32: =IF(AND(H22>3,H22<=4.5,H24<=0.8),(H24+H23)*H22/2*H2,"") | I32: =IF(AND(I22>3,I22<=4.5,I24<=0.8),(I24+I23)*I22/2*I2,"") | J32: =IF(AND(J22>3,J22<=4.5,J24<=0.8),(J24+J23)*J22/2*J2,"") | K32: =IF(AND(K22>3,K22<=4.5,K24<=0.8),(K24+K23)*K22/2*K2,"") | L32: =IF(AND(L22>3,L22<=4.5,L24<=0.8),(L24+L23)*L22/2*L2,"") | M32: =IF(AND(M22>3,M22<=4.5,M24<=0.8),(M24+M23)*M22/2*M2,"") | ... Q32: =IF(AND(Q22>3,Q22<=4.5,Q24<=0.8),(Q24+Q23)*Q22/2*Q2,"") | R32: - | S32: =IF(AND(S22>3,S22<=4.5,S24<=0.8),(S24+S23)*S22/2*S2,"") | T32: =IF(AND(T22>3,T22<=4.5,T24<=0.8),(T24+T23)*T22/2*T2,"") | U32: =IF(AND(U22>3,U22<=4.5,U24<=0.8),(U24+U23)*U22/2*U2,"") | V32: =IF(AND(V22>3,V22<=4.5,V24<=0.8),(V24+V23)*V22/2*V2,"") | W32: =IF(AND(W22>3,W22<=4.5,W24<=0.8),(W24+W23)*W22/2*W2,"") | X32: =IF(AND(X22>3,X22<=4.5,X24<=0.8),(X24+X23)*X22/2*X2,"") | Y32: =IF(AND(Y22>3,Y22<=4.5,Y24<=0.8),(Y24+Y23)*Y22/2*Y2,"") | Z32: =IF(AND(Z22>3,Z22<=4.5,Z24<=0.8),(Z24+Z23)*Z22/2*Z2,"") | ... AD32: =IF(AND(AD22>3,AD22<=4.5,AD24<=0.8),(AD24+AD23)*AD22/2*AD2,"") | AF32: =SUM(F32:AD32) -> 0 | AI32: DN 400 = | AJ32: =459*0.008 -> 3.672 | AK32: TON
C33: 90094 | D33: 3,00 < PROF ≤ 4,50 (0,80 < LARG ≤ 1,50) | E33: m³ | F33: =IF(AND(F22>3,F22<=4.5,F24>0.8,F24<=1.5),(F24+F23)*F22/2*F2,"") | G33: =IF(AND(G22>3,G22<=4.5,G24>0.8,G24<=1.5),(G24+G23)*G22/2*G2,"") | H33: =IF(AND(H22>3,H22<=4.5,H24>0.8,H24<=1.5),(H24+H23)*H22/2*H2,"") | I33: =IF(AND(I22>3,I22<=4.5,I24>0.8,I24<=1.5),(I24+I23)*I22/2*I2,"") | J33: =IF(AND(J22>3,J22<=4.5,J24>0.8,J24<=1.5),(J24+J23)*J22/2*J2,"") | K33: =IF(AND(K22>3,K22<=4.5,K24>0.8,K24<=1.5),(K24+K23)*K22/2*K2,"") | L33: =IF(AND(L22>3,L22<=4.5,L24>0.8,L24<=1.5),(L24+L23)*L22/2*L2,"") | M33: =IF(AND(M22>3,M22<=4.5,M24>0.8,M24<=1.5),(M24+M23)*M22/2*M2,"") | ... Q33: =IF(AND(Q22>3,Q22<=4.5,Q24>0.8,Q24<=1.5),(Q24+Q23)*Q22/2*Q2,"") | R33: - | S33: =IF(AND(S22>3,S22<=4.5,S24>0.8,S24<=1.5),(S24+S23)*S22/2*S2,"") | T33: =IF(AND(T22>3,T22<=4.5,T24>0.8,T24<=1.5),(T24+T23)*T22/2*T2,"") | U33: =IF(AND(U22>3,U22<=4.5,U24>0.8,U24<=1.5),(U24+U23)*U22/2*U2,"") | V33: =IF(AND(V22>3,V22<=4.5,V24>0.8,V24<=1.5),(V24+V23)*V22/2*V2,"") | W33: =IF(AND(W22>3,W22<=4.5,W24>0.8,W24<=1.5),(W24+W23)*W22/2*W2,"") | X33: =IF(AND(X22>3,X22<=4.5,X24>0.8,X24<=1.5),(X24+X23)*X22/2*X2,"") | Y33: =IF(AND(Y22>3,Y22<=4.5,Y24>0.8,Y24<=1.5),(Y24+Y23)*Y22/2*Y2,"") | Z33: =IF(AND(Z22>3,Z22<=4.5,Z24>0.8,Z24<=1.5),(Z24+Z23)*Z22/2*Z2,"") | ... AD33: =IF(AND(AD22>3,AD22<=4.5,AD24>0.8,AD24<=1.5),(AD24+AD23)*AD22/2*AD2,"") | AF33: =SUM(F33:AD33) -> 0 | AI33: DN 600 = | AJ33: =AJ20*AL20 -> 5.85 | AK33: TON | AM33: DMT TUBO PEAD
C34: 90095 | D34: 3,00 < PROF ≤ 4,50 (1,50 < LARG ≤ 2,50) | E34: m³ | F34: =IF(AND(F22>3,F22<=4.5,F24>1.5),(F24+F23)*F22/2*F2,"") | G34: =IF(AND(G22>3,G22<=4.5,G24>1.5),(G24+G23)*G22/2*G2,"") | H34: =IF(AND(H22>3,H22<=4.5,H24>1.5),(H24+H23)*H22/2*H2,"") | I34: =IF(AND(I22>3,I22<=4.5,I24>1.5),(I24+I23)*I22/2*I2,"") | J34: =IF(AND(J22>3,J22<=4.5,J24>1.5),(J24+J23)*J22/2*J2,"") | K34: =IF(AND(K22>3,K22<=4.5,K24>1.5),(K24+K23)*K22/2*K2,"") | L34: =IF(AND(L22>3,L22<=4.5,L24>1.5),(L24+L23)*L22/2*L2,"") | M34: =IF(AND(M22>3,M22<=4.5,M24>1.5),(M24+M23)*M22/2*M2,"") | ... Q34: =IF(AND(Q22>3,Q22<=4.5,Q24>1.5),(Q24+Q23)*Q22/2*Q2,"") | R34: - | S34: =IF(AND(S22>3,S22<=4.5,S24>1.5),(S24+S23)*S22/2*S2,"") | T34: =IF(AND(T22>3,T22<=4.5,T24>1.5),(T24+T23)*T22/2*T2,"") | U34: =IF(AND(U22>3,U22<=4.5,U24>1.5),(U24+U23)*U22/2*U2,"") | V34: =IF(AND(V22>3,V22<=4.5,V24>1.5),(V24+V23)*V22/2*V2,"") | W34: =IF(AND(W22>3,W22<=4.5,W24>1.5),(W24+W23)*W22/2*W2,"") | X34: =IF(AND(X22>3,X22<=4.5,X24>1.5),(X24+X23)*X22/2*X2,"") | Y34: =IF(AND(Y22>3,Y22<=4.5,Y24>1.5),(Y24+Y23)*Y22/2*Y2,"") | Z34: =IF(AND(Z22>3,Z22<=4.5,Z24>1.5),(Z24+Z23)*Z22/2*Z2,"") | ... AD34: =IF(AND(AD22>3,AD22<=4.5,AD24>1.5),(AD24+AD23)*AD22/2*AD2,"") | AF34: =SUM(F34:AD34) -> 0 | AI34: DN 800 = | AJ34: =AJ21*AL21 -> 7.54 | AK34: TON | AM34: 1.015 Km
C35: 90098 | D35: 4,50 < PROF ≤ 6,00 (0,00 < LARG ≤ 0,80) | E35: m³ | F35: =IF(AND(F22>4.5,F24<=0.8),(F24+F23)*F22/2*F2,"") | G35: =IF(AND(G22>4.5,G24<=0.8),(G24+G23)*G22/2*G2,"") | H35: =IF(AND(H22>4.5,H24<=0.8),(H24+H23)*H22/2*H2,"") | I35: =IF(AND(I22>4.5,I24<=0.8),(I24+I23)*I22/2*I2,"") | J35: =IF(AND(J22>4.5,J24<=0.8),(J24+J23)*J22/2*J2,"") | K35: =IF(AND(K22>4.5,K24<=0.8),(K24+K23)*K22/2*K2,"") | L35: =IF(AND(L22>4.5,L24<=0.8),(L24+L23)*L22/2*L2,"") | M35: =IF(AND(M22>4.5,M24<=0.8),(M24+M23)*M22/2*M2,"") | ... Q35: =IF(AND(Q22>4.5,Q24<=0.8),(Q24+Q23)*Q22/2*Q2,"") | R35: - | S35: =IF(AND(S22>4.5,S24<=0.8),(S24+S23)*S22/2*S2,"") | T35: =IF(AND(T22>4.5,T24<=0.8),(T24+T23)*T22/2*T2,"") | U35: =IF(AND(U22>4.5,U24<=0.8),(U24+U23)*U22/2*U2,"") | V35: =IF(AND(V22>4.5,V24<=0.8),(V24+V23)*V22/2*V2,"") | W35: =IF(AND(W22>4.5,W24<=0.8),(W24+W23)*W22/2*W2,"") | X35: =IF(AND(X22>4.5,X24<=0.8),(X24+X23)*X22/2*X2,"") | Y35: =IF(AND(Y22>4.5,Y24<=0.8),(Y24+Y23)*Y22/2*Y2,"") | Z35: =IF(AND(Z22>4.5,Z24<=0.8),(Z24+Z23)*Z22/2*Z2,"") | ... AD35: =IF(AND(AD22>4.5,AD24<=0.8),(AD24+AD23)*AD22/2*AD2,"") | AF35: =SUM(F35:AD35) -> 0 | AI35: TOTAL = | AJ35: =AJ32+AJ33+AJ34 -> 17.062 | AK35: TON
C36: 90098 | D36: 4,50 < PROF ≤ 6,00 (0,80 < LARG ≤ 1,50) | E36: m³ | F36: =IF(AND(F22>4.5,F24>0.8,F24<=1.5),(F24+F23)*F22/2*F2,"") | G36: =IF(AND(G22>4.5,G24>0.8,G24<=1.5),(G24+G23)*G22/2*G2,"") | H36: =IF(AND(H22>4.5,H24>0.8,H24<=1.5),(H24+H23)*H22/2*H2,"") | I36: =IF(AND(I22>4.5,I24>0.8,I24<=1.5),(I24+I23)*I22/2*I2,"") | J36: =IF(AND(J22>4.5,J24>0.8,J24<=1.5),(J24+J23)*J22/2*J2,"") | K36: =IF(AND(K22>4.5,K24>0.8,K24<=1.5),(K24+K23)*K22/2*K2,"") | L36: =IF(AND(L22>4.5,L24>0.8,L24<=1.5),(L24+L23)*L22/2*L2,"") | M36: =IF(AND(M22>4.5,M24>0.8,M24<=1.5),(M24+M23)*M22/2*M2,"") | ... Q36: =IF(AND(Q22>4.5,Q24>0.8,Q24<=1.5),(Q24+Q23)*Q22/2*Q2,"") | R36: - | S36: =IF(AND(S22>4.5,S24>0.8,S24<=1.5),(S24+S23)*S22/2*S2,"") | T36: =IF(AND(T22>4.5,T24>0.8,T24<=1.5),(T24+T23)*T22/2*T2,"") | U36: =IF(AND(U22>4.5,U24>0.8,U24<=1.5),(U24+U23)*U22/2*U2,"") | V36: =IF(AND(V22>4.5,V24>0.8,V24<=1.5),(V24+V23)*V22/2*V2,"") | W36: =IF(AND(W22>4.5,W24>0.8,W24<=1.5),(W24+W23)*W22/2*W2,"") | X36: =IF(AND(X22>4.5,X24>0.8,X24<=1.5),(X24+X23)*X22/2*X2,"") | Y36: =IF(AND(Y22>4.5,Y24>0.8,Y24<=1.5),(Y24+Y23)*Y22/2*Y2,"") | Z36: =IF(AND(Z22>4.5,Z24>0.8,Z24<=1.5),(Z24+Z23)*Z22/2*Z2,"") | ... AD36: =IF(AND(AD22>4.5,AD24>0.8,AD24<=1.5),(AD24+AD23)*AD22/2*AD2,"") | AF36: =SUM(F36:AD36) -> 0
C37: 90098 | D37: 4,50 < PROF ≤ 6,00 (1,50 < LARG ≤ 2,50) | E37: m³ | F37: =IF(AND(F22>4.5,F24>1.5),(F24+F23)*F22/2*F2,"") | G37: =IF(AND(G22>4.5,G24>1.5),(G24+G23)*G22/2*G2,"") | H37: =IF(AND(H22>4.5,H24>1.5),(H24+H23)*H22/2*H2,"") | I37: =IF(AND(I22>4.5,I24>1.5),(I24+I23)*I22/2*I2,"") | J37: =IF(AND(J22>4.5,J24>1.5),(J24+J23)*J22/2*J2,"") | K37: =IF(AND(K22>4.5,K24>1.5),(K24+K23)*K22/2*K2,"") | L37: =IF(AND(L22>4.5,L24>1.5),(L24+L23)*L22/2*L2,"") | M37: =IF(AND(M22>4.5,M24>1.5),(M24+M23)*M22/2*M2,"") | ... Q37: =IF(AND(Q22>4.5,Q24>1.5),(Q24+Q23)*Q22/2*Q2,"") | R37: - | S37: =IF(AND(S22>4.5,S24>1.5),(S24+S23)*S22/2*S2,"") | T37: =IF(AND(T22>4.5,T24>1.5),(T24+T23)*T22/2*T2,"") | U37: =IF(AND(U22>4.5,U24>1.5),(U24+U23)*U22/2*U2,"") | V37: =IF(AND(V22>4.5,V24>1.5),(V24+V23)*V22/2*V2,"") | W37: =IF(AND(W22>4.5,W24>1.5),(W24+W23)*W22/2*W2,"") | X37: =IF(AND(X22>4.5,X24>1.5),(X24+X23)*X22/2*X2,"") | Y37: =IF(AND(Y22>4.5,Y24>1.5),(Y24+Y23)*Y22/2*Y2,"") | Z37: =IF(AND(Z22>4.5,Z24>1.5),(Z24+Z23)*Z22/2*Z2,"") | ... AD37: =IF(AND(AD22>4.5,AD24>1.5),(AD24+AD23)*AD22/2*AD2,"") | AF37: =SUM(F37:AD37) -> 0 | AJ37: TRANSPORTE = | AL37: =AJ35*1015 -> 17317.93 | AM37: Ton*Km
B38: ESCAVAÇÃO MANUAL (10% DA ESCAVAÇÃO MECÂNICA) | E38: m³ | F38: =0.1*SUM(F26:F37) -> 4.2443692 | G38: =0.1*SUM(G26:G37) -> 13.207846 | H38: =0.1*SUM(H26:H37) -> 10.315006 | I38: =0.1*SUM(I26:I37) -> 10.638071 | J38: =0.1*SUM(J26:J37) -> 9.5783616 | K38: =0.1*SUM(K26:K37) -> 19.092982 | L38: =0.1*SUM(L26:L37) -> 17.006442 | M38: =0.1*SUM(M26:M37) -> 18.154871 | ... Q38: =0.1*SUM(Q26:Q37) -> 15.742403 | R38: - | S38: =0.1*SUM(S26:S37) -> 19.425241 | T38: =0.1*SUM(T26:T37) -> 4.556266 | AD38: =0.1*SUM(AD26:AD37) -> 59.29138 | AF38: =SUM(F38:AD38) -> 223.84288
B39: BOTA-FORA | C39: TUBO / GALERIA (SEÇÃO EXTERNA) | E39: m³ | F39: =PI()*(F4/1000*1.21)^2/4*F2 -> 8.693255 | G39: =PI()*(G4/1000*1.21)^2/4*G2 -> 25.6658 | H39: =PI()*(H4/1000*1.21)^2/4*H2 -> 17.38651 | I39: =PI()*(I4/1000*1.21)^2/4*I2 -> 17.38651 | J39: =PI()*(J4/1000*1.21)^2/4*J2 -> 18.628404 | K39: =PI()*(K4/1000*1.21)^2/4*K2 -> 37.532783 | L39: =PI()*(L4/1000*1.21)^2/4*L2 -> 36.06091 | M39: =PI()*(M4/1000*1.21)^2/4*M2 -> 41.948405 | ... Q39: =PI()*(Q4/1000*1.21)^2/4*Q2 -> 28.149588 | R39: - | S39: =PI()*(S4/1000*1.21)^2/4*S2 -> 26.493729 | T39: =PI()*(T4/1000*1.21)^2/4*T2 -> 9.5671801 | AD39: =PI()*(AD4/1000*1.21)^2/4*AD2 -> 84.448763 | AF39: =SUM(F39:AD39) -> 400.48768
C40: TAXA DE MATERIAL INSERVÍVEL | E40: % | F40: 0 | G40: 0 | H40: 0 | I40: 0 | J40: 0 | K40: 0 | L40: 0 | M40: 0 | N40: 0 | O40: 0 | P40: 0 | Q40: 0 | R40: - | S40: 0 | T40: 0 | AD40: 0 | AF40: =SUM(F40:AD40) -> 0
...

Sheet Memória de Pavimentação
A1: NOME DAS VIAS | D1: RUA ARLINDO PINTO | E1: RUA ARLINDO PINTO (ÁREA) | F1: RUA PROJETADA A | G1: RUA ADOLFO A. DA ROSA | H1: RUA BENJAMIN MARTINS | I1: RUA BENJAMIN MARTINS (ÁREA) | J1: RUA DOM PEDRO II | K1: RUA DOM PEDRO II (ÁREA) | L1: RUA DA REPÚBLICA | M1: RUA DA REPÚBLICA (ÁREA) | N1: RUA BOA VENTURA V. NETO | O1: RUA BOA VENTURA V. NETO (ÁREA) | P1: RUA SETE DE SETEMBRO | Q1: RUA SEBASTIÃO ESPINDOLA | R1: RUA SEBASTIÃO ESPINDOLA (ÁREA) | S1: RUA SEBASTIÃO ESPINDOLA II | T1: AV. PEDRO MANVAILER (RECONST. DE PAV) | U1: TOTAL
A2: DESCRIÇÃO | B2: EXTENSÃO (m) | D2: =6*20+2.62 -> 122.62 | E2: 3.2 | F2: =5*20+14.23-3 -> 111.23 | G2: =5*20+14.19 -> 114.19 | H2: =10*20+10.67-6*20-6.1+6*20+0.08-9.34 -> 195.31 | I2: 13 | J2: =4*20+1.77 -> 81.77 | K2: 79.65 | L2: =10*20+19.77 -> 219.77 | M2: 57.26 | N2: =13*20+8.71 -> 268.71 | O2: 5.5 | P2: =3*20+7.49 -> 67.49 | Q2: =4*20+19.34-3.1 -> 96.24 | R2: 20.7 | S2: =4*20+3.32 -> 83.32 | U2: =SUM(D2:T2) -> 1539.96
B3: DECLIVIDADE TRANSVERSAL DA PISTA (SIMPLES ou DUPLA) | D3: DUPLA | E3: DUPLA | F3: DUPLA | G3: DUPLA | H3: DUPLA | I3: DUPLA | J3: DUPLA | K3: DUPLA | L3: DUPLA | M3: DUPLA | N3: DUPLA | O3: DUPLA | P3: DUPLA | Q3: DUPLA | R3: DUPLA | S3: DUPLA | T3: DUPLA | U3: =SUM(D3:T3) -> 0
B4: LARGURA DO PAVIMENTO (m) | D4: 5.4 | E4: VÁRIAVEL | F4: 5.4 | G4: 7.4 | H4: 7.4 | I4: VÁRIAVEL | J4: 5.4 | K4: VÁRIAVEL | L4: 5.4 | M4: VÁRIAVEL | N4: 5.4 | O4: VÁRIAVEL | P4: 6.4 | Q4: 6.4 | R4: VÁRIAVEL | S4: 5.4 | U4: =SUM(D4:T4) -> 60
B5: Nº DE RAIOS NO CRUZAMENTO (und) | E5: 2 | F5: 2 | G5: 2 | H5: 4 | I5: 2 | K5: 3 | M5: 2 | N5: 2 | O5: 2 | Q5: 2 | U5: =SUM(D5:T5) -> 23
B6: Nº DE RAIOS NO CANTEIRO(und) | U6: =SUM(D6:T6) -> 0
B7: EXTENSÃO DO RAIO NO CRUZAMENTO (M) | E7: 3 | F7: 5 | G7: 5 | H7: 5 | I7: 10,00 / 5,00 | K7: 13,50 / 50,00 | M7: 10,00 / 29,50 / 27,00 | N7: 5 | O7: 3 | Q7: 3 | U7: =SUM(D7:T7) -> 29
B8: EXTENSÃO DO RAIO DO CANTEIRO (M) | U8: =SUM(D8:T8) -> 0
B9: ÁREA MÉDIA CADA RAIO DO CRUZAMENTO (m²) | F9: =0.05375*2*F7*2*F7 -> 5.375 | G9: =0.05375*2*G7*2*G7 -> 5.375 | H9: =0.05375*2*H7*2*H7 -> 5.375 | N9: =0.05375*2*N7*2*N7 -> 5.375 | Q9: =0.05375*2*Q7*2*Q7 -> 1.935 | U9: =SUM(D9:T9) -> 23.435
B10: ÁREA MÉDIA CADA RAIO DO CANTEIRO (m²) | U10: =SUM(D10:T10) -> 0
B11: ÁREA TOTAL DE RAIOS (m²) | F11: =F5*F9+F10*F8 -> 10.75 | G11: =G5*G9+G10*G8 -> 10.75 | H11: =H5*H9+H10*H8 -> 21.5 | N11: =N5*N9+N10*N8 -> 10.75 | Q11: =Q5*Q9+Q10*Q8 -> 3.87 | U11: =SUM(D11:T11) -> 57.62
A12: ISOLAMENTO COM TELA PLÁSTICA (m) | D12: =D14*2 -> 12.88 | E12: =D14 -> 6.44 | F12: =F14*2 -> 12.88 | G12: =G14*2 -> 16.88 | H12: =H14*2 -> 16.88 | I12: =H14 -> 8.44 | J12: =J14*2 -> 12.88 | K12: =J14 -> 6.44 | L12: =L14*2 -> 12.88 | M12: =L14 -> 6.44 | N12: =N14*2 -> 12.88 | O12: =N14 -> 6.44 | P12: =P14*2 -> 14.88 | Q12: =Q14*2 -> 14.88 | R12: =Q14 -> 7.44 | S12: =S14*2 -> 12.88 | U12: =SUM(D12:S12) -> 182.44
A13: SINALIZAÇÃO DE TRÂNSITO NOTURNA (m) | D13: =D12 -> 12.88 | E13: =E12 -> 6.44 | F13: =F12 -> 12.88 | G13: =G12 -> 16.88 | H13: =H12 -> 16.88 | I13: =I12 -> 8.44 | J13: =J12 -> 12.88 | K13: =K12 -> 6.44 | ... S13: =S12 -> 12.88 | U13: =SUM(D13:S13) -> 182.44
A14: TERRAPLENAGEM | B14: REGULARIZAÇÃO | C14: LARGURA (m) | D14: =IF(D3="SIMPLES",D4+0.52+0.22,D4+0.52*2) -> 6.44 | E14: VÁRIAVEL | F14: =IF(F3="SIMPLES",F4+0.52+0.22,F4+0.52*2) -> 6.44 | G14: =IF(G3="SIMPLES",G4+0.52+0.22,G4+0.52*2) -> 8.44 | H14: =IF(H3="SIMPLES",H4+0.52+0.22,H4+0.52*2) -> 8.44 | I14: VÁRIAVEL | J14: =IF(J3="SIMPLES",J4+0.52+0.22,J4+0.52*2) -> 6.44 | K14: VÁRIAVEL | L14: =IF(L3="SIMPLES",L4+0.52+0.22,L4+0.52*2) -> 6.44 | M14: VÁRIAVEL | N14: =IF(N3="SIMPLES",N4+0.52+0.22,N4+0.52*2) -> 6.44 | O14: VÁRIAVEL | P14: =IF(P3="SIMPLES",P4+0.52+0.22,P4+0.52*2) -> 7.44 | Q14: =IF(Q3="SIMPLES",Q4+0.52+0.22,Q4+0.52*2) -> 7.44 | R14: VÁRIAVEL | S14: =IF(S3="SIMPLES",S4+0.52+0.22,S4+0.52*2) -> 6.44 | U14: =SUM(D14:T14) -> 70.4
C15: ÁREA TOTAL (m²) | D15: =D14*D2+D11 -> 789.6728 | E15: =19.91 -> 19.91 | F15: =F14*F2+F11 -> 727.0712 | G15: =G14*G2+G11 -> 974.5136 | H15: =H14*H2+H11 -> 1669.9164 | I15: 106.04 | J15: =J14*J2+J11 -> 526.5988 | K15: 933.9 | L15: =L14*L2+L11 -> 1415.3188 | M15: 804.58 | N15: =N14*N2+N11 -> 1741.2424 | O15: 51.51 | P15: =P14*P2+P11 -> 502.1256 | Q15: =Q14*Q2+Q11 -> 719.8956 | R15: 161 | S15: =S14*S2+S11 -> 536.5808 | U15: =SUM(D15:T15) -> 11679.876
B16: TROCA DE SOLO DE MATERIAL INSERVÍVEL H=0,40m | C16: MATERIAL | D16: SOLO LOCAL | E16: SOLO LOCAL | F16: SOLO LOCAL | G16: SOLO LOCAL | H16: SOLO LOCAL | I16: SOLO LOCAL | J16: SOLO LOCAL | K16: SOLO LOCAL | L16: SOLO LOCAL | M16: SOLO LOCAL | N16: SOLO LOCAL | O16: SOLO LOCAL | P16: SOLO LOCAL | Q16: SOLO LOCAL | R16: SOLO LOCAL | S16: SOLO LOCAL | U16: =SUM(D16:T16) -> 0
C17: ÁREA TOTAL (m²) | U17: =SUM(D17:T17) -> 0
C18: VOLUME GEOMÉTRICO (m³) | U18: =SUM(D18:T18) -> 0
B19: TERRAPLENAGEM CORTE | C19: SUB LEITO CORTE (M) | D19: VÁRIAVEL | E19: 0.3 | F19: VÁRIAVEL | G19: VÁRIAVEL | H19: VÁRIAVEL | I19: VÁRIAVEL | J19: VÁRIAVEL | K19: VÁRIAVEL | L19: VÁRIAVEL | M19: VÁRIAVEL | N19: VÁRIAVEL | O19: 0.3 | P19: VÁRIAVEL | Q19: VÁRIAVEL | R19: VÁRIAVEL | S19: VÁRIAVEL | U19: =SUM(D19:T19) -> 0.6
C20: SUB LEITO CORTE VOL.(M3) | D20: 107.97 | E20: =E15*E19 -> 5.973 | F20: 16.53 | G20: 69.58 | H20: 165.79 | J20: 51.66 | L20: 91.73 | N20: 1014.07 | O20: =O15*O19 -> 15.453 | P20: 221.48 | Q20: 570.84 | S20: 131.15 | U20: =SUM(D20:T20) -> 2462.226
C21: TRANSPORTE VOL. EMPOLADO (30%) - DMT=5 KM | D21: =D20*1.3 -> 140.361 | E21: =E20*1.3 -> 7.7649 | F21: =F20*1.3 -> 21.489 | G21: =G20*1.3 -> 90.454 | H21: =H20*1.3 -> 215.527 | I21: =I20*1.3 -> 0 | J21: =J20*1.3 -> 67.158 | K21: =K20*1.3 -> 0 | ... S21: =S20*1.3 -> 170.495 | U21: =SUM(D21:T21) -> 3200.8938
B22: TERRAPLENAGEM ATERRO | C22: VOLUME GEOMÉTICO DE ATERRO (m³) | D22: 53.79 | F22: 152.33 | G22: 47.55 | H22: 262.84 | J22: 268.79 | L22: 189.83 | N22: 0 | P22: 7.01 | Q22: 0 | S22: 13.55 | U22: =SUM(D22:T22) -> 995.69
C23: FATOR DE EMPOL - MAT. ATERRO (%) | D23: 0.3 | E23: 0.3 | F23: 0.3 | G23: 0.3 | H23: 0.3 | I23: 0.3 | J23: 0.3 | K23: 0.3 | L23: 0.3 | M23: 0.3 | N23: 0.3 | O23: 0.3 | P23: 0.3 | Q23: 0.3 | R23: 0.3 | S23: 0.3 | U23: =SUM(D23:T23) -> 4.8
C24: TRANSPORTE MATERIAL PARA ATERRO EMPOLADO (m³) - DMT=5 KM | D24: =D22*(1+D23) -> 69.927 | E24: =E22*(1+E23) -> 0 | F24: =F22*(1+F23) -> 198.029 | G24: =G22*(1+G23) -> 61.815 | H24: =H22*(1+H23) -> 341.692 | I24: =I22*(1+I23) -> 0 | J24: =J22*(1+J23) -> 349.427 | K24: =K22*(1+K23) -> 0 | ... S24: =S22*(1+S23) -> 17.615 | U24: =SUM(D24:T24) -> 1294.397
A25: PAVIMENTAÇÃO | B25: SUBBASE ESTABILIZADA | C25: MATERIAL | D25: PEDRA DE MÃO | E25: PEDRA DE MÃO | F25: PEDRA DE MÃO | G25: PEDRA DE MÃO | H25: PEDRA DE MÃO | I25: PEDRA DE MÃO | J25: PEDRA DE MÃO | K25: PEDRA DE MÃO | L25: PEDRA DE MÃO | M25: PEDRA DE MÃO | N25: PEDRA DE MÃO | O25: PEDRA DE MÃO | P25: PEDRA DE MÃO | Q25: PEDRA DE MÃO | R25: PEDRA DE MÃO | S25: PEDRA DE MÃO | U25: =SUM(D25:T25) -> 0
C26: ESPESSURA (cm) | U26: =SUM(D26:T26) -> 0
C27: FATOR DE EMPOLAMENTO (%) | D27: 0.3 | E27: 0.3 | F27: 0.3 | G27: 0.3 | H27: 0.3 | I27: 0.3 | J27: 0.3 | K27: 0.3 | L27: 0.3 | M27: 0.3 | N27: 0.3 | O27: 0.3 | P27: 0.3 | Q27: 0.3 | R27: 0.3 | S27: 0.3 | U27: =SUM(D27:T27) -> 4.8
C28: LARGURA (m) | D28: =D14 -> 6.44 | E28: =E14 -> VÁRIAVEL | F28: =F14 -> 6.44 | G28: =G14 -> 8.44 | H28: =H14 -> 8.44 | I28: =I14 -> VÁRIAVEL | J28: =J14 -> 6.44 | K28: =K14 -> VÁRIAVEL | ... S28: =S14 -> 6.44 | U28: =SUM(D28:T28) -> 70.4
C29: VOLUME GEOMÉTRICO (m³) | D29: =D2*D28*D26/100+D11*D26/100 -> 0 | E29: =E15*E26/100 -> 0 | F29: =F2*F28*F26/100+F11*F26/100 -> 0 | G29: =G2*G28*G26/100+G11*G26/100 -> 0 | H29: =H2*H28*H26/100+H11*H26/100 -> 0 | I29: =I15*I26/100 -> 0 | J29: =J2*J28*J26/100+J11*J26/100 -> 0 | K29: =K15*K26/100 -> 0 | L29: =L2*L28*L26/100+L11*L26/100 -> 0 | M29: =M15*M26/100 -> 0 | N29: =N2*N28*N26/100+N11*N26/100 -> 0 | O29: =O15*O26/100 -> 0 | P29: =P2*P28*P26/100+P11*P26/100 -> 0 | Q29: =Q2*Q28*Q26/100+Q11*Q26/100 -> 0 | R29: =R15*R26/100 -> 0 | S29: =S2*S28*S26/100+S11*S26/100 -> 0 | U29: =SUM(D29:T29) -> 0
C30: VOLUME EMPOLADO (m³) | D30: =D29*(1+D27) -> 0 | E30: =E29*(1+E27) -> 0 | F30: =F29*(1+F27) -> 0 | G30: =G29*(1+G27) -> 0 | H30: =H29*(1+H27) -> 0 | I30: =I29*(1+I27) -> 0 | J30: =J29*(1+J27) -> 0 | K30: =K29*(1+K27) -> 0 | ... S30: =S29*(1+S27) -> 0 | U30: =SUM(D30:T30) -> 0
B31: BASE ESTABILIZADA | C31: MATERIAL | D31: BGS | E31: BGS | F31: BGS | G31: BGS | H31: BGS | I31: BGS | J31: BGS | K31: BGS | L31: BGS | M31: BGS | N31: BGS | O31: BGS | P31: BGS | Q31: BGS | R31: BGS | S31: BGS | U31: =SUM(D31:T31) -> 0
C32: ESPESSURA (cm) | D32: 20 | E32: 20 | F32: 20 | G32: 20 | H32: 20 | I32: 20 | J32: 20 | K32: 20 | L32: 20 | M32: 20 | N32: 20 | O32: 20 | P32: 20 | Q32: 20 | R32: 20 | S32: 20 | U32: =SUM(D32:T32) -> 320
C33: FATOR DE EMPOLAMENTO (%) | D33: 0.3 | E33: 0.3 | F33: 0.3 | G33: 0.3 | H33: 0.3 | I33: 0.3 | J33: 0.3 | K33: 0.3 | L33: 0.3 | M33: 0.3 | N33: 0.3 | O33: 0.3 | P33: 0.3 | Q33: 0.3 | R33: 0.3 | S33: 0.3 | U33: =SUM(D33:T33) -> 4.8
C34: LARGURA (m) | D34: =D14 -> 6.44 | E34: =E14 -> VÁRIAVEL | F34: =F14 -> 6.44 | G34: =G14 -> 8.44 | H34: =H14 -> 8.44 | I34: =I14 -> VÁRIAVEL | J34: =J14 -> 6.44 | K34: =K14 -> VÁRIAVEL | ... S34: =S14 -> 6.44 | U34: =SUM(D34:T34) -> 70.4
C35: VOLUME GEOMÉTRICO (m³) | D35: =D2*D34*D32/100+D11*D32/100 -> 157.93456 | E35: =E15*E32/100 -> 3.982 | F35: =F2*F34*F32/100+F11*F32/100 -> 145.41424 | G35: =G2*G34*G32/100+G11*G32/100 -> 194.90272 | H35: =H2*H34*H32/100+H11*H32/100 -> 333.98328 | I35: =I15*I32/100 -> 21.208 | J35: =J2*J34*J32/100+J11*J32/100 -> 105.31976 | K35: =K15*K32/100 -> 186.78 | L35: =L2*L34*L32/100+L11*L32/100 -> 283.06376 | M35: =M15*M32/100 -> 160.916 | N35: =N2*N34*N32/100+N11*N32/100 -> 348.24848 | O35: =O15*O32/100 -> 10.302 | P35: =P2*P34*P32/100+P11*P32/100 -> 100.42512 | Q35: =Q2*Q34*Q32/100+Q11*Q32/100 -> 143.97912 | R35: =R15*R32/100 -> 32.2 | S35: =S2*S34*S32/100+S11*S32/100 -> 107.31616 | U35: =SUM(D35:T35) -> 2335.9752
C36: VOLUME EMPOLADO (m³) | D36: =D35*(1+D33) -> 205.31493 | E36: =E35*(1+E33) -> 5.1766 | F36: =F35*(1+F33) -> 189.03851 | G36: =G35*(1+G33) -> 253.37354 | H36: =H35*(1+H33) -> 434.17826 | I36: =I35*(1+I33) -> 27.5704 | J36: =J35*(1+J33) -> 136.91569 | K36: =K35*(1+K33) -> 242.814 | ... S36: =S35*(1+S33) -> 139.51101 | U36: =SUM(D36:T36) -> 3036.7678
C37: TRANSPORTE DE BASE DMT=30 KM (M³ X Km) | D37: =D36*30 -> 6159.4478 | E37: =E36*30 -> 155.298 | F37: =F36*30 -> 5671.1554 | G37: =G36*30 -> 7601.2061 | H37: =H36*30 -> 13025.348 | I37: =I36*30 -> 827.112 | J37: =J36*30 -> 4107.4706 | K37: =K36*30 -> 7284.42 | ... S37: =S36*30 -> 4185.3302 | U37: =SUM(D37:T37)+0.19 -> 91103.223
B38: IMPRIMAÇÃO (PROJETO) | C38: LARGURA (m) | D38: =D4 -> 5.4 | F38: =F4 -> 5.4 | G38: =G4 -> 7.4 | H38: =H4 -> 7.4 | J38: =J4 -> 5.4 | L38: =L4 -> 5.4 | N38: =N4 -> 5.4 | P38: =P4 -> 6.4 | Q38: =Q4 -> 6.4 | S38: =S4 -> 5.4 | U38: =SUM(D38:T38) -> 60
C39: ÁREA (m²) | D39: =D2*D38+D11 -> 662.148 | E39: =E15 -> 19.91 | F39: =F2*F38+F11 -> 611.392 | G39: =G2*G38+G11 -> 855.756 | H39: =H2*H38+H11 -> 1466.794 | I39: =I15 -> 106.04 | J39: =J2*J38+J11 -> 441.558 | K39: =K15 -> 933.9 | L39: =L2*L38+L11 -> 1186.758 | M39: =M15 -> 804.58 | N39: =N2*N38+N11 -> 1461.784 | O39: =O15 -> 51.51 | P39: =P2*P38+P11 -> 431.936 | Q39: =Q2*Q38+Q11 -> 619.806 | R39: =R15 -> 161 | S39: =S2*S38+S11 -> 449.928 | U39: =SUM(D39:T39) -> 10264.8
C40: EMULSSÃO ASFÁLTICA A BASE D'ÁGUA (T) | D40: =0.0012*D39 -> 0.7945776 | E40: =0.0012*E39 -> 0.023892 | F40: =0.0012*F39 -> 0.7336704 | G40: =0.0012*G39 -> 1.0269072 | H40: =0.0012*H39 -> 1.7601528 | I40: =0.0012*I39 -> 0.127248 | J40: =0.0012*J39 -> 0.5298696 | K40: =0.0012*K39 -> 1.12068 | ... S40: =0.0012*S39 -> 0.5399136 | U40: =SUM(D40:T40) -> 12.31776
...

Sheet Calçada e Acessibilidade
B2: CALÇADAS E ACESSIBILIDADE
B4: Rua | C4: Rampas | O4: Calçada | R4: Preparo de Solo | S4: Comprimento Total de Piso Tátil | T4: Área Total de Piso Tátil | U4: Área Total de Concreto
C5: Descrição | D5: Quantidade | E5: Área Unitária | F5: Comp. de Piso Tátil | G5: Tipo 2 | J5: Tipo 3 | M5: Área Total de Concreto | N5: Comprimento Total de Piso Tátil | O5: Comprimento (m) | P5: Piso Tátil (m) | Q5: Área total de Concreto (m²)
G6: Quantidade Unitária | H6: Área Unitária | I6: Comp. de Piso Tátil | J6: Quantidade Unitária | K6: Área Unitária | L6: Comp. de Piso Tátil
D7: (und) | E7: (m²) | F7: (m) | G7: (und) | H7: (m²) | I7: (m) | J7: (und) | K7: (m²) | L7: (m) | M7: (m²) | N7: (m) | R7: (m²) | S7: (m) | T7: (m²) | U7: (m²)
B8: RUA BOAVENTURA V. NETO | C8: Lado Direito | D8: 4 | E8: =5.1*1.2 -> 6.12 | F8: =1.2*2+1.5 -> 3.9 | M8: =D8*E8 -> 24.48 | N8: =D8*F8 -> 15.6 | O8: 0 | P8: =O8 -> 0 | Q8: =O8*1.2 -> 0 | R8: =M8+Q8 -> 24.48 | S8: =N8+P8 -> 15.6 | T8: =0.2*S8 -> 3.12 | U8: =R8 -> 24.48
C9: Lado Esquerdo | D9: 4 | E9: =5.1*1.2 -> 6.12 | F9: =1.2*2+1.5 -> 3.9 | M9: =D9*E9 -> 24.48 | N9: =D9*F9 -> 15.6 | O9: 0 | P9: =O9 -> 0 | Q9: =O9*1.2 -> 0 | R9: =M9+Q9 -> 24.48 | S9: =N9+P9 -> 15.6 | T9: =0.2*S9 -> 3.12 | U9: =R9 -> 24.48
B10: RUA SEBASTIÃO ESPINDOLA | C10: Lado Direito | D10: 2 | E10: =5.1*1.2 -> 6.12 | F10: =1.2*2+1.5 -> 3.9 | M10: =D10*E10 -> 12.24 | N10: =D10*F10 -> 7.8 | O10: 0 | P10: =O10 -> 0 | Q10: =O10*1.2 -> 0 | R10: =M10+Q10 -> 12.24 | S10: =N10+P10 -> 7.8 | T10: =0.2*S10 -> 1.56 | U10: =R10 -> 12.24
C11: Lado Esquerdo | D11: 2 | E11: =5.1*1.2 -> 6.12 | F11: =1.2*2+1.5 -> 3.9 | M11: =D11*E11 -> 12.24 | N11: =D11*F11 -> 7.8 | O11: 0 | P11: =O11 -> 0 | Q11: =O11*1.2 -> 0 | R11: =M11+Q11 -> 12.24 | S11: =N11+P11 -> 7.8 | T11: =0.2*S11 -> 1.56 | U11: =R11 -> 12.24
B12: RUA JOSÉ BONIFÁCIO | C12: Lado Direito | D12: 0 | E12: =5.1*1.2 -> 6.12 | F12: =1.2*2+1.5 -> 3.9 | M12: =D12*E12 -> 0 | N12: =D12*F12 -> 0 | O12: 0 | P12: =O12 -> 0 | Q12: =O12*1.2 -> 0 | R12: =M12+Q12 -> 0 | S12: =N12+P12 -> 0 | T12: =0.2*S12 -> 0 | U12: =R12 -> 0
C13: Lado Esquerdo | D13: 0 | E13: =5.1*1.2 -> 6.12 | F13: =1.2*2+1.5 -> 3.9 | M13: =D13*E13 -> 0 | N13: =D13*F13 -> 0 | O13: 0 | P13: =O13 -> 0 | Q13: =O13*1.2 -> 0 | R13: =M13+Q13 -> 0 | S13: =N13+P13 -> 0 | T13: =0.2*S13 -> 0 | U13: =R13 -> 0
B14: RUA SETE DE SETEMBRO | C14: Lado Direito | D14: 2 | E14: =5.1*1.2 -> 6.12 | F14: =1.2*2+1.5 -> 3.9 | M14: =D14*E14 -> 12.24 | N14: =D14*F14 -> 7.8 | O14: 0 | P14: =O14 -> 0 | Q14: =O14*1.2 -> 0 | R14: =M14+Q14 -> 12.24 | S14: =N14+P14 -> 7.8 | T14: =0.2*S14 -> 1.56 | U14: =R14 -> 12.24
C15: Lado Esquerdo | D15: 4 | E15: =5.1*1.2 -> 6.12 | F15: =1.2*2+1.5 -> 3.9 | M15: =D15*E15 -> 24.48 | N15: =D15*F15 -> 15.6 | O15: 0 | P15: =O15 -> 0 | Q15: =O15*1.2 -> 0 | R15: =M15+Q15 -> 24.48 | S15: =N15+P15 -> 15.6 | T15: =0.2*S15 -> 3.12 | U15: =R15 -> 24.48
B16: RUA SEBASTIÃO ESPINDOLA II | C16: Lado Direito | D16: 2 | E16: =5.1*1.2 -> 6.12 | F16: =1.2*2+1.5 -> 3.9 | M16: =D16*E16 -> 12.24 | N16: =D16*F16 -> 7.8 | O16: 0 | P16: =O16 -> 0 | Q16: =O16*1.2 -> 0 | R16: =M16+Q16 -> 12.24 | S16: =N16+P16 -> 7.8 | T16: =0.2*S16 -> 1.56 | U16: =R16 -> 12.24
C17: Lado Esquerdo | D17: 2 | E17: =5.1*1.2 -> 6.12 | F17: =1.2*2+1.5 -> 3.9 | M17: =D17*E17 -> 12.24 | N17: =D17*F17 -> 7.8 | O17: 0 | P17: =O17 -> 0 | Q17: =O17*1.2 -> 0 | R17: =M17+Q17 -> 12.24 | S17: =N17+P17 -> 7.8 | T17: =0.2*S17 -> 1.56 | U17: =R17 -> 12.24
B18: RUA ARLINDO PINTO | C18: Lado Direito | D18: 2 | E18: =5.1*1.2 -> 6.12 | F18: =1.2*2+1.5 -> 3.9 | M18: =D18*E18 -> 12.24 | N18: =D18*F18 -> 7.8 | O18: 0 | P18: =O18 -> 0 | Q18: =O18*1.2 -> 0 | R18: =M18+Q18 -> 12.24 | S18: =N18+P18 -> 7.8 | T18: =0.2*S18 -> 1.56 | U18: =R18 -> 12.24
C19: Lado Esquerdo | D19: 2 | E19: =5.1*1.2 -> 6.12 | F19: =1.2*2+1.5 -> 3.9 | M19: =D19*E19 -> 12.24 | N19: =D19*F19 -> 7.8 | O19: 0 | P19: =O19 -> 0 | Q19: =O19*1.2 -> 0 | R19: =M19+Q19 -> 12.24 | S19: =N19+P19 -> 7.8 | T19: =0.2*S19 -> 1.56 | U19: =R19 -> 12.24
B20: RUA DA REPÚBLICA | C20: Lado Direito | D20: 6 | E20: =5.1*1.2 -> 6.12 | F20: =1.2*2+1.5 -> 3.9 | M20: =D20*E20 -> 36.72 | N20: =D20*F20 -> 23.4 | O20: 0 | P20: =O20 -> 0 | Q20: =O20*1.2 -> 0 | R20: =M20+Q20 -> 36.72 | S20: =N20+P20 -> 23.4 | T20: =0.2*S20 -> 4.68 | U20: =R20 -> 36.72
C21: Lado Esquerdo | D21: 6 | E21: =5.1*1.2 -> 6.12 | F21: =1.2*2+1.5 -> 3.9 | M21: =D21*E21 -> 36.72 | N21: =D21*F21 -> 23.4 | O21: 0 | P21: =O21 -> 0 | Q21: =O21*1.2 -> 0 | R21: =M21+Q21 -> 36.72 | S21: =N21+P21 -> 23.4 | T21: =0.2*S21 -> 4.68 | U21: =R21 -> 36.72
B22: RUA ADOLFO A. DA ROSA | C22: Lado Direito | D22: 2 | E22: =5.1*1.2 -> 6.12 | F22: =1.2*2+1.5 -> 3.9 | M22: =D22*E22 -> 12.24 | N22: =D22*F22 -> 7.8 | O22: 0 | P22: =O22 -> 0 | Q22: =O22*1.2 -> 0 | R22: =M22+Q22 -> 12.24 | S22: =N22+P22 -> 7.8 | T22: =0.2*S22 -> 1.56 | U22: =R22 -> 12.24
C23: Lado Esquerdo | D23: 2 | E23: =5.1*1.2 -> 6.12 | F23: =1.2*2+1.5 -> 3.9 | M23: =D23*E23 -> 12.24 | N23: =D23*F23 -> 7.8 | O23: 0 | P23: =O23 -> 0 | Q23: =O23*1.2 -> 0 | R23: =M23+Q23 -> 12.24 | S23: =N23+P23 -> 7.8 | T23: =0.2*S23 -> 1.56 | U23: =R23 -> 12.24
B24: RUA BENJAMIN MARTINS | C24: Lado Direito | D24: 4 | E24: =5.1*1.2 -> 6.12 | F24: =1.2*2+1.5 -> 3.9 | M24: =D24*E24 -> 24.48 | N24: =D24*F24 -> 15.6 | O24: 0 | P24: =O24 -> 0 | Q24: =O24*1.2 -> 0 | R24: =M24+Q24 -> 24.48 | S24: =N24+P24 -> 15.6 | T24: =0.2*S24 -> 3.12 | U24: =R24 -> 24.48
C25: Lado Esquerdo | D25: 4 | E25: =5.1*1.2 -> 6.12 | F25: =1.2*2+1.5 -> 3.9 | M25: =D25*E25 -> 24.48 | N25: =D25*F25 -> 15.6 | O25: 0 | P25: =O25 -> 0 | Q25: =O25*1.2 -> 0 | R25: =M25+Q25 -> 24.48 | S25: =N25+P25 -> 15.6 | T25: =0.2*S25 -> 3.12 | U25: =R25 -> 24.48
B26: MS-386 | C26: Lado Direito | D26: 0 | E26: =5.1*1.2 -> 6.12 | F26: =1.2*2+1.5 -> 3.9 | M26: =D26*E26 -> 0 | N26: =D26*F26 -> 0 | O26: 0 | P26: =O26 -> 0 | Q26: =O26*1.2 -> 0 | R26: =M26+Q26 -> 0 | S26: =N26+P26 -> 0 | T26: =0.2*S26 -> 0 | U26: =R26 -> 0
C27: Lado Esquerdo | D27: 0 | E27: =5.1*1.2 -> 6.12 | F27: =1.2*2+1.5 -> 3.9 | M27: =D27*E27 -> 0 | N27: =D27*F27 -> 0 | O27: 0 | P27: =O27 -> 0 | Q27: =O27*1.2 -> 0 | R27: =M27+Q27 -> 0 | S27: =N27+P27 -> 0 | T27: =0.2*S27 -> 0 | U27: =R27 -> 0
B28: RUA PROJETADA A | C28: Lado Direito | D28: 1 | E28: =5.1*1.2 -> 6.12 | F28: =1.2*2+1.5 -> 3.9 | M28: =D28*E28 -> 6.12 | N28: =D28*F28 -> 3.9 | O28: 0 | P28: =O28 -> 0 | Q28: =O28*1.2 -> 0 | R28: =M28+Q28 -> 6.12 | S28: =N28+P28 -> 3.9 | T28: =0.2*S28 -> 0.78 | U28: =R28 -> 6.12
C29: Lado Esquerdo | D29: 1 | E29: =5.1*1.2 -> 6.12 | F29: =1.2*2+1.5 -> 3.9 | M29: =D29*E29 -> 6.12 | N29: =D29*F29 -> 3.9 | O29: 0 | P29: =O29 -> 0 | Q29: =O29*1.2 -> 0 | R29: =M29+Q29 -> 6.12 | S29: =N29+P29 -> 3.9 | T29: =0.2*S29 -> 0.78 | U29: =R29 -> 6.12
B30: RUA PROJETADA B | C30: Lado Direito | D30: 0 | E30: =5.1*1.2 -> 6.12 | F30: =1.2*2+1.5 -> 3.9 | M30: =D30*E30 -> 0 | N30: =D30*F30 -> 0 | O30: 0 | P30: =O30 -> 0 | Q30: =O30*1.2 -> 0 | R30: =M30+Q30 -> 0 | S30: =N30+P30 -> 0 | T30: =0.2*S30 -> 0 | U30: =R30 -> 0
C31: Lado Esquerdo | D31: 0 | E31: =5.1*1.2 -> 6.12 | F31: =1.2*2+1.5 -> 3.9 | M31: =D31*E31 -> 0 | N31: =D31*F31 -> 0 | O31: 0 | P31: =O31 -> 0 | Q31: =O31*1.2 -> 0 | R31: =M31+Q31 -> 0 | S31: =N31+P31 -> 0 | T31: =0.2*S31 -> 0 | U31: =R31 -> 0
B32: RUA DOM PEDRO II | C32: Lado Direito | D32: 1 | E32: =5.1*1.2 -> 6.12 | F32: =1.2*2+1.5 -> 3.9 | M32: =D32*E32 -> 6.12 | N32: =D32*F32 -> 3.9 | O32: 0 | P32: =O32 -> 0 | Q32: =O32*1.2 -> 0 | R32: =M32+Q32 -> 6.12 | S32: =N32+P32 -> 3.9 | T32: =0.2*S32 -> 0.78 | U32: =R32 -> 6.12
C33: Lado Esquerdo | D33: 1 | E33: =5.1*1.2 -> 6.12 | F33: =1.2*2+1.5 -> 3.9 | M33: =D33*E33 -> 6.12 | N33: =D33*F33 -> 3.9 | O33: 0 | P33: =O33 -> 0 | Q33: =O33*1.2 -> 0 | R33: =M33+Q33 -> 6.12 | S33: =N33+P33 -> 3.9 | T33: =0.2*S33 -> 0.78 | U33: =R33 -> 6.12
B34: Total | D34: =SUM(D8:D33) -> 54 | G34: =SUM(#REF!) -> #REF! | J34: =SUM(#REF!) -> #REF! | M34: =SUM(M8:M33) -> 330.48 | N34: =SUM(N8:N33) -> 210.6 | O34: =SUM(O8:O33) -> 0 | P34: =SUM(P8:P33) -> 0 | Q34: =SUM(Q8:Q33) -> 0 | R34: =SUM(R8:R33) -> 330.48 | S34: =SUM(S8:S33) -> 210.6 | T34: =SUM(T8:T33) -> 42.12 | U34: =SUM(U8:U33) -> 330.48
D36: PISO TÁTIL | P36: CONCRETO
E38: TOTAL: | F38: =S34 -> 210.6 | K38: m | M38: m | R38: ÁREA TOTAL A SER CONCRETADA: | S38: =U34 -> 330.48 | T38: m²
E39: PESO: | F39: 0.0096 | K39: T/m | M39: T/m | R39: ESPESSURA DAS CALÇADAS: | S39: 0.07 | T39: m
E40: DMT: | F40: 148 | K40: Km | M40: Km | R40: VOLUME DE CONCRETO: | S40: =S39*S38 -> 23.1336 | T40: m³
D41: TRANSPORTE (DMT ATÉ 30 Km): | F41: =TRUNC((F39*F38)*30,2) -> 60.65 | K41: T*Km | M41: T*Km | R41: ÁREA A SER CONCRETADA SOB PISO TÁTIL: | S41: =T34 -> 42.12 | T41: m²
D42: TRANSPORTE (DMT EXC. 30 Km): | F42: =TRUNC((F39*F38)*(F40-30),2) -> 238.56 | K42: T*Km | M42: T*Km | R42: ESP. DAS CALÇADAS SOB O PISO TÁTIL: | S42: 0.035 | T42: m
R43: VOLUME DE CONCRETO SOB O PISO TÁTIL: | S43: =S42*S41 -> 1.4742 | T43: m³
R44: VOLUME TOTAL DE CONCRETO: | S44: =S43+S40 -> 24.6078 | T44: m³
...

Sheet DIMENS
A2: OBRA: | B2: Vila Cristina e Vila Flor
A3: CIDADE: | B3: Amambai - M S | H3: Tempo de Retorno (anos): | J3: 5 | L3: Vazão (Deflúvio a escoar) | N3: Q = 2.78 x n x I x A x f | P3: Tempo de Concentração (Tc): | R3: Tc = 10,5721 x L⁰’⁵⁵⁵² x S¯⁰’²⁰⁷⁰ | T3: Coeficiente de Deflúvio ( f ) | V3: f = a x (I x tc)^1/3 | X3: Fator impermeabilidade (a) | Z3: a = (2.913 + 64.073 x C) x 10³
P4: Formulação de Mc Cuen: L - comprimento talvegue (km) S - Declividade (m/m)
F6: I = a . Trd /(tc+c)b
F7: B= | G7: 1525.39 | H7: tc= | I7: VAR
F8: b= | G8: 0.79 | H8: c= | I8: 12
F9: Tr= | G9: 5 | H9: d= | I9: 0.181
A12: DIMENSIONAMENTO - PEAD
A13: TRECHO | B13: COMPR. | C13: ÁREA | E13: Tc | F13: Tr | G13: I | H13: VAZÃO | I13: DIAM. Ø | J13: DIAM. Ø | K13: QUANT. | L13: FH | M13: H/D | N13: RH/D | O13: TIR. LIQ. | P13: COTAS | T13: DECL | U13: DECL | V13: VELOC. | W13: TC GAL. | X13: PROF GAL. (mont.) PV c/ T. Natural | Y13: PROF GAL. (jus.) PV c/ T. Natural | Z13: PROF. MIN. | AA13: iminim | AB13: comp tub | AC13: T. (MONT.) COTA GREIDE | AD13: T (JUS.) COTA GREIDE | AE13: PROF. (MONT.) REAL DO PV c/ GREIDE | AF13: PROF. (JUS.) REAL DO PV c/ GREIDE | AG13: DIFERENÇA DE COTA (TN x GREIDE) | AH13: DIFERENÇA DE COTA (TN x GREIDE)
C14: UNIT. | D14: ACUMUL. | P14: T. MONT. | Q14: T. JUS. | R14: G. MONT. | S14: G. JUS.
B15: m | C15: ha | D15: ha | E15: min | F15: ano | G15: mm/h | H15: l/s | I15: m | J15: mm | K15: un. | O15: LÂMINA (m) | P15: m | Q15: m | R15: m | S15: m | T15: % | U15: m/m | V15: m/s | W15: min. | X15: m | Y15: m | Z15: m | AA15: % | AB15: m | AC15: m | AD15: m | AE15: m | AF15: m | AG15: m | AH15: m
A16: T-01 | B16: 21 | C16: 0.39 | D16: 0.39 | E16: 10 | F16: 5 | G16: 177.57448 | H16: 115.41977 | I16: 0.6 | J16: 600 | K16: 1 | L16: 0.071272311 | M16: 0.32 | N16: 0.1802 | O16: 0.192 | P16: 491.765 | Q16: 491.651 | R16: 490.805 | S16: 490.721 | T16: 0.4 | U16: 0.004 | V16: 1.025293 | W16: 0.34136582 | X16: 0.96 | Y16: 0.93 | Z16: 1.16 | AA16: 0.00018105564 | AB16: 21 | AC16: 491.967 | AD16: 491.926 | AE16: 1.162 | AF16: 1.205 | AG16: -0.202 | AH16: -0.275
A17: T-02 | B17: 62 | C17: 0.23 | D17: 0.23 | E17: 10 | F17: 5 | G17: 177.57448 | H17: 73.679041 | I17: 0.6 | J17: 600 | K17: 1 | L17: 0.037148301 | M17: 0.23 | N17: 0.1364 | O17: 0.138 | P17: 491.709 | Q17: 491.651 | R17: 490.859 | S17: 490.487 | T17: 0.6 | U17: 0.006 | V17: 1.0429577 | W17: 0.99077206 | X17: 0.85 | Y17: 1.164 | Z17: 1.16 | AA17: 7.3780151e-05 | AB17: 62 | AC17: 492.0232 | AD17: 491.926 | AE17: 1.1642 | AF17: 1.439 | AG17: -0.3142 | AH17: -0.275
A18: T-03 | B18: 42 | C18: 0.37 | D18: 0.99 | E18: 10.990772 | F18: 5 | G18: 171.5012 | H18: 251.00946 | I18: 0.6 | J18: 600 | K18: 1 | L18: 0.19606077 | M18: 0.57 | N18: 0.2703 | O18: 0.342 | P18: 491.651 | Q18: 491.592 | R18: 490.487 | S18: 490.382 | T18: 0.25 | U18: 0.0025 | V18: 1.062141 | W18: 0.65904619 | X18: 1.164 | Y18: 1.21 | Z18: 1.16 | AA18: 0.00085631157 | AB18: 42 | AC18: 491.926 | AD18: 491.845 | AE18: 1.439 | AF18: 1.463 | AG18: -0.275 | AH18: -0.253
A19: T-04 | B19: 42 | C19: 0.23 | D19: 1.22 | E19: 11.649818 | F19: 5 | G19: 167.71446 | H19: 296.69312 | I19: 0.6 | J19: 600 | K19: 1 | L19: 0.25909742 | M19: 0.69 | N19: 0.2948 | O19: 0.414 | P19: 491.592 | Q19: 491.545 | R19: 490.382 | S19: 490.298 | T19: 0.2 | U19: 0.002 | V19: 1.0065796 | W19: 0.69542437 | X19: 1.21 | Y19: 1.247 | Z19: 1.16 | AA19: 0.0011963729 | AB19: 42 | AC19: 491.845 | AD19: 491.764 | AE19: 1.463 | AF19: 1.466 | AG19: -0.253 | AH19: -0.219
A20: T-05 | B20: 45 | C20: 0.53 | D20: 0.53 | E20: 10 | F20: 5 | G20: 177.57448 | H20: 149.7993 | I20: 0.6 | J20: 600 | K20: 1 | L20: 0.092501848 | M20: 0.37 | N20: 0.202 | O20: 0.222 | P20: 491.573 | Q20: 491.545 | R20: 490.643 | S20: 490.463 | T20: 0.4 | U20: 0.004 | V20: 1.1064006 | W20: 0.67787383 | X20: 0.93 | Y20: 1.082 | Z20: 1.16 | AA20: 0.00030497989 | AB20: 45 | AC20: 491.799 | AD20: 491.764 | AE20: 1.156 | AF20: 1.301 | AG20: -0.226 | AH20: -0.219
A21: T-06 | B21: 51 | C21: 0.72 | D21: 2.47 | E21: 12.345243 | F21: 5 | G21: 163.91825 | H21: 534.35509 | I21: 0.8 | J21: 800 | K21: 1 | L21: 0.25017467 | M21: 0.67 | N21: 0.2917 | O21: 0.536 | P21: 491.545 | Q21: 491.423 | R21: 490.098 | S21: 490.0215 | T21: 0.15 | U21: 0.0015 | V21: 1.0486017 | W21: 0.8106033 | X21: 1.447 | Y21: 1.4015 | Z21: 1.38 | AA21: 0.00083654306 | AB21: 51 | AC21: 491.764 | AD21: 491.665 | AE21: 1.666 | AF21: 1.6435 | AG21: -0.219 | AH21: -0.242
A22: T-07 | B22: 49 | C22: 0.38 | D22: 2.85 | E22: 13.155846 | F22: 5 | G22: 159.73119 | H22: 595.49563 | I22: 0.8 | J22: 800 | K22: 1 | L22: 0.27879948 | M22: 0.73 | N22: 0.2998 | O22: 0.584 | P22: 491.423 | Q22: 491.161 | R22: 490.0215 | S22: 489.948 | T22: 0.15 | U22: 0.0015 | V22: 1.0679248 | W22: 0.76472298 | X22: 1.4015 | Y22: 1.213 | Z22: 1.38 | AA22: 0.0010389283 | AB22: 49 | AC22: 491.665 | AD22: 491.57 | AE22: 1.6435 | AF22: 1.622 | AG22: -0.242 | AH22: -0.409
A23: T-08 | B23: 57 | C23: 0.4 | D23: 3.25 | E23: 13.920569 | F23: 5 | G23: 155.99666 | H23: 657.41782 | I23: 0.8 | J23: 800 | K23: 1 | L23: 0.30779024 | M23: 0.8 | N23: 0.3042 | O23: 0.64 | P23: 491.161 | Q23: 491.014 | R23: 489.948 | S23: 489.8625 | T23: 0.15 | U23: 0.0015 | V23: 1.0783483 | W23: 0.88097691 | X23: 1.213 | Y23: 1.1515 | Z23: 1.38 | AA23: 0.0012662263 | AB23: 57 | AC23: 491.57 | AD23: 491.634 | AE23: 1.622 | AF23: 1.7715 | AG23: -0.409 | AH23: -0.62
A24: T-09 | B24: 26 | C24: 0.3 | D24: 3.55 | E24: 14.801546 | F24: 5 | G24: 151.93163 | H24: 698.27841 | I24: 0.8 | J24: 800 | K24: 1 | L24: 0.28312135 | M24: 0.74 | N24: 0.3008 | O24: 0.592 | P24: 491.014 | Q24: 491.381 | R24: 489.8625 | S24: 489.8105 | T24: 0.2 | U24: 0.002 | V24: 1.235874 | W24: 0.35062906 | X24: 1.1515 | Y24: 1.5705 | Z24: 1.38 | AA24: 0.0014285177 | AB24: 26 | AC24: 491.634 | AD24: 491.672 | AE24: 1.7715 | AF24: 1.8615 | AG24: -0.62 | AH24: -0.291
A25: T-10 | B25: 50 | C25: 0.63 | D25: 0.63 | E25: 10 | F25: 5 | G25: 177.57448 | H25: 173.50611 | I25: 0.6 | J25: 600 | K25: 1 | L25: 0.095829756 | M25: 0.38 | N25: 0.2062 | O25: 0.228 | P25: 491.366 | Q25: 491.36 | R25: 490.656 | S25: 490.406 | T25: 0.5 | U25: 0.005 | V25: 1.254081 | W25: 0.66449721 | X25: 0.71 | Y25: 0.954 | Z25: 1.16 | AA25: 0.00040914868 | AB25: 50 | AC25: 491.814 | AD25: 491.589 | AE25: 1.158 | AF25: 1.183 | AG25: -0.448 | AH25: -0.229
A26: T-11 | B26: 21 | C26: 0.73 | D26: 1.36 | E26: 10.664497 | F26: 5 | G26: 173.4487 | H26: 330.43358 | I26: 0.6 | J26: 600 | K26: 1 | L26: 0.28856244 | M26: 0.76 | N26: 0.3024 | O26: 0.456 | P26: 491.36 | Q26: 491.227 | R26: 490.406 | S26: 490.364 | T26: 0.2 | U26: 0.002 | V26: 1.023806 | W26: 0.34186164 | X26: 0.954 | Y26: 0.863 | Z26: 1.16 | AA26: 0.0014839524 | AB26: 21 | AC26: 491.589 | AD26: 491.739 | AE26: 1.183 | AF26: 1.375 | AG26: -0.229 | AH26: -0.512
A27: T-12 | B27: 68 | D27: 1.36 | E27: 11.006359 | F27: 5 | G27: 171.4094 | H27: 328.70278 | I27: 0.6 | J27: 600 | K27: 1 | L27: 0.18154696 | M27: 0.54 | N27: 0.2621 | O27: 0.324 | P27: 491.227 | Q27: 491.381 | R27: 490.364 | S27: 490.024 | T27: 0.5 | U27: 0.005 | V27: 1.4715595 | W27: 0.770158 | X27: 0.863 | Y27: 1.357 | Z27: 1.16 | AA27: 0.0014684473 | AB27: 68 | AC27: 491.739 | AD27: 491.672 | AE27: 1.375 | AF27: 1.648 | AG27: -0.512 | AH27: -0.291
A28: T-13 | B28: 29 | D28: 4.91 | E28: 15.152175 | F28: 5 | G28: 150.37956 | H28: 914.52851 | I28: 1.2 | J28: 1200 | K28: 1 | L28: 0.0712932 | M28: 0.32 | N28: 0.1802 | O28: 0.384 | P28: 491.381 | Q28: 490.999 | R28: 489.2705 | S28: 488.8645 | T28: 1.4 | U28: 0.014 | V28: 3.0448695 | W28: 0.15873696 | X28: 2.1105 | Y28: 2.1345 | Z28: 2.4 | AA28: 0.00063406625 | AB28: 29 | AC28: 491.672 | AD28: 490.999 | AE28: 2.4015 | AF28: 2.1345 | AG28: -0.291 | AH28: 0
A29: T-14 | B29: 36 | D29: 4.91 | E29: 15.310912 | F29: 5 | G29: 149.68865 | H29: 912.09348 | I29: 0.8 | J29: 800 | K29: 1 | L29: 0.30195187 | M29: 0.79 | N29: 0.304 | O29: 0.632 | P29: 490.999 | Q29: 490.671 | R29: 488.8645 | S29: 488.7565 | T29: 0.3 | U29: 0.003 | V29: 1.5243464 | W29: 0.39361133 | X29: 2.1345 | Y29: 1.9145 | Z29: 1.38 | AA29: 0.0024372894 | AB29: 36 | AC29: 490.999 | AD29: 490.671 | AE29: 2.1345 | AF29: 1.9145 | AG29: 0 | AH29: 0
A30: T-15 | B30: 13 | D30: 4.91 | E30: 15.704523 | F30: 5 | G30: 148.00604 | H30: 906.08303 | I30: 0.8 | J30: 800 | K30: 1 | L30: 0.29996209 | M30: 0.78 | N30: 0.3036 | O30: 0.624 | P30: 490.671 | Q30: 490.047 | R30: 488.7565 | S30: 488.7175 | T30: 0.3 | U30: 0.003 | V30: 1.5230089 | W30: 0.14226224 | X30: 1.9145 | Y30: 1.3295 | Z30: 1.38 | AA30: 0.0024052731 | AB30: 13 | AC30: 490.671 | AD30: 490.047 | AE30: 1.9145 | AF30: 1.3295 | AG30: 0 | AH30: 0
A31: T-EXIST. | B31: 52 | C31: 15 | D31: 19.91 | E31: 40 | F31: 5 | G31: 90.00193 | H31: 2095.4031 | I31: 0.8 | J31: 800 | K31: 1 | L31: 0.32988908 | M31: 0.88 | N31: 0.3007 | O31: 0.704 | P31: 490.047 | Q31: 489 | R31: 488.697 | S31: 487.345 | T31: 2.6 | U31: 0.026 | V31: 4.4550194 | W31: 0.19453712 | X31: 1.35 | Y31: 1.655 | AA31: 0.025212715 | AB31: 52 | AG31: 490.047 | AH31: 489
