Workbook

Sheet BOMPRECO
D1: P L A N I L H A E L É T R I C A
D3: 43554 | G3: c/LS
A4: PROLUX | B4: AGESUL | C4: SINAPI | D4: DESCRIÇÃO | E4: un | F4: U-MAT | G4: U-MO | H4: TOTAL
D6: LUMINÁRIAS
D7: GLOBO / PLAFON
A8: 1000 | B8: 1201001000 | D8: Luminária tipo plafon redondo com vidro fosco, de sobrepor, com 1 lâmpada de led 24W, 4000k, luz neutra, Elgin ou similar - Fornecimento e instalação | E8: un | H8: 55.75
A9: 1001 | B9: 1201001001 | D9: Luminária tipo plafon redondo com vidro fosco, de embutir, com 1 lâmpada de led 24W, 4000k, luz neutra, Elgin ou similar - Fornecimento e instalação | E9: un
A10: 1002 | B10: 1201001002 | D10: Luminária tipo plafon redondo com vidro fosco, diametro de 30cm, inclusive duas lampadas led 10W- Fornecimento e instalação | E10: un | H10: 55.75
A11: 1003 | D11: Lumináia tipo globo com lâmpada incandescente 100 W - 220 V | E11: un
A12: 1004 | B12: 1201001003 | D12: Luminária tipo globo com lâmpada compacta de 20 ou 23W | E12: un | F12: 39.92 | G12: 23.94 | H12: =G12+F12 -> 63.86
A13: 1011 | D13: Luminária tipo globo com lâmpada compacta 23W - 220V | E13: un | F13: 22.46 | G13: 18.6 | H13: =G13+F13 -> 41.06
A15: 1015 | B15: 1201001035 | D15: Plafon com lâmp. fluor. compacta de 20W, mod. PF37-S2E27/1 | E15: cj | F15: 219.23 | G15: 23.94 | H15: =G15+F15 -> 243.17
A16: 1017 | B16: 1201001038 | D16: Plafon com 2 lâmp. fluor. compacta de 2x20W, mod. PF37-S2E27/2 | E16: cj | F16: 232.8 | G16: 23.94 | H16: =G16+F16 -> 256.74
D19: ARANDELA
A20: 1035 | D20: Arandela com lâmpada incandescente de 60 W | E20: un | F20: 33.95 | G20: 18.6 | H20: =G20+F20 -> 52.55
A21: 1029 | D21: Arandela com lâmpada incandescente de 100 W | E21: un | F21: 33.95 | G21: 18.6 | H21: =G21+F21 -> 52.55
A22: 1036 | D22: Arandela com lâmpada fluorescente compacta de 23 W | E22: un | F22: 9.4 | G22: 18.6 | H22: =G22+F22 -> 28
A23: 1020 | D23: Arandela c/ grade tipo vigia c/ 1 lâmp. Com. 9W, ref. ARTW-2602 da Projeto | E23: cj | F23: 32.26 | G23: 18.6 | H23: =G23+F23 -> 50.86
A24: 1023 | D24: Arandela para lâmpada compacta eletrônica de 20W | E24: un | G24: 18.6 | H24: =G24+F24 -> 18.6
A25: 1066 | D25: Arandela para lâmpada compacta de 26W | E25: un | G25: 18.6 | H25: =G25+F25 -> 18.6
A26: 1069 | D26: Arandela para lâmpada compacta eletrônica de 23W - 220V | E26: un | G26: 18.6 | H26: =G26+F26 -> 18.6
A27: 1364 | D27: Arandela c/ lâmpada PL 28W | E27: un | G27: 18.6 | H27: =G27+F27 -> 18.6
A28: 1024 | D28: Arandela com fluxo p/ biaxo e lâmp. comp. 15W - h=2.50m | E28: un | G28: 18.6 | H28: =G28+F28 -> 18.6
A29: 1025 | D29: Arandela tipo pirâmide com lamp. fluor. comp. elet. de 20w | E29: un | F29: 73.57 | G29: 23.94 | H29: =G29+F29 -> 97.51
D31: TARTARUGA
A32: 1005 | B32: 1201001005 | D32: Luminária tipo tartaruga com lâmpada incandescente de 60W-127V | E32: un | F32: 18.6 | G32: 18.6 | H32: =G32+F32 -> 37.2
A33: 1006 | B33: 1201001006 | D33: Luminária tipo tartaruga com lâmpada incandescente de 6W-127V | E33: un | G33: 18.6 | H33: =G33+F33 -> 18.6
A34: 1007 | D34: Luminária tipo tartaruga com lâmpada compacta de 11W-127V | E34: un | G34: 18.6 | H34: =G34+F34 -> 18.6
A35: 1008 | D35: Luminária tipo tartaruga com lâmpada compacta de 11W-220V | E35: un | F35: 32.26 | G35: 18.6 | H35: =G35+F35 -> 50.86
A36: 1037 | D36: Luminária tipo tartaruga com lâmpada compacta de 15 W - 127 V | E36: un | G36: 18.6 | H36: =G36+F36 -> 18.6
A37: 1038 | D37: Luminária tipo tartaruga com lâmpada compacta de 15 W - 220 V | E37: un | G37: 18.6 | H37: =G37+F37 -> 18.6
A38: 1039 | D38: Luminária tipo tartaruga com lâmpada compacta de 20 W - 127 V | E38: un | G38: 18.6 | H38: =G38+F38 -> 18.6
A39: 1027 | D39: Luminária tipo tartaruga com lâmpada compacta de 20 W - 220 V | E39: un | G39: 18.6 | H39: =G39+F39 -> 18.6
A40: 1031 | D40: Luminária tipo tartaruga com lâmpada compacta de 20 ou 23W | E40: un | F40: 27.49 | G40: 23.94 | H40: =G40+F40 -> 51.43
H41: =G41+F41 -> 0
D42: SPOT | H42: =G42+F42 -> 0
A43: 1109 | B43: 1201001004 | D43: Luminária spot de sobrepor em aluminio com aleta plastica, inclusive duas lampadas led 10W-Fornecimento e instalação | E43: un | F43: 24.9 | G43: 18.6 | H43: =G43+F43 -> 43.5
A44: 1110 | D44: Luminária tipo spot duplo com 2 lâmpadas mini-spot 60W | E44: un | F44: 24.58 | G44: 18.6 | H44: =G44+F44 -> 43.18
A45: 1032 | D45: Luminaria tipo Spot c/ 1 lâmp. Incandescente 60 W - 127 V | E45: un | F45: 34.9 | G45: 18.6 | H45: =G45+F45 -> 53.5
A46: 1030 | D46: Luminaria tipo Spot c/ 2 lâmp. Incandescente 60 W - 127 V | E46: un | G46: 18.6 | H46: =G46+F46 -> 18.6
...

Sheet PLAN
E1: OBRA: Substituição de Elevadores Verticais no Hosp Reg de Campo Grande - MS
E2: TITULO: Instalações Elétricas
E3: DATA: 28-01-2025 | L3: 1.3 | M3: 1.3
A5: Cód. | B5: Agesul | C5: Sinapi | D5: Item | E5: Descrição | F5: Un | G5: Qtd. | H5: U.Mat | I5: U.MO | J5: T.Mat | K5: T.MO | L5: C/BDI Mat. | M5: C/BDI MO
A6: 2174 | B6: =VLOOKUP(A6,BOMPRECO!$A$8:$G$5003,2,FALSE) -> 0 | C6: =VLOOKUP(A6,BOMPRECO!$A$8:$G$5003,3,FALSE) -> 0 | D6: 1 | E6: =VLOOKUP(A6,BOMPRECO!$A$8:$G$5003,4,FALSE) -> Retirada e colocação de disjuntor monopolar | F6: =VLOOKUP(A6,BOMPRECO!$A$8:$G$5003,5,FALSE) -> un | G6: 2 | H6: =VLOOKUP(A6,BOMPRECO!$A$8:$G$5003,6,FALSE) -> 0 | I6: =VLOOKUP(A6,BOMPRECO!$A$8:$G$5003,7,FALSE) -> 2.47 | J6: =(G6*H6) -> 0 | K6: =(G6*I6) -> 4.94 | L6: =J6*$L$3 -> 0 | M6: =K6*$M$3 -> 6.422
A7: 2178 | B7: =VLOOKUP(A7,BOMPRECO!$A$8:$G$5003,2,FALSE) -> 0 | C7: =VLOOKUP(A7,BOMPRECO!$A$8:$G$5003,3,FALSE) -> 0 | D7: 2 | E7: =VLOOKUP(A7,BOMPRECO!$A$8:$G$5003,4,FALSE) -> Retirada e colocação de disjuntor tripolar | F7: =VLOOKUP(A7,BOMPRECO!$A$8:$G$5003,5,FALSE) -> un | G7: 5 | H7: =VLOOKUP(A7,BOMPRECO!$A$8:$G$5003,6,FALSE) -> 0 | I7: =VLOOKUP(A7,BOMPRECO!$A$8:$G$5003,7,FALSE) -> 7.4 | J7: =(G7*H7) -> 0 | K7: =(G7*I7) -> 37 | L7: =J7*$L$3 -> 0 | M7: =K7*$M$3 -> 48.1
A8: 2999 | B8: =VLOOKUP(A8,BOMPRECO!$A$8:$G$5003,2,FALSE) -> 0 | C8: =VLOOKUP(A8,BOMPRECO!$A$8:$G$5003,3,FALSE) -> 91924 | D8: 3 | E8: =VLOOKUP(A8,BOMPRECO!$A$8:$G$5003,4,FALSE) -> Fio de cobre isolação 750 V, # 1,5 mm² da Pirelli | F8: =VLOOKUP(A8,BOMPRECO!$A$8:$G$5003,5,FALSE) -> m | G8: 82 | H8: =VLOOKUP(A8,BOMPRECO!$A$8:$G$5003,6,FALSE) -> 0.87 | I8: =VLOOKUP(A8,BOMPRECO!$A$8:$G$5003,7,FALSE) -> 3.29 | J8: =(G8*H8) -> 71.34 | K8: =(G8*I8) -> 269.78 | L8: =J8*$L$3 -> 92.742 | M8: =K8*$M$3 -> 350.714
A9: 0 | B9: 0101003100 | C9: 0 | D9: 4 | E9: Instalações provisórias de luz e força para obras de porte pequeno | F9: un | G9: 1 | H9: =VLOOKUP(A9,BOMPRECO!$A$8:$G$5003,6,FALSE) -> #N/A | I9: =VLOOKUP(A9,BOMPRECO!$A$8:$G$5003,7,FALSE) -> #N/A | J9: =(G9*H9) -> #N/A | K9: =(G9*I9) -> #N/A | L9: =J9*$L$3 -> #N/A | M9: =K9*$M$3 -> #N/A
A10: 2142 | B10: 0201003076 | C10: =VLOOKUP(A10,BOMPRECO!$A$8:$G$5003,3,FALSE) -> 0 | D10: 5 | E10: SINAPI - 97661 - REMOCAO DE CABOS ELETRICOS, COM SECAO DE 10 MM2, FORMA MANUAL, SEM REAPROVEITAMENTO. AF_09/2023 | F10: =VLOOKUP(A10,BOMPRECO!$A$8:$G$5003,5,FALSE) -> m | G10: 840 | H10: =VLOOKUP(A10,BOMPRECO!$A$8:$G$5003,6,FALSE) -> 0 | I10: =VLOOKUP(A10,BOMPRECO!$A$8:$G$5003,7,FALSE) -> 0.5 | J10: =(G10*H10) -> 0 | K10: =(G10*I10) -> 420 | L10: =J10*$L$3 -> 0 | M10: =K10*$M$3 -> 546
A11: 2152 | B11: 0201003080 | C11: =VLOOKUP(A11,BOMPRECO!$A$8:$G$5003,3,FALSE) -> 0 | D11: 6 | E11: SINAPI - 97660 - REMOCAO DE INTERRUPTORES/TOMADAS ELETRICAS, DE FORMA MANUAL, SEM REAPROVEITAMENTO. AF_09/2023 | F11: =VLOOKUP(A11,BOMPRECO!$A$8:$G$5003,5,FALSE) -> un | G11: 3 | H11: =VLOOKUP(A11,BOMPRECO!$A$8:$G$5003,6,FALSE) -> 0 | I11: =VLOOKUP(A11,BOMPRECO!$A$8:$G$5003,7,FALSE) -> 0.33 | J11: =(G11*H11) -> 0 | K11: =(G11*I11) -> 0.99 | L11: =J11*$L$3 -> 0 | M11: =K11*$M$3 -> 1.287
A12: 2148 | B12: =VLOOKUP(A12,BOMPRECO!$A$8:$G$5003,2,FALSE) -> 0201004032 | C12: =VLOOKUP(A12,BOMPRECO!$A$8:$G$5003,3,FALSE) -> 0 | D12: 7 | E12: =VLOOKUP(A12,BOMPRECO!$A$8:$G$5003,4,FALSE) -> Retirada de eletroduto com bitola ate 2" | F12: =VLOOKUP(A12,BOMPRECO!$A$8:$G$5003,5,FALSE) -> m | G12: 240 | H12: =VLOOKUP(A12,BOMPRECO!$A$8:$G$5003,6,FALSE) -> 0 | I12: =VLOOKUP(A12,BOMPRECO!$A$8:$G$5003,7,FALSE) -> 1.21 | J12: =(G12*H12) -> 0 | K12: =(G12*I12) -> 290.4 | L12: =J12*$L$3 -> 0 | M12: =K12*$M$3 -> 377.52
A13: 1006 | B13: =VLOOKUP(A13,BOMPRECO!$A$8:$G$5003,2,FALSE) -> 1201001006 | C13: =VLOOKUP(A13,BOMPRECO!$A$8:$G$5003,3,FALSE) -> 0 | D13: 8 | E13: =VLOOKUP(A13,BOMPRECO!$A$8:$G$5003,4,FALSE) -> Luminária tipo tartaruga com lâmpada incandescente de 6W-127V | F13: =VLOOKUP(A13,BOMPRECO!$A$8:$G$5003,5,FALSE) -> un | G13: 8 | H13: =VLOOKUP(A13,BOMPRECO!$A$8:$G$5003,6,FALSE) -> 0 | I13: =VLOOKUP(A13,BOMPRECO!$A$8:$G$5003,7,FALSE) -> 18.6 | J13: =(G13*H13) -> 0 | K13: =(G13*I13) -> 148.8 | L13: =J13*$L$3 -> 0 | M13: =K13*$M$3 -> 193.44
A14: 1120 | B14: =VLOOKUP(A14,BOMPRECO!$A$8:$G$5003,2,FALSE) -> 1201001120 | C14: =VLOOKUP(A14,BOMPRECO!$A$8:$G$5003,3,FALSE) -> 97599 | D14: 9 | E14: =VLOOKUP(A14,BOMPRECO!$A$8:$G$5003,4,FALSE) -> Luminária de emergência de 30 leds, potencia de 2W, bateria de litio, autonomia de 6hs. | F14: =VLOOKUP(A14,BOMPRECO!$A$8:$G$5003,5,FALSE) -> un | G14: 8 | H14: =VLOOKUP(A14,BOMPRECO!$A$8:$G$5003,6,FALSE) -> 0 | I14: =VLOOKUP(A14,BOMPRECO!$A$8:$G$5003,7,FALSE) -> 0 | J14: =(G14*H14) -> 0 | K14: =(G14*I14) -> 0 | L14: =J14*$L$3 -> 0 | M14: =K14*$M$3 -> 0
A15: 2000 | B15: =VLOOKUP(A15,BOMPRECO!$A$8:$G$5003,2,FALSE) -> 1201002000 | D15: 10 | E15: =VLOOKUP(A15,BOMPRECO!$A$8:$G$5003,4,FALSE) -> Interruptor simples (1 modulo), 10A/250V, incluindo suporte e placa | F15: =VLOOKUP(A15,BOMPRECO!$A$8:$G$5003,5,FALSE) -> un | G15: 2 | H15: =VLOOKUP(A15,BOMPRECO!$A$8:$G$5003,6,FALSE) -> 0 | I15: =VLOOKUP(A15,BOMPRECO!$A$8:$G$5003,7,FALSE) -> 0 | J15: =(G15*H15) -> 0 | K15: =(G15*I15) -> 0 | L15: =J15*$L$3 -> 0 | M15: =K15*$M$3 -> 0
A16: 5550 | B16: =VLOOKUP(A16,BOMPRECO!$A$8:$G$5003,2,FALSE) -> 1201002036 | C16: =VLOOKUP(A16,BOMPRECO!$A$8:$G$5003,3,FALSE) -> 0 | D16: 11 | E16: =VLOOKUP(A16,BOMPRECO!$A$8:$G$5003,4,FALSE) -> Tomda dupla(2 modulos) 2P+T 10A, incluso condulete 3/4", com placa e suporte | F16: =VLOOKUP(A16,BOMPRECO!$A$8:$G$5003,5,FALSE) -> un | G16: 1 | H16: =VLOOKUP(A16,BOMPRECO!$A$8:$G$5003,6,FALSE) -> 0.84 | I16: =VLOOKUP(A16,BOMPRECO!$A$8:$G$5003,7,FALSE) -> 0.35 | J16: =(G16*H16) -> 0.84 | K16: =(G16*I16) -> 0.35 | L16: =J16*$L$3 -> 1.092 | M16: =K16*$M$3 -> 0.455
A17: 2052 | B17: =VLOOKUP(A17,BOMPRECO!$A$8:$G$5003,2,FALSE) -> 1201002052 | C17: =VLOOKUP(A17,BOMPRECO!$A$8:$G$5003,3,FALSE) -> 0 | D17: 12 | E17: =VLOOKUP(A17,BOMPRECO!$A$8:$G$5003,4,FALSE) -> Espelho cego 4"x4" | F17: =VLOOKUP(A17,BOMPRECO!$A$8:$G$5003,5,FALSE) -> un | G17: 1 | H17: =VLOOKUP(A17,BOMPRECO!$A$8:$G$5003,6,FALSE) -> 6.25 | I17: =VLOOKUP(A17,BOMPRECO!$A$8:$G$5003,7,FALSE) -> 1.39 | J17: =(G17*H17) -> 6.25 | K17: =(G17*I17) -> 1.39 | L17: =J17*$L$3 -> 8.125 | M17: =K17*$M$3 -> 1.807
A18: 3040 | B18: =VLOOKUP(A18,BOMPRECO!$A$8:$G$5003,2,FALSE) -> 1201003040 | C18: =VLOOKUP(A18,BOMPRECO!$A$8:$G$5003,3,FALSE) -> 91929 | D18: 13 | E18: =VLOOKUP(A18,BOMPRECO!$A$8:$G$5003,4,FALSE) -> Cabo de cobre flexível isolado, 4mm², anti-chama 0,6/1,0kV, para circuitos terminais | F18: =VLOOKUP(A18,BOMPRECO!$A$8:$G$5003,5,FALSE) -> m | G18: 360 | H18: =VLOOKUP(A18,BOMPRECO!$A$8:$G$5003,6,FALSE) -> 0 | I18: =VLOOKUP(A18,BOMPRECO!$A$8:$G$5003,7,FALSE) -> 0 | J18: =(G18*H18) -> 0 | K18: =(G18*I18) -> 0 | L18: =J18*$L$3 -> 0 | M18: =K18*$M$3 -> 0
A19: 3046 | B19: =VLOOKUP(A19,BOMPRECO!$A$8:$G$5003,2,FALSE) -> 1201003046 | C19: =VLOOKUP(A19,BOMPRECO!$A$8:$G$5003,3,FALSE) -> 91935 | D19: 14 | E19: =VLOOKUP(A19,BOMPRECO!$A$8:$G$5003,4,FALSE) -> Cabo de cobre flexível isolado, 16mm², anti-chama 0,6/1,0kV, para circuitos terminais | F19: =VLOOKUP(A19,BOMPRECO!$A$8:$G$5003,5,FALSE) -> m | G19: 480 | H19: =VLOOKUP(A19,BOMPRECO!$A$8:$G$5003,6,FALSE) -> 0 | I19: =VLOOKUP(A19,BOMPRECO!$A$8:$G$5003,7,FALSE) -> 0 | J19: =(G19*H19) -> 0 | K19: =(G19*I19) -> 0 | L19: =J19*$L$3 -> 0 | M19: =K19*$M$3 -> 0
A20: 4000 | B20: =VLOOKUP(A20,BOMPRECO!$A$8:$G$5003,2,FALSE) -> 1201004000 | C20: =VLOOKUP(A20,BOMPRECO!$A$8:$G$5003,3,FALSE) -> 0 | D20: 15 | E20: =VLOOKUP(A20,BOMPRECO!$A$8:$G$5003,4,FALSE) -> Eletroduto de PVC rígido roscável na bitola Ø 3/4" da Tigre | F20: =VLOOKUP(A20,BOMPRECO!$A$8:$G$5003,5,FALSE) -> m | G20: 120 | H20: =VLOOKUP(A20,BOMPRECO!$A$8:$G$5003,6,FALSE) -> 2.46 | I20: =VLOOKUP(A20,BOMPRECO!$A$8:$G$5003,7,FALSE) -> 8.98 | J20: =(G20*H20) -> 295.2 | K20: =(G20*I20) -> 1077.6 | L20: =J20*$L$3 -> 383.76 | M20: =K20*$M$3 -> 1400.88
A21: 4004 | B21: =VLOOKUP(A21,BOMPRECO!$A$8:$G$5003,2,FALSE) -> 1201004004 | C21: =VLOOKUP(A21,BOMPRECO!$A$8:$G$5003,3,FALSE) -> 0 | D21: 16 | E21: =VLOOKUP(A21,BOMPRECO!$A$8:$G$5003,4,FALSE) -> Eletroduto de PVC rígido roscável na bitola Ø 1.1/2" da Tigre | F21: =VLOOKUP(A21,BOMPRECO!$A$8:$G$5003,5,FALSE) -> m | G21: 120 | H21: =VLOOKUP(A21,BOMPRECO!$A$8:$G$5003,6,FALSE) -> 5.63 | I21: =VLOOKUP(A21,BOMPRECO!$A$8:$G$5003,7,FALSE) -> 13.47 | J21: =(G21*H21) -> 675.6 | K21: =(G21*I21) -> 1616.4 | L21: =J21*$L$3 -> 878.28 | M21: =K21*$M$3 -> 2101.32
A22: 4022 | B22: =VLOOKUP(A22,BOMPRECO!$A$8:$G$5003,2,FALSE) -> 1201004040 | C22: =VLOOKUP(A22,BOMPRECO!$A$8:$G$5003,3,FALSE) -> 0 | D22: 17 | E22: =VLOOKUP(A22,BOMPRECO!$A$8:$G$5003,4,FALSE) -> Eletroduto de F.G. pesado c/ conexões, na Ø 3/4" | F22: =VLOOKUP(A22,BOMPRECO!$A$8:$G$5003,5,FALSE) -> m | G22: 17 | H22: =VLOOKUP(A22,BOMPRECO!$A$8:$G$5003,6,FALSE) -> 0 | I22: =VLOOKUP(A22,BOMPRECO!$A$8:$G$5003,7,FALSE) -> 0 | J22: =(G22*H22) -> 0 | K22: =(G22*I22) -> 0 | L22: =J22*$L$3 -> 0 | M22: =K22*$M$3 -> 0
A23: 5040 | B23: =VLOOKUP(A23,BOMPRECO!$A$8:$G$5003,2,FALSE) -> 1201005040 | C23: =VLOOKUP(A23,BOMPRECO!$A$8:$G$5003,3,FALSE) -> 74130/001 | D23: 18 | E23: =VLOOKUP(A23,BOMPRECO!$A$8:$G$5003,4,FALSE) -> Disjuntor monopolar de 10 A | F23: =VLOOKUP(A23,BOMPRECO!$A$8:$G$5003,5,FALSE) -> un | G23: 2 | H23: =VLOOKUP(A23,BOMPRECO!$A$8:$G$5003,6,FALSE) -> 0 | I23: =VLOOKUP(A23,BOMPRECO!$A$8:$G$5003,7,FALSE) -> 0 | J23: =(G23*H23) -> 0 | K23: =(G23*I23) -> 0 | L23: =J23*$L$3 -> 0 | M23: =K23*$M$3 -> 0
A24: 5096 | B24: =VLOOKUP(A24,BOMPRECO!$A$8:$G$5003,2,FALSE) -> 1201005090 | C24: =VLOOKUP(A24,BOMPRECO!$A$8:$G$5003,3,FALSE) -> 74130/004 | D24: 19 | E24: =VLOOKUP(A24,BOMPRECO!$A$8:$G$5003,4,FALSE) -> Disjuntor tripolar de 40 A | F24: =VLOOKUP(A24,BOMPRECO!$A$8:$G$5003,5,FALSE) -> un | G24: 5 | H24: =VLOOKUP(A24,BOMPRECO!$A$8:$G$5003,6,FALSE) -> 0 | I24: =VLOOKUP(A24,BOMPRECO!$A$8:$G$5003,7,FALSE) -> 0 | J24: =(G24*H24) -> 0 | K24: =(G24*I24) -> 0 | L24: =J24*$L$3 -> 0 | M24: =K24*$M$3 -> 0
A25: 5221 | B25: =VLOOKUP(A25,BOMPRECO!$A$8:$G$5003,2,FALSE) -> 1201005168 | C25: =VLOOKUP(A25,BOMPRECO!$A$8:$G$5003,3,FALSE) -> 0 | D25: 20 | E25: =VLOOKUP(A25,BOMPRECO!$A$8:$G$5003,4,FALSE) -> Dispositivo DR 40 A bipolar, In residual 30 mA, da Siemens | F25: =VLOOKUP(A25,BOMPRECO!$A$8:$G$5003,5,FALSE) -> un | G25: 5 | H25: =VLOOKUP(A25,BOMPRECO!$A$8:$G$5003,6,FALSE) -> 390 | I25: =VLOOKUP(A25,BOMPRECO!$A$8:$G$5003,7,FALSE) -> 56.2 | J25: =(G25*H25) -> 1950 | K25: =(G25*I25) -> 281 | L25: =J25*$L$3 -> 2535 | M25: =K25*$M$3 -> 365.3
A26: 5400 | B26: =VLOOKUP(A26,BOMPRECO!$A$8:$G$5003,2,FALSE) -> 1201005400 | C26: =VLOOKUP(A26,BOMPRECO!$A$8:$G$5003,3,FALSE) -> 92869 | D26: 21 | E26: =VLOOKUP(A26,BOMPRECO!$A$8:$G$5003,4,FALSE) -> Caixa baixa em chapa de ferro estampado 4"x2" - retangular | F26: =VLOOKUP(A26,BOMPRECO!$A$8:$G$5003,5,FALSE) -> un | G26: 1 | H26: =VLOOKUP(A26,BOMPRECO!$A$8:$G$5003,6,FALSE) -> 0 | I26: =VLOOKUP(A26,BOMPRECO!$A$8:$G$5003,7,FALSE) -> 0 | J26: =(G26*H26) -> 0 | K26: =(G26*I26) -> 0 | L26: =J26*$L$3 -> 0 | M26: =K26*$M$3 -> 0
A27: 5402 | B27: =VLOOKUP(A27,BOMPRECO!$A$8:$G$5003,2,FALSE) -> 1201005403 | C27: =VLOOKUP(A27,BOMPRECO!$A$8:$G$5003,3,FALSE) -> 92872 | D27: 22 | E27: =VLOOKUP(A27,BOMPRECO!$A$8:$G$5003,4,FALSE) -> Caixa baixa em chapa de ferro estampado 4"x4" - quadrada | F27: =VLOOKUP(A27,BOMPRECO!$A$8:$G$5003,5,FALSE) -> un | G27: 1 | H27: =VLOOKUP(A27,BOMPRECO!$A$8:$G$5003,6,FALSE) -> 0 | I27: =VLOOKUP(A27,BOMPRECO!$A$8:$G$5003,7,FALSE) -> 0 | J27: =(G27*H27) -> 0 | K27: =(G27*I27) -> 0 | L27: =J27*$L$3 -> 0 | M27: =K27*$M$3 -> 0
... A30: 7006 | B30: =VLOOKUP(A30,BOMPRECO!$A$8:$G$5003,2,FALSE) -> 1201007006 | C30: =VLOOKUP(A30,BOMPRECO!$A$8:$G$5003,3,FALSE) -> 0 | D30: 25 | E30: =VLOOKUP(A30,BOMPRECO!$A$8:$G$5003,4,FALSE) -> Arame galvanizado no. 14 BWG | F30: =VLOOKUP(A30,BOMPRECO!$A$8:$G$5003,5,FALSE) -> m | G30: 4 | H30: =VLOOKUP(A30,BOMPRECO!$A$8:$G$5003,6,FALSE) -> 0.31 | I30: =VLOOKUP(A30,BOMPRECO!$A$8:$G$5003,7,FALSE) -> 0 | J30: =(G30*H30) -> 1.24 | K30: =(G30*I30) -> 0 | L30: =J30*$L$3 -> 1.612 | M30: =K30*$M$3 -> 0
A31: 0 | B31: 2501000510 | C31: 0 | D31: 26 | E31: CFTV instalado no canteiro de obras - câmera BULLET - fornecimento e instalação - Planilha padrão 000572 | F31: un | G31: 3 | H31: =VLOOKUP(A31,BOMPRECO!$A$8:$G$5003,6,FALSE) -> #N/A | I31: =VLOOKUP(A31,BOMPRECO!$A$8:$G$5003,7,FALSE) -> #N/A | J31: =(G31*H31) -> #N/A | K31: =(G31*I31) -> #N/A | L31: =J31*$L$3 -> #N/A | M31: =K31*$M$3 -> #N/A
B32: =VLOOKUP(A32,BOMPRECO!$A$8:$G$5003,2,FALSE) -> #N/A | C32: =VLOOKUP(A32,BOMPRECO!$A$8:$G$5003,3,FALSE) -> #N/A | D32: 27 | E32: =VLOOKUP(A32,BOMPRECO!$A$8:$G$5003,4,FALSE) -> #N/A | F32: =VLOOKUP(A32,BOMPRECO!$A$8:$G$5003,5,FALSE) -> #N/A | H32: =VLOOKUP(A32,BOMPRECO!$A$8:$G$5003,6,FALSE) -> #N/A | I32: =VLOOKUP(A32,BOMPRECO!$A$8:$G$5003,7,FALSE) -> #N/A | J32: =(G32*H32) -> #N/A | K32: =(G32*I32) -> #N/A | L32: =J32*$L$3 -> #N/A | M32: =K32*$M$3 -> #N/A
B33: =VLOOKUP(A33,BOMPRECO!$A$8:$G$5003,2,FALSE) -> #N/A | C33: =VLOOKUP(A33,BOMPRECO!$A$8:$G$5003,3,FALSE) -> #N/A | D33: 28 | E33: =VLOOKUP(A33,BOMPRECO!$A$8:$G$5003,4,FALSE) -> #N/A | F33: =VLOOKUP(A33,BOMPRECO!$A$8:$G$5003,5,FALSE) -> #N/A | H33: =VLOOKUP(A33,BOMPRECO!$A$8:$G$5003,6,FALSE) -> #N/A | I33: =VLOOKUP(A33,BOMPRECO!$A$8:$G$5003,7,FALSE) -> #N/A | J33: =(G33*H33) -> #N/A | K33: =(G33*I33) -> #N/A | L33: =J33*$L$3 -> #N/A | M33: =K33*$M$3 -> #N/A
B34: =VLOOKUP(A34,BOMPRECO!$A$8:$G$5003,2,FALSE) -> #N/A | C34: =VLOOKUP(A34,BOMPRECO!$A$8:$G$5003,3,FALSE) -> #N/A | D34: 29 | E34: =VLOOKUP(A34,BOMPRECO!$A$8:$G$5003,4,FALSE) -> #N/A | F34: =VLOOKUP(A34,BOMPRECO!$A$8:$G$5003,5,FALSE) -> #N/A | H34: =VLOOKUP(A34,BOMPRECO!$A$8:$G$5003,6,FALSE) -> #N/A | I34: =VLOOKUP(A34,BOMPRECO!$A$8:$G$5003,7,FALSE) -> #N/A | J34: =(G34*H34) -> #N/A | K34: =(G34*I34) -> #N/A | L34: =J34*$L$3 -> #N/A | M34: =K34*$M$3 -> #N/A
B35: =VLOOKUP(A35,BOMPRECO!$A$8:$G$5003,2,FALSE) -> #N/A | C35: =VLOOKUP(A35,BOMPRECO!$A$8:$G$5003,3,FALSE) -> #N/A | D35: 30 | E35: =VLOOKUP(A35,BOMPRECO!$A$8:$G$5003,4,FALSE) -> #N/A | F35: =VLOOKUP(A35,BOMPRECO!$A$8:$G$5003,5,FALSE) -> #N/A | H35: =VLOOKUP(A35,BOMPRECO!$A$8:$G$5003,6,FALSE) -> #N/A | I35: =VLOOKUP(A35,BOMPRECO!$A$8:$G$5003,7,FALSE) -> #N/A | J35: =(G35*H35) -> #N/A | K35: =(G35*I35) -> #N/A | L35: =J35*$L$3 -> #N/A | M35: =K35*$M$3 -> #N/A
B36: =VLOOKUP(A36,BOMPRECO!$A$8:$G$5003,2,FALSE) -> #N/A | C36: =VLOOKUP(A36,BOMPRECO!$A$8:$G$5003,3,FALSE) -> #N/A | D36: 31 | E36: =VLOOKUP(A36,BOMPRECO!$A$8:$G$5003,4,FALSE) -> #N/A | F36: =VLOOKUP(A36,BOMPRECO!$A$8:$G$5003,5,FALSE) -> #N/A | H36: =VLOOKUP(A36,BOMPRECO!$A$8:$G$5003,6,FALSE) -> #N/A | I36: =VLOOKUP(A36,BOMPRECO!$A$8:$G$5003,7,FALSE) -> #N/A | J36: =(G36*H36) -> #N/A | K36: =(G36*I36) -> #N/A | L36: =J36*$L$3 -> #N/A | M36: =K36*$M$3 -> #N/A
B37: =VLOOKUP(A37,BOMPRECO!$A$8:$G$5003,2,FALSE) -> #N/A | C37: =VLOOKUP(A37,BOMPRECO!$A$8:$G$5003,3,FALSE) -> #N/A | D37: 32 | E37: =VLOOKUP(A37,BOMPRECO!$A$8:$G$5003,4,FALSE) -> #N/A | F37: =VLOOKUP(A37,BOMPRECO!$A$8:$G$5003,5,FALSE) -> #N/A | H37: =VLOOKUP(A37,BOMPRECO!$A$8:$G$5003,6,FALSE) -> #N/A | I37: =VLOOKUP(A37,BOMPRECO!$A$8:$G$5003,7,FALSE) -> #N/A | J37: =(G37*H37) -> #N/A | K37: =(G37*I37) -> #N/A | L37: =J37*$L$3 -> #N/A | M37: =K37*$M$3 -> #N/A
B38: =VLOOKUP(A38,BOMPRECO!$A$8:$G$5003,2,FALSE) -> #N/A | C38: =VLOOKUP(A38,BOMPRECO!$A$8:$G$5003,3,FALSE) -> #N/A | D38: 33 | E38: =VLOOKUP(A38,BOMPRECO!$A$8:$G$5003,4,FALSE) -> #N/A | F38: =VLOOKUP(A38,BOMPRECO!$A$8:$G$5003,5,FALSE) -> #N/A | H38: =VLOOKUP(A38,BOMPRECO!$A$8:$G$5003,6,FALSE) -> #N/A | I38: =VLOOKUP(A38,BOMPRECO!$A$8:$G$5003,7,FALSE) -> #N/A | J38: =(G38*H38) -> #N/A | K38: =(G38*I38) -> #N/A | L38: =J38*$L$3 -> #N/A | M38: =K38*$M$3 -> #N/A
B39: =VLOOKUP(A39,BOMPRECO!$A$8:$G$5003,2,FALSE) -> #N/A | C39: =VLOOKUP(A39,BOMPRECO!$A$8:$G$5003,3,FALSE) -> #N/A | D39: 34 | E39: =VLOOKUP(A39,BOMPRECO!$A$8:$G$5003,4,FALSE) -> #N/A | F39: =VLOOKUP(A39,BOMPRECO!$A$8:$G$5003,5,FALSE) -> #N/A | H39: =VLOOKUP(A39,BOMPRECO!$A$8:$G$5003,6,FALSE) -> #N/A | I39: =VLOOKUP(A39,BOMPRECO!$A$8:$G$5003,7,FALSE) -> #N/A | J39: =(G39*H39) -> #N/A | K39: =(G39*I39) -> #N/A | L39: =J39*$L$3 -> #N/A | M39: =K39*$M$3 -> #N/A
B40: =VLOOKUP(A40,BOMPRECO!$A$8:$G$5003,2,FALSE) -> #N/A | C40: =VLOOKUP(A40,BOMPRECO!$A$8:$G$5003,3,FALSE) -> #N/A | D40: 35 | E40: =VLOOKUP(A40,BOMPRECO!$A$8:$G$5003,4,FALSE) -> #N/A | F40: =VLOOKUP(A40,BOMPRECO!$A$8:$G$5003,5,FALSE) -> #N/A | H40: =VLOOKUP(A40,BOMPRECO!$A$8:$G$5003,6,FALSE) -> #N/A | I40: =VLOOKUP(A40,BOMPRECO!$A$8:$G$5003,7,FALSE) -> #N/A | J40: =(G40*H40) -> #N/A | K40: =(G40*I40) -> #N/A | L40: =J40*$L$3 -> #N/A | M40: =K40*$M$3 -> #N/A
B41: =VLOOKUP(A41,BOMPRECO!$A$8:$G$5003,2,FALSE) -> #N/A | C41: =VLOOKUP(A41,BOMPRECO!$A$8:$G$5003,3,FALSE) -> #N/A | D41: 36 | E41: =VLOOKUP(A41,BOMPRECO!$A$8:$G$5003,4,FALSE) -> #N/A | F41: =VLOOKUP(A41,BOMPRECO!$A$8:$G$5003,5,FALSE) -> #N/A | H41: =VLOOKUP(A41,BOMPRECO!$A$8:$G$5003,6,FALSE) -> #N/A | I41: =VLOOKUP(A41,BOMPRECO!$A$8:$G$5003,7,FALSE) -> #N/A | J41: =(G41*H41) -> #N/A | K41: =(G41*I41) -> #N/A | L41: =J41*$L$3 -> #N/A | M41: =K41*$M$3 -> #N/A
B42: =VLOOKUP(A42,BOMPRECO!$A$8:$G$5003,2,FALSE) -> #N/A | C42: =VLOOKUP(A42,BOMPRECO!$A$8:$G$5003,3,FALSE) -> #N/A | D42: 37 | E42: =VLOOKUP(A42,BOMPRECO!$A$8:$G$5003,4,FALSE) -> #N/A | F42: =VLOOKUP(A42,BOMPRECO!$A$8:$G$5003,5,FALSE) -> #N/A | H42: =VLOOKUP(A42,BOMPRECO!$A$8:$G$5003,6,FALSE) -> #N/A | I42: =VLOOKUP(A42,BOMPRECO!$A$8:$G$5003,7,FALSE) -> #N/A | J42: =(G42*H42) -> #N/A | K42: =(G42*I42) -> #N/A | L42: =J42*$L$3 -> #N/A | M42: =K42*$M$3 -> #N/A
B43: =VLOOKUP(A43,BOMPRECO!$A$8:$G$5003,2,FALSE) -> #N/A | C43: =VLOOKUP(A43,BOMPRECO!$A$8:$G$5003,3,FALSE) -> #N/A | D43: 38 | E43: =VLOOKUP(A43,BOMPRECO!$A$8:$G$5003,4,FALSE) -> #N/A | F43: =VLOOKUP(A43,BOMPRECO!$A$8:$G$5003,5,FALSE) -> #N/A | H43: =VLOOKUP(A43,BOMPRECO!$A$8:$G$5003,6,FALSE) -> #N/A | I43: =VLOOKUP(A43,BOMPRECO!$A$8:$G$5003,7,FALSE) -> #N/A | J43: =(G43*H43) -> #N/A | K43: =(G43*I43) -> #N/A | L43: =J43*$L$3 -> #N/A | M43: =K43*$M$3 -> #N/A
...
