Workbook

Sheet ANALISE ISS
B2: Análise ISSQN
B3: LOTE: CONSTRUÇÃO DE PONTE EM CONCRETO ARMADO SOBRE O RIO ANHANDUÍ, NA RODOVIA CG-284, DIVISA DOS MUNICÍPIOS DE CAMPO GRANDE/MS E NOVA ALVORADA DO SUL/MS. COORDENADAS: 21° 33' 49.84'' S / 53° 52' 24.80" W.
B4: Código | C4: Descrição | D4: Unidade Medida | E4: Quantidade | F4: Custo Unitário | G4: Custo Total | H4: Porcentagem
B5: M0004 | C5: Aço CA 50 | D5: kg | E5: 59803.196 | F5: 7.6965 | G5: =E5*F5 -> 460275.3 | H5: =G5/$H$90 -> 0.36216316
B6: M1097 | C6: Pedra de mão ou rachão | D6: m³ | E6: 1890.0237 | F6: 118.906 | G6: =E6*F6 -> 224735.15 | H6: =G6/$H$90 -> 0.17683068
B7: M0424 | C7: Cimento portland cp ii - 32 - saco | D7: kg | E7: 182954.85 | F7: 0.731 | G7: =E7*F7 -> 133739.99 | H7: =G7/$H$90 -> 0.10523202
B8: M1968 | C8: Defensa metálica semimaleável simples | D8: un | E8: 52 | F8: 1300.4852 | G8: =E8*F8 -> 67625.23 | H8: =G8/$H$90 -> 0.053210257
B9: M0427 | C9: Cordoalha nua tipo cp 190 rb - d = 12,7 mm | D9: kg | E9: 5198.8125 | F9: 9.1241 | G9: =E9*F9 -> 47434.485 | H9: =G9/$H$90 -> 0.037323365
B10: M0082 | C10: Areia média lavada | D10: m³ | E10: 298.64964 | F10: 131.0845 | G10: =E10*F10 -> 39148.339 | H10: =G10/$H$90 -> 0.030803491
B11: M0447 | C11: Compensado resinado - e = 12 mm | D11: m² | E11: 969.28178 | F11: 30.6735 | G11: =E11*F11 -> 29731.265 | H11: =G11/$H$90 -> 0.023393757
B12: M0191 | C12: Brita 1 | D12: m³ | E12: 195.08647 | F12: 134.526 | G12: =E12*F12 -> 26244.202 | H12: =G12/$H$90 -> 0.020649996
B13: M0192 | C13: Brita 2 | D13: m³ | E13: 205.48552 | F13: 125.156 | G13: =E13*F13 -> 25717.746 | H13: =G13/$H$90 -> 0.020235759
B14: M1378 | C14: Chapa grossa em aço astm a36 | D14: kg | E14: 2110.2406 | F14: 11.2637 | G14: =E14*F14 -> 23769.117 | H14: =G14/$H$90 -> 0.0187025
B15: M0798 | C15: Apoio de neoprene fretado | D15: dm³ | E15: 133.12 | F15: 133.7087 | G15: =E15*F15 -> 17799.302 | H15: =G15/$H$90 -> 0.014005208
B16: M0290 | C16: Tábua - e = 2,5 cm e l = 10 cm | D16: m | E16: 5110.1939 | F16: 3.43 | G16: =E16*F16 -> 17527.965 | H16: =G16/$H$90 -> 0.013791709
... B84: M3504 | C84: Concreto | D84: m³ | E84: 414.72 | F84: 0 | G84: =E84*F84 -> 0 | H84: =G84/$H$90 -> 0
C87: ORÇAMENTO SEM DESONERAÇÃO
C88: Valor do Orçamento | H88: 5456841.4
C89: BDI adotado | H89: 0.2957
B90: a | C90: Total de Materiais a Descontar do ISSQN | H90: =SUM(G5:G84) -> 1270905.9
B91: b | C91: Total do Orçamento Referencial (Custo) | H91: =TRUNC(H88/(1+H89),2) -> 4211500.7
B92: c | C92: Percentual de Materiais (a/b) | H92: =H90/H91 -> 0.30177032
B93: d | C93: Percentual de Serviços (1 - c) | H93: =1-H92 -> 0.69822968
B94: e | C94: Aliquota de ISSQN do município | H94: 0.05
B95: f | C95: ISSQN Efetivo a ser pago (d x e) | H95: =ROUND(H94*H93,3) -> 0.035 | J95: =H95*100 -> 3.5
C97: ORÇAMENTO COM DESONERAÇÃO
C98: Valor do Orçamento | H98: 5552187.4
C99: BDI adotado | H99: 0.3353
B100: a | C100: Total de Materiais a Descontar do ISSQN | H100: =H90 -> 1270905.9
B101: b | C101: Total do Orçamento Referencial (Custo) | H101: =TRUNC(H98/(1+H99),2) -> 4158007.5
B102: c | C102: Percentual de Materiais (a/b) | H102: =H100/H101 -> 0.30565263
B103: d | C103: Percentual de Serviços (1 - c) | H103: =1-H102 -> 0.69434737
B104: e | C104: Aliquota de ISSQN do município | H104: 0.05
B105: f | C105: ISSQN Efetivo a ser pago (d x e) | H105: =ROUND(H104*H103,3) -> 0.035 | J105: =H105*100 -> 3.5

Sheet Construção e Restauração Rod
B2: Ofício-Circular nº 6044/2026 (SEI DNIT nº 25172698)
B3: Valores de referência para as taxas de BDI
B4: Descrição das Parcelas | D4: Construção e Restauração Rodoviária
D5: Pequeno Porte | F5: Médio Porte | H5: Grande Porte
B6: Despesas Indiretas | D6: % sobre PV | E6: % sobre CD | F6: % sobre PV | G6: % sobre CD | H6: % sobre PV | I6: % sobre CD
B7: Administração Central | C7: Variável - f (CD) | D7: =E7/(1+E$20/100) -> 4.6327489 | E7: 6 | F7: =G7/(1+G$20/100) -> 4.6928101 | G7: =E7 -> 6 | H7: =I7/(1+I$20/100) -> 4.7544491 | I7: =E7 -> 6
B8: Despesas Financeiras | C8: 1.12 | D8: =E8/(1+E$20/100) -> 1.033522 | E8: =E20-(E7+E9+E10+E13+E16+E17+E18) -> 1.3385427 | F8: =G8/(1+G$20/100) -> 1.0455407 | G8: =G20-(G7+G9+G10+G13+G16+G17+G18) -> 1.3367778 | H8: =I8/(1+I$20/100) -> 1.0578752 | I8: =I20-(I7+I9+I10+I13+I16+I17+I18) -> 1.335013
B9: Seguros e Garantias Contratuais | C9: 0,25% do PV | D9: 0.25 | E9: =D9*(1+E$20/100) -> 0.32378185 | F9: =D9 -> 0.25 | G9: =F9*(1+G$20/100) -> 0.31963791 | H9: =D9 -> 0.25 | I9: =H9*(1+I$20/100) -> 0.31549397
B10: Riscos | C10: 0,50% do PV | D10: 0.5 | E10: =D10*(1+E$20/100) -> 0.6475637 | F10: =D10 -> 0.5 | G10: =F10*(1+G$20/100) -> 0.63927582 | H10: =D10 -> 0.5 | I10: =H10*(1+I$20/100) -> 0.63098793
C11: Subtotal 1 | D11: =SUM(D7:D10) -> 6.4162709 | E11: =SUM(E7:E10) -> 8.3098882 | F11: =SUM(F7:F10) -> 6.4883508 | G11: =SUM(G7:G10) -> 8.2956916 | H11: =SUM(H7:H10) -> 6.5623243 | I11: =SUM(I7:I10) -> 8.2814949
B12: Benefícios | D12: % sobre PV | E12: % sobre CD | F12: % sobre PV | G12: % sobre CD | H12: % sobre PV | I12: % sobre CD
B13: Lucro | C13: Variável - f (CD) | D13: =E13/(1+E$20/100) -> 7.7212481 | E13: 10 | F13: =G13/(1+G$20/100) -> 6.6481476 | G13: 8.5 | H13: =I13/(1+I$20/100) -> 5.5468573 | I13: 7
C14: Subtotal 2 | D14: =D13 -> 7.7212481 | E14: =E13 -> 10 | F14: =F13 -> 6.6481476 | G14: =G13 -> 8.5 | H14: =H13 -> 5.5468573 | I14: =I13 -> 7
B15: Tributos | D15: % sobre PV | E15: % sobre CD | F15: % sobre PV | G15: % sobre CD | H15: % sobre PV | I15: % sobre CD
B16: PIS | C16: 0,65% do PV | D16: 0.65 | E16: =D16*(1+E$20/100) -> 0.84183281 | F16: =D16 -> 0.65 | G16: =F16*(1+G$20/100) -> 0.83105856 | H16: =D16 -> 0.65 | I16: =H16*(1+I$20/100) -> 0.82028431
B17: COFINS | C17: 3,00% do PV | D17: 3 | E17: =D17*(1+E$20/100) -> 3.8853822 | F17: =D17 -> 3 | G17: =F17*(1+G$20/100) -> 3.8356549 | H17: =D17 -> 3 | I17: =H17*(1+I$20/100) -> 3.7859276
B18: ISSQN* | C18: 5,00% do PV | D18: 5 | E18: =D18*(1+E$20/100) -> 6.475637 | F18: =D18 -> 5 | G18: =F18*(1+G$20/100) -> 6.3927582 | H18: =D18 -> 5 | I18: =H18*(1+I$20/100) -> 6.3098793
C19: Subtotal 3 | D19: =SUM(D16:D18) -> 8.65 | E19: =SUM(E16:E18) -> 11.202852 | F19: =SUM(F16:F18) -> 8.65 | G19: =SUM(G16:G18) -> 11.059472 | H19: =SUM(H16:H18) -> 8.65 | I19: =SUM(I16:I18) -> 10.916091
B20: Total - BDI (%) | D20: =D11+D14+D19 -> 22.787519 | E20: =((1+(E7/100+E13/100-($C8/100*E13/100)))/(1-($C8/100+D10/100+D9/100+D16/100+D17/100+D18/100))-1)*100 -> 29.51274 | F20: =F11+F14+F19 -> 21.786498 | G20: =((1+(G7/100+G13/100-($C8/100*G13/100)))/(1-($C8/100+F10/100+F9/100+F16/100+F17/100+F18/100))-1)*100 -> 27.855163 | H20: =H11+H14+H19 -> 20.759182 | I20: =((1+(I7/100+I13/100-($C8/100*I13/100)))/(1-($C8/100+H10/100+H9/100+H16/100+H17/100+H18/100))-1)*100 -> 26.197586
B22: Valores de referência para as taxas de BDI - Com desoneração
B23: =B4 -> Descrição das Parcelas | D23: =D4 -> Construção e Restauração Rodoviária
D24: =D5 -> Pequeno Porte | F24: =F5 -> Médio Porte | H24: =H5 -> Grande Porte
B25: Despesas Indiretas | D25: % sobre PV | E25: % sobre CD | F25: % sobre PV | G25: % sobre CD | H25: % sobre PV | I25: % sobre CD
B26: Administração Central | C26: Variável - f (CD) | D26: =E26/(1+E$40/100) -> 4.4929587 | E26: =E7 -> 6 | F26: =G26/(1+G$40/100) -> 4.5512076 | G26: =G7 -> 6 | H26: =I26/(1+I$40/100) -> 4.6109867 | I26: =I7 -> 6
B27: Despesas Financeiras | C27: =C8 -> 1.12 | D27: =E27/(1+E$40/100) -> 1.0361314 | E27: =E40-(E26+E28+E29+E32+E35+E36+E37+E38) -> 1.3836737 | F27: =G27/(1+G$40/100) -> 1.0477875 | G27: =G40-(G26+G28+G29+G32+G35+G36+G37+G38) -> 1.3813312 | H27: =I27/(1+I$40/100) -> 1.0597498 | I27: =I40-(I26+I28+I29+I32+I35+I36+I37+I38) -> 1.3789887
B28: Seguros e Garantias Contratuais | C28: 0,25% do PV | D28: 0.25 | E28: =D28*(1+E$40/100) -> 0.33385573 | F28: 0.25 | G28: =F28*(1+G$40/100) -> 0.32958285 | H28: 0.25 | I28: =H28*(1+I$40/100) -> 0.32530998
B29: Riscos | C29: 0,50% do PV | D29: 0.5 | E29: =D29*(1+E$40/100) -> 0.66771145 | F29: 0.5 | G29: =F29*(1+G$40/100) -> 0.65916571 | H29: 0.5 | I29: =H29*(1+I$40/100) -> 0.65061996
C30: Subtotal 1 | D30: =SUM(D26:D29) -> 6.2790902 | E30: =SUM(E26:E29) -> 8.3852408 | F30: =SUM(F26:F29) -> 6.3489951 | G30: =SUM(G26:G29) -> 8.3700797 | H30: =SUM(H26:H29) -> 6.4207365 | I30: =SUM(I26:I29) -> 8.3549186
B31: Benefícios | D31: % sobre PV | E31: % sobre CD | F31: % sobre PV | G31: % sobre CD | H31: % sobre PV | I31: % sobre CD
B32: Lucro | C32: Variável - f (CD) | D32: =E32/(1+E$40/100) -> 7.4882645 | E32: =E13 -> 10 | F32: =G32/(1+G$40/100) -> 6.4475442 | G32: =G13 -> 8.5 | H32: =I32/(1+I$40/100) -> 5.3794845 | I32: =I13 -> 7
C33: Subtotal 2 | D33: =D32 -> 7.4882645 | E33: =E32 -> 10 | F33: =F32 -> 6.4475442 | G33: =G32 -> 8.5 | H33: =H32 -> 5.3794845 | I33: =I32 -> 7
B34: Tributos | D34: % sobre PV | E34: % sobre CD | F34: % sobre PV | G34: % sobre CD | H34: % sobre PV | I34: % sobre CD
B35: PIS | C35: 0,65% do PV | D35: 0.65 | E35: =D35*(1+E$40/100) -> 0.86802489 | F35: 0.65 | G35: =F35*(1+G$40/100) -> 0.85691542 | H35: 0.65 | I35: =H35*(1+I$40/100) -> 0.84580595
B36: COFINS | C36: 3,00% do PV | D36: 3 | E36: =D36*(1+E$40/100) -> 4.0062687 | F36: 3 | G36: =F36*(1+G$40/100) -> 3.9549942 | H36: 3 | I36: =H36*(1+I$40/100) -> 3.9037198
B37: ISSQN* | C37: 5,00% do PV | D37: =D18 -> 5 | E37: =D37*(1+E$40/100) -> 6.6771145 | F37: =D37 -> 5 | G37: =F37*(1+G$40/100) -> 6.5916571 | H37: =D37 -> 5 | I37: =H37*(1+I$40/100) -> 6.5061996
B38: Contribuição Previdenciária sobre a Receita Bruta (CPRB) | C38: 2,70% do PV | D38: 2.7 | E38: =D38*(1+E$40/100) -> 3.6056419 | F38: 2.7 | G38: =F38*(1+G$40/100) -> 3.5594948 | H38: 2.7 | I38: =H38*(1+I$40/100) -> 3.5133478
C39: Subtotal 3 | D39: =SUM(D35:D38) -> 11.35 | E39: =SUM(E35:E38) -> 15.15705 | F39: =SUM(F35:F38) -> 11.35 | G39: =SUM(G35:G38) -> 14.963062 | H39: =SUM(H35:H38) -> 11.35 | I39: =SUM(I35:I38) -> 14.769073
B40: Total - BDI (%) | D40: =D30+D33+D39 -> 25.117355 | E40: =((1+(E26/100+E32/100-($C27/100*E32/100)))/(1-($C27/100+D29/100+D28/100+D35/100+D36/100+D37/100+D38/100))-1)*100 -> 33.542291 | F40: =F30+F33+F39 -> 24.146539 | G40: =((1+(G26/100+G32/100-($C27/100*G32/100)))/(1-($C27/100+F29/100+F28/100+F35/100+F36/100+F37/100+F38/100))-1)*100 -> 31.833141 | H40: =H30+H33+H39 -> 23.150221 | I40: =((1+(I26/100+I32/100-($C27/100*I32/100)))/(1-($C27/100+H29/100+H28/100+H35/100+H36/100+H37/100+H38/100))-1)*100 -> 30.123992
B42: PV = Preço de Venda
B43: CD = Custo Direto
...

Sheet Construção de Obras de Arte Esp
B2: ='Construção e Restauração Rod'!B2 -> Ofício-Circular nº 6044/2026 (SEI DNIT nº 25172698)
B3: Valores de referência para as taxas de BDI
B4: Descrição das Parcelas | D4: Conservação Rodoviária | F4: Construção de Obras de Arte Especiais
F5: Pequeno Porte | H5: Médio Porte | J5: Grande Porte
B6: Despesas Indiretas | D6: % sobre PV | E6: % sobre CD | F6: % sobre PV | G6: % sobre CD | H6: % sobre PV | I6: % sobre CD | J6: % sobre PV | K6: % sobre CD
B7: Administração Central | C7: Variável - f (CD) | D7: =E7/(1+E$20/100) -> 6.662938 | E7: 9 | F7: =G7/(1+G$20/100) -> 6.1739957 | G7: 8 | H7: =I7/(1+I$20/100) -> 6.2526631 | I7: =G7 -> 8 | J7: =K7/(1+K$20/100) -> 6.3333612 | K7: =G7 -> 8
B8: Despesas Financeiras | C8: 1.12 | D8: =E8/(1+E$20/100) -> 1.0205001 | E8: =E20-(E7+E9+E10+E13+E16+E17+E18) -> 1.3784461 | F8: =G8/(1+G$20/100) -> 1.0335641 | G8: =G20-(G7+G9+G10+G13+G16+G17+G18) -> 1.3392482 | H8: =I8/(1+I$20/100) -> 1.0455933 | I8: =I20-(I7+I9+I10+I13+I16+I17+I18) -> 1.3377894 | J8: =K8/(1+K$20/100) -> 1.0579331 | K8: =K20-(K7+K9+K10+K13+K16+K17+K18) -> 1.3363306
B9: Seguros e Garantias Contratuais | C9: 0,25% do PV | D9: 0.25 | E9: =D9*(1+E$20/100) -> 0.33768887 | F9: 0.25 | G9: =F9*(1+G$20/100) -> 0.32393933 | H9: =F9 -> 0.25 | I9: =H9*(1+I$20/100) -> 0.31986371 | J9: =F9 -> 0.25 | K9: =J9*(1+K$20/100) -> 0.31578809
B10: Riscos | C10: 0,50% do PV | D10: 0.5 | E10: =D10*(1+E$20/100) -> 0.67537774 | F10: 0.5 | G10: =F10*(1+G$20/100) -> 0.64787865 | H10: =F10 -> 0.5 | I10: =H10*(1+I$20/100) -> 0.63972741 | J10: =F10 -> 0.5 | K10: =J10*(1+K$20/100) -> 0.63157617
C11: Subtotal 1 | D11: =SUM(D7:D10) -> 8.4334381 | E11: =SUM(E7:E10) -> 11.391513 | F11: =SUM(F7:F10) -> 7.9575597 | G11: =SUM(G7:G10) -> 10.311066 | H11: =SUM(H7:H10) -> 8.0482564 | I11: =SUM(I7:I10) -> 10.297381 | J11: =SUM(J7:J10) -> 8.1412942 | K11: =SUM(K7:K10) -> 10.283695
B12: Benefícios | D12: % sobre PV | E12: % sobre CD | F12: % sobre PV | G12: % sobre CD | H12: % sobre PV | I12: % sobre CD | J12: % sobre PV | K12: % sobre CD
B13: Lucro | C13: Variável - f (CD) | D13: =E13/(1+E$20/100) -> 8.8839173 | E13: 12 | F13: =G13/(1+G$20/100) -> 7.7174946 | G13: 10 | H13: =I13/(1+I$20/100) -> 6.6434546 | I13: 8.5 | J13: =K13/(1+K$20/100) -> 5.541691 | K13: 7
C14: Subtotal 2 | D14: =D13 -> 8.8839173 | E14: =E13 -> 12 | F14: =F13 -> 7.7174946 | G14: =G13 -> 10 | H14: =H13 -> 6.6434546 | I14: =I13 -> 8.5 | J14: =J13 -> 5.541691 | K14: =K13 -> 7
B15: Tributos | D15: % sobre PV | E15: % sobre CD | F15: % sobre PV | G15: % sobre CD | H15: % sobre PV | I15: % sobre CD | J15: % sobre PV | K15: % sobre CD
B16: PIS | C16: 0,65% do PV | D16: 0.65 | E16: =D16*(1+E$20/100) -> 0.87799106 | F16: 0.65 | G16: =F16*(1+G$20/100) -> 0.84224225 | H16: =F16 -> 0.65 | I16: =H16*(1+I$20/100) -> 0.83164564 | J16: =F16 -> 0.65 | K16: =J16*(1+K$20/100) -> 0.82104902
B17: COFINS | C17: 3,00% do PV | D17: 3 | E17: =D17*(1+E$20/100) -> 4.0522664 | F17: 3 | G17: =F17*(1+G$20/100) -> 3.8872719 | H17: =F17 -> 3 | I17: =H17*(1+I$20/100) -> 3.8383645 | J17: =F17 -> 3 | K17: =J17*(1+K$20/100) -> 3.789457
B18: ISSQN* | C18: 5,00% do PV | D18: 5 | E18: =D18*(1+E$20/100) -> 6.7537774 | F18: ='ANALISE ISS'!J95 -> 3.5 | G18: =F18*(1+G$20/100) -> 4.5351506 | H18: =F18 -> 3.5 | I18: =H18*(1+I$20/100) -> 4.4780919 | J18: =F18 -> 3.5 | K18: =J18*(1+K$20/100) -> 4.4210332
C19: Subtotal 3 | D19: =SUM(D16:D18) -> 8.65 | E19: =SUM(E16:E18) -> 11.684035 | F19: =SUM(F16:F18) -> 7.15 | G19: =SUM(G16:G18) -> 9.2646648 | H19: =SUM(H16:H18) -> 7.15 | I19: =SUM(I16:I18) -> 9.148102 | J19: =SUM(J16:J18) -> 7.15 | K19: =SUM(K16:K18) -> 9.0315392
B20: Total - BDI (%) | D20: =D11+D14+D19 -> 25.967355 | E20: =((1+(E7/100+E13/100-($C8/100*E13/100)))/(1-($C8/100+D10/100+D9/100+D16/100+D17/100+D18/100))-1)*100 -> 35.075548 | F20: =F11+F14+F19 -> 22.825054 | G20: =((1+(G7/100+G13/100-($C8/100*G13/100)))/(1-($C8/100+F10/100+F9/100+F16/100+F17/100+F18/100))-1)*100 -> 29.575731 | H20: =H11+H14+H19 -> 21.841711 | I20: =((1+(I7/100+I13/100-($C8/100*I13/100)))/(1-($C8/100+H10/100+H9/100+H16/100+H17/100+H18/100))-1)*100 -> 27.945483 | J20: =J11+J14+J19 -> 20.832985 | K20: =((1+(K7/100+K13/100-($C8/100*K13/100)))/(1-($C8/100+J10/100+J9/100+J16/100+J17/100+J18/100))-1)*100 -> 26.315234
B22: Valores de referência para as taxas de BDI - Com desoneração
B23: Descrição das Parcelas | D23: =D4 -> Conservação Rodoviária | F23: =F4 -> Construção de Obras de Arte Especiais
F24: =F5 -> Pequeno Porte | H24: =H5 -> Médio Porte | J24: =J5 -> Grande Porte
B25: Despesas Indiretas | D25: =D6 -> % sobre PV | E25: =E6 -> % sobre CD | F25: =F6 -> % sobre PV | G25: =G6 -> % sobre CD | H25: =H6 -> % sobre PV | I25: =I6 -> % sobre CD | J25: =J6 -> % sobre PV | K25: =K6 -> % sobre CD
B26: =B7 -> Administração Central | C26: Variável - f (CD) | D26: =E26/(1+E$40/100) -> 6.4618882 | E26: =E7 -> 9 | F26: =G26/(1+G$40/100) -> 5.8889794 | G26: =G7 -> 8 | H26: =I26/(1+I$40/100) -> 5.9640152 | I26: =I7 -> 8 | J26: =K26/(1+K$40/100) -> 6.0409879 | K26: =K7 -> 8
B27: =B8 -> Despesas Financeiras | C27: =C8 -> 1.12 | D27: =E27/(1+E$40/100) -> 1.0235025 | E27: =E40-(E26+E28+E29+E32+E35+E36+E37+E38) -> 1.4255156 | F27: =G27/(1+G$40/100) -> 1.0375543 | G27: =G40-(G26+G28+G29+G32+G35+G36+G37+G38) -> 1.4094861 | H27: =I27/(1+I$40/100) -> 1.0490282 | I27: =I40-(I26+I28+I29+I32+I35+I36+I37+I38) -> 1.4071436 | J27: =K27/(1+K$40/100) -> 1.0607983 | K27: =K40-(K26+K28+K29+K32+K35+K36+K37+K38) -> 1.4048011
B28: =B9 -> Seguros e Garantias Contratuais | C28: 0,25% do PV | D28: 0.25 | E28: =D28*(1+E$40/100) -> 0.34819544 | F28: 0.25 | G28: =F28*(1+G$40/100) -> 0.33961742 | H28: 0.25 | I28: =H28*(1+I$40/100) -> 0.33534455 | J28: 0.25 | K28: =J28*(1+K$40/100) -> 0.33107168
B29: =B10 -> Riscos | C29: 0,50% do PV | D29: 0.5 | E29: =D29*(1+E$40/100) -> 0.69639087 | F29: 0.5 | G29: =F29*(1+G$40/100) -> 0.67923485 | H29: 0.5 | I29: =H29*(1+I$40/100) -> 0.6706891 | J29: 0.5 | K29: =J29*(1+K$40/100) -> 0.66214335
C30: Subtotal 1 | D30: =SUM(D26:D29) -> 8.2353907 | E30: =SUM(E26:E29) -> 11.470102 | F30: =SUM(F26:F29) -> 7.6765337 | G30: =SUM(G26:G29) -> 10.428338 | H30: =SUM(H26:H29) -> 7.7630434 | I30: =SUM(I26:I29) -> 10.413177 | J30: =SUM(J26:J29) -> 7.8517863 | K30: =SUM(K26:K29) -> 10.398016
B31: Benefícios | D31: % sobre PV | E31: % sobre CD | F31: % sobre PV | G31: % sobre CD | H31: % sobre PV | I31: % sobre CD | J31: % sobre PV | K31: % sobre CD
B32: =B13 -> Lucro | C32: Variável - f (CD) | D32: =E32/(1+E$40/100) -> 8.615851 | E32: =E13 -> 12 | F32: =G32/(1+G$40/100) -> 7.3612242 | G32: =G13 -> 10 | H32: =I32/(1+I$40/100) -> 6.3367662 | I32: =I13 -> 8.5 | J32: =K32/(1+K$40/100) -> 5.2858645 | K32: =K13 -> 7
C33: Subtotal 2 | D33: =D32 -> 8.615851 | E33: =E32 -> 12 | F33: =F32 -> 7.3612242 | G33: =G32 -> 10 | H33: =H32 -> 6.3367662 | I33: =I32 -> 8.5 | J33: =J32 -> 5.2858645 | K33: =K32 -> 7
B34: Tributos | D34: % sobre PV | E34: % sobre CD | F34: % sobre PV | G34: % sobre CD | H34: % sobre PV | I34: % sobre CD | J34: % sobre PV | K34: % sobre CD
B35: =B16 -> PIS | C35: 0,65% do PV | D35: 0.65 | E35: =D35*(1+E$40/100) -> 0.90530814 | F35: 0.65 | G35: =F35*(1+G$40/100) -> 0.8830053 | H35: 0.65 | I35: =H35*(1+I$40/100) -> 0.87189583 | J35: 0.65 | K35: =J35*(1+K$40/100) -> 0.86078636
B36: =B17 -> COFINS | C36: 3,00% do PV | D36: 3 | E36: =D36*(1+E$40/100) -> 4.1783452 | F36: 3 | G36: =F36*(1+G$40/100) -> 4.0754091 | H36: 3 | I36: =H36*(1+I$40/100) -> 4.0241346 | J36: 3 | K36: =J36*(1+K$40/100) -> 3.9728601
B37: =B18 -> ISSQN* | C37: 5,00% do PV | D37: 5 | E37: =D37*(1+E$40/100) -> 6.9639087 | F37: 5 | G37: =F37*(1+G$40/100) -> 6.7923485 | H37: 5 | I37: =H37*(1+I$40/100) -> 6.706891 | J37: 5 | K37: =J37*(1+K$40/100) -> 6.6214335
B38: Contribuição Previdenciária sobre a Receita Bruta (CPRB) | C38: 2,70% do PV | D38: 2.7 | E38: =D38*(1+E$40/100) -> 3.7605107 | F38: 2.7 | G38: =F38*(1+G$40/100) -> 3.6678682 | H38: 2.7 | I38: =H38*(1+I$40/100) -> 3.6217211 | J38: 2.7 | K38: =J38*(1+K$40/100) -> 3.5755741
C39: Subtotal 3 | D39: =SUM(D35:D38) -> 11.35 | E39: =SUM(E35:E38) -> 15.808073 | F39: =SUM(F35:F38) -> 11.35 | G39: =SUM(G35:G38) -> 15.418631 | H39: =SUM(H35:H38) -> 11.35 | I39: =SUM(I35:I38) -> 15.224643 | J39: =SUM(J35:J38) -> 11.35 | K39: =SUM(K35:K38) -> 15.030654
B40: Total - BDI (%) | D40: =D30+D33+D39 -> 28.201242 | E40: =((1+(E26/100+E32/100-($C27/100*E32/100)))/(1-($C27/100+D29/100+D28/100+D35/100+D36/100+D37/100+D38/100))-1)*100 -> 39.278175 | F40: =F30+F33+F39 -> 26.387758 | G40: =((1+(G26/100+G32/100-($C27/100*G32/100)))/(1-($C27/100+F29/100+F28/100+F35/100+F36/100+F37/100+F38/100))-1)*100 -> 35.846969 | H40: =H30+H33+H39 -> 25.44981 | I40: =((1+(I26/100+I32/100-($C27/100*I32/100)))/(1-($C27/100+H29/100+H28/100+H35/100+H36/100+H37/100+H38/100))-1)*100 -> 34.13782 | J40: =J30+J33+J39 -> 24.487651 | K40: =((1+(K26/100+K32/100-($C27/100*K32/100)))/(1-($C27/100+J29/100+J28/100+J35/100+J36/100+J37/100+J38/100))-1)*100 -> 32.42867
B42: PV = Preço de Venda
B43: CD = Custo Direto
...

Sheet Recuperação, Ref e Alarg OAE
B2: ='Construção e Restauração Rod'!B2 -> Ofício-Circular nº 6044/2026 (SEI DNIT nº 25172698)
B3: Valores de referência para as taxas de BDI
B4: Descrição das Parcelas | D4: Recuperação, Reforço e Alargamento de Obras de Arte Especiais | J4: Construção Ferroviária | L4: Obras Hidroviárias
D5: Pequeno Porte | F5: Médio Porte | H5: Grande Porte
B6: Despesas Indiretas | D6: % sobre PV | E6: % sobre CD | F6: % sobre PV | G6: % sobre CD | H6: % sobre PV | I6: % sobre CD | J6: % sobre PV | K6: % sobre CD | L6: % sobre PV | M6: % sobre CD
B7: Administração Central | C7: Variável - f (CD) | D7: =E7/(1+E$20/100) -> 6.662938 | E7: 9 | F7: =G7/(1+G$20/100) -> 6.7737703 | G7: =E7 -> 9 | H7: =I7/(1+I$20/100) -> 6.8883521 | I7: =E7 -> 9 | J7: =K7/(1+K$20/100) -> 4.7544491 | K7: 6 | L7: =M7/(1+M$20/100) -> 5.4508556 | M7: 7
B8: Despesas Financeiras | C8: 1.12 | D8: =E8/(1+E$20/100) -> 1.0205001 | E8: =E20-(E7+E9+E10+E13+E16+E17+E18) -> 1.3784461 | F8: =G8/(1+G$20/100) -> 1.0357042 | G8: =G20-(G7+G9+G10+G13+G16+G17+G18) -> 1.376093 | H8: =I8/(1+I$20/100) -> 1.0514226 | I8: =I20-(I7+I9+I10+I13+I16+I17+I18) -> 1.3737398 | J8: =K8/(1+K$20/100) -> 1.0578752 | K8: =K20-(K7+K9+K10+K13+K16+K17+K18) -> 1.335013 | L8: =M8/(1+M$20/100) -> 1.050229 | M8: =M20-(M7+M9+M10+M13+M16+M17+M18) -> 1.3487063
B9: Seguros e Garantias Contratuais | C9: 0,25% do PV | D9: 0.25 | E9: =D9*(1+E$20/100) -> 0.33768887 | F9: =D9 -> 0.25 | G9: =F9*(1+G$20/100) -> 0.33216361 | H9: =D9 -> 0.25 | I9: =H9*(1+I$20/100) -> 0.32663835 | J9: 0.25 | K9: =J9*(1+K$20/100) -> 0.31549397 | L9: 0.25 | M9: =L9*(1+M$20/100) -> 0.32105051
B10: Riscos | C10: 0,50% do PV | D10: 0.5 | E10: =D10*(1+E$20/100) -> 0.67537774 | F10: =D10 -> 0.5 | G10: =F10*(1+G$20/100) -> 0.66432722 | H10: =D10 -> 0.5 | I10: =H10*(1+I$20/100) -> 0.65327671 | J10: 0.5 | K10: =J10*(1+K$20/100) -> 0.63098793 | L10: 0.5 | M10: =L10*(1+M$20/100) -> 0.64210103
C11: Subtotal 1 | D11: =SUM(D7:D10) -> 8.4334381 | E11: =SUM(E7:E10) -> 11.391513 | F11: =SUM(F7:F10) -> 8.5594745 | G11: =SUM(G7:G10) -> 11.372584 | H11: =SUM(H7:H10) -> 8.6897747 | I11: =SUM(I7:I10) -> 11.353655 | J11: =SUM(J7:J10) -> 6.5623243 | K11: =SUM(K7:K10) -> 8.2814949 | ... M11: =SUM(M7:M10) -> 9.3118578
B12: Benefícios | D12: % sobre PV | E12: % sobre CD | F12: % sobre PV | G12: % sobre CD | H12: % sobre PV | I12: % sobre CD | J12: % sobre PV | K12: % sobre CD | L12: % sobre PV | M12: % sobre CD
B13: Lucro | C13: Variável - f (CD) | D13: =E13/(1+E$20/100) -> 8.8839173 | E13: 12 | F13: =G13/(1+G$20/100) -> 7.5264114 | G13: 10 | H13: =I13/(1+I$20/100) -> 6.1229796 | I13: 8 | J13: =K13/(1+K$20/100) -> 5.5468573 | K13: 7 | L13: =M13/(1+M$20/100) -> 6.2295493 | M13: 8
C14: Subtotal 2 | D14: =D13 -> 8.8839173 | E14: =E13 -> 12 | F14: =F13 -> 7.5264114 | G14: =G13 -> 10 | H14: =H13 -> 6.1229796 | I14: =I13 -> 8 | J14: =J13 -> 5.5468573 | K14: =K13 -> 7 | ... M14: =M13 -> 8
B15: Tributos | D15: % sobre PV | E15: % sobre CD | F15: % sobre PV | G15: % sobre CD | H15: % sobre PV | I15: % sobre CD | J15: % sobre PV | K15: % sobre CD | L15: % sobre PV | M15: % sobre CD
B16: PIS | C16: 0,65% do PV | D16: 0.65 | E16: =D16*(1+E$20/100) -> 0.87799106 | F16: =D16 -> 0.65 | G16: =F16*(1+G$20/100) -> 0.86362539 | H16: =D16 -> 0.65 | I16: =H16*(1+I$20/100) -> 0.84925972 | J16: 0.65 | K16: =J16*(1+K$20/100) -> 0.82028431 | L16: 0.65 | M16: =L16*(1+M$20/100) -> 0.83473134
B17: COFINS | C17: 3,00% do PV | D17: 3 | E17: =D17*(1+E$20/100) -> 4.0522664 | F17: =D17 -> 3 | G17: =F17*(1+G$20/100) -> 3.9859633 | H17: =D17 -> 3 | I17: =H17*(1+I$20/100) -> 3.9196603 | J17: 3 | K17: =J17*(1+K$20/100) -> 3.7859276 | L17: 3 | M17: =L17*(1+M$20/100) -> 3.8526062
B18: ISSQN* | C18: 5,00% do PV | D18: 5 | E18: =D18*(1+E$20/100) -> 6.7537774 | F18: =D18 -> 5 | G18: =F18*(1+G$20/100) -> 6.6432722 | H18: =D18 -> 5 | I18: =H18*(1+I$20/100) -> 6.5327671 | J18: 5 | K18: =J18*(1+K$20/100) -> 6.3098793 | L18: 5 | M18: =L18*(1+M$20/100) -> 6.4210103
C19: Subtotal 3 | D19: =SUM(D16:D18) -> 8.65 | E19: =SUM(E16:E18) -> 11.684035 | F19: =SUM(F16:F18) -> 8.65 | G19: =SUM(G16:G18) -> 11.492861 | H19: =SUM(H16:H18) -> 8.65 | I19: =SUM(I16:I18) -> 11.301687 | J19: =SUM(J16:J18) -> 8.65 | K19: =SUM(K16:K18) -> 10.916091 | ... M19: =SUM(M16:M18) -> 11.108348
B20: Total - BDI (%) | D20: =D11+D14+D19 -> 25.967355 | E20: =((1+(E7/100+E13/100-($C8/100*E13/100)))/(1-($C8/100+D10/100+D9/100+D16/100+D17/100+D18/100))-1)*100 -> 35.075548 | F20: =F11+F14+F19 -> 24.735886 | G20: =((1+(G7/100+G13/100-($C8/100*G13/100)))/(1-($C8/100+F10/100+F9/100+F16/100+F17/100+F18/100))-1)*100 -> 32.865445 | H20: =H11+H14+H19 -> 23.462754 | I20: =((1+(I7/100+I13/100-($C8/100*I13/100)))/(1-($C8/100+H10/100+H9/100+H16/100+H17/100+H18/100))-1)*100 -> 30.655342 | J20: =J11+J14+J19 -> 20.759182 | K20: =((1+(K7/100+K13/100-($C8/100*K13/100)))/(1-($C8/100+J10/100+J9/100+J16/100+J17/100+J18/100))-1)*100 -> 26.197586 | L20: =L11+L14+L19 -> 22.130634 | M20: =((1+(M7/100+M13/100-($C8/100*M13/100)))/(1-($C8/100+L10/100+L9/100+L16/100+L17/100+L18/100))-1)*100 -> 28.420206
B22: Valores de referência para as taxas de BDI - Com desoneração
B23: Descrição das Parcelas | D23: =D4 -> Recuperação, Reforço e Alargamento de Obras de Arte Especiais | J23: =J4 -> Construção Ferroviária | L23: =L4 -> Obras Hidroviárias
D24: =D5 -> Pequeno Porte | F24: =F5 -> Médio Porte | H24: =H5 -> Grande Porte
B25: Despesas Indiretas | D25: % sobre PV | E25: % sobre CD | F25: % sobre PV | G25: % sobre CD | H25: % sobre PV | I25: % sobre CD | J25: % sobre PV | K25: % sobre CD | L25: % sobre PV | M25: % sobre CD
B26: Administração Central | C26: Variável - f (CD) | D26: =E26/(1+E$40/100) -> 6.4618882 | E26: =E7 -> 9 | F26: =G26/(1+G$40/100) -> 6.5693762 | G26: =G7 -> 9 | H26: =I26/(1+I$40/100) -> 6.6805006 | I26: =I7 -> 9 | J26: =K26/(1+K$40/100) -> 4.6109867 | K26: =K7 -> 6 | L26: =M26/(1+M$40/100) -> 5.2863796 | M26: =M7 -> 7
B27: Despesas Financeiras | C27: =C8 -> 1.12 | D27: =E27/(1+E$40/100) -> 1.0235025 | E27: =E40-(E26+E28+E29+E32+E35+E36+E37+E38) -> 1.4255156 | F27: =G27/(1+G$40/100) -> 1.0382478 | G27: =G40-(G26+G28+G29+G32+G35+G36+G37+G38) -> 1.4223923 | H27: =I27/(1+I$40/100) -> 1.0534919 | I27: =I40-(I26+I28+I29+I32+I35+I36+I37+I38) -> 1.419269 | J27: =K27/(1+K$40/100) -> 1.0597498 | K27: =K40-(K26+K28+K29+K32+K35+K36+K37+K38) -> 1.3789887 | L27: =M27/(1+M$40/100) -> 1.0523343 | M27: =M40-(M26+M28+M29+M32+M35+M36+M37+M38) -> 1.3934566
B28: Seguros e Garantias Contratuais | C28: 0,25% do PV | D28: 0.25 | E28: =D28*(1+E$40/100) -> 0.34819544 | F28: 0.25 | G28: =F28*(1+G$40/100) -> 0.34249827 | H28: 0.25 | I28: =H28*(1+I$40/100) -> 0.33680111 | J28: 0.25 | K28: =J28*(1+K$40/100) -> 0.32530998 | L28: 0.25 | M28: =L28*(1+M$40/100) -> 0.33103941
B29: Riscos | C29: 0,50% do PV | D29: 0.5 | E29: =D29*(1+E$40/100) -> 0.69639087 | F29: 0.5 | G29: =F29*(1+G$40/100) -> 0.68499654 | H29: 0.5 | I29: =H29*(1+I$40/100) -> 0.67360221 | J29: 0.5 | K29: =J29*(1+K$40/100) -> 0.65061996 | L29: 0.5 | M29: =L29*(1+M$40/100) -> 0.66207882
C30: Subtotal 1 | D30: =SUM(D26:D29) -> 8.2353907 | E30: =SUM(E26:E29) -> 11.470102 | F30: =SUM(F26:F29) -> 8.357624 | G30: =SUM(G26:G29) -> 11.449887 | H30: =SUM(H26:H29) -> 8.4839925 | I30: =SUM(I26:I29) -> 11.429672 | J30: =SUM(J26:J29) -> 6.4207365 | K30: =SUM(K26:K29) -> 8.3549186 | ... M30: =SUM(M26:M29) -> 9.3865748
B31: Benefícios | D31: % sobre PV | E31: % sobre CD | F31: % sobre PV | G31: % sobre CD | H31: % sobre PV | I31: % sobre CD | J31: % sobre PV | K31: % sobre CD | L31: % sobre PV | M31: % sobre CD
B32: Lucro | C32: Variável - f (CD) | D32: =E32/(1+E$40/100) -> 8.615851 | E32: =E13 -> 12 | F32: =G32/(1+G$40/100) -> 7.2993069 | G32: =G13 -> 10 | H32: =I32/(1+I$40/100) -> 5.9382228 | I32: =I13 -> 8 | J32: =K32/(1+K$40/100) -> 5.3794845 | K32: =K13 -> 7 | L32: =M32/(1+M$40/100) -> 6.0415767 | M32: =M13 -> 8
C33: Subtotal 2 | D33: =D32 -> 8.615851 | E33: =E32 -> 12 | F33: =F32 -> 7.2993069 | G33: =G32 -> 10 | H33: =H32 -> 5.9382228 | I33: =I32 -> 8 | J33: =J32 -> 5.3794845 | K33: =K32 -> 7 | ... M33: =M32 -> 8
B34: Tributos | D34: % sobre PV | E34: % sobre CD | F34: % sobre PV | G34: % sobre CD | H34: % sobre PV | I34: % sobre CD | J34: % sobre PV | K34: % sobre CD | L34: % sobre PV | M34: % sobre CD
B35: PIS | C35: 0,65% do PV | D35: 0.65 | E35: =D35*(1+E$40/100) -> 0.90530814 | F35: 0.65 | G35: =F35*(1+G$40/100) -> 0.89049551 | H35: 0.65 | I35: =H35*(1+I$40/100) -> 0.87568288 | J35: 0.65 | K35: =J35*(1+K$40/100) -> 0.84580595 | L35: 0.65 | M35: =L35*(1+M$40/100) -> 0.86070247
B36: COFINS | C36: 3,00% do PV | D36: 3 | E36: =D36*(1+E$40/100) -> 4.1783452 | F36: 3 | G36: =F36*(1+G$40/100) -> 4.1099793 | H36: 3 | I36: =H36*(1+I$40/100) -> 4.0416133 | J36: 3 | K36: =J36*(1+K$40/100) -> 3.9037198 | L36: 3 | M36: =L36*(1+M$40/100) -> 3.9724729
B37: ISSQN* | C37: 5,00% do PV | D37: 5 | E37: =D37*(1+E$40/100) -> 6.9639087 | F37: 5 | G37: =F37*(1+G$40/100) -> 6.8499654 | H37: 5 | I37: =H37*(1+I$40/100) -> 6.7360221 | J37: 5 | K37: =J37*(1+K$40/100) -> 6.5061996 | L37: 5 | M37: =L37*(1+M$40/100) -> 6.6207882
B38: Contribuição Previdenciária sobre a Receita Bruta (CPRB) | C38: 2,70% do PV | D38: 2.7 | E38: =D38*(1+E$40/100) -> 3.7605107 | F38: 2.7 | G38: =F38*(1+G$40/100) -> 3.6989813 | H38: 2.7 | I38: =H38*(1+I$40/100) -> 3.6374519 | J38: 2.7 | K38: =J38*(1+K$40/100) -> 3.5133478 | L38: 2.7 | M38: =L38*(1+M$40/100) -> 3.5752256
C39: Subtotal 3 | D39: =SUM(D35:D38) -> 11.35 | E39: =SUM(E35:E38) -> 15.808073 | F39: =SUM(F35:F38) -> 11.35 | G39: =SUM(G35:G38) -> 15.549422 | H39: =SUM(H35:H38) -> 11.35 | I39: =SUM(I35:I38) -> 15.29077 | J39: =SUM(J35:J38) -> 11.35 | K39: =SUM(K35:K38) -> 14.769073 | ... M39: =SUM(M35:M38) -> 15.029189
B40: Total - BDI (%) | D40: =D30+D33+D39 -> 28.201242 | E40: =((1+(E26/100+E32/100-($C27/100*E32/100)))/(1-($C27/100+D29/100+D28/100+D35/100+D36/100+D37/100+D38/100))-1)*100 -> 39.278175 | F40: =F30+F33+F39 -> 27.006931 | G40: =((1+(G26/100+G32/100-($C27/100*G32/100)))/(1-($C27/100+F29/100+F28/100+F35/100+F36/100+F37/100+F38/100))-1)*100 -> 36.999309 | H40: =H30+H33+H39 -> 25.772215 | I40: =((1+(I26/100+I32/100-($C27/100*I32/100)))/(1-($C27/100+H29/100+H28/100+H35/100+H36/100+H37/100+H38/100))-1)*100 -> 34.720442 | J40: =J30+J33+J39 -> 23.150221 | K40: =((1+(K26/100+K32/100-($C27/100*K32/100)))/(1-($C27/100+J29/100+J28/100+J35/100+J36/100+J37/100+J38/100))-1)*100 -> 30.123992 | L40: =L30+L33+L39 -> 24.480291 | M40: =((1+(M26/100+M32/100-($C27/100*M32/100)))/(1-($C27/100+L29/100+L28/100+L35/100+L36/100+L37/100+L38/100))-1)*100 -> 32.415764
B42: PV = Preço de Venda
B43: CD = Custo Direto
...
