Workbook

Sheet 1 Quadro Resumo
A7: Objeto: ELABORAÇÃO DE RELATÓRIO AMBIENTAL SIMPLIFICADO (RAS), PLANO DE CONTROLE AMBIENTAL (PCA), DOS ESTUDOS PARA O LICENCIAMENTO AMBIENTAL, OBRAS DE ARTES ESPECIAIS - OAE, SUPRESSÃO VEGETAL E/OU CORTE DE ÁRVORES NATIVAS ISOLADAS EM FAIXAS DE SERVIDÃO PARA OBRA DE PONTE
A8: Município: | B8: Campo Grande - MS e Nova Alvorada do Sul - MS | D8: Referência: | E8: Tabela de consultoria
A9: Rodovia: | B9: Ponte sobre o Rio Anhanduí (CG-342) | E9: DNIT SICRO
A10: Trecho: | B10: Ponte sobre o Rio Anhanduí Coordenadas S 21° 24' 06.95" W 54° 07' 51.18" | D10: Data Base: | E10: 46113
A11: Extensão: | B11: 70,00 metros | C11: Prazo: | D11: 10 | E11: dias
A12: 63997.92
A14: DISCRIMINAÇÃO | D14: VALORES
D15: PARCIAL | E15: TOTAL
A16: A - EQUIPE TÉCNICA | E16: =ROUND(D18+D19,2) -> 24014.56 | F16: ='3 Resumo do Orçamento'!C22 -> 24014.56
A17: P8113 | B17: ='3 Resumo do Orçamento'!A18:B18 -> 0 | D17: 0
A18: A.1 | B18: Licenciamento Ambiental Empreendimento | D18: ='3 Resumo do Orçamento'!C17+'3 Resumo do Orçamento'!C18+'3 Resumo do Orçamento'!C19+'3 Resumo do Orçamento'!C20 -> 24014.56 | E18: =D18 -> 24014.56
A19: A.2 | B19: Licenciamento Ambiental Bioma Mata Atlântica EIA/RIMA | D19: ='3 Resumo do Orçamento'!H21 -> 0 | E19: ='3 Resumo do Orçamento'!I21 -> 0
A20: P8058 | B20: Licenciamento ambiental Bioma Mata Atlântica EIA/RIMA | E20: 0
A21: P8033 | B21: =VLOOKUP(A21,DNIT_MDO!B7:C107,2,0) -> Biólogo pleno | E21: 0
A22: P8143 | B22: =VLOOKUP(A22,DNIT_MDO!B8:C108,2,0) -> Técnico ambiental | E22: 0
A23: P8098 | B23: =VLOOKUP(A23,DNIT_MDO!B9:C109,2,0) -> Laboratorista | E23: 0 | H23: =41.335+17.949+11.379+15.716 -> 86.379
A24: P8027 | B24: =VLOOKUP(A24,DNIT_MDO!B10:C110,2,0) -> Auxiliar de laboratório | E24: 0
A25: P8026 | B25: =VLOOKUP(A25,DNIT_MDO!B11:C111,2,0) -> Auxiliar administrativo | E25: 0
A26: P8113 | B26: =VLOOKUP(A26,DNIT_MDO!B12:C112,2,0) -> Motorista de veículo leve | C26: =VLOOKUP(B26,DNIT_MDO!C12:D112,2,0) -> mês | E26: 0
A27: B - DESPESAS GERAIS | E27: =ROUND(E28+E29+E30,2) -> 6819.97 | F27: ='3 Resumo do Orçamento'!D22+'3 Resumo do Orçamento'!E22+'3 Resumo do Orçamento'!F22 -> 6819.97
A28: B.2 - VEÍCULOS | D28: ='5 Veículos'!L10 -> 2640.02 | E28: =D28 -> 2640.02
A29: B.3 - EQUIPAMENTOS | D29: ='6 Equipamentos'!H11 -> 3342.62 | E29: =D29 -> 3342.62
A30: B.4 - INSTALAÇÕES | D30: ='7 Instalações'!K14 -> 837.33 | E30: =D30 -> 837.33
A32: I - SUB-TOTAL DOS ITENS A+B | E32: =ROUND(E27+E16,2) -> 30834.53 | F32: ='3 Resumo do Orçamento'!H22 -> 30834.53
A34: II -BENEFÍCIOS E DESPESAS INDIRETAS - BDI | C34: Acórdão nº 1.560/2019-TCU-Plenário | E34: =D35 -> 44719.32
A35: TAXAS: BDI SOBRE O ITEM "I" | C35: 0.4503 | D35: =ROUND(E32+(E32*C35),2) -> 44719.32
A37: TOTAL DO ORÇAMENTO | E37: =E34 -> 44719.32 | F37: ='3 Resumo do Orçamento'!I22 -> 44719.32
D40: =E37/73.5 -> 608.42612

Sheet 2 Cronograma
A6: CRONOGRAMA FISICO-FINANCEIRO
A7: ='1 Quadro Resumo'!A7 -> Objeto: ELABORAÇÃO DE RELATÓRIO AMBIENTAL SIMPLIFICADO (RAS), PLANO DE CONTROLE AMBIENTAL (PCA), DOS ESTUDOS PARA O LICENCIAMENTO AMBIENTAL, OBRAS DE ARTES ESPECIAIS - OAE, SUPRESSÃO VEGETAL E/OU CORTE DE ÁRVORES NATIVAS ISOLADAS EM FAIXAS DE SERVIDÃO PARA OBRA DE PONTE | E7: Tabela de consultoria DNIT
E8: SICRO
A9: Município: | B9: ='1 Quadro Resumo'!B8 -> Campo Grande - MS e Nova Alvorada do Sul - MS | C9: Rodovia: | D9: ='1 Quadro Resumo'!B9 -> Ponte sobre o Rio Anhanduí (CG-342) | E9: Data base: | G9: Prazo: (dias)
A10: Trecho: | B10: ='1 Quadro Resumo'!B10 -> Ponte sobre o Rio Anhanduí Coordenadas S 21° 24' 06.95" W 54° 07' 51.18" | C10: Extensão: | D10: ='1 Quadro Resumo'!B11 -> 70,00 metros | E10: ='1 Quadro Resumo'!E10 -> 46113 | G10: ='1 Quadro Resumo'!D11 -> 10
A11: TOTAL GERAL
A12: Item | B12: Obra | C12: VALOR | D12: % | E12: 30 | G12: Total
A13: 1 | B13: Mobilização | C13: ='3 Resumo do Orçamento'!I17 -> 13378.06 | D13: ='3 Resumo do Orçamento'!I17/'3 Resumo do Orçamento'!I22 -> 0.29915616 | E13: 1 | G13: 1
E14: =($C$13*E13) -> 13378.06 | G14: =E14+F14 -> 13378.06
A15: 2 | B15: Licenciamento Ambiental Rodovia e Ponte: Plano de Controle Ambiental (PCA), Relatório Ambiental Simplificado (RAS), Relatório Técnico de Conclusão da Obra (Decreto 14.114 SEMADUR) | C15: ='3 Resumo do Orçamento'!I18 -> 16923.55 | D15: ='3 Resumo do Orçamento'!I18/'3 Resumo do Orçamento'!I22 -> 0.37843934 | E15: 1 | G15: 1
E16: =($C$15*E15) -> 16923.55 | G16: =E16+F16 -> 16923.55
A17: 4 | B17: Autorização Ambiental para Supressão Vegetal - AASV | C17: ='3 Resumo do Orçamento'!I19 -> 14417.71 | D17: ='3 Resumo do Orçamento'!I19/'3 Resumo do Orçamento'!I22 -> 0.3224045 | E17: 1
E18: =($C$17*E17) -> 14417.71 | G18: =E18+F18 -> 14417.71
A19: 4 | B19: Sondagem e Ensaios de Solos para plantio de revestimento vegetal | C19: ='3 Resumo do Orçamento'!I20 -> 0 | D19: ='3 Resumo do Orçamento'!I20/'3 Resumo do Orçamento'!I22 -> 0 | E19: 1 | G19: 1
E20: =($C$19*E19) -> 0 | G20: =F20+E20 -> 0
A21: 5 | B21: Licenciamento ambiental Bioma Mata Atlântica EIA/RIMA | C21: ='3 Resumo do Orçamento'!I21 -> 0 | D21: ='3 Resumo do Orçamento'!I21/'3 Resumo do Orçamento'!I22 -> 0 | E21: 1 | G21: 1
E22: =($C$21*E21) -> 0 | G22: =E22+F22 -> 0
A23: VALOR TOTAL | C23: =SUM(C13:C22) -> 44719.32 | D23: =SUM(D13:D22) -> 1 | E23: 1 | G23: 1
A24: TOTAL MENSAL | E24: =E14+E16+E18+E22+E20 -> 44719.32 | G24: =G14+G16+G18+G22+G20 -> 44719.32
A25: TOTAL ACUMULADO | E25: =E24 -> 44719.32 | G25: =G24 -> 44719.32 | H25: ='3 Resumo do Orçamento'!I22 -> 44719.32
F26: =E24+F24 -> 44719.32
C27: =C13+C15+C17+C19 -> 44719.32 | F27: =E25+F25 -> 44719.32 | J27: =23.5-0.18 -> 23.32
G28: =G24-G22 -> 44719.32
F29: =C23-'1 Quadro Resumo'!E37 -> 0
B30: =C13+C15+C17+C19 -> 44719.32
G31: ='3 Resumo do Orçamento'!G35 -> 0.27759554
D32: =C23-'1 Quadro Resumo'!E37 -> 0
G35: 40 | H35: 121
G36: 100 | H36: X
H37: =(G36*H35)/G35 -> 302.5

Sheet 3 Resumo do Orçamento
A6: ORÇAMENTO
A7: ='1 Quadro Resumo'!A7 -> Objeto: ELABORAÇÃO DE RELATÓRIO AMBIENTAL SIMPLIFICADO (RAS), PLANO DE CONTROLE AMBIENTAL (PCA), DOS ESTUDOS PARA O LICENCIAMENTO AMBIENTAL, OBRAS DE ARTES ESPECIAIS - OAE, SUPRESSÃO VEGETAL E/OU CORTE DE ÁRVORES NATIVAS ISOLADAS EM FAIXAS DE SERVIDÃO PARA OBRA DE PONTE
A8: Município: | B8: ='1 Quadro Resumo'!B8 -> Campo Grande - MS e Nova Alvorada do Sul - MS | F8: Referência: | H8: ='1 Quadro Resumo'!E8 -> Tabela de consultoria
A9: Rodovia: | B9: ='1 Quadro Resumo'!B9 -> Ponte sobre o Rio Anhanduí (CG-342) | H9: ='1 Quadro Resumo'!E9 -> DNIT SICRO
A10: Trecho: | B10: ='1 Quadro Resumo'!B10 -> Ponte sobre o Rio Anhanduí Coordenadas S 21° 24' 06.95" W 54° 07' 51.18" | F10: Data Base: | H10: ='1 Quadro Resumo'!E10 -> 46113
A11: Extensão: | B11: ='1 Quadro Resumo'!B11 -> 70,00 metros | F11: Prazo: | H11: ='1 Quadro Resumo'!D11 -> 10 | I11: dias
A12: Item do Projeto | C12: Equipe Técnica | D12: Veículos | E12: Equipamentos | F12: Instalação e Imobiliário | G12: % Projeto | H12: Custos Diretos | I12: BDI
I13: ='1 Quadro Resumo'!C35 -> 0.4503
C14: A | D14: B | E14: C | F14: D | G14: E | H14: I=A+B+C+D+E | I14: F (sobre I)
A15: ANÁLISE DE PROJETOS E DIAGNÓSTICO
C16: Equipe Técnica | D16: Veículos | E16: Equipamentos | F16: Instalação e Imobiliário
A17: Administrativo | C17: ='4 Equipe Técnica'!M9+'4 Equipe Técnica'!M11+'4 Equipe Técnica'!M13 -> 2404.37 | D17: ='5 Veículos'!L10 -> 2640.02 | E17: ='6 Equipamentos'!H11 -> 3342.62 | F17: ='7 Instalações'!K14 -> 837.33 | G17: =H17/$H$22 -> 0.29915617 | H17: =C17+D17+E17+F17 -> 9224.34 | I17: =ROUND(H17+(H17*I13),2) -> 13378.06 | J17: =I17+I18+I20 -> 30301.61 | K17: =I17+I18+I20 -> 30301.61
A18: Licenciamento Ambiental - Empreendimento | C18: ='4 Equipe Técnica'!N19 -> 11669 | G18: =H18/$H$22 -> 0.37843937 | H18: =C18 -> 11669 | I18: =ROUND(H18+(H18*I13),2) -> 16923.55
A19: Autorização Ambiental para Supressão Vegetal - AASV | C19: ='4 Equipe Técnica'!N23 -> 9941.19 | G19: =H19/$H$22 -> 0.32240446 | H19: =C19 -> 9941.19 | I19: =ROUND(H19+(H19*I13),2) -> 14417.71
A20: Sondagem e Ensaios de Solos para plantio de Revestimento Vegetal | C20: ='4 Equipe Técnica'!N29 -> 0 | G20: =H20/$H$22 -> 0 | H20: =C20 -> 0 | I20: =H20+(H20*I13) -> 0
A21: Licenciamento Ambiental Bioma Mata Atlântica EIA/RIMA | C21: ='4 Equipe Técnica'!N41 -> 0 | G21: =H21/$H$22 -> 0 | H21: =C21 -> 0 | I21: =H21+(H21*I13) -> 0
A22: TOTAL | C22: =SUM(C17:C21) -> 24014.56 | D22: =D17 -> 2640.02 | E22: =E17 -> 3342.62 | F22: =F17 -> 837.33 | G22: =SUM(G17:G21) -> 1 | H22: =SUM(H17:H21) -> 30834.53 | I22: =SUM(I17:I21) -> 44719.32 | J22: =I17+I18+I20+I21 -> 30301.61
C23: ='4 Equipe Técnica'!M42 -> 24835.52
D24: =D22+E22+F22 -> 6819.97 | H24: =H22-F17-E17-D17 -> 24014.56 | I24: =H22+(H22*I13) -> 44719.319
I25: =I17/I22 -> 0.29915616
I26: =I18/I22 -> 0.37843934
I27: =I19/I24 -> 0.32240451
D31: =C17+C18+C20 -> 14073.37 | G31: =G17+G18+G20 -> 0.67759554
G33: =G31-5% -> 0.62759554
G34: =G33-20% -> 0.42759554
G35: =G34-15% -> 0.27759554

Sheet 4 Equipe Técnica
A1: 440
A2: Município: | B2: ='1 Quadro Resumo'!B8 -> Campo Grande - MS e Nova Alvorada do Sul - MS | I2: Referência: | K2: ='1 Quadro Resumo'!E8 -> Tabela de consultoria
A3: Rodovia: | B3: ='1 Quadro Resumo'!B9 -> Ponte sobre o Rio Anhanduí (CG-342) | K3: ='1 Quadro Resumo'!E9 -> DNIT SICRO
A4: Trecho: | B4: ='1 Quadro Resumo'!B10 -> Ponte sobre o Rio Anhanduí Coordenadas S 21° 24' 06.95" W 54° 07' 51.18" | I4: Data Base: | K4: ='1 Quadro Resumo'!E10 -> 46113
A5: Extensão: | B5: ='1 Quadro Resumo'!B11 -> 70,00 metros | I5: Prazo: | K5: ='1 Quadro Resumo'!D11 -> 10 | L5: dias
A6: EQUIPE TÉCNICA
A7: Atividade | C7: Categoria | E7: Quant. Equipe | F7: Pess./ Equipe | G7: Hora/ Dia | H7: nº Dias | I7: Total/ Horas | J7: Homem/ mês | K7: Salário/ mês | L7: Subtotal | M7: Total
C8: Descrição | D8: Cód. | E8: a | F8: b | G8: c | H8: d | I8: e=a*b*c*d* 220/240 | J8: f=e/220 | K8: g | L8: h=f*g
A9: Administrativo | C9: =VLOOKUP(D9,DNIT_MDO!B$4:Z$102,2,0) -> Engenheiro coordenador | D9: =DNIT_MDO!B38 -> P8061 | E9: 0 | F9: =E9 -> 0 | G9: 4 | H9: =K5 -> 10 | I9: =E9*F9*G9*H9*(220/240) -> 0 | J9: =I9/220 -> 0 | K9: =VLOOKUP(D9,DNIT_MDO!B4:Z102,25,0) -> 36162.09 | L9: =K9*J9 -> 0 | M9: =L9 -> 0
C10: =VLOOKUP(D10,DNIT_MDO!B$4:Z$102,2,0) -> Advogado sênior | D10: =DNIT_MDO!B6 -> P8003 | E10: 0 | F10: =E10 -> 0 | G10: 4 | H10: ='1 Quadro Resumo'!D11 -> 10 | I10: =E10*F10*G10*H10*(220/240) -> 0 | J10: =I10/220 -> 0 | K10: =VLOOKUP(D10,DNIT_MDO!B5:Z103,25,0) -> 21772.02 | L10: =K10*J10 -> 0 | M10: =L10 -> 0
C11: =VLOOKUP(D11,DNIT_MDO!B$4:Z$102,2,0) -> Secretária | D11: =DNIT_MDO!B67 -> P8135 | E11: 1 | F11: =E11 -> 1 | G11: 4 | H11: =K5 -> 10 | I11: =E11*F11*G11*H11*(220/240) -> 36.666667 | J11: =I11/220 -> 0.16666667 | K11: =VLOOKUP(D11,DNIT_MDO!B4:Z103,25,0) -> 8428.17 | L11: =ROUND(K11*J11,2) -> 1404.7 | M11: =L11 -> 1404.7 | O11: Sinalização Estrada Viva e Análise de Greide em função das passagens de Fauna
C12: =VLOOKUP(D12,DNIT_MDO!B$4:Z$102,2,0) -> Auxiliar administrativo | D12: =DNIT_MDO!B17 -> P8026 | E12: 1 | F12: =E12 -> 1 | G12: 4 | H12: =K5 -> 10 | I12: =E12*F12*G12*H12*(220/240) -> 36.666667 | J12: =I12/220 -> 0.16666667 | K12: =VLOOKUP(D12,DNIT_MDO!B5:Z104,25,0) -> 4925.74 | L12: =ROUND(K12*J12,2) -> 820.96 | M12: =L12 -> 820.96
C13: =VLOOKUP(D13,DNIT_MDO!B$4:Z$102,2,0) -> Motorista de veículo leve | D13: =DNIT_MDO!B60 -> P8113 | E13: 1 | F13: =E13 -> 1 | G13: 4 | H13: =K5 -> 10 | I13: =E13*F13*G13*H13*(220/240) -> 36.666667 | J13: =I13/220 -> 0.16666667 | K13: =VLOOKUP(D13,DNIT_MDO!B4:Z106,25,0) -> 5998.01 | L13: =ROUND(K13*J13,2) -> 999.67 | M13: =L13 -> 999.67 | N13: =SUM(M9:M13) -> 3225.33 | O13: Escolha e determinação das espécies de gramíneas
A14: Licenciamento ambiental Empreendimento | C14: =VLOOKUP(D14,DNIT_MDO!B$4:Z$102,2,0) -> Biólogo pleno | D14: =DNIT_MDO!B21 -> P8033 | E14: 1 | F14: =E14 -> 1 | G14: 4 | H14: =K5 -> 10 | I14: =E14*F14*G14*H14*(220/240) -> 36.666667 | J14: =I14/220 -> 0.16666667 | K14: =VLOOKUP(D14,DNIT_MDO!B4:Z107,25,0) -> 8706.03 | L14: =ROUND(K14*J14,2) -> 1451.01 | M14: =L14 -> 1451.01 | O14: PBA
C15: =VLOOKUP(D15,DNIT_MDO!B$4:Z$102,2,0) -> Engenheiro ambiental pleno | D15: =DNIT_MDO!B35 -> P8058 | E15: 1 | F15: =E15 -> 1 | G15: 4 | H15: =K5 -> 10 | I15: =E15*F15*G15*H15*(220/240) -> 36.666667 | J15: =I15/220 -> 0.16666667 | K15: =VLOOKUP(D15,DNIT_MDO!B4:Z108,25,0) -> 28502.49 | L15: =ROUND(K15*J15,2) -> 4750.42 | M15: =L15 -> 4750.42 | O15: PTA ou RAS
C16: =VLOOKUP(D16,DNIT_MDO!B$4:Z$102,2,0) -> Engenheiro florestal pleno | D16: =DNIT_MDO!B46 -> P8069 | E16: 0 | F16: =E16 -> 0 | G16: 8 | H16: =K5 -> 10 | I16: =E16*F16*G16*H16*(220/240) -> 0 | J16: =I16/220 -> 0 | K16: =VLOOKUP(D16,DNIT_MDO!B4:Z109,25,0) -> 27034.68 | L16: =ROUND(K16*J16,2) -> 0 | M16: =L16 -> 0
C17: =VLOOKUP(D17,DNIT_MDO!B$4:Z$102,2,0) -> Engenheiro de projetos pleno | D17: =DNIT_MDO!B43 -> P8066 | E17: 1 | F17: =E17 -> 1 | G17: 4 | H17: =K5 -> 10 | I17: =E17*F17*G17*H17*(220/240) -> 36.666667 | J17: =I17/220 -> 0.16666667 | K17: =VLOOKUP(D17,DNIT_MDO!B4:Z109,25,0) -> 27362.69 | L17: =ROUND(K17*J17,2) -> 4560.45 | M17: =L17 -> 4560.45
C18: =VLOOKUP(D18,DNIT_MDO!B$4:Z$102,2,0) -> Técnico ambiental | D18: =DNIT_MDO!B69 -> P8143 | E18: 1 | F18: =E18 -> 1 | G18: 4 | H18: =K5 -> 10 | I18: =E18*F18*G18*H18*(220/240) -> 36.666667 | J18: =I18/220 -> 0.16666667 | K18: =VLOOKUP(D18,DNIT_MDO!B4:Z109,25,0) -> 5442.71 | L18: =ROUND(K18*J18,2) -> 907.12 | M18: =L18 -> 907.12
C19: =VLOOKUP(D19,DNIT_MDO!B$4:Z$102,2,0) -> Auxiliar administrativo | D19: =DNIT_MDO!B17 -> P8026 | E19: 0 | F19: =E19 -> 0 | G19: 4 | H19: =K5 -> 10 | I19: =E19*F19*G19*H19*(220/240) -> 0 | J19: =I19/220 -> 0 | K19: =VLOOKUP(D19,DNIT_MDO!B4:Z110,25,0) -> 4925.74 | L19: =ROUND(K19*J19,2) -> 0 | M19: =L19 -> 0 | N19: =SUM(M14:M19) -> 11669 | O19: PGRSCC, COMUNICADO DE ATIVIDADES e EMISSÃO DE GASES
A20: Autorização de Supressão Vegetal - ASV | C20: =VLOOKUP(D20,DNIT_MDO!B$4:Z$102,2,0) -> Engenheiro florestal pleno | D20: =DNIT_MDO!B46 -> P8069 | E20: 1 | F20: =E20 -> 1 | G20: 4 | H20: =K5 -> 10 | I20: =E20*F20*G20*H20*(220/240) -> 36.666667 | J20: =I20/220 -> 0.16666667 | K20: =VLOOKUP(D20,DNIT_MDO!B5:Z111,25,0) -> 27034.68 | L20: =ROUND(K20*J20,2) -> 4505.78 | M20: =L20 -> 4505.78
C21: =VLOOKUP(D21,DNIT_MDO!B$4:Z$102,2,0) -> Engenheiro agrônomo pleno | D21: =DNIT_MDO!B32 -> P8055 | E21: 1 | F21: =E21 -> 1 | G21: 4 | H21: =K5 -> 10 | I21: =E21*F21*G21*H21*(220/240) -> 36.666667 | J21: =I21/220 -> 0.16666667 | K21: =VLOOKUP(D21,DNIT_MDO!B6:Z112,25,0) -> 27169.72 | L21: =ROUND(K21*J21,2) -> 4528.29 | M21: =L21 -> 4528.29
C22: =VLOOKUP(D22,DNIT_MDO!B$4:Z$102,2,0) -> Técnico ambiental | D22: =DNIT_MDO!B69 -> P8143 | E22: 1 | F22: =E22 -> 1 | G22: 4 | H22: =K5 -> 10 | I22: =E22*F22*G22*H22*(220/240) -> 36.666667 | J22: =I22/220 -> 0.16666667 | K22: =VLOOKUP(D22,DNIT_MDO!B7:Z113,25,0) -> 5442.71 | L22: =ROUND(K22*J22,2) -> 907.12 | M22: =L22 -> 907.12
C23: =VLOOKUP(D23,DNIT_MDO!B$4:Z$102,2,0) -> Auxiliar administrativo | D23: =DNIT_MDO!B17 -> P8026 | E23: 0 | F23: =E23 -> 0 | G23: 4 | H23: =K5 -> 10 | I23: =E23*F23*G23*H23*(220/240) -> 0 | J23: =I23/220 -> 0 | K23: =VLOOKUP(D23,DNIT_MDO!B8:Z114,25,0) -> 4925.74 | L23: =K23*J23 -> 0 | M23: =L23 -> 0 | N23: =SUM(M20:M23) -> 9941.19
C24: =VLOOKUP(D24,DNIT_MDO!B$4:Z$102,2,0) -> Auxiliar administrativo | D24: =D23 -> P8026 | E24: 0 | F24: =E24 -> 0 | G24: =G9 -> 4 | H24: ='1 Quadro Resumo'!D11 -> 10 | I24: =E24*F24*G24*H24*(220/240) -> 0 | J24: =I24/220 -> 0 | K24: =VLOOKUP(D24,DNIT_MDO!B11:Z111,25,0) -> 4925.74 | L24: =K24*J24 -> 0 | M24: =L24 -> 0 | N24: =SUM(M20:M24) -> 9941.19 | O24: PTA / ASV Inventário Florestal Varia conforme a extensão
A25: Sondagem e Ensaios de Solos para plantio de revestimento vegetal | C25: =VLOOKUP(D25,DNIT_MDO!B$4:Z$102,2,0) -> Engenheiro agrônomo pleno | D25: =DNIT_MDO!B32 -> P8055 | E25: 0 | F25: =E25 -> 0 | G25: 8 | H25: =K5 -> 10 | I25: =E25*F25*G25*H25*(220/240) -> 0 | J25: =I25/220 -> 0 | K25: =VLOOKUP(D25,DNIT_MDO!B4:Z112,25,0) -> 27169.72 | L25: =K25*J25 -> 0 | M25: =L25 -> 0
C26: =VLOOKUP(D26,DNIT_MDO!B$4:Z$102,2,0) -> Engenheiro ambiental pleno | D26: =DNIT_MDO!B35 -> P8058 | E26: 0 | F26: =E26 -> 0 | G26: 8 | H26: =K5 -> 10 | I26: =E26*F26*G26*H26*(220/240) -> 0 | J26: =I26/220 -> 0 | K26: =VLOOKUP(D26,DNIT_MDO!B4:Z113,25,0) -> 28502.49 | L26: =K26*J26 -> 0 | M26: =L26 -> 0
C27: =VLOOKUP(D27,DNIT_MDO!B$4:Z$102,2,0) -> Auxiliar de topografia | D27: =DNIT_MDO!B19 -> P8028 | E27: 0 | F27: =E27 -> 0 | G27: 8 | H27: =K5 -> 10 | I27: =E27*F27*G27*H27*(220/240) -> 0 | J27: =I27/220 -> 0 | K27: =VLOOKUP(D27,DNIT_MDO!B5:Z114,25,0) -> 4492.8 | L27: =K27*J27 -> 0 | M27: =L27 -> 0
C28: =VLOOKUP(D28,DNIT_MDO!B$4:Z$102,2,0) -> Técnico ambiental | D28: =DNIT_MDO!B69 -> P8143 | E28: 0 | F28: =E28 -> 0 | G28: 8 | H28: =K5 -> 10 | I28: =E28*F28*G28*H28*(220/240) -> 0 | J28: =I28/220 -> 0 | K28: =VLOOKUP(D28,DNIT_MDO!B4:Z114,25,0) -> 5442.71 | L28: =K28*J28 -> 0 | M28: =L28 -> 0
C29: =VLOOKUP(D29,DNIT_MDO!B$4:Z$102,2,0) -> Auxiliar administrativo | D29: =DNIT_MDO!B17 -> P8026 | E29: 0 | F29: =E29 -> 0 | G29: 8 | H29: =K5 -> 10 | I29: =E29*F29*G29*H29*(220/240) -> 0 | J29: =I29/220 -> 0 | K29: =VLOOKUP(D29,DNIT_MDO!B4:Z117,25,0) -> 4925.74 | L29: =K29*J29 -> 0 | M29: =L29 -> 0 | N29: =SUM(M25:M29) -> 0 | O29: =M14+M15+M16+M17+M18+M19+M2+M25+M26+M28+M29 -> 11669
A30: Licenciamento ambiental Bioma Mata Atlântica EIA/RIMA | C30: =VLOOKUP(D30,DNIT_MDO!B$4:Z$102,2,0) -> Advogado sênior | D30: =DNIT_MDO!B6 -> P8003 | E30: 0 | F30: =E30 -> 0 | G30: 8 | H30: =K5 -> 10 | I30: =E30*F30*G30*H30*(220/240) -> 0 | J30: =I30/220 -> 0 | K30: =VLOOKUP(D30,DNIT_MDO!B5:Z118,25,0) -> 21772.02 | L30: =K30*J30 -> 0 | M30: =L30 -> 0
C31: =VLOOKUP(D31,DNIT_MDO!B$4:Z$102,2,0) -> Arqueólogo júnior | D31: =DNIT_MDO!B89 -> P8189 | E31: 0 | F31: =E31 -> 0 | G31: 8 | H31: =K5 -> 10 | I31: =E31*F31*G31*H31*(220/240) -> 0 | J31: =I31/220 -> 0 | K31: =VLOOKUP(D31,DNIT_MDO!B4:Z119,25,0) -> 9800.37 | L31: =K31*J31 -> 0 | M31: =L31 -> 0
C32: =VLOOKUP(D32,DNIT_MDO!B$4:Z$102,2,0) -> Historiador júnior | D32: =DNIT_MDO!B92 -> P8192 | E32: 0 | F32: =E32 -> 0 | G32: 8 | H32: =K5 -> 10 | I32: =E32*F32*G32*H32*(220/240) -> 0 | J32: =I32/220 -> 0 | K32: =VLOOKUP(D32,DNIT_MDO!B5:Z120,25,0) -> 8636.02 | L32: =K32*J32 -> 0 | M32: =L32 -> 0
C33: =VLOOKUP(D33,DNIT_MDO!B$4:Z$102,2,0) -> Biólogo sênior | D33: =DNIT_MDO!B22 -> P8034 | E33: 0 | F33: =E33 -> 0 | G33: 8 | H33: =K5 -> 10 | I33: =E33*F33*G33*H33*(220/240) -> 0 | J33: =I33/220 -> 0 | K33: =VLOOKUP(D33,DNIT_MDO!B4:Z120,25,0) -> 14796.33 | L33: =K33*J33 -> 0 | M33: =L33 -> 0
C34: =VLOOKUP(D34,DNIT_MDO!B$4:Z$102,2,0) -> Antropólogo júnior | D34: =DNIT_MDO!B86 -> P8186 | E34: 0 | F34: =E34 -> 0 | G34: 8 | H34: =K5 -> 10 | I34: =E34*F34*G34*H34*(220/240) -> 0 | J34: =I34/220 -> 0 | K34: =VLOOKUP(D34,DNIT_MDO!B4:Z121,25,0) -> 11084.16 | L34: =K34*J34 -> 0 | M34: =L34 -> 0
C35: =VLOOKUP(D35,DNIT_MDO!B$4:Z$102,2,0) -> Geólogo sênior | D35: =DNIT_MDO!B50 -> P8082 | E35: 0 | F35: =E35 -> 0 | G35: 8 | H35: =K5 -> 10 | I35: =E35*F35*G35*H35*(220/240) -> 0 | J35: =I35/220 -> 0 | K35: =VLOOKUP(D35,DNIT_MDO!B4:Z122,25,0) -> 31102.97 | L35: =K35*J35 -> 0 | M35: =L35 -> 0 | O35: =N9+N14+N25 -> 0
C36: =VLOOKUP(D36,DNIT_MDO!B$4:Z$102,2,0) -> Meteorologista sênior | D36: =DNIT_MDO!B58 -> P8108 | E36: 0 | F36: =E36 -> 0 | G36: 8 | H36: =K5 -> 10 | I36: =E36*F36*G36*H36*(220/240) -> 0 | J36: =I36/220 -> 0 | K36: =VLOOKUP(D36,DNIT_MDO!B4:Z123,25,0) -> 14376.43 | L36: =K36*J36 -> 0 | M36: =L36 -> 0
C37: =VLOOKUP(D37,DNIT_MDO!B$4:Z$102,2,0) -> Motorista de veículo leve - horista | D37: =DNIT_MDO!B101 -> P8264 | E37: 0 | F37: =E37 -> 0 | G37: 8 | H37: =K5 -> 10 | I37: =E37*F37*G37*H37*(220/240) -> 0 | J37: =I37/220 -> 0 | K37: =VLOOKUP(D37,DNIT_MDO!B4:Z124,25,0) -> 12589.55 | L37: =K37*J37 -> 0 | M37: =L37 -> 0
C38: =VLOOKUP(D38,DNIT_MDO!B$4:Z$102,2,0) -> Arquivista júnior | D38: =DNIT_MDO!B74 -> P8167 | E38: 0 | F38: =E38 -> 0 | G38: 8 | H38: =K5 -> 10 | I38: =E38*F38*G38*H38*(220/240) -> 0 | J38: =I38/220 -> 0 | K38: =VLOOKUP(D38,DNIT_MDO!B5:Z125,25,0) -> 6095.68 | L38: =K38*J38 -> 0 | M38: =L38 -> 0
C39: =VLOOKUP(D39,DNIT_MDO!B$4:Z$102,2,0) -> Técnico ambiental | D39: =DNIT_MDO!B69 -> P8143 | E39: 0 | F39: =E39 -> 0 | G39: 8 | H39: =K5 -> 10 | I39: =E39*F39*G39*H39*(220/240) -> 0 | J39: =I39/220 -> 0 | K39: =VLOOKUP(D39,DNIT_MDO!B4:Z125,25,0) -> 5442.71 | L39: =K39*J39 -> 0 | M39: =L39 -> 0
C40: =VLOOKUP(D40,DNIT_MDO!B$4:Z$102,2,0) -> #N/A
...

Sheet 5 Veículos
A1: ='1 Quadro Resumo'!A7 -> Objeto: ELABORAÇÃO DE RELATÓRIO AMBIENTAL SIMPLIFICADO (RAS), PLANO DE CONTROLE AMBIENTAL (PCA), DOS ESTUDOS PARA O LICENCIAMENTO AMBIENTAL, OBRAS DE ARTES ESPECIAIS - OAE, SUPRESSÃO VEGETAL E/OU CORTE DE ÁRVORES NATIVAS ISOLADAS EM FAIXAS DE SERVIDÃO PARA OBRA DE PONTE
A2: Município: | B2: ='1 Quadro Resumo'!B8 -> Campo Grande - MS e Nova Alvorada do Sul - MS | I2: Referência: | J2: ='1 Quadro Resumo'!E8 -> Tabela de consultoria
A3: Rodovia: | B3: ='1 Quadro Resumo'!B9 -> Ponte sobre o Rio Anhanduí (CG-342) | J3: ='1 Quadro Resumo'!E9 -> DNIT SICRO
A4: Trecho: | B4: ='1 Quadro Resumo'!B10 -> Ponte sobre o Rio Anhanduí Coordenadas S 21° 24' 06.95" W 54° 07' 51.18" | I4: Data Base: | J4: ='1 Quadro Resumo'!E10 -> 46113
A5: Extensão: | B5: ='1 Quadro Resumo'!B11 -> 70,00 metros | I5: Prazo: | J5: ='1 Quadro Resumo'!D11 -> 10 | K5: dias
A6: VEÍCULOS
A7: Item | B7: Código | C7: Tipo | D7: Custo Unitário (R$/un.) | F7: Horas/mês | H7: Valor Mensal (R$/mês) | J7: Quantidade | K7: Meses | L7: TOTAL
D8: Valor Produtivo (a) | E8: Valor Improdutivo (b) | F8: Produtivo (c ) | G8: Improdutivo (d) | H8: Produtivo (a*c) | I8: Improdutivo (b*d)
A9: Veículos | B9: E8891 | C9: =DNIT_EQUIP!D8 -> Veículo leve picape 4 x 4 com capacidade de 1,10 t - 147 kW (sem motorista) | D9: =DNIT_EQUIP!F8 -> 79.6 | E9: =DNIT_EQUIP!G8 -> 22.89 | F9: 66 | G9: 116.49 | H9: =D9*F9 -> 5253.6 | I9: =E9*G9 -> 2666.4561 | J9: 1 | K9: =J5/30 -> 0.33333333 | L9: =ROUND((H9+I9)*J9*K9,2) -> 2640.02
J10: TOTAL (R$) | L10: =L9 -> 2640.02

Sheet 6 Equipamentos
A1: ='1 Quadro Resumo'!A7 -> Objeto: ELABORAÇÃO DE RELATÓRIO AMBIENTAL SIMPLIFICADO (RAS), PLANO DE CONTROLE AMBIENTAL (PCA), DOS ESTUDOS PARA O LICENCIAMENTO AMBIENTAL, OBRAS DE ARTES ESPECIAIS - OAE, SUPRESSÃO VEGETAL E/OU CORTE DE ÁRVORES NATIVAS ISOLADAS EM FAIXAS DE SERVIDÃO PARA OBRA DE PONTE
A2: Município: | B2: ='1 Quadro Resumo'!B8 -> Campo Grande - MS e Nova Alvorada do Sul - MS | E2: Referência: | G2: ='1 Quadro Resumo'!E8 -> Tabela de consultoria
A3: Rodovia: | B3: ='1 Quadro Resumo'!B9 -> Ponte sobre o Rio Anhanduí (CG-342) | G3: ='1 Quadro Resumo'!E9 -> DNIT SICRO
A4: Trecho: | B4: ='1 Quadro Resumo'!B10 -> Ponte sobre o Rio Anhanduí Coordenadas S 21° 24' 06.95" W 54° 07' 51.18" | E4: Data Base: | G4: ='1 Quadro Resumo'!E10 -> 46113
A5: Extensão: | B5: ='1 Quadro Resumo'!B11 -> 70,00 metros | E5: Prazo: | G5: ='1 Quadro Resumo'!D11 -> 10 | H5: dias
A6: EQUIPAMENTOS
A7: Item | C7: Código | D7: Tipo | E7: Unid. | F7: Meses | G7: Valor Mensal (R$) | H7: TOTAL
E8: a | F8: b | G8: c | H8: d=a*b*c
A9: Cestas das instalações | C9: =DNIT_EQUIP!C22 -> B8957 | D9: Laboratório de solos | E9: 1 | F9: =G5/30 -> 0.33333333 | G9: =DNIT_EQUIP!G22 -> 3882.01 | H9: =ROUND(G9*F9*E9,2) -> 1294
C10: B8958 | D10: Topografia - equipamentos para topografia | E10: 1 | F10: =G5/30 -> 0.33333333 | G10: =DNIT_EQUIP!G23 -> 6145.87 | H10: =ROUND(G10*F10*E10,2) -> 2048.62
A11: TOTAL (R$) | H11: =SUM(H9:H10) -> 3342.62

Sheet 7 Instalações
A1: ='2 Cronograma'!A7 -> Objeto: ELABORAÇÃO DE RELATÓRIO AMBIENTAL SIMPLIFICADO (RAS), PLANO DE CONTROLE AMBIENTAL (PCA), DOS ESTUDOS PARA O LICENCIAMENTO AMBIENTAL, OBRAS DE ARTES ESPECIAIS - OAE, SUPRESSÃO VEGETAL E/OU CORTE DE ÁRVORES NATIVAS ISOLADAS EM FAIXAS DE SERVIDÃO PARA OBRA DE PONTE
A2: Município: | B2: ='1 Quadro Resumo'!B8 -> Campo Grande - MS e Nova Alvorada do Sul - MS | G2: Referência: | I2: ='1 Quadro Resumo'!E8 -> Tabela de consultoria
A3: Rodovia: | B3: ='1 Quadro Resumo'!B9 -> Ponte sobre o Rio Anhanduí (CG-342) | I3: ='1 Quadro Resumo'!E9 -> DNIT SICRO
A4: Trecho: | B4: ='1 Quadro Resumo'!B10 -> Ponte sobre o Rio Anhanduí Coordenadas S 21° 24' 06.95" W 54° 07' 51.18" | G4: Data Base: | I4: ='1 Quadro Resumo'!E10 -> 46113
A5: Extensão: | B5: ='1 Quadro Resumo'!B11 -> 70,00 metros | G5: Prazo: | I5: ='1 Quadro Resumo'!D11 -> 10 | J5: dias
A6: INSTALAÇÕES
A7: Item | C7: Código | D7: Tipo | E7: Unid. | F7: Custo Unitário (R$/un.) | G7: Quantidade | H7: Ocupantes | I7: Área (m²) | J7: Meses | K7: TOTAL (R$)
F8: a | G8: b | I8: c | J8: d
A9: Imóveis - Instalações Físicas (A) | C9: B8951 | D9: Comercial (2,60% do C.M.C.C -SINAPI) | E9: m²xmês | F9: =DNIT_EQUIP!G16 -> 52.26 | G9: 1 | H9: ='4 Equipe Técnica'!F42 -> 10 | I9: 55 | J9: =I5/30 -> 0.33333333 | K9: =ROUND(F9*H9*J9,2) -> 174.2 | M9: =F9*H9 -> 522.6
A10: TOTAL A(R$) | K10: =K9 -> 174.2
A11: TOTAL A(R$) | K11: =K10 -> 174.2
A12: Custos Diversos (B) | C12: B8959 | D12: Escritório | E12: ocupante x mês | F12: =DNIT_EQUIP!G25 -> 198.94 | G12: 1 | H12: ='4 Equipe Técnica'!F42 -> 10 | I12: 55 | J12: =I5/30 -> 0.33333333 | K12: =ROUND(F12*H12*J12,2) -> 663.13
A13: TOTAL B(R$) | K13: =K12 -> 663.13
A14: TOTAL A+B (R$) | K14: =K13+K11 -> 837.33
A16: Esta sendo contemplada no Projeto de Engenharia

Sheet DNIT_EQUIP
B1: ='1 Quadro Resumo'!E10 -> 46113
B2: Tabela 1 - Custos de veículos
B3: ="Tabela de Preços de Consultoria - mês de referência: "&TEXT(B1,"MMMM")&" de "&TEXT(B1,"AAAA") -> Tabela de Preços de Consultoria - mês de referência: abril de 2026
B4: Item | C4: Código | D4: Tipo | E4: Unidade | F4: Custo unitário (R$ / un) | H4: S
F5: Produtivo | G5: Improdutivo
B6: Veículos | C6: E8889 | D6: Veículo leve - 53 kW (sem motorista) | E6: hora | F6: 36.69 | G6: 6.57
C7: E8890 | D7: Veículo leve - 53 kW (com motorista) | E7: hora | F7: 64.3 | G7: 34.18
C8: E8891 | D8: Veículo leve picape 4 x 4 com capacidade de 1,10 t - 147 kW (sem motorista) | E8: hora | F8: 79.6 | G8: 22.89
C9: E8888 | D9: Veículo tipo van furgão com capacidade de 1,38 t - 100 kW (sem motorista) | E9: hora | F9: 56.35 | G9: 17.21
C10: E8887 | D10: Veículo tipo van furgão com capacidade de 1,38 t - 100 kW (com motorista) | E10: hora | F10: 83.96 | G10: 44.82
B11: Fonte: FGV IBRE
B13: Tabela 2 - Custos de imóveis, mobiliário, cestas de instalações e custos diversos
B14: ="Tabela de Preços de Consultoria - mês de referência: "&TEXT(B1,"MMMM")&" de "&TEXT(B1,"AAAA") -> Tabela de Preços de Consultoria - mês de referência: abril de 2026
B15: Item | C15: Código | D15: Tipo | F15: Unidade | G15: Custo unitário (R$ / un)
B16: Imóveis | C16: B8951 | D16: Comercial (2,55% do CMCC - SINAPI) | F16: m² x mês | G16: 52.26
C17: B8952 | D17: Residencial (2,45% do CMCC - SINAPI) | F17: m² x mês | G17: 50.21
B18: Mobiliário | C18: B8953 | D18: Escritório | F18: ocupante x mês | G18: 488.94
C19: B8954 | D19: Residência | F19: ocupante x mês | G19: 43.94
B20: Cesta das Instalações | C20: B8955 | D20: Laboratório de asfalto | F20: mês | G20: 5749.9
C21: B8956 | D21: Laboratório de concreto | F21: mês | G21: 5016.59
C22: B8957 | D22: Laboratório de solos | F22: mês | G22: 3882.01
C23: B8958 | D23: Topografia | F23: mês | G23: 6145.87
C24: B8961 | D24: Topografia por VANT | F24: mês | G24: 858.63
B25: Custos Diversos | C25: B8959 | D25: Escritório | F25: ocupante x mês | G25: 198.94
C26: B8960 | D26: Residência | F26: ocupante x mês | G26: 302.16
B27: Fonte: FGV IBRE

Sheet DNIT_MDO
B1: Código | C1: Categoria | D1: Unid. | E1: Salário | F1: Encargos Sociais | H1: Encargos Complementares | R1: Encargos Adicionais | X1: Encargos Totais | Z1: Valor Total
H2: Alimentação | J2: EPI | L2: Ferramenta | N2: Transporte | P2: Exame Ocupacional | R2: Cesta Básica | T2: Assistência Médica | V2: Seguro de Vida
E3: R$ | F3: % | G3: R$ | H3: % | I3: R$ | J3: % | K3: R$ | L3: % | M3: R$ | N3: % | O3: R$ | P3: % | Q3: R$ | R3: % | S3: R$ | T3: % | U3: R$ | V3: % | W3: R$ | X3: % | Y3: R$ | Z3: R$
B4: P8001 | C4: Advogado júnior | D4: mês | E4: 5021.6 | F4: 75.53 | G4: 3792.81 | H4: 15.46 | I4: 776.57 | J4: 0.53 | K4: 26.77 | L4: 0 | M4: 0 | N4: 0 | O4: 0 | P4: 0.09 | Q4: 4.47 | R4: 0 | S4: 0 | T4: 7.33 | U4: 368.29 | V4: 0.2 | W4: 9.98 | X4: 99.15 | Y4: 4978.9 | Z4: 10000.49
B5: P8002 | C5: Advogado pleno | D5: mês | E5: 6695.46 | F5: 75.53 | G5: 5057.08 | H5: 11.6 | I5: 776.57 | J5: 0.4 | K5: 26.77 | L5: 0 | M5: 0 | N5: 0 | O5: 0 | P5: 0.07 | Q5: 4.47 | R5: 0 | S5: 0 | T5: 5.5 | U5: 368.29 | V5: 0.15 | W5: 9.98 | X5: 93.24 | Y5: 6243.17 | Z5: 12938.63
B6: P8003 | C6: Advogado sênior | D6: mês | E6: 11727.87 | F6: 75.53 | G6: 8858.06 | H6: 6.62 | I6: 776.57 | J6: 0.23 | K6: 26.77 | L6: 0 | M6: 0 | N6: 0 | O6: 0 | P6: 0.04 | Q6: 4.47 | R6: 0 | S6: 0 | T6: 3.14 | U6: 368.29 | V6: 0.09 | W6: 9.98 | X6: 85.64 | Y6: 10044.15 | Z6: 21772.02
B7: P8007 | C7: Analista de desenvolvimento de sistemas júnior | D7: mês | E7: 4300.72 | F7: 75.46 | G7: 3245.33 | H7: 18.06 | I7: 776.57 | J7: 0 | K7: 0 | L7: 0 | M7: 0 | N7: 0.13 | O7: 5.79 | P7: 0.11 | Q7: 4.74 | R7: 0 | S7: 0 | T7: 8.56 | U7: 368.29 | V7: 0.23 | W7: 9.98 | X7: 102.56 | Y7: 4410.7 | Z7: 8711.42
B8: P8008 | C8: Analista de desenvolvimento de sistemas pleno | D8: mês | E8: 5734.3 | F8: 75.46 | G8: 4327.1 | H8: 13.54 | I8: 776.57 | J8: 0 | K8: 0 | L8: 0 | M8: 0 | N8: 0 | O8: 0 | P8: 0.08 | Q8: 4.74 | R8: 0 | S8: 0 | T8: 6.42 | U8: 368.29 | V8: 0.17 | W8: 9.98 | X8: 95.68 | Y8: 5486.68 | Z8: 11220.98
B9: P8009 | C9: Analista de desenvolvimento de sistemas sênior | D9: mês | E9: 10254.63 | F9: 75.46 | G9: 7738.15 | H9: 7.57 | I9: 776.57 | J9: 0 | K9: 0 | L9: 0 | M9: 0 | N9: 0 | O9: 0 | P9: 0.05 | Q9: 4.74 | R9: 0 | S9: 0 | T9: 3.59 | U9: 368.29 | V9: 0.1 | W9: 9.98 | X9: 86.77 | Y9: 8897.73 | Z9: 19152.36
B10: P8013 | C10: Arquiteto júnior | D10: mês | E10: 12443.57 | F10: 75.45 | G10: 9388.67 | H10: 6.24 | I10: 776.57 | J10: 0.22 | K10: 26.77 | L10: 0 | M10: 0 | N10: 0 | O10: 0 | P10: 0.04 | Q10: 4.6 | R10: 0 | S10: 0 | T10: 2.96 | U10: 368.29 | V10: 0.08 | W10: 9.98 | X10: 84.98 | Y10: 10574.89 | Z10: 23018.46
B11: P8014 | C11: Arquiteto pleno | D11: mês | E11: 14523.65 | F11: 75.45 | G11: 10958.1 | H11: 5.35 | I11: 776.57 | J11: 0.18 | K11: 26.77 | L11: 0 | M11: 0 | N11: 0 | O11: 0 | P11: 0.03 | Q11: 4.6 | R11: 0 | S11: 0 | T11: 2.54 | U11: 368.29 | V11: 0.07 | W11: 9.98 | X11: 83.62 | Y11: 12144.31 | Z11: 26667.96
B12: P8015 | C12: Arquiteto sênior | D12: mês | E12: 16603.73 | F12: 75.45 | G12: 12527.52 | H12: 4.68 | I12: 776.57 | J12: 0.16 | K12: 26.77 | L12: 0 | M12: 0 | N12: 0 | O12: 0 | P12: 0.03 | Q12: 4.6 | R12: 0 | S12: 0 | T12: 2.22 | U12: 368.29 | V12: 0.06 | W12: 9.98 | X12: 82.59 | Y12: 13713.73 | Z12: 30317.47
B13: P8019 | C13: Assistente social júnior | D13: mês | E13: 3278.98 | F13: 76.04 | G13: 2493.34 | H13: 23.68 | I13: 776.57 | J13: 0.82 | K13: 26.77 | L13: 0 | M13: 0 | N13: 2.05 | O13: 67.1 | P13: 0.22 | Q13: 7.22 | R13: 0 | S13: 0 | T13: 11.23 | U13: 368.29 | V13: 0.3 | W13: 9.98 | X13: 114.34 | Y13: 3749.26 | Z13: 7028.24
B14: P8020 | C14: Assistente social pleno | D14: mês | E14: 4371.97 | F14: 76.04 | G14: 3324.45 | H14: 17.76 | I14: 776.57 | J14: 0.61 | K14: 26.77 | L14: 0 | M14: 0 | N14: 0.03 | O14: 1.52 | P14: 0.17 | Q14: 7.22 | R14: 0 | S14: 0 | T14: 8.42 | U14: 368.29 | V14: 0.23 | W14: 9.98 | X14: 103.27 | Y14: 4514.79 | Z14: 8886.76
B15: P8021 | C15: Assistente social sênior | D15: mês | E15: 7412.23 | F15: 76.04 | G15: 5636.26 | H15: 10.48 | I15: 776.57 | J15: 0.36 | K15: 26.77 | L15: 0 | M15: 0 | N15: 0 | O15: 0 | P15: 0.1 | Q15: 7.22 | R15: 0 | S15: 0 | T15: 4.97 | U15: 368.29 | V15: 0.13 | W15: 9.98 | X15: 92.08 | Y15: 6825.09 | Z15: 14237.32
... B101: P8264 | C101: Motorista de veículo leve - horista | D101: h | E101: 6290.95 | F101: 81.13 | G101: 5103.85 | H101: 12.34 | I101: 776.57 | J101: 0.43 | K101: 26.77 | L101: 0 | M101: 0 | N101: 0 | O101: 0 | P101: 0.21 | Q101: 13.14 | R101: 0 | S101: 0 | T101: 5.85 | U101: 368.29 | V101: 0.16 | W101: 9.98 | X101: 100.12 | Y101: 6298.6 | Z101: 12589.55
E102: 10455.99 | F102: 81.13 | G102: 8482.94 | H102: 7.43 | I102: 776.57 | J102: 0.26 | K102: 26.77 | L102: 0 | M102: 0 | N102: 0 | O102: 0 | P102: 0.13 | Q102: 13.14 | R102: 0 | S102: 0 | T102: 3.52 | U102: 368.29 | V102: 0.1 | W102: 9.98 | X102: 92.56 | Y102: 9677.7 | Z102: 20133.68
E103: 10.51 | F103: 109.23 | G103: 11.48 | H103: 40.48 | I103: 4.26 | J103: 1.7 | K103: 0.18 | L103: 0 | M103: 0 | N103: 6.52 | O103: 0.69 | P103: 0.24 | Q103: 0.03 | R103: 0 | S103: 0 | T103: 19.2 | U103: 2.02 | V103: 0.52 | W103: 0.05 | X103: 177.89 | Y103: 18.7 | Z103: 29.21
