Workbook
Name MO_Matriz: OFFSET('Lista MO'!$A$2,0,0,COUNTA('Lista MO'!$A:$A)-1,5)
Name Veiculo_Equip_Matriz: OFFSET('Lista veiculo+equip+mat'!$B$2,0,0,COUNTA('Lista veiculo+equip+mat'!$B:$B)-1,10)

Sheet Sumario
B5: Objeto: | C5: Contratação de Projeto Executivo de Engenharia para Implantação do Aeródromo no município de Ribas do Rio Pardo
B6: Município: | C6: Ribas do Rio Pardo/MS
B7: Local:
B8: Extensão: | C8: 1.3 | D8: km (aproximadamente) | G8: Largura: 23 m | I8: Processo: | J8: 79.009.850-2025
B9: Prazo: | C9: 365 | D9: dias | I9: Data-base: | J9: 45748
F11: Orçamento referencial - Sumário
F13: ITEM | G13: DESCRIÇÃO
F14: 1 | G14: Quadro de abrangência do projeto
F15: 2 | G15: Planilha sintética do orçamento
F16: 3 | G16: Cronograma de medições
F17: 4 | G17: Custo do projeto
F18: 5 | G18: Custo da mão de obra
F19: 6 | G19: Custo dos veículos
F20: 7 | G20: Custo de equipamentos e materiais
F21: 8 | G21: Custo de diárias e passagens
F22: 9 | G22: Custo de mobilização e desmobilização da mão de obra
F23: 10 | G23: Custo de mobilização e desmobilização de equipamentos rodantes
F24: 11 | G24: Custo das instalações físicas e diversos
F25: 12 | G25: Custo com serviços gráficos
... F35: 22 | G35: Sondagens

Sheet Qd abrang
B4: Objeto: | C4: =Sumario!C5 -> Contratação de Projeto Executivo de Engenharia para Implantação do Aeródromo no município de Ribas do Rio Pardo
B5: Município: | C5: =Sumario!C6 -> Ribas do Rio Pardo/MS
B6: Local: | C6: =Sumario!C7 -> 0
B7: Extensão: | C7: =Sumario!C8 -> 1.3 | D7: =Sumario!D8 -> km (aproximadamente) | E7: Largura: | F7: 23 | G7: m | M7: Processo: | N7: =Sumario!J8 -> 79.009.850-2025
B8: Prazo: | C8: =Sumario!C9 -> 365 | D8: dias | M8: Data-base: | N8: =Sumario!J9 -> 45748
B10: Quadro demonstrativo da abrangência do projeto
B12: LOCAL | E12: LOTE | F12: km | H12: EXTENSÃO (km) | L12: MUNICÍPIO | M12: JURISDIÇÃO
F13: INICIAL | G13: FINAL | H13: TRECHO | I13: ACUM. | J13: LOTE | K13: %
B14: =C6 -> 0 | E14: ÚNICO | F14: 0 | G14: =C7 -> 1.3 | H14: =G14-F14 -> 1.3 | I14: =H14 -> 1.3 | J14: =I14 -> 1.3 | K14: =J14/$I$15 -> 1 | L14: =C5 -> Ribas do Rio Pardo/MS | M14: 11ª RR - Amambai
H15: TOTAL DE EXTENSÃO ACUMULADA: | I15: =I14 -> 1.3 | J15: km

Sheet Orcamento
B5: Objeto: | C5: =Sumario!C5 -> Contratação de Projeto Executivo de Engenharia para Implantação do Aeródromo no município de Ribas do Rio Pardo
B6: Município: | C6: =Sumario!C6 -> Ribas do Rio Pardo/MS
B7: Local: | C7: =Sumario!C7 -> 0
B8: Extensão: | C8: =Sumario!C8 -> 1.3 | D8: km (aproximadamente) Largura: 23 m | F8: Processo: | G8: =Sumario!J8 -> 79.009.850-2025
B9: Prazo: | C9: =Sumario!C9 -> 365 | D9: dias | F9: Data-base: | G9: =Sumario!J9 -> 45748
B10: BDI: | C10: =TRUNC(BDI!D17/100,4) -> 0.4511
B12: Planilha sintética do orçamento
B14: ITEM | C14: DESCRIÇÃO | E14: CUSTO DIRETO (R$) | F14: PREÇO DE VENDA (R$) | G14: %
E15: a | F15: b=a*(1+BDI)
B16: 1.0 | C16: FASE PRELIMINAR | E16: =E17 -> 31373.5 | F16: =F17 -> 45526.06 | G16: =F16/$F$60 -> 0.12336656
B17: 1.1 | C17: RELATÓRIO PRELIMINAR | E17: =SUM(E18:E23) -> 31373.5 | F17: =SUM(F18:F23) -> 45526.06 | G17: =F17/$F$60 -> 0.12336656
B18: 1.1.1 | C18: Coleta e análise dos dados existentes | E18: ='Custos proj'!Q14 -> 2324.97 | F18: =TRUNC(E18*(1+$C$10),2) -> 3373.76 | G18: =F18/$F$60 -> 0.0091422181
B19: 1.1.2 | C19: Componente Ambiental do Projeto - Fase Preliminar | E19: =TRUNC('Custos proj'!Q15*'Memo calc'!K189,2) -> 7952.13 | F19: =TRUNC(E19*(1+$C$10),2) -> 11539.33 | G19: =F19/$F$60 -> 0.031269288
B20: 1.1.3 | C20: Estudos Geológicos | E20: ='Custos proj'!Q16 -> 4262.45 | F20: =TRUNC(E20*(1+$C$10),2) -> 6185.24 | G20: =F20/$F$60 -> 0.016760769
B21: 1.1.4 | C21: Estudos Hidrológicos | E21: ='Custos proj'!Q17 -> 2276.44 | F21: =TRUNC(E21*(1+$C$10),2) -> 3303.34 | G21: =F21/$F$60 -> 0.0089513939
B22: 1.1.5 | C22: ='Custos proj'!C18:D18 -> Estudos de Traçado | E22: ='Custos proj'!Q18 -> 2382.63 | F22: =TRUNC(E22*(1+$C$10),2) -> 3457.43 | G22: =F22/$F$60 -> 0.0093689472
B23: 1.1.6 | C23: Estudos Topográficos | E23: ='Custos proj'!Q19 -> 12174.88 | F23: =TRUNC(E23*(1+$C$10),2) -> 17666.96 | G23: =F23/$F$60 -> 0.047873945
B24: 2.0 | C24: FASE DE PROJETO BÁSICO | E24: =E25 -> 77876.9 | F24: =F25 -> 113007.13 | G24: =F24/$F$60 -> 0.30622683
B25: 2.1 | C25: RELATÓRIO BÁSICO | E25: =SUM(E26:E36) -> 77876.9 | F25: =SUM(F26:F36) -> 113007.13 | G25: =F25/$F$60 -> 0.30622683
B26: 2.1.1 | C26: Estudos Geotécnicos - Fase de Projeto Básico | E26: =TRUNC('Custos proj'!Q20*'Memo calc'!K644,2) -> 21088.14 | F26: =TRUNC(E26*(1+$C$10),2) -> 30600.99 | G26: =F26/$F$60 -> 0.082922593
B27: 2.1.2 | C27: Componente Ambiental do Projeto - Fase de Projeto Básico | E27: =TRUNC('Custos proj'!Q15*'Memo calc'!K190,2) -> 3180.85 | F27: =TRUNC(E27*(1+$C$10),2) -> 4615.73 | G27: =F27/$F$60 -> 0.01250771
B28: 2.1.3 | C28: Projeto Geométrico Básico | E28: =TRUNC('Custos proj'!Q21*0.5,2) -> 5360.93 | F28: =TRUNC(E28*(1+$C$10),2) -> 7779.24 | G28: =F28/$F$60 -> 0.021080192
B29: 2.1.4 | C29: Projeto Básico de Terraplenagem | E29: =TRUNC('Custos proj'!Q22*0.6,2) -> 10415.54 | F29: =TRUNC(E29*(1+$C$10),2) -> 15113.99 | G29: =F29/$F$60 -> 0.040955905
B30: 2.1.5 | C30: Projeto Básico de Drenagem e Obras de Arte Correntes | E30: =TRUNC('Custos proj'!Q23*0.6,2) -> 10415.54 | F30: =TRUNC(E30*(1+$C$10),2) -> 15113.99 | G30: =F30/$F$60 -> 0.040955905
B31: 2.1.6 | C31: Projeto Básico de Pavimentação | E31: =TRUNC('Custos proj'!Q24*0.6,2) -> 6433.12 | F31: =TRUNC(E31*(1+$C$10),2) -> 9335.1 | G31: =F31/$F$60 -> 0.025296263
B32: 2.1.7 | C32: Projeto Básico de Sinalização | E32: =TRUNC('Custos proj'!Q25*0.6,2) -> 5003.53 | F32: =TRUNC(E32*(1+$C$10),2) -> 7260.62 | G32: =F32/$F$60 -> 0.019674835
B33: 2.1.8 | C33: Projeto Básico de Obras Complementares | E33: =TRUNC('Custos proj'!Q26*0.6,2) -> 5647.73 | F33: =TRUNC(E33*(1+$C$10),2) -> 8195.42 | G33: =F33/$F$60 -> 0.022207957
B34: 2.1.9 | C34: Projeto Básico do Canteiro de Obras e Acampamento do Pessoal | E34: =TRUNC('Custos proj'!Q27*0.6,2) -> 4288.73 | F34: =TRUNC(E34*(1+$C$10),2) -> 6223.37 | G34: =F34/$F$60 -> 0.016864094
B35: 2.1.10 | C35: Projeto Básico de Regulazição de Jazidas | E35: =TRUNC('Custos proj'!Q28*0.6,2) -> 1440.01 | F35: =TRUNC(E35*(1+$C$10),2) -> 2089.59 | G35: =F35/$F$60 -> 0.005662373
B36: 2.1.11 | C36: Orçamento Básico da Obra | E36: =TRUNC('Custos proj'!Q29*0.6,2) -> 4602.78 | F36: =TRUNC(E36*(1+$C$10),2) -> 6679.09 | G36: =F36/$F$60 -> 0.018099005
B37: 3.0 | C37: FASE DE PROJETO EXECUTIVO | E37: =E38 -> 67629.74 | F37: =F38 -> 98137.47 | G37: =F37/$F$60 -> 0.26593301
B38: 3.1 | C38: RELATÓRIO FINAL DO PROJETO EXECUTIVO | E38: =SUM(E39:E50) -> 67629.74 | F38: =SUM(F39:F50) -> 98137.47 | G38: =F38/$F$60 -> 0.26593301
B39: 3.1.1 | C39: Estudos Geotécnicos - Fase de Projeto Executivo | E39: ='Custos proj'!Q20-E26 -> 15300.01 | F39: =TRUNC(E39*(1+$C$10),2) -> 22201.84 | G39: =F39/$F$60 -> 0.060162568
B40: 3.1.2 | C40: Componente Ambiental do Projeto - Fase de Projeto Executivo | E40: ='Custos proj'!Q15-E19-E27 -> 3180.86 | F40: =TRUNC(E40*(1+$C$10),2) -> 4615.74 | G40: =F40/$F$60 -> 0.012507737
B41: 3.1.3 | C41: Projeto Geométrico | E41: ='Custos proj'!Q21-E28 -> 5360.94 | F41: =TRUNC(E41*(1+$C$10),2) -> 7779.26 | G41: =F41/$F$60 -> 0.021080246
B42: 3.1.4 | C42: Projeto de Terraplenagem | E42: ='Custos proj'!Q22-E29 -> 6943.7 | F42: =TRUNC(E42*(1+$C$10),2) -> 10076 | G42: =F42/$F$60 -> 0.027303955
B43: 3.1.5 | C43: Projeto de Drenagem e Obras de Arte Correntes | E43: ='Custos proj'!Q23-E30 -> 6943.7 | F43: =TRUNC(E43*(1+$C$10),2) -> 10076 | G43: =F43/$F$60 -> 0.027303955
B44: 3.1.6 | C44: Projeto de Pavimentação | E44: ='Custos proj'!Q24-E31 -> 4288.75 | F44: =TRUNC(E44*(1+$C$10),2) -> 6223.4 | G44: =F44/$F$60 -> 0.016864175
B45: 3.1.7 | C45: Projeto de Sinalização | E45: ='Custos proj'!Q25-E32 -> 3335.7 | F45: =TRUNC(E45*(1+$C$10),2) -> 4840.43 | G45: =F45/$F$60 -> 0.013116602
B46: 3.1.8 | C46: Projeto de Obras Complementares | E46: ='Custos proj'!Q26-E33 -> 3765.16 | F46: =TRUNC(E46*(1+$C$10),2) -> 5463.62 | G46: =F46/$F$60 -> 0.014805323
...

Sheet Crono medicoes
B5: Objeto: | C5: ='Qd abrang'!C4 -> Contratação de Projeto Executivo de Engenharia para Implantação do Aeródromo no município de Ribas do Rio Pardo
B6: Município: | C6: ='Qd abrang'!C5 -> Ribas do Rio Pardo/MS
B7: Local: | C7: ='Qd abrang'!C6 -> 0
B8: Extensão: | C8: 1,30 km (aproximadamente) | D8: Largura: 23 m | Q8: Processo: | R8: ='Qd abrang'!N7 -> 79.009.850-2025
B9: Prazo: | C9: 365 dias | Q9: Data-base: | R9: ='Qd abrang'!N8 -> 45748
B11: Cronograma de medições
B13: ITEM | C13: DESCRIÇÃO | D13: VALORES | F13: MEDIÇÃO | G13: 1 | H13: 2 | I13: 3 | J13: 4 | K13: 5 | L13: 6 | M13: 7 | N13: 8 | O13: 9 | P13: 10 | Q13: 11 | R13: 12
D14: % | E14: R$ | F14: DIAS CONSECUTIVOS | G14: 30 | H14: 60 | I14: 90 | J14: 120 | K14: 150 | L14: 180 | M14: 210 | N14: 240 | O14: 270 | P14: 300 | Q14: 330 | R14: 365
B15: 1.0 | C15: FASE PRELIMINAR | D15: =D16 -> 0.12336656 | E15: =E16 -> 45526.06 | F15: =F16 -> 57 | G15: 0.5 | H15: 0.5 | S15: =SUM(G15:R15) -> 1
B16: 1.1 | C16: Relatório Preliminar | D16: =Orcamento!G17 -> 0.12336656 | E16: =Orcamento!F17 -> 45526.06 | F16: ='Crono fisico'!F14 -> 57 | G16: =TRUNC(E15*G15,2) -> 22763.03 | H16: =TRUNC(E16*H15,2) -> 22763.03 | S16: =SUM(G16:R16) -> 45526.06
B17: 2.0 | C17: FASE DE PROJETO BÁSICO | D17: =D18 -> 0.30622683 | E17: =E18 -> 113007.13 | F17: =F18 -> 117 | G17: 0.2 | I17: 0.3 | J17: 0.5 | S17: =SUM(G17:R17) -> 1
B18: 2.1 | C18: Relatório Básico | D18: =Orcamento!G25 -> 0.30622683 | E18: =Orcamento!F25 -> 113007.13 | F18: ='Crono fisico'!F29 -> 117 | G18: 22415.99 | H18: 0 | I18: =TRUNC($E$18*I17,2) -> 33902.13 | J18: 56039.97 | S18: =SUM(G18:R18) -> 112358.09
B19: 3.0 | C19: FASE DE PROJETO EXECUTIVO | D19: =SUM(D20:D20) -> 0.26593301 | E19: =SUM(E20:E20) -> 98137.47 | F19: =F20 -> 196 | K19: 0.5 | L19: 0.5 | S19: =SUM(G19:R19) -> 1
B20: 3.1 | C20: Relatório Final do Projeto Executivo | D20: =Orcamento!G38 -> 0.26593301 | E20: =Orcamento!F38 -> 98137.47 | F20: ='Crono fisico'!F48 -> 196 | K20: =TRUNC($E$20*K19,2) -> 49068.73 | L20: 48761.73 | S20: =SUM(G20:R20) -> 97830.46
B21: 4.0 | C21: LICENCIAMENTO AMBIENTAL (AERÓDROMO E/OU HELIPORTO CIVIL/MILITAR/PÚBLICO, COM PISTA ATÉ 1.800 METROS) | D21: =SUM(D22:D22) -> 0.12962631 | E21: =SUM(E22:E22) -> 47836.1 | F21: =F22 -> 203 | M21: 0.5 | R21: 0.5 | S21: =SUM(G21:R21) -> 1
B22: 4.1 | C22: DOCUMENTAÇÃO PARA O LICENCIAMENTO AMBIENTAL JUNTO AO IMASUL | D22: =Orcamento!G52 -> 0.12962631 | E22: =Orcamento!F52 -> 47836.1 | F22: ='Crono fisico'!F65 -> 203 | M22: =TRUNC($E$22*M21,2) -> 23918.05 | R22: 23734.65 | S22: =SUM(G22:R22) -> 47652.7
B23: 5.0 | C23: PLANO BÁSICO DE ZONA DE PROTEÇÃO AERÓDROMO - PBZPA | D23: =Orcamento!G58 -> 0.17484729 | E23: =Orcamento!F58 -> 64524.032 | F23: =F24 -> 366 | J23: 0.2 | K23: 0.3 | R23: 0.5 | S23: =SUM(G23:R23) -> 1
B24: 5.1 | C24: RELATÓRIO FINAL DO PBZPA | D24: =Orcamento!G57 -> 0.17484729 | E24: =Orcamento!F57 -> 64524.032 | F24: ='Crono fisico'!F70 -> 366 | J24: =TRUNC($E$24*J23,2) -> 12904.8 | K24: =TRUNC($E$24*K23,2) -> 19357.2 | R24: 32014.64 | S24: =SUM(G24:R24) -> 64276.64
C25: TOTAL | D25: =D15+D17+D19+D23 -> 0.87037369 | E25: =E15+E17+E19+E21+E23 -> 369030.79 | F25: =F23 -> 366 | G25: =G16+G18+G20+G22+G24 -> 45179.02 | H25: =H16+H18+H20+H22+H24 -> 22763.03 | I25: =I16+I18+I20+I22+I24 -> 33902.13 | J25: =J16+J18+J20+J22+J24 -> 68944.77 | K25: =K16+K18+K20+K22+K24 -> 68425.93 | L25: =L16+L18+L20+L22+L24 -> 48761.73 | M25: =M16+M18+M20+M22+M24 -> 23918.05 | N25: =N16+N18+N20+N22+N24 -> 0 | ... R25: =R16+R18+R20+R22+R24 -> 55749.29 | S25: =SUM(G25:R25) -> 367643.95

Sheet Custos proj
B4: Objeto: | C4: ='Qd abrang'!C4 -> Contratação de Projeto Executivo de Engenharia para Implantação do Aeródromo no município de Ribas do Rio Pardo
B5: Município: | C5: ='Qd abrang'!C5 -> Ribas do Rio Pardo/MS
B6: Local: | C6: ='Qd abrang'!C6 -> 0
B7: Extensão: | C7: ='Qd abrang'!C7 -> 1.3 | D7: km (aproximadamente) | E7: Largura: 23 m | N7: Processo: | O7: ='Qd abrang'!N7 -> 79.009.850-2025
B8: Prazo: | C8: ='Qd abrang'!C8 -> 365 | D8: dias | N8: Data-base: | O8: ='Qd abrang'!N8 -> 45748
B10: Custo do projeto
B12: ITEM | C12: DESCRIÇÃO | E12: MÃO DE OBRA (R$) | F12: VEÍCULOS (R$) | G12: EQUIP. E MATERIAIS (R$) | H12: DIÁRIAS E PASSAGENS (R$) | I12: MOB. E DESMOB. DE M.O. (R$) | J12: MOB. E DESMOB. DE EQUIP. RODANTES (R$) | K12: SUBTOTAL 1 | M12: % INST. FÍSICAS E DIVERSOS (R$) | N12: % COORD. DO PROJETO (R$) | O12: % ADM. DE CAMPO (R$) | P12: % SERVIÇOS GRÁFICOS (R$) | Q12: CUSTO TOTAL | S12: IMPRESSÃO DEFINITIVA (10%) | T12: SUBTOTAL 2
K13: R$ | L13: % | Q13: R$ | R13: % | S13: R$ | T13: R$ | U13: %
B14: 1 | C14: Coleta e análise dos dados existentes | E14: =MO!M19 -> 1044.29 | F14: 0 | G14: 0 | H14: 0 | I14: 0 | J14: 0 | K14: =SUM(E14:J14) -> 1044.29 | L14: =K14/$K$36 -> 0.0091409027 | M14: =M36-SUM(M15:M35) -> 490.09 | N14: =N36-SUM(N15:N35) -> 713.01 | O14: =O36-SUM(O15:O35) -> 77.58 | P14: 0 | Q14: =K14+SUM(M14:P14) -> 2324.97 | R14: =R36-(SUM(R15:R35)) -> 0.0089 | S14: 0 | T14: =Q14-S14 -> 2324.97 | U14: =TRUNC(T14/$Q$36, 4) -> 0.0091
B15: 2 | C15: Componente Ambiental do Projeto | E15: =MO!M22+MO!M25 -> 5291.77 | F15: =Veículos!I17 -> 212.45 | G15: 0 | H15: ='Diárias + passagens'!L20 -> 500 | I15: ='Mob desmob MO'!O20 -> 300 | J15: ='Mob desmob equip rod'!Q18 -> 125.96 | K15: =SUM(E15:J15) -> 6430.18 | L15: =K15/$K$36 -> 0.056284796 | M15: =TRUNC(L15*$M$36,2) -> 3017.09 | N15: =TRUNC(L15*$N$36,2) -> 4389.66 | O15: =TRUNC(L15*$O$36, 2) -> 476.91 | P15: 0 | Q15: =K15+SUM(M15:P15) -> 14313.84 | R15: =ROUND(Q15/$Q$36, 4) -> 0.0563 | S15: 0 | T15: =Q15-S15 -> 14313.84 | U15: =ROUND(T15/$Q$36, 4) -> 0.0563
B16: 3 | C16: Estudos Geológicos | E16: =MO!M28 -> 1914.82 | F16: 0 | G16: 0 | H16: 0 | I16: 0 | J16: 0 | K16: =SUM(E16:J16) -> 1914.82 | L16: =K16/$K$36 -> 0.016760846 | M16: =TRUNC(L16*$M$36,2) -> 898.44 | N16: =TRUNC(L16*$N$36,2) -> 1307.18 | O16: =TRUNC(L16*$O$36, 2) -> 142.01 | P16: 0 | Q16: =K16+SUM(M16:P16) -> 4262.45 | R16: =ROUND(Q16/$Q$36, 4) -> 0.0168 | S16: 0 | T16: =Q16-S16 -> 4262.45 | U16: =ROUND(T16/$Q$36, 4) -> 0.0168
B17: 4 | C17: Estudos Hidrológicos | E17: =MO!M32 -> 1022.65 | F17: 0 | G17: 0 | H17: 0 | I17: 0 | J17: 0 | K17: =SUM(E17:J17) -> 1022.65 | L17: =K17/$K$36 -> 0.008951483 | M17: =TRUNC(L17*$M$36,2) -> 479.83 | N17: =TRUNC(L17*$N$36,2) -> 698.12 | O17: =TRUNC(L17*$O$36, 2) -> 75.84 | P17: 0 | Q17: =K17+SUM(M17:P17) -> 2276.44 | R17: =ROUND(Q17/$Q$36, 4) -> 0.009 | S17: 0 | T17: =Q17-S17 -> 2276.44 | U17: =ROUND(T17/$Q$36, 4) -> 0.009
B18: 5 | C18: Estudos de Traçado | E18: =MO!M35 -> 1070.35 | F18: 0 | G18: 0 | H18: 0 | I18: 0 | J18: 0 | K18: =SUM(E18:J18) -> 1070.35 | L18: =K18/$K$36 -> 0.0093690117 | M18: =TRUNC(L18*$M$36,2) -> 502.21 | N18: =TRUNC(L18*$N$36,2) -> 730.69 | O18: =TRUNC(L18*$O$36, 2) -> 79.38 | P18: 0 | Q18: =K18+SUM(M18:P18) -> 2382.63 | R18: =ROUND(Q18/$Q$36, 4) -> 0.0094 | S18: 0 | T18: =Q18-S18 -> 2382.63 | U18: =ROUND(T18/$Q$36, 4) -> 0.0094
B19: 6 | C19: Estudos Topográficos | E19: =MO!M38+MO!M41 -> 3960.34 | F19: =Veículos!I19 -> 264 | G19: ='Equip + materiais'!J14 -> 171.67 | H19: ='Diárias + passagens'!L22 -> 500 | I19: ='Mob desmob MO'!O22 -> 300 | J19: ='Mob desmob equip rod'!Q20 -> 273.29 | K19: =SUM(E19:J19) -> 5469.3 | L19: =K19/$K$36 -> 0.047874 | M19: =TRUNC(L19*$M$36,2) -> 2566.24 | N19: =TRUNC(L19*$N$36,2) -> 3733.7 | O19: =TRUNC(L19*$O$36, 2) -> 405.64 | P19: 0 | Q19: =K19+SUM(M19:P19) -> 12174.88 | R19: =ROUND(Q19/$Q$36, 4) -> 0.0479 | S19: 0 | T19: =Q19-S19 -> 12174.88 | U19: =ROUND(T19/$Q$36, 4) -> 0.0479
B20: 7 | C20: Estudos Geotécnicos | E20: =MO!M45+MO!M48+MO!M51 -> 8022.39 | F20: =Veículos!I21 -> 528 | G20: ='Equip + materiais'!J16+'Equip + materiais'!J20 -> 6322.9 | H20: ='Diárias + passagens'!L24 -> 900 | I20: ='Mob desmob MO'!O20 -> 300 | J20: ='Mob desmob equip rod'!Q22 -> 273.29 | K20: =SUM(E20:J20) -> 16346.58 | L20: =K20/$K$36 -> 0.14308525 | M20: =TRUNC(L20*$M$36,2) -> 7669.94 | N20: =TRUNC(L20*$N$36,2) -> 11159.24 | O20: =TRUNC(L20*$O$36, 2) -> 1212.39 | P20: 0 | Q20: =K20+SUM(M20:P20) -> 36388.15 | R20: =ROUND(Q20/$Q$36, 4) -> 0.1431 | S20: 0 | T20: =Q20-S20 -> 36388.15 | U20: =ROUND(T20/$Q$36, 4) -> 0.1431
B21: 8 | C21: Projeto Geométrico | E21: =MO!M54 -> 4816.57 | F21: 0 | G21: 0 | H21: 0 | I21: 0 | J21: 0 | K21: =SUM(E21:J21) -> 4816.57 | L21: =K21/$K$36 -> 0.042160509 | M21: =TRUNC(L21*$M$36,2) -> 2259.97 | N21: =TRUNC(L21*$N$36,2) -> 3288.1 | O21: =TRUNC(L21*$O$36, 2) -> 357.23 | P21: 0 | Q21: =K21+SUM(M21:P21) -> 10721.87 | R21: =ROUND(Q21/$Q$36, 4) -> 0.0422 | S21: 0 | T21: =Q21-S21 -> 10721.87 | U21: =ROUND(T21/$Q$36, 4) -> 0.0422
B22: 9 | C22: Projeto de Terraplenagem | E22: =MO!M57 -> 7798.26 | F22: 0 | G22: 0 | H22: 0 | I22: 0 | J22: 0 | K22: =SUM(E22:J22) -> 7798.26 | L22: =K22/$K$36 -> 0.068259905 | M22: =TRUNC(L22*$M$36,2) -> 3659 | N22: =TRUNC(L22*$N$36,2) -> 5323.6 | O22: =TRUNC(L22*$O$36, 2) -> 578.38 | P22: 0 | Q22: =K22+SUM(M22:P22) -> 17359.24 | R22: =ROUND(Q22/$Q$36, 4) -> 0.0683 | S22: 0 | T22: =Q22-S22 -> 17359.24 | U22: =ROUND(T22/$Q$36, 4) -> 0.0683
B23: 10 | C23: Projeto de Drenagem e Obras de Arte Correntes | E23: =MO!M60 -> 7798.26 | F23: 0 | G23: 0 | H23: 0 | I23: 0 | J23: 0 | K23: =SUM(E23:J23) -> 7798.26 | L23: =K23/$K$36 -> 0.068259905 | M23: =TRUNC(L23*$M$36,2) -> 3659 | N23: =TRUNC(L23*$N$36,2) -> 5323.6 | O23: =TRUNC(L23*$O$36, 2) -> 578.38 | P23: 0 | Q23: =K23+SUM(M23:P23) -> 17359.24 | R23: =ROUND(Q23/$Q$36, 4) -> 0.0683 | S23: 0 | T23: =Q23-S23 -> 17359.24 | U23: =ROUND(T23/$Q$36, 4) -> 0.0683
B24: 11 | C24: Projeto de Pavimentação | E24: =MO!M63 -> 4816.57 | F24: 0 | G24: 0 | H24: 0 | I24: 0 | J24: 0 | K24: =SUM(E24:J24) -> 4816.57 | L24: =K24/$K$36 -> 0.042160509 | M24: =TRUNC(L24*$M$36,2) -> 2259.97 | N24: =TRUNC(L24*$N$36,2) -> 3288.1 | O24: =TRUNC(L24*$O$36, 2) -> 357.23 | P24: 0 | Q24: =K24+SUM(M24:P24) -> 10721.87 | R24: =ROUND(Q24/$Q$36, 4) -> 0.0422 | S24: 0 | T24: =Q24-S24 -> 10721.87 | U24: =ROUND(T24/$Q$36, 4) -> 0.0422
B25: 12 | C25: Projeto de Sinalização | E25: =MO!M66 -> 3746.22 | F25: 0 | G25: 0 | H25: 0 | I25: 0 | J25: 0 | K25: =SUM(E25:J25) -> 3746.22 | L25: =K25/$K$36 -> 0.032791497 | M25: =TRUNC(L25*$M$36,2) -> 1757.75 | N25: =TRUNC(L25*$N$36,2) -> 2557.41 | O25: =TRUNC(L25*$O$36, 2) -> 277.85 | P25: 0 | Q25: =K25+SUM(M25:P25) -> 8339.23 | R25: =ROUND(Q25/$Q$36, 4) -> 0.0328 | S25: 0 | T25: =Q25-S25 -> 8339.23 | U25: =ROUND(T25/$Q$36, 4) -> 0.0328
B26: 13 | C26: Projeto de Obras Complementares | E26: =MO!M69 -> 4228.54 | F26: 0 | G26: 0 | H26: 0 | I26: 0 | J26: 0 | K26: =SUM(E26:J26) -> 4228.54 | L26: =K26/$K$36 -> 0.037013351 | M26: =TRUNC(L26*$M$36,2) -> 1984.06 | N26: =TRUNC(L26*$N$36,2) -> 2886.67 | O26: =TRUNC(L26*$O$36, 2) -> 313.62 | P26: 0 | Q26: =K26+SUM(M26:P26) -> 9412.89 | R26: =ROUND(Q26/$Q$36, 4) -> 0.037 | S26: 0 | T26: =Q26-S26 -> 9412.89 | U26: =ROUND(T26/$Q$36, 4) -> 0.037
B27: 14 | C27: Projeto de Canteiro de Obras e Acampamento de Pessoal | E27: =MO!M72 -> 3211.04 | F27: 0 | G27: 0 | H27: 0 | I27: 0 | J27: 0 | K27: =SUM(E27:J27) -> 3211.04 | L27: =K27/$K$36 -> 0.028106948 | M27: =TRUNC(L27*$M$36,2) -> 1506.64 | N27: =TRUNC(L27*$N$36,2) -> 2192.06 | O27: =TRUNC(L27*$O$36, 2) -> 238.15 | P27: 0 | Q27: =K27+SUM(M27:P27) -> 7147.89 | R27: =ROUND(Q27/$Q$36, 4) -> 0.0281 | S27: 0 | T27: =Q27-S27 -> 7147.89 | U27: =ROUND(T27/$Q$36, 4) -> 0.0281
B28: 15 | C28: Projeto de Regularização de Jazidas | E28: =MO!M75 -> 1078.16 | F28: 0 | G28: 0 | H28: 0 | I28: 0 | J28: 0 | K28: =SUM(E28:J28) -> 1078.16 | L28: =K28/$K$36 -> 0.0094373744 | M28: =TRUNC(L28*$M$36,2) -> 505.88 | N28: =TRUNC(L28*$N$36,2) -> 736.02 | O28: =TRUNC(L28*$O$36, 2) -> 79.96 | P28: 0 | Q28: =K28+SUM(M28:P28) -> 2400.02 | R28: =ROUND(Q28/$Q$36, 4) -> 0.0094 | S28: 0 | T28: =Q28-S28 -> 2400.02 | U28: =ROUND(T28/$Q$36, 4) -> 0.0094
B29: 16 | C29: Orçamento da Obra | E29: =MO!M78 -> 3446.17 | F29: 0 | G29: 0 | H29: 0 | I29: 0 | J29: 0 | K29: =SUM(E29:J29) -> 3446.17 | L29: =K29/$K$36 -> 0.030165093 | M29: =TRUNC(L29*$M$36,2) -> 1616.97 | N29: =TRUNC(L29*$N$36,2) -> 2352.58 | O29: =TRUNC(L29*$O$36, 2) -> 255.59 | P29: 0 | Q29: =K29+SUM(M29:P29) -> 7671.31 | R29: =ROUND(Q29/$Q$36, 4) -> 0.0302 | S29: 0 | T29: =Q29-S29 -> 7671.31 | U29: =ROUND(T29/$Q$36, 4) -> 0.0302
B30: 17 | C30: Plano de Execução da Obra | E30: =MO!M81 -> 5221.48 | F30: 0 | G30: 0 | H30: 0 | I30: 0 | J30: 0 | K30: =SUM(E30:J30) -> 5221.48 | L30: =K30/$K$36 -> 0.045704776 | M30: =TRUNC(L30*$M$36,2) -> 2449.96 | N30: =TRUNC(L30*$N$36,2) -> 3564.52 | O30: =TRUNC(L30*$O$36, 2) -> 387.26 | P30: 0 | Q30: =K30+SUM(M30:P30) -> 11623.22 | R30: =ROUND(Q30/$Q$36, 4) -> 0.0457 | S30: 0 | T30: =Q30-S30 -> 11623.22 | U30: =ROUND(T30/$Q$36, 4) -> 0.0457
B31: 18 | C31: Proposta Técnica Ambiental (PTA) | E31: =MO!M84 -> 3638.99 | F31: 0 | G31: 0 | H31: 0 | I31: 0 | J31: 0 | K31: =SUM(E31:J31) -> 3638.99 | L31: =K31/$K$36 -> 0.031852889 | M31: =TRUNC(L31*$M$36,2) -> 1707.44 | N31: =TRUNC(L31*$N$36,2) -> 2484.21 | O31: =TRUNC(L31*$O$36, 2) -> 269.89 | Q31: =K31+SUM(M31:P31) -> 8100.53 | R31: =ROUND(Q31/$Q$36, 4) -> 0.0319
B32: 19 | C32: Estudo de Sondagem do Solo (ESS) | E32: =MO!M89 -> 1027.83 | F32: 0 | G32: 0 | H32: 0 | I32: 0 | J32: 0 | K32: =SUM(E32:J32) -> 1027.83 | L32: =K32/$K$36 -> 0.0089968247 | M32: =TRUNC(L32*$M$36,2) -> 482.26 | N32: =TRUNC(L32*$N$36,2) -> 701.66 | O32: =TRUNC(L32*$O$36, 2) -> 76.23 | Q32: =K32+SUM(M32:P32) -> 2287.98 | R32: =ROUND(Q32/$Q$36, 4) -> 0.009
B33: 20 | C33: Plano Básico Ambiental (PBA) | E33: =MO!M92 -> 9256.9 | F33: 0 | G33: 0 | H33: 0 | I33: 0 | J33: 0 | K33: =SUM(E33:J33) -> 9256.9 | L33: =K33/$K$36 -> 0.081027705 | M33: =TRUNC(L33*$M$36,2) -> 4343.41 | N33: =TRUNC(L33*$N$36,2) -> 6319.36 | O33: =TRUNC(L33*$O$36, 2) -> 686.56 | Q33: =K33+SUM(M33:P33) -> 20606.23 | R33: =ROUND(Q33/$Q$36, 4) -> 0.081
B34: 21 | C34: Formulário de Atividades de Infraestrutura (IMASUL) | E34: =MO!M97 -> 885.29 | F34: 0 | G34: 0 | H34: 0 | I34: 0 | J34: 0 | K34: =SUM(E34:J34) -> 885.29 | L34: =K34/$K$36 -> 0.0077491403 | M34: =TRUNC(L34*$M$36,2) -> 415.38 | N34: =TRUNC(L34*$N$36,2) -> 604.35 | O34: =TRUNC(L34*$O$36, 2) -> 65.66 | Q34: =K34+SUM(M34:P34) -> 1970.68 | R34: =ROUND(Q34/$Q$36, 4) -> 0.0077
B35: 22 | C35: Plano Básico de Zona de Proteção de Aeródromo - PBZPA | E35: =MO!M99 -> 19975.19 | F35: 0 | G35: 0 | H35: 0 | I35: 0 | J35: 0 | K35: =SUM(E35:J35) -> 19975.19 | L35: =K35/$K$36 -> 0.17484728 | M35: =TRUNC(L35*$M$36,2) -> 9372.52 | N35: =TRUNC(L35*$N$36,2) -> 13636.37 | O35: =TRUNC(L35*$O$36, 2) -> 1481.52 | Q35: =K35+SUM(M35:P35) -> 44465.6 | R35: =ROUND(Q35/$Q$36, 4) -> 0.1748
D36: TOTAL | E36: =SUM(E14:E35) -> 103272.08 | F36: =SUM(F14:F35) -> 1004.45 | G36: =SUM(G14:G35) -> 6494.57 | H36: =SUM(H14:H35) -> 1900 | I36: =SUM(I14:I35) -> 900 | J36: =SUM(J14:J35) -> 672.54 | K36: =SUM(K14:K35) -> 114243.64 | L36: =SUM(L14:L35) -> 1 | M36: ='Inst + diversos'!M30 -> 53604.05 | N36: =MO!M14+'Diárias + passagens'!L15+'Mob desmob MO'!O17 -> 77990.21 | O36: =MO!M16+Veículos!I15+'Diárias + passagens'!L17+'Mob desmob equip rod'!Q16 -> 8473.26 | P36: 0 | Q36: =SUM(Q14:Q35) -> 254311.16 | R36: 1 | S36: =ROUND(Q36*0,2) -> 0 | T36: =SUM(T14:T30) -> 176880.14 | U36: =SUM(U14:U30) -> 0.6958 | W36: =K36+M36+N36+O36 -> 254311.16

Sheet MO
B4: Objeto: | C4: ='Qd abrang'!C4 -> Contratação de Projeto Executivo de Engenharia para Implantação do Aeródromo no município de Ribas do Rio Pardo
B5: Município: | C5: ='Qd abrang'!C5 -> Ribas do Rio Pardo/MS
B6: Local: | C6: ='Qd abrang'!C6 -> 0
B7: Extensão: | C7: ='Qd abrang'!C7 -> 1.3 | D7: km (aproximadamente) | E7: Largura: 23 m | L7: Processo: | M7: ='Qd abrang'!N7 -> 79.009.850-2025
B8: Prazo: | C8: ='Qd abrang'!C8 -> 365 | D8: dias | L8: Data-base: | M8: ='Qd abrang'!N8 -> 45748
B10: Custo da mão de obra
B12: CÓDIGO | C12: DESCRIÇÃO | E12: TIPO DE M.O. | F12: QUANT. EQUIPE | G12: PESSOAS/ EQUIPE | H12: HORAS/ DIA | I12: DIAS TRABALHADOS | J12: TOTAL DE HORAS | K12: PESSOAS/ MÊS | L12: CUSTO MENSAL (R$) | M12: TOTAL (R$)
F13: b | G13: c | H13: d | I13: e | J13: f=b*c*d*e | K13: g=f/220 | L13: h | M13: i=g*h
B14: COORDENAÇÃO DO PROJETO | M14: =M15 -> 76375.93
B15: ='Memo calc'!B1210 -> P8061 | C15: =IFERROR(VLOOKUP(B15,MO_Matriz,2,0),"") -> Engenheiro coordenador | D15: =IFERROR(VLOOKUP(C15,MO_Matriz,2,0),"") | E15: =IFERROR(VLOOKUP(B15,MO_Matriz,3,0),"") -> S | F15: ='Memo calc'!H1210 -> 1 | G15: ='Memo calc'!I1210 -> 1 | H15: ='Memo calc'!K1210 -> 3.6666667 | I15: ='Memo calc'!M1210 -> 130.28571 | J15: =F15*G15*H15*I15 -> 477.71429 | K15: =J15/220 -> 2.1714286 | L15: =IFERROR(VLOOKUP(B15,MO_Matriz,5,0),"") -> 35173.13 | M15: =TRUNC(K15*L15,2) -> 76375.93
B16: ADMINISTRAÇÃO DE CAMPO | M16: =SUM(M17:M18) -> 6432.49
B17: ='Memo calc'!B656 -> P8061 | C17: =IFERROR(VLOOKUP(B17,MO_Matriz,2,0),"") -> Engenheiro coordenador | D17: =IFERROR(VLOOKUP(C17,MO_Matriz,2,0),"") | E17: =IFERROR(VLOOKUP(B17,MO_Matriz,3,0),"") -> S | F17: ='Memo calc'!H656 -> 1 | G17: ='Memo calc'!I656 -> 1 | H17: ='Memo calc'!K656 -> 7.3333333 | I17: ='Memo calc'!M656 -> 4.5714286 | J17: =F17*G17*H17*I17 -> 33.52381 | K17: =J17/220 -> 0.15238095 | L17: =IFERROR(VLOOKUP(B17,MO_Matriz,5,0),"") -> 35173.13 | M17: =TRUNC(K17*L17,2) -> 5359.71
B18: ='Memo calc'!B657 -> P8147 | C18: =IFERROR(VLOOKUP(B18,MO_Matriz,2,0),"") -> Técnico de obras | D18: =IFERROR(VLOOKUP(C18,MO_Matriz,2,0),"") | E18: =IFERROR(VLOOKUP(B18,MO_Matriz,3,0),"") -> T | F18: ='Memo calc'!H657 -> 1 | G18: ='Memo calc'!I657 -> 1 | H18: ='Memo calc'!K657 -> 7.3333333 | I18: ='Memo calc'!M657 -> 4.5714286 | J18: =F18*G18*H18*I18 -> 33.52381 | K18: =J18/220 -> 0.15238095 | L18: =IFERROR(VLOOKUP(B18,MO_Matriz,5,0),"") -> 7040.14 | M18: =TRUNC(K18*L18,2) -> 1072.78
B19: COLETA E ANÁLISE DE DADOS EXISTENTES | M19: =SUM(M20:M21) -> 1044.29
B20: ='Memo calc'!B29 -> P8065 | C20: =IFERROR(VLOOKUP(B20,MO_Matriz,2,0),"") -> Engenheiro de projetos júnior | D20: =IFERROR(VLOOKUP(C20,MO_Matriz,2,0),"") | E20: =IFERROR(VLOOKUP(B20,MO_Matriz,3,0),"") -> S | F20: ='Memo calc'!I29 -> 1 | G20: ='Memo calc'!K29 -> 1 | H20: ='Memo calc'!N29 -> 7.3333333 | I20: ='Memo calc'!Q29 -> 1 | J20: =F20*G20*H20*I20 -> 7.3333333 | K20: =J20/220 -> 0.033333333 | L20: =IFERROR(VLOOKUP(B20,MO_Matriz,5,0),"") -> 24288.81 | M20: =TRUNC(K20*L20,2) -> 809.62
B21: ='Memo calc'!B30 -> P8147 | C21: =IFERROR(VLOOKUP(B21,MO_Matriz,2,0),"") -> Técnico de obras | D21: =IFERROR(VLOOKUP(C21,MO_Matriz,2,0),"") | E21: =IFERROR(VLOOKUP(B21,MO_Matriz,3,0),"") -> T | F21: ='Memo calc'!I30 -> 1 | G21: ='Memo calc'!K30 -> 1 | H21: ='Memo calc'!N30 -> 7.3333333 | I21: ='Memo calc'!Q30 -> 1 | J21: =F21*G21*H21*I21 -> 7.3333333 | K21: =J21/220 -> 0.033333333 | L21: =IFERROR(VLOOKUP(B21,MO_Matriz,5,0),"") -> 7040.14 | M21: =TRUNC(K21*L21,2) -> 234.67
B22: COMPONENTE AMBIENTAL DO PROJETO: INVESTIGAÇÃO DE CAMPO | M22: =SUM(M23:M24) -> 3083.52
B23: ='Memo calc'!B80 -> P8058 | C23: =IFERROR(VLOOKUP(B23,MO_Matriz,2,0),"") -> Engenheiro ambiental pleno | D23: =IFERROR(VLOOKUP(C23,MO_Matriz,2,0),"") | E23: =IFERROR(VLOOKUP(B23,MO_Matriz,3,0),"") -> S | F23: ='Memo calc'!H80 -> 1 | G23: ='Memo calc'!J80 -> 1 | H23: ='Memo calc'!M80 -> 7.3333333 | I23: ='Memo calc'!O80 -> 3 | J23: =F23*G23*H23*I23 -> 22 | K23: =J23/220 -> 0.1 | L23: =IFERROR(VLOOKUP(B23,MO_Matriz,5,0),"") -> 26558.86 | M23: =TRUNC(K23*L23,2) -> 2655.88
B24: ='Memo calc'!B81 -> P8025 | C24: =IFERROR(VLOOKUP(B24,MO_Matriz,2,0),"") -> Auxiliar | D24: =IFERROR(VLOOKUP(C24,MO_Matriz,2,0),"") | E24: =IFERROR(VLOOKUP(B24,MO_Matriz,3,0),"") -> A | F24: ='Memo calc'!H81 -> 1 | G24: ='Memo calc'!J81 -> 1 | H24: ='Memo calc'!M81 -> 7.3333333 | I24: ='Memo calc'!O81 -> 3 | J24: =F24*G24*H24*I24 -> 22 | K24: =J24/220 -> 0.1 | L24: =IFERROR(VLOOKUP(B24,MO_Matriz,5,0),"") -> 4276.41 | M24: =TRUNC(K24*L24,2) -> 427.64
B25: COMPONENTE AMBIENTAL DO PROJETO: TRABALHO DE ESCRITÓRIO (ANÁLISES E FORMULAÇÕES) | M25: =SUM(M26:M27) -> 2208.25
B26: ='Memo calc'!B159 -> P8058 | C26: =IFERROR(VLOOKUP(B26,MO_Matriz,2,0),"") -> Engenheiro ambiental pleno | D26: =IFERROR(VLOOKUP(C26,MO_Matriz,2,0),"") | E26: =IFERROR(VLOOKUP(B26,MO_Matriz,3,0),"") -> S | F26: ='Memo calc'!H159 -> 1 | G26: ='Memo calc'!J159 -> 1 | H26: ='Memo calc'!L159 -> 7.3333333 | I26: ='Memo calc'!O159 -> 2 | J26: =F26*G26*H26*I26 -> 14.666667 | K26: =J26/220 -> 0.066666667 | L26: =IFERROR(VLOOKUP(B26,MO_Matriz,5,0),"") -> 26558.86 | M26: =TRUNC(K26*L26,2) -> 1770.59
B27: ='Memo calc'!B160 -> P8143 | C27: =IFERROR(VLOOKUP(B27,MO_Matriz,2,0),"") -> Técnico ambiental | D27: =IFERROR(VLOOKUP(C27,MO_Matriz,2,0),"") | E27: =IFERROR(VLOOKUP(B27,MO_Matriz,3,0),"") -> T | F27: ='Memo calc'!H160 -> 1 | G27: ='Memo calc'!J160 -> 1 | H27: ='Memo calc'!L160 -> 7.3333333 | I27: ='Memo calc'!O160 -> 2 | J27: =F27*G27*H27*I27 -> 14.666667 | K27: =J27/220 -> 0.066666667 | L27: =IFERROR(VLOOKUP(B27,MO_Matriz,5,0),"") -> 6565.04 | M27: =TRUNC(K27*L27,2) -> 437.66
B28: ESTUDOS GEOLÓGICOS | M28: =SUM(M29:M31) -> 1914.82
B29: ='Memo calc'!B201 -> P8058 | C29: =IFERROR(VLOOKUP(B29,MO_Matriz,2,0),"") -> Engenheiro ambiental pleno | D29: =IFERROR(VLOOKUP(C29,MO_Matriz,2,0),"") | E29: =IFERROR(VLOOKUP(B29,MO_Matriz,3,0),"") -> S | F29: ='Memo calc'!H201 -> 1 | G29: ='Memo calc'!J201 -> 1 | H29: ='Memo calc'!M201 -> 7.3333333 | I29: ='Memo calc'!P201 -> 1 | J29: =F29*G29*H29*I29 -> 7.3333333 | K29: =J29/220 -> 0.033333333 | L29: =IFERROR(VLOOKUP(B29,MO_Matriz,5,0),"") -> 26558.86 | M29: =TRUNC(K29*L29,2) -> 885.29
B30: ='Memo calc'!B202 -> P8080 | C30: =IFERROR(VLOOKUP(B30,MO_Matriz,2,0),"") -> Geólogo júnior | D30: =IFERROR(VLOOKUP(C30,MO_Matriz,2,0),"") | E30: =IFERROR(VLOOKUP(B30,MO_Matriz,3,0),"") -> S | F30: ='Memo calc'!H202 -> 1 | G30: ='Memo calc'!J202 -> 1 | H30: ='Memo calc'!M202 -> 7.3333333 | I30: ='Memo calc'!P202 -> 1 | J30: =F30*G30*H30*I30 -> 7.3333333 | K30: =J30/220 -> 0.033333333 | L30: =IFERROR(VLOOKUP(B30,MO_Matriz,5,0),"") -> 24321.09 | M30: =TRUNC(K30*L30,2) -> 810.7
B31: ='Memo calc'!B203 -> P8143 | C31: =IFERROR(VLOOKUP(B31,MO_Matriz,2,0),"") -> Técnico ambiental | D31: =IFERROR(VLOOKUP(C31,MO_Matriz,2,0),"") | E31: =IFERROR(VLOOKUP(B31,MO_Matriz,3,0),"") -> T | F31: ='Memo calc'!H203 -> 1 | G31: ='Memo calc'!J203 -> 1 | H31: ='Memo calc'!M203 -> 7.3333333 | I31: ='Memo calc'!P203 -> 1 | J31: =F31*G31*H31*I31 -> 7.3333333 | K31: =J31/220 -> 0.033333333 | L31: =IFERROR(VLOOKUP(B31,MO_Matriz,5,0),"") -> 6565.04 | M31: =TRUNC(K31*L31,2) -> 218.83
B32: ESTUDOS HIDROLÓGICOS | M32: =SUM(M33:M34) -> 1022.65
B33: ='Memo calc'!B245 -> P8065 | C33: =IFERROR(VLOOKUP(B33,MO_Matriz,2,0),"") -> Engenheiro de projetos júnior | D33: =IFERROR(VLOOKUP(C33,MO_Matriz,2,0),"") | E33: =IFERROR(VLOOKUP(B33,MO_Matriz,3,0),"") -> S | F33: ='Memo calc'!H245 -> 1 | G33: ='Memo calc'!J245 -> 1 | H33: ='Memo calc'!M245 -> 7.3333333 | I33: ='Memo calc'!P245 -> 1 | J33: =F33*G33*H33*I33 -> 7.3333333 | K33: =J33/220 -> 0.033333333 | L33: =IFERROR(VLOOKUP(B33,MO_Matriz,5,0),"") -> 24288.81 | M33: =ROUND(K33*L33,2) -> 809.63
B34: ='Memo calc'!B246 -> P8155 | C34: =IFERROR(VLOOKUP(B34,MO_Matriz,2,0),"") -> Técnico em geoprocessamento | D34: =IFERROR(VLOOKUP(C34,MO_Matriz,2,0),"") | E34: =IFERROR(VLOOKUP(B34,MO_Matriz,3,0),"") -> T | F34: ='Memo calc'!H246 -> 1 | G34: ='Memo calc'!J246 -> 1 | H34: ='Memo calc'!M246 -> 7.3333333 | I34: ='Memo calc'!P246 -> 1 | J34: =F34*G34*H34*I34 -> 7.3333333 | K34: =J34/220 -> 0.033333333 | L34: =IFERROR(VLOOKUP(B34,MO_Matriz,5,0),"") -> 6390.65 | M34: =ROUND(K34*L34,2) -> 213.02
B35: ESTUDOS DE TRAÇADO | M35: =SUM(M36:M37) -> 1070.35
B36: ='Memo calc'!B287 -> P8065 | C36: =IFERROR(VLOOKUP(B36,MO_Matriz,2,0),"") -> Engenheiro de projetos júnior | D36: =IFERROR(VLOOKUP(C36,MO_Matriz,2,0),"") | E36: =IFERROR(VLOOKUP(B36,MO_Matriz,3,0),"") -> S | F36: ='Memo calc'!H287 -> 1 | G36: ='Memo calc'!J287 -> 1 | H36: ='Memo calc'!M287 -> 7.3333333 | I36: ='Memo calc'!P287 -> 1 | J36: =F36*G36*H36*I36 -> 7.3333333 | K36: =J36/220 -> 0.033333333 | L36: =IFERROR(VLOOKUP(B36,MO_Matriz,5,0),"") -> 24288.81 | M36: =ROUND(K36*L36,2) -> 809.63
B37: ='Memo calc'!B288 -> P9848 | C37: =IFERROR(VLOOKUP(B37,MO_Matriz,2,0),"") -> Desenhista | D37: =IFERROR(VLOOKUP(C37,MO_Matriz,2,0),"") | E37: =IFERROR(VLOOKUP(B37,MO_Matriz,3,0),"") -> T | F37: ='Memo calc'!H288 -> 1 | G37: ='Memo calc'!J288 -> 1 | H37: ='Memo calc'!M288 -> 7.3333333 | I37: ='Memo calc'!P288 -> 1 | J37: =F37*G37*H37*I37 -> 7.3333333 | K37: =J37/220 -> 0.033333333 | L37: =IFERROR(VLOOKUP(B37,MO_Matriz,5,0),"") -> 7821.6816 | M37: =ROUND(K37*L37,2) -> 260.72
B38: ESTUDOS TOPOGRÁFICOS: SERVIÇOS DE CAMPO | M38: =SUM(M39:M40) -> 1432.26
B39: ='Memo calc'!B332 -> P8163 | C39: =IFERROR(VLOOKUP(B39,MO_Matriz,2,0),"") -> Topógrafo | D39: =IFERROR(VLOOKUP(C39,MO_Matriz,2,0),"") | E39: =IFERROR(VLOOKUP(B39,MO_Matriz,3,0),"") -> T | F39: ='Memo calc'!H332 -> 1 | G39: ='Memo calc'!J332 -> 1 | H39: ='Memo calc'!L332 -> 7.3333333 | I39: ='Memo calc'!N332 -> 3 | J39: =F39*G39*H39*I39 -> 22 | K39: =J39/220 -> 0.1 | L39: =IFERROR(VLOOKUP(B39,MO_Matriz,5,0),"") -> 5810.76 | M39: =TRUNC(K39*L39,2) -> 581.07
B40: ='Memo calc'!B333 -> P8028 | C40: =IFERROR(VLOOKUP(B40,MO_Matriz,2,0),"") -> Auxiliar de topografia | D40: =IFERROR(VLOOKUP(C40,MO_Matriz,2,0),"") | E40: =IFERROR(VLOOKUP(B40,MO_Matriz,3,0),"") -> A | F40: ='Memo calc'!H333 -> 1 | G40: ='Memo calc'!J333 -> 2 | H40: ='Memo calc'!L333 -> 7.3333333 | I40: ='Memo calc'!N333 -> 3 | J40: =F40*G40*H40*I40 -> 44 | K40: =J40/220 -> 0.2 | L40: =IFERROR(VLOOKUP(B40,MO_Matriz,5,0),"") -> 4255.96 | M40: =TRUNC(K40*L40,2) -> 851.19
B41: ESTUDOS TOPOGRÁFICOS: TRABALHO DE ESCRITÓRIO | M41: =SUM(M42:M44) -> 2528.08
B42: ='Memo calc'!B410 -> P8065 | C42: =IFERROR(VLOOKUP(B42,MO_Matriz,2,0),"") -> Engenheiro de projetos júnior | E42: =IFERROR(VLOOKUP(B42,MO_Matriz,3,0),"") -> S | F42: ='Memo calc'!H410 -> 1 | G42: ='Memo calc'!J410 -> 1 | H42: ='Memo calc'!L410 -> 7.3333333 | I42: ='Memo calc'!N410 -> 2 | J42: =F42*G42*H42*I42 -> 14.666667 | K42: =J42/220 -> 0.066666667 | L42: =IFERROR(VLOOKUP(B42,MO_Matriz,5,0),"") -> 24288.81 | M42: =ROUND(K42*L42,2) -> 1619.25
B43: ='Memo calc'!B411 -> P8163 | C43: =IFERROR(VLOOKUP(B43,MO_Matriz,2,0),"") -> Topógrafo | D43: =IFERROR(VLOOKUP(C43,MO_Matriz,2,0),"") | E43: =IFERROR(VLOOKUP(B43,MO_Matriz,3,0),"") -> T | F43: ='Memo calc'!H411 -> 1 | G43: ='Memo calc'!J411 -> 1 | H43: ='Memo calc'!L411 -> 7.3333333 | I43: ='Memo calc'!N411 -> 2 | J43: =F43*G43*H43*I43 -> 14.666667 | K43: =J43/220 -> 0.066666667 | L43: =IFERROR(VLOOKUP(B43,MO_Matriz,5,0),"") -> 5810.76 | M43: =ROUND(K43*L43,2) -> 387.38
B44: ='Memo calc'!B412 -> P9848 | C44: =IFERROR(VLOOKUP(B44,MO_Matriz,2,0),"") -> Desenhista | D44: =IFERROR(VLOOKUP(C44,MO_Matriz,2,0),"") | E44: =IFERROR(VLOOKUP(B44,MO_Matriz,3,0),"") -> T | F44: ='Memo calc'!H412 -> 1 | G44: ='Memo calc'!J412 -> 1 | H44: ='Memo calc'!L412 -> 7.3333333 | I44: ='Memo calc'!N412 -> 2 | J44: =F44*G44*H44*I44 -> 14.666667 | K44: =J44/220 -> 0.066666667 | L44: =IFERROR(VLOOKUP(B44,MO_Matriz,5,0),"") -> 7821.6816 | M44: =ROUND(K44*L44,2) -> 521.45
B45: ESTUDOS GEOTÉCNICOS: SONDAGENS SUBLEITO, CORTES, CAIXAS DE EMPRÉSTIMO, JAZIDAS DE SOLO, LICENCIAMENTO AMBIENTAL | M45: =SUM(M46:M47) -> 2273.43
...

Sheet Veículos
B5: Objeto: | C5: ='Qd abrang'!C4 -> Contratação de Projeto Executivo de Engenharia para Implantação do Aeródromo no município de Ribas do Rio Pardo
B6: Município: | C6: ='Qd abrang'!C5 -> Ribas do Rio Pardo/MS
B7: Local: | C7: ='Qd abrang'!C6 -> 0
B8: Extensão: | C8: ='Qd abrang'!C7 -> 1.3 | D8: km (aproximadamente) Largura: 23 m | H8: Processo: | I8: ='Qd abrang'!N7 -> 79.009.850-2025
B9: Prazo: | C9: ='Qd abrang'!C8 -> 365 | D9: dias | H9: Data-base: | I9: ='Qd abrang'!N8 -> 45748
B11: Custo dos veículos
B13: CÓDIGO | C13: DESCRIÇÃO | E13: QUANT. | F13: DIAS | G13: MESES | H13: CUSTO MENSAL (R$) | I13: TOTAL (R$)
E14: a | F14: b | G14: c=b/30 | H14: d | I14: e=a*c*d
B15: ADMINISTRAÇÃO DE CAMPO | I15: =SUM(I16:I16) -> 212.45
B16: ='Memo calc'!B663 -> E8889 | C16: =IFERROR(VLOOKUP(B16,Veiculo_Equip_Matriz,2,0),"") -> Veículo leve - 53 kW (sem motorista) | D16: =IFERROR(VLOOKUP(C16,MO_Matriz,2,0),"") | E16: ='Memo calc'!G663 -> 1 | F16: ='Memo calc'!H663 -> 2 | G16: =F16/30 -> 0.066666667 | H16: =IFERROR(VLOOKUP(B16,Veiculo_Equip_Matriz,10,0),"") -> 3186.8793 | I16: =TRUNC(E16*G16*H16,2) -> 212.45
B17: COMPONENTE AMBIENTAL DO PROJETO: INVESTIGAÇÃO DE CAMPO | I17: =SUM(I18:I18) -> 212.45
B18: ='Memo calc'!B86 -> E8889 | C18: =IFERROR(VLOOKUP(B18,Veiculo_Equip_Matriz,2,0),"") -> Veículo leve - 53 kW (sem motorista) | D18: =IFERROR(VLOOKUP(C18,MO_Matriz,2,0),"") | E18: ='Memo calc'!G86 -> 1 | F18: ='Memo calc'!H86 -> 2 | G18: =F18/30 -> 0.066666667 | H18: =IFERROR(VLOOKUP(B18,Veiculo_Equip_Matriz,10,0),"") -> 3186.8793 | I18: =TRUNC(E18*G18*H18,2) -> 212.45
B19: ESTUDOS TOPOGRÁFICOS: SERVIÇOS DE CAMPO | I19: =SUM(I20:I20) -> 264
B20: ='Memo calc'!B338 -> E8891 | C20: =IFERROR(VLOOKUP(B20,Veiculo_Equip_Matriz,2,0),"") -> Veículo leve picape 4 x 4 com capacidade de 1,10 t - 147 kW (sem motorista) | D20: =IFERROR(VLOOKUP(C20,MO_Matriz,2,0),"") | E20: ='Memo calc'!G338 -> 1 | F20: ='Memo calc'!H338 -> 1 | G20: =F20/30 -> 0.033333333 | H20: =IFERROR(VLOOKUP(B20,Veiculo_Equip_Matriz,10,0),"") -> 7920.0561 | I20: =TRUNC(E20*G20*H20,2) -> 264
B21: ESTUDOS GEOTÉCNICOS: SONDAGENS SUBLEITO, CORTES, CAIXAS DE EMPRÉSTIMO E JAZIDAS DE SOLO | I21: =SUM(I22:I22) -> 528
B22: ='Memo calc'!B468 -> E8891 | C22: =IFERROR(VLOOKUP(B22,Veiculo_Equip_Matriz,2,0),"") -> Veículo leve picape 4 x 4 com capacidade de 1,10 t - 147 kW (sem motorista) | D22: =IFERROR(VLOOKUP(C22,MO_Matriz,2,0),"") | E22: ='Memo calc'!H468 -> 1 | F22: ='Memo calc'!I468 -> 2 | G22: =F22/30 -> 0.066666667 | H22: =IFERROR(VLOOKUP(B22,Veiculo_Equip_Matriz,10,0),"") -> 7920.0561 | I22: =TRUNC(E22*G22*H22,2) -> 528
H23: TOTAL DOS CUSTOS DOS VEÍCULOS | I23: =I15+I17+I19+I21 -> 1216.9

Sheet Equip + materiais
B4: Objeto: | C4: ='Qd abrang'!C4 -> Contratação de Projeto Executivo de Engenharia para Implantação do Aeródromo no município de Ribas do Rio Pardo
B5: Município: | C5: ='Qd abrang'!C5 -> Ribas do Rio Pardo/MS
B6: Local: | C6: ='Qd abrang'!C6 -> 0
B7: Extensão: | C7: ='Qd abrang'!C7 -> 1.3 | D7: km (aproximadamente) Largura: 23 m | I7: Processo: | J7: ='Qd abrang'!N7 -> 79.009.850-2025
B8: Prazo: | C8: ='Qd abrang'!C8 -> 365 | D8: dias | I8: Data-base: | J8: ='Qd abrang'!N8 -> 45748
B10: Custo de equipamentos e materiais
B12: CÓDIGO | C12: DESCRIÇÃO | E12: UNIDADE | F12: CUSTO UNITÁRIO (R$/und) | G12: QUANT. | H12: DIAS | I12: MESES | J12: TOTAL (R$)
F13: a | G13: b | H13: c | I13: d=c/30
B14: ESTUDOS TOPOGRÁFICOS: SERVIÇOS DE CAMPO | J14: =J15 -> 171.67
B15: ='Memo calc'!B353 -> B8958 | C15: =VLOOKUP(B15,'Imóveis-Mobiliários-Cestas-Dive'!B3:F13,3,0) -> Topografia | E15: mês | F15: =VLOOKUP(B15,'Imóveis-Mobiliários-Cestas-Dive'!B3:F13,5,0) -> 5150.27 | G15: ='Memo calc'!E353 -> 1 | H15: ='Memo calc'!F353 -> 1 | I15: =H15/30 -> 0.033333333 | J15: =TRUNC(F15*G15*I15,2) -> 171.67
B16: ESTUDOS GEOTÉCNICOS: SONDAGENS SUBLEITO, CORTES, CAIXAS DE EMPRÉSTIMO E JAZIDAS DE SOLO | J16: =SUM(J17:J19) -> 5442.78
B17: ='Memo calc'!B485 -> 65.02.02 | C17: =IFERROR(VLOOKUP(B17,Sudecap!$A$1:$K$55,3,0),"") -> Perfuração de solo sondagem a trado (NBR 9603:2015) DN 20CM | D17: =IFERROR(VLOOKUP(C17,MO_Matriz,2,0),"") | E17: =Sudecap!D9 -> m | F17: =IFERROR(VLOOKUP(B17,Sudecap!$A$1:$K$55,11,0),"") -> 74.97 | G17: ='Memo calc'!J485 -> 15 | H17: ='Memo calc'!K485 -> 0 | I17: =H17/30 -> 0 | J17: =TRUNC(F17*G17,2) -> 1124.55
B18: ='Memo calc'!B486 -> 65.01.02 | C18: =IFERROR(VLOOKUP(B18,Sudecap!$A$1:$K$55,3,0),"") -> PERFURAÇÃO DE SOLO SONDAGEM À PERCUSSÃO (NBR 6484:2020) | D18: =IFERROR(VLOOKUP(C18,MO_Matriz,2,0),"") | E18: m | F18: =IFERROR(VLOOKUP(B18,Sudecap!$A$1:$K$55,11,0),"") -> 94.96 | G18: ='Memo calc'!J486 -> 36 | H18: ='Memo calc'!K486 -> 0 | I18: =H18/30 -> 0 | J18: =TRUNC(F18*G18,2) -> 3418.56
B19: ='Memo calc'!B487 -> 65.01.03 | C19: =IFERROR(VLOOKUP(B19,Sudecap!$A$1:$K$55,3,0),"") -> DESMONTAGEM, TRANSPORTE E MONTAGEM DE EQUIPAMENTOS DE SONDAGEM A PERCUSSÃO POR FURO | D19: =IFERROR(VLOOKUP(C19,MO_Matriz,2,0),"") | E19: UNIDADE | F19: =IFERROR(VLOOKUP(B19,Sudecap!$A$1:$K$55,11,0),"") -> 299.89 | G19: ='Memo calc'!J487 -> 3 | H19: ='Memo calc'!K487 -> 0 | I19: =H19/30 -> 0 | J19: =TRUNC(F19*G19,2) -> 899.67
B20: ESTUDOS GEOTÉCNICOS: ENSAIOS DE LABORATÓRIO | J20: =J21 -> 880.12
B21: ='Memo calc'!B571 -> B8957 | C21: =VLOOKUP(B21,'Imóveis-Mobiliários-Cestas-Dive'!$B$2:$F$13,3,0) -> Laboratório de solos | E21: mês | F21: =VLOOKUP(B21,'Imóveis-Mobiliários-Cestas-Dive'!$B$2:$F$13,5,0) -> 3520.5 | G21: ='Memo calc'!E571 -> 1 | H21: ='Memo calc'!F571 -> 7.5 | I21: =H21/30 -> 0.25 | J21: =TRUNC(F21*G21*I21,2) -> 880.12
I22: TOTAL DOS CUSTOS DE EQUIPAMENTOS E MATERIAIS | J22: =J14+J16+J20 -> 6494.57
B24: i) Conforme memorando circular nº 687/2018/DIREX/DNIT SEDE, em função da pouca relevância na formação dos custos totais dos contratos de engenharia consultiva, os serviços gráficos não são detalhados como itens de planilha nos orçamentos. Este fato não exime a CONTRATADA de realizar os serviços gráficos necessarios ao andamento dos trabalhos.

Sheet Diárias + passagens
B5: Objeto: | C5: ='Qd abrang'!C4 -> Contratação de Projeto Executivo de Engenharia para Implantação do Aeródromo no município de Ribas do Rio Pardo
B6: Município: | C6: ='Qd abrang'!C5 -> Ribas do Rio Pardo/MS
B7: Local: | C7: ='Qd abrang'!C6 -> 0
B8: Extensão: | C8: ='Qd abrang'!C7 -> 1.3 | D8: km (aproximadamente) | E8: Largura: | F8: 23 m | K8: Processo: | L8: ='Qd abrang'!N7 -> 79.009.850-2025
B9: Prazo: | C9: ='Qd abrang'!C8 -> 365 | D9: dias | K9: Data-base: | L9: ='Qd abrang'!N8 -> 45748
B11: Custo de diárias e passagens
B13: CÓDIGO | C13: DESCRIÇÃO | E13: TIPO DE M.O. | F13: ALIMENTAÇÃO (R$) | G13: HOSPEDAGEM (R$) | H13: DIÁRIAS (R$) | I13: PASSAGENS DE ÔNIBUS (R$) | J13: PASSAGENS AÉREAS (R$) | K13: TOTAL DE PASSAGENS (R$) | L13: TOTAL (R$)
F14: b | G14: c | H14: d=b+c | I14: e | J14: f | K14: g=e+f | L14: h=d+g
B15: COORDENAÇÃO DO PROJETO | L15: =L16 -> 700
B16: ='Memo calc'!B1237 -> P8061 | C16: =IFERROR(VLOOKUP(B16,MO_Matriz,2,0),"") -> Engenheiro coordenador | D16: =IFERROR(VLOOKUP(C16,MO_Matriz,2,0),"") | E16: =IFERROR(VLOOKUP(B16,MO_Matriz,3,0),"") -> S | F16: ='Memo calc'!H1237 -> 400 | G16: ='Memo calc'!I1237 -> 300 | H16: =F16+G16 -> 700 | I16: 0 | J16: 0 | K16: =I16+J16 -> 0 | L16: =TRUNC(H16+K16,2) -> 700
B17: ADMINISTRAÇÃO DE CAMPO | L17: =SUM(L18:L19) -> 1628.56
B18: ='Memo calc'!B695 -> P8061 | C18: =IFERROR(VLOOKUP(B18,MO_Matriz,2,0),"") -> Engenheiro coordenador | D18: =IFERROR(VLOOKUP(C18,MO_Matriz,2,0),"") | E18: =IFERROR(VLOOKUP(B18,MO_Matriz,3,0),"") -> S | F18: ='Memo calc'!H695 -> 457.14286 | G18: ='Memo calc'!I695 -> 357.14286 | H18: =F18+G18 -> 814.28571 | I18: 0 | J18: 0 | K18: =I18+J18 -> 0 | L18: =TRUNC(H18+K18,2) -> 814.28
B19: ='Memo calc'!B696 -> P8147 | C19: =IFERROR(VLOOKUP(B19,MO_Matriz,2,0),"") -> Técnico de obras | D19: =IFERROR(VLOOKUP(C19,MO_Matriz,2,0),"") | E19: =IFERROR(VLOOKUP(B19,MO_Matriz,3,0),"") -> T | F19: ='Memo calc'!H696 -> 457.14286 | G19: ='Memo calc'!I696 -> 357.14286 | H19: =F19+G19 -> 814.28571 | I19: 0 | J19: 0 | K19: =I19+J19 -> 0 | L19: =TRUNC(H19+K19,2) -> 814.28
B20: COMPONENTE AMBIENTAL DO PROJETO: INVESTIGAÇÃO DE CAMPO | L20: =SUM(L21:L21) -> 500
B21: ='Memo calc'!B112 -> P8058 | C21: =IFERROR(VLOOKUP(B21,MO_Matriz,2,0),"") -> Engenheiro ambiental pleno | D21: =IFERROR(VLOOKUP(C21,MO_Matriz,2,0),"") | E21: =IFERROR(VLOOKUP(B21,MO_Matriz,3,0),"") -> S | F21: ='Memo calc'!H112 -> 300 | G21: ='Memo calc'!J112 -> 200 | H21: =F21+G21 -> 500 | I21: 0 | J21: 0 | K21: =I21+J21 -> 0 | L21: =TRUNC(H21+K21,2) -> 500
B22: ESTUDOS TOPOGRÁFICOS: SERVIÇOS DE CAMPO | L22: =SUM(L23:L23) -> 500
B23: ='Memo calc'!B366 -> P8163 | C23: =IFERROR(VLOOKUP(B23,MO_Matriz,2,0),"") -> Topógrafo | D23: =IFERROR(VLOOKUP(C23,MO_Matriz,2,0),"") | E23: =IFERROR(VLOOKUP(B23,MO_Matriz,3,0),"") -> T | F23: ='Memo calc'!H366 -> 300 | G23: ='Memo calc'!J366 -> 200 | H23: =F23+G23 -> 500 | I23: 0 | J23: 0 | K23: =I23+J23 -> 0 | L23: =TRUNC(H23+K23,2) -> 500
B24: ESTUDOS GEOTÉCNICOS: SONDAGENS SUBLEITO, CORTES, CAIXAS DE EMPRÉSTIMO E JAZIDAS DE SOLO | L24: =SUM(L25:L25) -> 900
B25: ='Memo calc'!B501 -> P8139 | C25: =IFERROR(VLOOKUP(B25,MO_Matriz,2,0),"") -> Sondador | D25: =IFERROR(VLOOKUP(C25,MO_Matriz,2,0),"") | E25: =IFERROR(VLOOKUP(B25,MO_Matriz,3,0),"") -> T | F25: ='Memo calc'!H501 -> 500 | G25: ='Memo calc'!J501 -> 400 | H25: =F25+G25 -> 900 | I25: 0 | J25: 0 | K25: =I25+J25 -> 0 | L25: =TRUNC(H25+K25,2) -> 900
K26: TOTAL DOS CUSTOS DE DIÁRIAS E PASSAGENS PARA A MÃO DE OBRA DE NÍVEL SUPERIOR | L26: =SUMIF($E$15:$E$25,"S",$L$15:$L$25) -> 2014.28
K27: TOTAL DOS CUSTOS DE DIÁRIAS E PASSAGENS PARA A MÃO DE OBRA DE DE NÍVEL TÉCNICO | L27: =SUMIF($E$15:$E$25,"T",$L$15:$L$25) -> 2214.28
K28: TOTAL DOS CUSTOS DE DIÁRIAS E PASSAGENS PARA A MÃO DE OBRA DE DE NÍVEL AUXILIAR | L28: =SUMIF($E$15:$E$25,"A",$L$15:$L$25) -> 0
K29: TOTAL DOS CUSTOS DE DIÁRIAS E PASSAGENS | L29: =SUM(L26:L28) -> 4228.56
B30: Observações:
B31: Tipos de mão de obra: (S) nível superior e (T) nível técnico.
B32: ="Passagem de ônibus de Campo Grande para "&Listas!$D$17&", em 28/08/25: R$ 35,00" -> Passagem de ônibus de Campo Grande para Ribas do Rio Pardo, em 28/08/25: R$ 35,00
B34: ="Segundo Decreto nº 16.536, de 26 de dezembro de 2024, os valores de diárias para "&Listas!$D$17&" são:" -> Segundo Decreto nº 16.536, de 26 de dezembro de 2024, os valores de diárias para Ribas do Rio Pardo são:
B35: ="Diária completa: R$ "&Listas!$D$19&",00" -> Diária completa: R$ 200,00
B36: ="Diária de alimentação: R$ "&Listas!$D$19/2&",00" -> Diária de alimentação: R$ 100,00
B37: ="Diária de hospedagem: R$ "&Listas!$D$19/2&",00" -> Diária de hospedagem: R$ 100,00
E76: DECRETO Nº 16.536, DE 26 DE DEZEMBRO DE 2024

Sheet Mob desmob MO
B5: Objeto: | C5: ='Qd abrang'!C4 -> Contratação de Projeto Executivo de Engenharia para Implantação do Aeródromo no município de Ribas do Rio Pardo
B6: Município: | C6: ='Qd abrang'!C5 -> Ribas do Rio Pardo/MS
B7: Local: | C7: ='Qd abrang'!C6 -> 0
B8: Extensão: | C8: ='Qd abrang'!C7 -> 1.3 | D8: km (aproximadamente) | F8: Largura: | G8: 23 m | N8: Processo: | O8: ='Qd abrang'!N7 -> 79.009.850-2025
B9: Prazo: | C9: ='Qd abrang'!C8 -> 365 | D9: dias | N9: Data-base: | O9: ='Qd abrang'!N8 -> 45748
B11: Custo de mobilização e desmobilização da mão de obra
B13: CÓDIGO | C13: DESCRIÇÃO | E13: TIPO DE M.O. | F13: QUANT. | G13: CUSTO DA PASSAGEM (R$) | H13: CUSTO DA ALIMENTAÇÃO (R$) | I13: CUSTO DA VIAGEM (R$) | J13: MOB. E DESMOB. | K13: CUSTO DE MOB. E DESMOB. (R$) | L13: DIAS | M13: DEBANDAS | N13: CUSTO DA DEBANDA (R$) | O13: TOTAL (R$)
F14: a | G14: b | H14: c | I14: d=b+c | J14: e | K14: f=a*d*e | L14: g | M14: h=g/30 | N14: i=2*a*d*h | O14: j=f+i
B15: ='Diárias + passagens'!B15 -> COORDENAÇÃO DO PROJETO | O15: =O16 -> 400
B16: ='Diárias + passagens'!B16 -> P8061 | C16: =IFERROR(VLOOKUP(B16,MO_Matriz,2,0),"") -> Engenheiro coordenador | D16: =IFERROR(VLOOKUP(C16,MO_Matriz,2,0),"") | E16: =IFERROR(VLOOKUP(B16,MO_Matriz,3,0),"") -> S | F16: ='Memo calc'!H1210 -> 1 | G16: 0 | H16: ='Memo calc'!H1237 -> 400 | I16: =G16+H16 -> 400 | J16: 1 | K16: =F16*I16*J16 -> 400 | L16: =2 -> 2 | M16: =INT(L16/30) -> 0 | N16: =2*F16*I16*M16 -> 0 | O16: =TRUNC(K16+N16,2) -> 400
B17: ='Diárias + passagens'!B17 -> ADMINISTRAÇÃO DE CAMPO | O17: =SUM(O18:O19) -> 914.28
B18: ='Diárias + passagens'!B18 -> P8061 | C18: =IFERROR(VLOOKUP(B18,MO_Matriz,2,0),"") -> Engenheiro coordenador | D18: =IFERROR(VLOOKUP(C18,MO_Matriz,2,0),"") | E18: =IFERROR(VLOOKUP(B18,MO_Matriz,3,0),"") -> S | F18: ='Memo calc'!H656 -> 1 | G18: 0 | H18: ='Memo calc'!H695 -> 457.14286 | I18: =G18+H18 -> 457.14286 | J18: 1 | K18: =F18*I18*J18 -> 457.14286 | L18: =L16 -> 2 | M18: =INT(L18/30) -> 0 | N18: =2*F18*I18*M18 -> 0 | O18: =TRUNC(K18+N18,2) -> 457.14
B19: ='Diárias + passagens'!B19 -> P8147 | C19: =IFERROR(VLOOKUP(B19,MO_Matriz,2,0),"") -> Técnico de obras | D19: =IFERROR(VLOOKUP(C19,MO_Matriz,2,0),"") | E19: =IFERROR(VLOOKUP(B19,MO_Matriz,3,0),"") -> T | F19: ='Memo calc'!H657 -> 1 | G19: 0 | H19: ='Memo calc'!H696 -> 457.14286 | I19: =G19+H19 -> 457.14286 | J19: 1 | K19: =F19*I19*J19 -> 457.14286 | L19: =L18 -> 2 | M19: =INT(L19/30) -> 0 | N19: =2*F19*I19*M19 -> 0 | O19: =TRUNC(K19+N19,2) -> 457.14
B20: ='Diárias + passagens'!B20 -> COMPONENTE AMBIENTAL DO PROJETO: INVESTIGAÇÃO DE CAMPO | O20: =SUM(O21:O21) -> 300
B21: ='Diárias + passagens'!B21 -> P8058 | C21: =IFERROR(VLOOKUP(B21,MO_Matriz,2,0),"") -> Engenheiro ambiental pleno | D21: =IFERROR(VLOOKUP(C21,MO_Matriz,2,0),"") | E21: =IFERROR(VLOOKUP(B21,MO_Matriz,3,0),"") -> S | F21: ='Memo calc'!J80 -> 1 | G21: 0 | H21: ='Memo calc'!H112 -> 300 | I21: =G21+H21 -> 300 | J21: 1 | K21: =F21*I21*J21 -> 300 | L21: =L16 -> 2 | M21: =INT(L21/30) -> 0 | N21: =2*F21*I21*M21 -> 0 | O21: =TRUNC(K21+N21,2) -> 300
B22: ='Diárias + passagens'!B22 -> ESTUDOS TOPOGRÁFICOS: SERVIÇOS DE CAMPO | O22: =SUM(O23:O23) -> 300
B23: ='Diárias + passagens'!B23 -> P8163 | C23: =IFERROR(VLOOKUP(B23,MO_Matriz,2,0),"") -> Topógrafo | D23: =IFERROR(VLOOKUP(C23,MO_Matriz,2,0),"") | E23: =IFERROR(VLOOKUP(B23,MO_Matriz,3,0),"") -> T | F23: ='Memo calc'!J332 -> 1 | G23: 0 | H23: ='Memo calc'!H366 -> 300 | I23: =G23+H23 -> 300 | J23: 1 | K23: =F23*I23*J23 -> 300 | L23: =L16 -> 2 | M23: =INT(L23/30) -> 0 | N23: =2*F23*I23*M23 -> 0 | O23: =TRUNC(K23+N23,2) -> 300
B24: ='Diárias + passagens'!B24 -> ESTUDOS GEOTÉCNICOS: SONDAGENS SUBLEITO, CORTES, CAIXAS DE EMPRÉSTIMO E JAZIDAS DE SOLO | O24: =SUM(O25:O25) -> 500
B25: ='Diárias + passagens'!B25 -> P8139 | C25: =IFERROR(VLOOKUP(B25,MO_Matriz,2,0),"") -> Sondador | D25: =IFERROR(VLOOKUP(C25,MO_Matriz,2,0),"") | E25: =IFERROR(VLOOKUP(B25,MO_Matriz,3,0),"") -> T | F25: ='Memo calc'!J462 -> 1 | G25: 0 | H25: ='Memo calc'!H501 -> 500 | I25: =G25+H25 -> 500 | J25: 1 | K25: =F25*I25*J25 -> 500 | L25: =L16 -> 2 | M25: =INT(L25/30) -> 0 | N25: =2*F25*I25*M25 -> 0 | O25: =TRUNC(K25+N25,2) -> 500
N26: TOTAL DOS CUSTOS DE MOBILIZAÇÃO E DESMOBILIZAÇÃO DA MÃO DE OBRA | O26: =O15+O17+O20+O22+O24 -> 2414.28
B27: Observações:
B28: Tipos de mão de obra: (S) nível superior e (T) nível técnico.
B29: ="Passagem de ônibus de Campo Grande para "&Listas!$D$17&", em 28/08/25: R$ 35,00" -> Passagem de ônibus de Campo Grande para Ribas do Rio Pardo, em 28/08/25: R$ 35,00
B31: ="Segundo Decreto nº 16.536, de 26 de dezembro de 2024, os valores de diárias para "&Listas!$D$17&" são:" -> Segundo Decreto nº 16.536, de 26 de dezembro de 2024, os valores de diárias para Ribas do Rio Pardo são:
B32: ="Diária completa: R$ "&Listas!$D$19&",00" -> Diária completa: R$ 200,00
B33: ="Diária de alimentação: R$ "&Listas!$D$19/2&",00" -> Diária de alimentação: R$ 100,00
B34: ="Diária de hospedagem: R$ "&Listas!$D$19/2&",00" -> Diária de hospedagem: R$ 100,00

Sheet Mob desmob equip rod
B5: Objeto: | C5: ='Qd abrang'!C4 -> Contratação de Projeto Executivo de Engenharia para Implantação do Aeródromo no município de Ribas do Rio Pardo
B6: Município: | C6: ='Qd abrang'!C5 -> Ribas do Rio Pardo/MS
B7: Local: | C7: ='Qd abrang'!C6 -> 0
B8: Extensão: | C8: ='Qd abrang'!C7 -> 1.3 | D8: km (aproximadamente) | E8: Largura: | F8: 23 m | P8: Processo: | Q8: ='Qd abrang'!N7 -> 79.009.850-2025
B9: Prazo: | C9: ='Qd abrang'!C8 -> 365 | D9: dias | P9: Data-base: | Q9: ='Qd abrang'!N8 -> 45748
B11: Custo de mobilização e desmobilização de equipamentos rodantes
B13: CÓDIGO | C13: DESCRIÇÃO | E13: QUANT. | F13: DISTÂNCIA (km) | G13: VELOCIDADE MÉDIA (km/h) | H13: TEMPO DE VIAGEM (h) | I13: k | J13: FU | K13: CUSTO DO TRANSPORTE | M13: TEMPO DE DESCANSO (h) | N13: TEMPO TOTAL (h) | O13: DIÁRIAS (R$) | P13: PEDÁGIO (R$) | Q13: TOTAL (R$)
K14: R$/h | L14: R$
E15: a | F15: b | G15: c | H15: d=b/c | J15: e | K15: f | L15: g=a*d*k*e*f | M15: i | N15: j=d+i | O15: l | P15: m | Q15: n=g+l+m
B16: ADMINISTRAÇÃO DE CAMPO | Q16: =Q17 -> 199.76
B17: ='Memo calc'!B721 -> E8889 | C17: =IFERROR(VLOOKUP(B17,Veiculo_Equip_Matriz,2,0),"") -> Veículo leve - 53 kW (sem motorista) | D17: =IFERROR(VLOOKUP(C17,MO_Matriz,2,0),"") | E17: ='Memo calc'!G721 -> 1 | F17: ='Memo calc'!I721 -> 103 | G17: ='Memo calc'!K721 -> 60 | H17: =F17/G17 -> 1.7166667 | I17: ='Memo calc'!O721 -> 2 | J17: ='Memo calc'!P721 -> 1 | K17: ='Memo calc'!S721 -> 36.69 | L17: =E17*H17*I17*J17*K17 -> 125.969 | M17: =((INT(H17/4))*30)/60 -> 0 | N17: =H17+M17 -> 1.7166667 | O17: ='Memo calc'!AA721 -> 0 | P17: ='Memo calc'!AB721 -> 73.8 | Q17: =TRUNC(L17+O17+P17,2) -> 199.76
B18: COMPONENTE AMBIENTAL DO PROJETO: INVESTIGAÇÃO DE CAMPO | Q18: =Q19 -> 125.96
B19: ='Memo calc'!B135 -> E8889 | C19: =IFERROR(VLOOKUP(B19,Veiculo_Equip_Matriz,2,0),"") -> Veículo leve - 53 kW (sem motorista) | D19: =IFERROR(VLOOKUP(C19,MO_Matriz,2,0),"") | E19: ='Memo calc'!F135 -> 1 | F19: ='Memo calc'!H135 -> 103 | G19: ='Memo calc'!J135 -> 60 | H19: =F19/G19 -> 1.7166667 | I19: ='Memo calc'!N135 -> 2 | J19: ='Memo calc'!O135 -> 1 | K19: ='Memo calc'!R135 -> 36.69 | L19: =E19*H19*I19*J19*K19 -> 125.969 | M19: =((INT(H19/4))*30)/60 -> 0 | N19: =H19+M19 -> 1.7166667 | O19: 0 | P19: 0 | Q19: =TRUNC(L19+O19+P19,2) -> 125.96
B20: ESTUDOS TOPOGRÁFICOS: SERVIÇOS DE CAMPO | Q20: =Q21 -> 273.29
B21: ='Memo calc'!B389 -> E8891 | C21: =IFERROR(VLOOKUP(B21,Veiculo_Equip_Matriz,2,0),"") -> Veículo leve picape 4 x 4 com capacidade de 1,10 t - 147 kW (sem motorista) | D21: =IFERROR(VLOOKUP(C21,MO_Matriz,2,0),"") | E21: ='Memo calc'!G389 -> 1 | F21: ='Memo calc'!I389 -> 103 | G21: ='Memo calc'!K389 -> 60 | H21: =F21/G21 -> 1.7166667 | I21: ='Memo calc'!O389 -> 2 | J21: ='Memo calc'!P389 -> 1 | K21: ='Memo calc'!S389 -> 79.6 | L21: =E21*H21*I21*J21*K21 -> 273.29333 | M21: =((INT(H21/4))*30)/60 -> 0 | N21: =H21+M21 -> 1.7166667 | O21: 0 | P21: 0 | Q21: =TRUNC(L21+O21+P21,2) -> 273.29
B22: ESTUDOS GEOTÉCNICOS: SONDAGENS SUBLEITO, CORTES, CAIXAS DE EMPRÉSTIMO E JAZIDAS DE SOLO | Q22: =Q23 -> 273.29
B23: ='Memo calc'!B524 -> E8891 | C23: =IFERROR(VLOOKUP(B23,Veiculo_Equip_Matriz,2,0),"") -> Veículo leve picape 4 x 4 com capacidade de 1,10 t - 147 kW (sem motorista) | D23: =IFERROR(VLOOKUP(C23,MO_Matriz,2,0),"") | E23: ='Memo calc'!G524 -> 1 | F23: ='Memo calc'!I524 -> 103 | G23: ='Memo calc'!K524 -> 60 | H23: =F23/G23 -> 1.7166667 | I23: ='Memo calc'!O524 -> 2 | J23: ='Memo calc'!P524 -> 1 | K23: ='Memo calc'!S524 -> 79.6 | L23: =E23*H23*I23*J23*K23 -> 273.29333 | M23: =((INT(H23/4))*30)/60 -> 0 | N23: =H23+M23 -> 1.7166667 | O23: 0 | P23: 0 | Q23: =TRUNC(L23+O23+P23,2) -> 273.29
P24: TOTAL DOS CUSTOS DE MOBILIZAÇÃO DE EQUIPAMENTOS RODANTES | Q24: =Q16+Q18+Q20+Q22 -> 872.3
P25: TOTAL DOS CUSTOS DE MOBILIZAÇÃO E DESMOBILIZAÇÃO DE EQUIPAMENTOS RODANTES | Q25: =Q24 -> 872.3
B26: Observações:
B27: ="Segundo Decreto nº 16.536, de 26 de dezembro de 2024, os valores de diárias para "&Listas!$D$17&" são:" -> Segundo Decreto nº 16.536, de 26 de dezembro de 2024, os valores de diárias para Ribas do Rio Pardo são:
B28: ="Diária completa: R$ "&Listas!$D$19&",00" -> Diária completa: R$ 200,00
B29: ="Diária de alimentação: R$ "&Listas!$D$19/2&",00" -> Diária de alimentação: R$ 100,00
B30: ="Diária de hospedagem: R$ "&Listas!$D$19/2&",00" -> Diária de hospedagem: R$ 100,00

Sheet Inst + diversos
B5: Objeto: | C5: ='Qd abrang'!C4 -> Contratação de Projeto Executivo de Engenharia para Implantação do Aeródromo no município de Ribas do Rio Pardo
B6: Município: | C6: ='Qd abrang'!C5 -> Ribas do Rio Pardo/MS
B7: Local: | C7: ='Qd abrang'!C6 -> 0
B8: Extensão: | C8: ='Qd abrang'!C7 -> 1.3 | D8: km (aproximadamente) | E8: Largura: 23 m | L8: Processo: | M8: ='Qd abrang'!N7 -> 79.009.850-2025
B9: Prazo: | C9: ='Qd abrang'!C8 -> 365 | D9: dias | L9: Data-base: | M9: ='Qd abrang'!N8 -> 45748
B11: Custo das instalações físicas e diversos
B13: CÓDIGO | C13: TIPO | E13: DESCRIÇÃO | F13: UNIDADE | G13: CUSTO UNITÁRIO (R$/und) | H13: QUANT. | I13: OCUPANTES | J13: ÁREA (m²) | K13: DIAS | L13: MESES | M13: TOTAL (R$)
G14: a | H14: b | J14: c | K14: d | L14: e=d/30
B15: INSTALAÇÕES FÍSICAS | M15: =SUM(M16:M19) -> 18784.64
B16: ='Memo calc'!$C$1267 -> B8952 | C16: =IFERROR(VLOOKUP(B16,'Imóveis-Mobiliários-Cestas-Dive'!$B$2:$F$13,3,0),"") -> Residencial (2,45% do CMCC - SINAPI) | E16: Escritório | F16: =IFERROR(VLOOKUP(B16,'Imóveis-Mobiliários-Cestas-Dive'!$B$2:$F$13,4,0),"") -> m² x mês | G16: =IFERROR(VLOOKUP(B16,'Imóveis-Mobiliários-Cestas-Dive'!$B$2:$F$13,5,0),"") -> 47.46 | H16: 1 | I16: ='Memo calc'!F1280 -> 13 | J16: ='Memo calc'!I1280 -> 87.475 | K16: ='Memo calc'!K1280 -> 130.28571 | L16: =K16/30 -> 4.3428571 | M16: =TRUNC(G16*J16*L16,2) -> 18029.64
B17: ='Memo calc'!$C$1267 -> B8952 | C17: =IFERROR(VLOOKUP(B17,'Imóveis-Mobiliários-Cestas-Dive'!$B$2:$F$13,3,0),"") -> Residencial (2,45% do CMCC - SINAPI) | E17: Residência | F17: =IFERROR(VLOOKUP(B17,'Imóveis-Mobiliários-Cestas-Dive'!$B$2:$F$13,4,0),"") -> m² x mês | G17: =IFERROR(VLOOKUP(B17,'Imóveis-Mobiliários-Cestas-Dive'!$B$2:$F$13,5,0),"") -> 47.46 | H17: 1 | I17: ='Memo calc'!F1289 -> 5 | J17: ='Memo calc'!H1289 -> 62.05 | K17: ='Memo calc'!J1289 -> 5.8333333 | L17: =K17/30 -> 0.19444444 | M17: =TRUNC(G17*J17*L17,2) -> 572.61
B18: ='Memo calc'!$C$1267 -> B8952 | C18: =IFERROR(VLOOKUP(B18,'Imóveis-Mobiliários-Cestas-Dive'!$B$2:$F$13,3,0),"") -> Residencial (2,45% do CMCC - SINAPI) | E18: Topografia convencional | F18: =IFERROR(VLOOKUP(B18,'Imóveis-Mobiliários-Cestas-Dive'!$B$2:$F$13,4,0),"") -> m² x mês | G18: =IFERROR(VLOOKUP(B18,'Imóveis-Mobiliários-Cestas-Dive'!$B$2:$F$13,5,0),"") -> 47.46 | H18: ='Memo calc'!G1294 -> 1 | I18: 3 | J18: ='Memo calc'!I1294 -> 14.77 | K18: ='Memo calc'!K1294 -> 1 | L18: =K18/30 -> 0.033333333 | M18: =TRUNC(G18*J18*L18,2) -> 23.36
B19: ='Memo calc'!$C$1267 -> B8952 | C19: =IFERROR(VLOOKUP(B19,'Imóveis-Mobiliários-Cestas-Dive'!$B$2:$F$13,3,0),"") -> Residencial (2,45% do CMCC - SINAPI) | E19: Laboratório de solos | F19: =IFERROR(VLOOKUP(B19,'Imóveis-Mobiliários-Cestas-Dive'!$B$2:$F$13,4,0),"") -> m² x mês | G19: =IFERROR(VLOOKUP(B19,'Imóveis-Mobiliários-Cestas-Dive'!$B$2:$F$13,5,0),"") -> 47.46 | H19: ='Memo calc'!G1299 -> 1 | I19: 2 | J19: ='Memo calc'!I1299 -> 11.17 | K19: ='Memo calc'!K1299 -> 9 | L19: =K19/30 -> 0.3 | M19: =TRUNC(G19*J19*L19,2) -> 159.03
B20: MOBILIÁRIO | M20: =SUM(M21:M24) -> 26759.04
B21: ='Memo calc'!B1314 -> B8953 | C21: =IFERROR(VLOOKUP(B21,'Imóveis-Mobiliários-Cestas-Dive'!$B$2:$F$13,3,0),"") -> Escritório | E21: ='Memo calc'!E1314 -> Escritório | F21: =IFERROR(VLOOKUP(B21,'Imóveis-Mobiliários-Cestas-Dive'!$B$2:$F$13,4,0),"") -> ocupante x mês | G21: =IFERROR(VLOOKUP(B21,'Imóveis-Mobiliários-Cestas-Dive'!$B$2:$F$13,5,0),"") -> 467.45 | H21: 0 | I21: ='Memo calc'!K1314 -> 13 | J21: 0 | K21: ='Memo calc'!L1314 -> 130.28571 | L21: =K21/30 -> 4.3428571 | M21: =TRUNC(G21*I21*L21,2) -> 26390.89
B22: ='Memo calc'!B1315 -> B8953 | C22: =IFERROR(VLOOKUP(B22,'Imóveis-Mobiliários-Cestas-Dive'!$B$2:$F$13,3,0),"") -> Escritório | E22: ='Memo calc'!E1315 -> Topografia convencional | F22: =IFERROR(VLOOKUP(B22,'Imóveis-Mobiliários-Cestas-Dive'!$B$2:$F$13,4,0),"") -> ocupante x mês | G22: =IFERROR(VLOOKUP(B22,'Imóveis-Mobiliários-Cestas-Dive'!$B$2:$F$13,5,0),"") -> 467.45 | H22: 0 | I22: ='Memo calc'!K1315 -> 3 | J22: 0 | K22: ='Memo calc'!L1315 -> 1 | L22: =K22/30 -> 0.033333333 | M22: =TRUNC(G22*I22*L22,2) -> 46.74
B23: ='Memo calc'!B1316 -> B8953 | C23: =IFERROR(VLOOKUP(B23,'Imóveis-Mobiliários-Cestas-Dive'!$B$2:$F$13,3,0),"") -> Escritório | E23: ='Memo calc'!E1316 -> Laboratório de solos | F23: =IFERROR(VLOOKUP(B23,'Imóveis-Mobiliários-Cestas-Dive'!$B$2:$F$13,4,0),"") -> ocupante x mês | G23: =IFERROR(VLOOKUP(B23,'Imóveis-Mobiliários-Cestas-Dive'!$B$2:$F$13,5,0),"") -> 467.45 | H23: 0 | I23: ='Memo calc'!K1316 -> 2 | J23: 0 | K23: ='Memo calc'!L1316 -> 9 | L23: =K23/30 -> 0.3 | M23: =TRUNC(G23*I23*L23,2) -> 280.47
