Workbook
Name Aut_original: #REF!
Name Aut_resumo: #REF!
Name aux: #REF!
Name aux: #REF!
Name DTM: #REF!
Name Fonte: #REF!
Name Item: #REF!
Name Item: #REF!
Name LLLLL: #REF!
Name MAO_DE_OBRA: #REF!
Name MO: #REF!
Name PassaExtenso: #REF!
Name Print: #REF!
Name Print: #REF!
Name Print_Area_MI: #REF!
Name Print_Area_MI: #REF!
Name rascunho: #REF!
Name rascunho: #REF!
Name SERVI: #REF!
Name Serviços: #REF!
Name TABREC: #REF!

Sheet MODELO
A1: NOME DO ELEMENTO
A2: N | B2: Ø | C2: Q | D2: COMPRIMENTO
D3: UNITÁRIO | E3: TOTAL | G3: Qe | H3: Qu
A4: 1 | C4: =G4*H4 -> 0 | E4: =D4*C4 -> 0
A5: 2 | C5: =G5*H5 -> 0 | E5: =D5*C5 -> 0
A6: 3 | C6: =G6*H6 -> 0 | E6: =D6*C6 -> 0
A7: 4 | C7: =G7*H7 -> 0 | E7: =D7*C7 -> 0
A8: 5 | C8: =G8*H8 -> 0 | E8: =D8*C8 -> 0
A9: 6 | C9: =G9*H9 -> 0 | E9: =D9*C9 -> 0
A10: 7 | C10: =G10*H10 -> 0 | E10: =D10*C10 -> 0
A11: 8 | C11: =G11*H11 -> 0 | E11: =D11*C11 -> 0
A12: 9 | C12: =G12*H12 -> 0 | E12: =D12*C12 -> 0
A13: 10 | C13: =G13*H13 -> 0 | E13: =D13*C13 -> 0
A14: 11 | E14: =D14*C14 -> 0
A15: 12 | E15: =D15*C15 -> 0
A16: 13 | E16: =D16*C16 -> 0
A17: 14 | E17: =D17*C17 -> 0
A18: 15 | E18: =D18*C18 -> 0
A19: 16 | E19: =D19*C19 -> 0
A20: 17 | E20: =D20*C20 -> 0
A21: 18 | E21: =D21*C21 -> 0
A22: 19 | E22: =D22*C22 -> 0
A23: 20 | E23: =D23*C23 -> 0
A24: RESUMO DO AÇO
A27: AÇO CA-50
A29: Ø | B29: COMP. (cm) | D29: kg/m | E29: PESO (KG)
A30: 5 | B30: =SUMIFS($E$4:$E$23,$B$4:$B$23,A30) -> 0 | D30: 0.154 | E30: =ROUND(D30*B30/100,0) -> 0
A31: 6.3 | B31: =SUMIFS($E$4:$E$23,$B$4:$B$23,A31) -> 0 | D31: 0.245 | E31: =ROUND(D31*B31/100,0) -> 0
A32: 8 | B32: =SUMIFS($E$4:$E$23,$B$4:$B$23,A32) -> 0 | D32: 0.395 | E32: =ROUND(D32*B32/100,0) -> 0
A33: 10 | B33: =SUMIFS($E$4:$E$23,$B$4:$B$23,A33) -> 0 | D33: 0.617 | E33: =ROUND(D33*B33/100,0) -> 0
A34: 12.5 | B34: =SUMIFS($E$4:$E$23,$B$4:$B$23,A34) -> 0 | D34: 0.963 | E34: =ROUND(D34*B34/100,0) -> 0
A35: 16 | B35: =SUMIFS($E$4:$E$23,$B$4:$B$23,A35) -> 0 | D35: 1.578 | E35: =ROUND(D35*B35/100,0) -> 0
A36: 20 | B36: =SUMIFS($E$4:$E$23,$B$4:$B$23,A36) -> 0 | D36: 2.466 | E36: =ROUND(D36*B36/100,0) -> 0
A37: 25 | B37: =SUMIFS($E$4:$E$23,$B$4:$B$23,A37) -> 0 | D37: 3.853 | E37: =ROUND(D37*B37/100,0) -> 0
A38: 32 | B38: =SUMIFS($E$4:$E$23,$B$4:$B$23,A38) -> 0 | D38: 6.313 | E38: =ROUND(D38*B38/100,0) -> 0
A39: 40 | B39: =SUMIFS($E$4:$E$23,$B$4:$B$23,A39) -> 0 | D39: 9.865 | E39: =ROUND(D39*B39/100,0) -> 0
A40: PESO TOTAL | E40: =SUM(E30:E39) -> 0

Sheet QUANT-PE
A1: QUADRO DE QUANTIDADES
A2: ITEM | B2: CÓDIGO | C2: DISCRIMINAÇÃO | D2: UND | E2: QUANT.
A4: 1 | C4: INFRA E MESOESTRUTURA
A5: 1.1 | C5: ESTACAS E BLOCOS
A6: 1.1.1 | B6: 4805757 | C6: Escavação mecânica de vala em material de 1ª categoria | D6: m³ | E6: ='MQ-PE'!B14+'MQ-PE'!B44 -> 222.3
A7: 1.1.2 | B7: 2306122 | C7: Estaca duplo trilho TR 68 - com emenda - fornecimento e cravação | D7: m | E7: ='MQ-PE'!B11 -> 480
A8: 1.1.3 | B8: 1106057 | C8: Concreto magro - confecção em betoneira e lançamento manual - areia e brita comerciais | D8: m³ | E8: ='MQ-PE'!B47 -> 2.4
A9: 1.1.4 | B9: 3108012 | C9: Fôrmas de compensado plastificado 12 mm - uso geral - utilização de 2 vezes - confecção, instalação e retirada | D9: m² | E9: ='MQ-PE'!B17+'MQ-PE'!B50 -> 104.16
A10: 1.1.5 | B10: 407819 | C10: Armação em aço CA-50 - fornecimento, preparo e colocação | D10: kg | E10: ='MQ-PE'!B65 -> 2621
A11: 1.1.6 | B11: 1107900 | C11: Concreto fck = 30 MPa - confecção em betoneira e lançamento manual - areia e brita comerciais | D11: m³ | E11: ='MQ-PE'!B20+'MQ-PE'!B53 -> 30.24
A12: 1.1.7 | B12: 1100657 | C12: Adensamento de concreto por vibrador de imersão | D12: m³ | E12: =E11 -> 30.24
A13: 1.1.8 | B13: 4815671 | C13: Reaterro e compactação com soquete vibratório | D13: m³ | E13: ='MQ-PE'!B56 -> 191.1
A14: 1.1.9 | B14: 2003864 | C14: Esgotamento de água com bomba submersa | D14: h | E14: ='MQ-PE'!B65 -> 2621
A16: 1.2 | C16: PILARES
A17: 1.2.1 | B17: 3108012 | C17: Fôrmas de compensado plastificado 12 mm - uso geral - utilização de 2 vezes - confecção, instalação e retirada | D17: m² | E17: ='MQ-PE'!B75+'MQ-PE'!B91 -> 25.14
A18: 1.2.3 | B18: 407819 | C18: Armação em aço CA-50 - fornecimento, preparo e colocação | D18: kg | E18: ='MQ-PE'!B81+'MQ-PE'!B97 -> 834
A19: 1.2.4 | B19: 1107900 | C19: Concreto fck = 30 MPa - confecção em betoneira e lançamento manual - areia e brita comerciais | D19: m³ | E19: ='MQ-PE'!B78+'MQ-PE'!B94 -> 6.284
A20: 1.2.5 | B20: 1100657 | C20: Adensamento de concreto por vibrador de imersão | D20: m³ | E20: =E19 -> 6.284
A22: 1.3 | C22: TRAVESSAS, CORTINAS E BERÇOS
A23: 1.3.1 | B23: 3108012 | C23: Fôrmas de compensado plastificado 12 mm - uso geral - utilização de 2 vezes - confecção, instalação e retirada | D23: m² | E23: ='MQ-PE'!B108+'MQ-PE'!B153+'MQ-PE'!B128 -> 126.31
A24: 1.3.2 | B24: 2108166 | C24: Escoramento com pontaletes D = 10 cm - utilização de 2 vezes - confecção, instalação e retirada | D24: m³ | E24: ='MQ-PE'!B111+'MQ-PE'!B131 -> 41.055
A25: 1.3.3 | B25: 407819 | C25: Armação em aço CA-50 - fornecimento, preparo e colocação | D25: kg | E25: ='MQ-PE'!B117+'MQ-PE'!B137 -> 4247
A26: 1.3.4 | B26: 1107900 | C26: Concreto fck = 30 MPa - confecção em betoneira e lançamento manual - areia e brita comerciais | D26: m³ | E26: ='MQ-PE'!B114+'MQ-PE'!B156+'MQ-PE'!B134 -> 46.326
A27: 1.3.5 | B27: 1100657 | C27: Adensamento de concreto por vibrador de imersão | D27: m³ | E27: =E26 -> 46.326
A28: 1.3.6 | B28: 1109680 | C28: Argamassa para reparos e grauteamento - confecção em misturador e lançamento manual | D28: m³ | E28: ='MQ-PE'!B159 -> 0.096
A29: 1.3.7 | B29: 307732 | C29: Aparelho de apoio de neoprene fretado para estruturas pré-moldadas - fornecimento e instalação | D29: dm³ | E29: ='MQ-PE'!B162 -> 67.2
A31: 1.4 | C31: ALAS
A32: 1.4.1 | B32: 3108012 | C32: Fôrmas de compensado plastificado 12 mm - uso geral - utilização de 2 vezes - confecção, instalação e retirada | D32: m² | E32: ='MQ-PE'!B174 -> 51.53
A33: 1.4.2 | B33: 407819 | C33: Armação em aço CA-50 - fornecimento, preparo e colocação | D33: kg | E33: ='MQ-PE'!B180 -> 1402
A34: 1.4.3 | B34: 1107900 | C34: Concreto fck = 30 MPa - confecção em betoneira e lançamento manual - areia e brita comerciais | D34: m³ | E34: ='MQ-PE'!B177 -> 6.48
A35: 1.4.4 | B35: 1100657 | C35: Adensamento de concreto por vibrador de imersão | D35: m³ | E35: =E34 -> 6.48
A37: 1.5 | C37: LAJE DE TRANSIÇÃO
A38: 1.5.1 | B38: 3108012 | C38: Fôrmas de compensado plastificado 12 mm - uso geral - utilização de 2 vezes - confecção, instalação e retirada | D38: m² | E38: ='MQ-PE'!B192 -> 65.8
A39: 1.5.2 | B39: 407819 | C39: Armação em aço CA-50 - fornecimento, preparo e colocação | D39: kg | E39: ='MQ-PE'!B201 -> 1741
A40: 1.5.3 | B40: 1107900 | C40: Concreto fck = 30 MPa - confecção em betoneira e lançamento manual - areia e brita comerciais | D40: m³ | E40: ='MQ-PE'!B195 -> 15.24
A41: 1.5.4 | B41: 1100657 | C41: Adensamento de concreto por vibrador de imersão | D41: m³ | E41: =E40 -> 15.24
A42: 1.5.5 | B42: 2003842 | C42: Enchimento de junta de concreto com argamassa asfáltica de densidade 1.700 kg/m³ - espessura de 1 cm | D42: kg | E42: ='MQ-PE'!B198 -> 40.8
A44: 1.6 | C44: PROTEÇÃO DOS TALUDES E ENCONTROS
A45: 1.6.1 | B45: 1505879 | C45: Enrocamento de pedra arrumada manualmente - pedra de mão comercial - fornecimento e assentamento | D45: m³ | E45: ='MQ-PE'!B210 -> 236.295
A46: 1.6.2 | B46: 4815671 | C46: Reaterro e compactação com soquete vibratório | D46: m³ | E46: ='MQ-PE'!B222 -> 103.635
...

Sheet MQ-PE
A1: Memória de Cálculo das Quantidades
A2: Estacas
A3: Quantidade de Estacas BL1 (Qe1) | B3: =6*8 -> 48 | C3: unid
A4: Comprimento em Solo BL (Cs1) | B4: 10 | C4: m
A5: Área de Seção Bloco de Ancoragem (Asba) | B5: =0.3*0.5 -> 0.15 | C5: m²
A6: Perimetro de Formas do Bloco de Ancoragem (Pfba) | B6: =0.5+0.5+0.3+0.3 -> 1.6 | C6: m
A7: Altura do Bloco de Ancoragem (Hba) | B7: 0.6 | C7: m
A8: Altura de Escavação do Bloco de Ancoragem (Heba) | B8: 0.4 | C8: m
A10: Estacas em Solo
A11: Qe1 x Cs1 | B11: =B3*B4 -> 480 | C11: m
A13: Escavação
A14: Qe1 x Asba x Heba | B14: =ROUND(B3*B5*B8,2) -> 2.88 | C14: m³
A16: Formas
A17: Qe1 x Pfba x Hba | B17: =ROUND(B3*B6*B7,2) -> 46.08 | C17: m²
A19: Concreto
A20: Qe1 x Asba x Hba | B20: =ROUND(B3*B5*B7,2) -> 4.32 | C20: m³
A22: Armação CA-50
A23: Junto a armação dos blocos | B23: 0 | C23: kg
A25: Blocos BL1 a BL6
A26: Quantidade de Pórticos (QP) | B26: 3 | C26: unid
A27: Quantidade de Blocos por Pórtico (Qb) | B27: 2 | C27: unid
A28: Altura Média de Escavação (He) | B28: 1 | C28: m
A29: Largura dos Blocos do Pórtico (Lbp) | B29: 1.9 | C29: m
A30: Extensão dos Blocos do Pórtico (Ebp) | B30: 5.6 | C30: m
A31: Largura de Trabalho (Lt) | B31: 1.5 | C31: m
A32: Razão dos Taludes H:V (Rt) | B32: 2 | C32: -
A33: Espessura do Lastro (El) | B33: 0.1 | C33: m
A34: Altura do Bloco (Hb) | B34: 1 | C34: m
A35: Largura do Bloco 1 (Lb1) | B35: 2 | C35: m
A36: Largura do Bloco 2 (Lb2) | B36: 2 | C36: m
A37: Altura de Viga de Rigidez (Hvr) | B37: 0.8 | C37: m
... A41: Espessura da Contenção (Econt) | B41: 0 | C41: m
A43: Escavação
A44: QP x [(Lbp + 2 x Lt + He x Rt) x (Ebp + 2 x Lt + He x Rt) x He] | B44: =ROUND(B26*((B29+2*B31+B28*B32)*(B30+2*B31+B28*B32)*B28),3) -> 219.42 | C44: m³
A46: Lastro de Concreto Magro
A47: QP x Qb x Lb1 x Lb2 x El | B47: =B26*B27*B33*B35*B36 -> 2.4 | C47: m³
A49: Formas
A50: QP x Qb x (2 x (Lb1 + Lb2) x Hb) + QP x (2 x Hvr + Lvr) x Evr) | B50: =ROUND((B26*B27*(2*(B35+B36)*B34)+B26*(2*B37+B38)*B39),2) -> 58.08 | C50: m²
A52: Concreto
A53: QP x Qb x Lb1 x Lb2 x Hb + QP x Lvr x Hvr x Evr | B53: =ROUND(B26*B27*B35*B36*B34+B26*B37*B38*B39,3) -> 25.92 | C53: m³
...

Sheet BLOCOS
A1: BLOCOS DE FUNDAÇÃO BL1 a BL6
A2: N | B2: Ø | C2: Q | D2: COMPRIMENTO
D3: UNITÁRIO | E3: TOTAL | G3: Qe | H3: Qu
A4: 1 | B4: 8 | C4: =G4*H4 -> 288 | D4: 150 | E4: =D4*C4 -> 43200 | G4: 48 | H4: 6
A5: 2 | B5: 10 | C5: =G5*H5 -> 672 | D5: 100 | E5: =D5*C5 -> 67200 | G5: 48 | H5: 14
A6: 3 | B6: 16 | C6: =G6*H6 -> 192 | D6: 120 | E6: =D6*C6 -> 23040 | G6: 48 | H6: 4
A7: 4 | B7: 10 | C7: =G7*H7 -> 72 | D7: 262 | E7: =D7*C7 -> 18864 | G7: 6 | H7: 12
A8: 5 | B8: 10 | C8: =G8*H8 -> 72 | D8: 272 | E8: =D8*C8 -> 19584 | G8: 6 | H8: 12
A9: 6 | B9: 10 | C9: =G9*H9 -> 78 | D9: 270 | E9: =D9*C9 -> 21060 | G9: 6 | H9: 13
A10: 7 | B10: 12.5 | C10: =G10*H10 -> 114 | D10: 356 | E10: =D10*C10 -> 40584 | G10: 6 | H10: 19
A11: 8 | B11: 10 | C11: =G11*H11 -> 78 | D11: 260 | E11: =D11*C11 -> 20280 | G11: 6 | H11: 13
A12: 9 | B12: 12.5 | C12: =G12*H12 -> 186 | D12: 350 | E12: =D12*C12 -> 65100 | G12: 6 | H12: 31
A13: 10 | B13: 12.5 | C13: =G13*H13 -> 30 | D13: 300 | E13: =D13*C13 -> 9000 | G13: 3 | H13: 10
A14: 11 | B14: 10 | C14: =G14*H14 -> 24 | D14: 300 | E14: =D14*C14 -> 7200 | G14: 3 | H14: 8
A15: 12 | B15: 8 | C15: =G15*H15 -> 33 | D15: 240 | E15: =D15*C15 -> 7920 | G15: 3 | H15: 11
A16: RESUMO DO AÇO
A19: AÇO CA-50
A21: Ø | B21: COMP. (cm) | D21: kg/m | E21: PESO (KG)
A22: 8 | B22: =SUMIFS($E$4:$E$15,$B$4:$B$15,A22) -> 51120 | D22: 0.395 | E22: =ROUND(D22*B22/100,0) -> 202
A23: 10 | B23: =SUMIFS($E$4:$E$15,$B$4:$B$15,A23) -> 154188 | D23: 0.617 | E23: =ROUND(D23*B23/100,0) -> 951
A24: 12.5 | B24: =SUMIFS($E$4:$E$15,$B$4:$B$15,A24) -> 114684 | D24: 0.963 | E24: =ROUND(D24*B24/100,0) -> 1104
A25: 16 | B25: =SUMIFS($E$4:$E$15,$B$4:$B$15,A25) -> 23040 | D25: 1.578 | E25: =ROUND(D25*B25/100,0) -> 364
A26: PESO TOTAL | E26: =SUM(E22:E25) -> 2621

Sheet PILARES
A1: PILARES
A2: N | B2: Ø | C2: Q | D2: COMPRIMENTO
D3: UNITÁRIO | E3: TOTAL | G3: Qe | H3: Qu
A4: 1 | B4: 16 | C4: =G4*H4 -> 36 | D4: 388 | E4: =D4*C4 -> 13968 | G4: 2 | H4: 18
A5: 2 | B5: 10 | C5: =G5*H5 -> 14 | D5: 335 | E5: =D5*C5 -> 4690 | G5: 2 | H5: 7
A6: 3 | B6: 16 | C6: =G6*H6 -> 36 | D6: 488 | E6: =D6*C6 -> 17568 | G6: 2 | H6: 18
A7: 4 | B7: 10 | C7: =G7*H7 -> 28 | D7: 335 | E7: =D7*C7 -> 9380 | G7: 2 | H7: 14
A8: 5 | B8: 16 | C8: =G8*H8 -> 36 | D8: 388 | E8: =D8*C8 -> 13968 | G8: 2 | H8: 18
A9: 6 | B9: 10 | C9: =G9*H9 -> 14 | D9: 335 | E9: =D9*C9 -> 4690 | G9: 2 | H9: 7
A10: RESUMO DO AÇO
A13: AÇO CA-50
A15: Ø | B15: COMP. (cm) | D15: kg/m | E15: PESO (KG)
A16: 10 | B16: =SUMIFS($E$4:$E$9,$B$4:$B$9,A16) -> 18760 | D16: 0.617 | E16: =ROUND(D16*B16/100,0) -> 116
A17: 16 | B17: =SUMIFS($E$4:$E$9,$B$4:$B$9,A17) -> 45504 | D17: 1.578 | E17: =ROUND(D17*B17/100,0) -> 718
A18: PESO TOTAL | E18: =SUM(E16:E17) -> 834

Sheet VIGA 1870
A1: VIGA PRÉ-MOLDADA DE 18,70m
A2: N | B2: Ø | C2: Q | D2: COMPRIMENTO
D3: UNITÁRIO | E3: TOTAL | G3: Qe | H3: Qu
A4: 1 | B4: 12.5 | C4: =G4*H4 -> 48 | D4: 412 | E4: =D4*C4 -> 19776 | G4: 4 | H4: 12
A5: 2 | B5: 12.5 | C5: =G5*H5 -> 24 | D5: 1200 | E5: =D5*C5 -> 28800 | G5: 4 | H5: 6
A6: 3 | B6: 10 | C6: =G6*H6 -> 56 | D6: 1200 | E6: =D6*C6 -> 67200 | G6: 4 | H6: =2*7 -> 14
A7: 4 | B7: 10 | C7: =G7*H7 -> 56 | D7: 734 | E7: =D7*C7 -> 41104 | G7: 4 | H7: =2*7 -> 14
A8: 5 | B8: 25 | C8: =G8*H8 -> 24 | D8: 1200 | E8: =D8*C8 -> 28800 | G8: 4 | H8: 6
A9: 6 | B9: 25 | C9: =G9*H9 -> 32 | D9: =492+12 -> 504 | E9: =D9*C9 -> 16128 | G9: 4 | H9: =2*4 -> 8
A10: 7 | B10: 10 | C10: =G10*H10 -> 892 | D10: =18+18+24+24+30 -> 114 | E10: =D10*C10 -> 101688 | G10: 4 | H10: =36+151+36 -> 223
A11: 8 | B11: 10 | C11: =G11*H11 -> 892 | D11: =54+5+60 -> 119 | E11: =D11*C11 -> 106148 | G11: 4 | H11: =36+151+36 -> 223
A12: 9 | B12: 10 | C12: =G12*H12 -> 892 | D12: =23+23+20+34 -> 100 | E12: =D12*C12 -> 89200 | G12: 4 | H12: =36+151+36 -> 223
A13: 10 | B13: 10 | C13: =G13*H13 -> 892 | D13: =125+6+5+125+6+5 -> 272 | E13: =D13*C13 -> 242624 | G13: 4 | H13: =36+151+36 -> 223
A14: 11 | B14: 12.5 | C14: =G14*H14 -> 32 | D14: =39+50+50+16+16+30+30 -> 231 | E14: =D14*C14 -> 7392 | G14: 4 | H14: 8
A15: 12 | B15: 8 | C15: =G15*H15 -> 80 | D15: =ROUND(PI()*6*(46/2),0) -> 434 | E15: =D15*C15 -> 34720 | G15: 4 | H15: 20
A16: RESUMO DO AÇO
A19: AÇO CA-50
A21: Ø | B21: COMP. (cm) | D21: kg/m | E21: PESO (KG)
A22: 8 | B22: =SUMIFS($E$4:$E$15,$B$4:$B$15,A22) -> 34720 | D22: 0.395 | E22: =ROUND(D22*B22/100,0) -> 137
A23: 10 | B23: =SUMIFS($E$4:$E$15,$B$4:$B$15,A23) -> 647964 | D23: 0.617 | E23: =ROUND(D23*B23/100,0) -> 3998
A24: 12.5 | B24: =SUMIFS($E$4:$E$15,$B$4:$B$15,A24) -> 55968 | D24: 0.963 | E24: =ROUND(D24*B24/100,0) -> 539
A25: 25 | B25: =SUMIFS($E$4:$E$15,$B$4:$B$15,A25) -> 44928 | D25: 3.853 | E25: =ROUND(D25*B25/100,0) -> 1731
A26: PESO TOTAL | E26: =SUM(E22:E25) -> 6405

Sheet VIGA 1470
A1: VIGA PRÉ-MOLDADA DE 14,70m
A2: N | B2: Ø | C2: Q | D2: COMPRIMENTO
D3: UNITÁRIO | E3: TOTAL | G3: Qe | H3: Qu
A4: 1 | B4: 12.5 | C4: =G4*H4 -> 48 | D4: 1200 | E4: =D4*C4 -> 57600 | G4: 4 | H4: 12
A5: 2 | B5: 12.5 | C5: =G5*H5 -> 24 | D5: 354 | E5: =D5*C5 -> 8496 | G5: 4 | H5: 6
A6: 3 | B6: 10 | C6: =G6*H6 -> 56 | D6: 1200 | E6: =D6*C6 -> 67200 | G6: 4 | H6: =2*7 -> 14
A7: 4 | B7: 10 | C7: =G7*H7 -> 56 | D7: 334 | E7: =D7*C7 -> 18704 | G7: 4 | H7: =2*7 -> 14
A8: 5 | B8: 20 | C8: =G8*H8 -> 24 | D8: 1200 | E8: =D8*C8 -> 28800 | G8: 4 | H8: 6
A9: 6 | B9: 20 | C9: =G9*H9 -> 32 | D9: =436+12 -> 448 | E9: =D9*C9 -> 14336 | G9: 4 | H9: =2*4 -> 8
A10: 7 | B10: 10 | C10: =G10*H10 -> 732 | D10: =18+18+24+24+30 -> 114 | E10: =D10*C10 -> 83448 | G10: 4 | H10: =36+111+36 -> 183
A11: 8 | B11: 10 | C11: =G11*H11 -> 732 | D11: =54+5+60 -> 119 | E11: =D11*C11 -> 87108 | G11: 4 | H11: =36+111+36 -> 183
A12: 9 | B12: 10 | C12: =G12*H12 -> 732 | D12: =23+23+20+34 -> 100 | E12: =D12*C12 -> 73200 | G12: 4 | H12: =36+111+36 -> 183
A13: 10 | B13: 10 | C13: =G13*H13 -> 732 | D13: =125+6+5+125+6+5 -> 272 | E13: =D13*C13 -> 199104 | G13: 4 | H13: =36+111+36 -> 183
A14: 11 | B14: 12.5 | C14: =G14*H14 -> 32 | D14: =39+50+50+16+16+30+30 -> 231 | E14: =D14*C14 -> 7392 | G14: 4 | H14: 8
A15: 12 | B15: 8 | C15: =G15*H15 -> 56 | D15: =ROUND(PI()*6*(46/2),0) -> 434 | E15: =D15*C15 -> 24304 | G15: 4 | H15: 14
A16: RESUMO DO AÇO
A19: AÇO CA-50
A21: Ø | B21: COMP. (cm) | D21: kg/m | E21: PESO (KG)
A22: 8 | B22: =SUMIFS($E$4:$E$15,$B$4:$B$15,A22) -> 24304 | D22: 0.395 | E22: =ROUND(D22*B22/100,0) -> 96
A23: 10 | B23: =SUMIFS($E$4:$E$15,$B$4:$B$15,A23) -> 528764 | D23: 0.617 | E23: =ROUND(D23*B23/100,0) -> 3262
A24: 12.5 | B24: =SUMIFS($E$4:$E$15,$B$4:$B$15,A24) -> 73488 | D24: 0.963 | E24: =ROUND(D24*B24/100,0) -> 708
A25: 20 | B25: =SUMIFS($E$4:$E$15,$B$4:$B$15,A25) -> 43136 | D25: 2.466 | E25: =ROUND(D25*B25/100,0) -> 1064
A26: PESO TOTAL | E26: =SUM(E22:E25) -> 5130

Sheet TRAV E1E3
A1: TRAVESSAS TR1 e TR3, CORTINAS E BERÇOS
A2: N | B2: Ø | C2: Q | D2: COMPRIMENTO
D3: UNITÁRIO | E3: TOTAL | G3: Qe | H3: Qu
A4: 1 | B4: 16 | C4: =G4*H4 -> 34 | D4: 880 | E4: =D4*C4 -> 29920 | G4: 2 | H4: 17
A5: 2 | B5: 16 | C5: =G5*H5 -> 34 | D5: 900 | E5: =D5*C5 -> 30600 | G5: 2 | H5: 17
A6: 3 | B6: 10 | C6: =G6*H6 -> 138 | D6: 580 | E6: =D6*C6 -> 80040 | G6: 2 | H6: 69
A7: 4 | B7: 10 | C7: =G7*H7 -> 138 | D7: 360 | E7: =D7*C7 -> 49680 | G7: 2 | H7: 69
A8: 5 | B8: 12.5 | C8: =G8*H8 -> 276 | D8: Var. | E8: =C8*AVERAGE(J8:K8) -> 70380 | G8: 2 | H8: =2*69 -> 138 | J8: 250 | K8: 260
A9: 6 | B9: 8 | C9: =G9*H9 -> 138 | D9: 92 | E9: =D9*C9 -> 12696 | G9: 2 | H9: 69
A10: 7 | B10: 12.5 | C10: =G10*H10 -> 6 | D10: 684 | E10: =D10*C10 -> 4104 | G10: 2 | H10: 3
A11: 8 | B11: 10 | C11: =G11*H11 -> 24 | D11: 270 | E11: =D11*C11 -> 6480 | G11: 2 | H11: 12
A12: 9 | B12: 12.5 | C12: =G12*H12 -> 44 | D12: 684 | E12: =D12*C12 -> 30096 | G12: 2 | H12: 22
A13: 10 | B13: 10 | C13: =G13*H13 -> 24 | D13: 165 | E13: =D13*C13 -> 3960 | G13: 8 | H13: 3
A14: 11 | B14: 10 | C14: =G14*H14 -> 32 | D14: 150 | E14: =D14*C14 -> 4800 | G14: 8 | H14: 4
A15: 12 | B15: 10 | C15: =G15*H15 -> 16 | D15: 764 | E15: =D15*C15 -> 12224 | G15: 8 | H15: 2
A16: 13 | B16: 10 | C16: =G16*H16 -> 16 | D16: 747 | E16: =D16*C16 -> 11952 | G16: 8 | H16: 2
A17: RESUMO DO AÇO
A20: AÇO CA-50
A22: Ø | B22: COMP. (cm) | D22: kg/m | E22: PESO (KG)
A23: 8 | B23: =SUMIFS($E$4:$E$16,$B$4:$B$16,A23) -> 12696 | D23: 0.395 | E23: =ROUND(D23*B23/100,0) -> 50
A24: 10 | B24: =SUMIFS($E$4:$E$16,$B$4:$B$16,A24) -> 169136 | D24: 0.617 | E24: =ROUND(D24*B24/100,0) -> 1044
A25: 12.5 | B25: =SUMIFS($E$4:$E$16,$B$4:$B$16,A25) -> 104580 | D25: 0.963 | E25: =ROUND(D25*B25/100,0) -> 1007
A26: 16 | B26: =SUMIFS($E$4:$E$16,$B$4:$B$16,A26) -> 60520 | D26: 1.578 | E26: =ROUND(D26*B26/100,0) -> 955
A27: PESO TOTAL | E27: =SUM(E23:E26) -> 3056

Sheet TRAV E2
A1: TRAVESSAS TR2 E BERÇOS
A2: N | B2: Ø | C2: Q | D2: COMPRIMENTO
D3: UNITÁRIO | E3: TOTAL | G3: Qe | H3: Qu
A4: 1 | B4: 16 | C4: =G4*H4 -> 17 | D4: 880 | E4: =D4*C4 -> 14960 | G4: 1 | H4: 17
A5: 2 | B5: 16 | C5: =G5*H5 -> 17 | D5: 900 | E5: =D5*C5 -> 15300 | G5: 1 | H5: 17
A6: 3 | B6: 10 | C6: =G6*H6 -> 69 | D6: 580 | E6: =D6*C6 -> 40020 | G6: 1 | H6: 69
A7: 4 | B7: 10 | C7: =G7*H7 -> 69 | D7: 360 | E7: =D7*C7 -> 24840 | G7: 1 | H7: 69
A8: 5 | B8: 12.5 | C8: =G8*H8 -> 12 | D8: 684 | E8: =D8*C8 -> 8208 | G8: 1 | H8: 12
A9: 6 | B9: 10 | C9: =G9*H9 -> 12 | D9: 270 | E9: =D9*C9 -> 3240 | G9: 1 | H9: 12
A10: 7 | B10: 10 | C10: =G10*H10 -> 24 | D10: 165 | E10: =D10*C10 -> 3960 | G10: 8 | H10: 3
A11: 8 | B11: 10 | C11: =G11*H11 -> 32 | D11: 150 | E11: =D11*C11 -> 4800 | G11: 8 | H11: 4
A12: 9 | B12: 10 | C12: =G12*H12 -> 8 | D12: 1610 | E12: =D12*C12 -> 12880 | G12: 4 | H12: 2
A13: 10 | B13: 10 | C13: =G13*H13 -> 8 | D13: 1627 | E13: =D13*C13 -> 13016 | G13: 4 | H13: 2
A14: RESUMO DO AÇO
A17: AÇO CA-50
A19: Ø | B19: COMP. (cm) | D19: kg/m | E19: PESO (KG)
A20: 10 | B20: =SUMIFS($E$4:$E$13,$B$4:$B$13,A20) -> 102756 | D20: 0.617 | E20: =ROUND(D20*B20/100,0) -> 634
A21: 12.5 | B21: =SUMIFS($E$4:$E$13,$B$4:$B$13,A21) -> 8208 | D21: 0.963 | E21: =ROUND(D21*B21/100,0) -> 79
A22: 16 | B22: =SUMIFS($E$4:$E$13,$B$4:$B$13,A22) -> 30260 | D22: 1.578 | E22: =ROUND(D22*B22/100,0) -> 478
A23: PESO TOTAL | E23: =SUM(E20:E22) -> 1191

Sheet ALAS
A1: ALAS
A2: N | B2: Ø | C2: Q | D2: COMPRIMENTO
D3: UNITÁRIO | E3: TOTAL | G3: Qe | H3: Qu
A4: 1 | B4: 12.5 | C4: =G4*H4 -> 12 | D4: 600 | E4: =D4*C4 -> 7200 | G4: 4 | H4: 3
A5: 2 | B5: 12.5 | C5: =G5*H5 -> 12 | D5: 677 | E5: =D5*C5 -> 8124 | G5: 4 | H5: 3
A6: 3 | B6: 12.5 | C6: =G6*H6 -> 72 | D6: 200 | E6: =D6*C6 -> 14400 | G6: 4 | H6: 18
A7: 4 | B7: 12.5 | C7: =G7*H7 -> 28 | D7: 515 | E7: =D7*C7 -> 14420 | G7: 4 | H7: 7
A8: 5 | B8: 12.5 | C8: =G8*H8 -> 28 | D8: 467 | E8: =D8*C8 -> 13076 | G8: 4 | H8: 7
A9: 6 | B9: 12.5 | C9: =G9*H9 -> 44 | D9: Var. | E9: =C9*AVERAGE(J9:K9) -> 18832 | G9: 4 | H9: 11 | J9: 341 | K9: 515
A10: 7 | B10: 12.5 | C10: =G10*H10 -> 44 | D10: Var. | E10: =C10*AVERAGE(J10:K10) -> 16720 | G10: 4 | H10: 11 | J10: 293 | K10: 467
A11: 8 | B11: 12.5 | C11: =G11*H11 -> 144 | D11: Var. | E11: =C11*AVERAGE(J11:K11) -> 32832 | G11: 4 | H11: =2*18 -> 36 | J11: 144 | K11: 312
A12: 9 | B12: 12.5 | C12: =G12*H12 -> 64 | D12: 312 | E12: =D12*C12 -> 19968 | G12: 4 | H12: =2*8 -> 16
A13: RESUMO DO AÇO
A16: AÇO CA-50
A18: Ø | B18: COMP. (cm) | D18: kg/m | E18: PESO (KG)
A19: 12.5 | B19: =SUMIFS($E$4:$E$12,$B$4:$B$12,A19) -> 145572 | D19: 0.963 | E19: =ROUND(D19*B19/100,0) -> 1402
A20: PESO TOTAL | E20: =SUM(E19:E19) -> 1402

Sheet LAJE TRANS
A1: LAJE DE TRANSIÇÃO
A2: N | B2: Ø | C2: Q | D2: COMPRIMENTO
D3: UNITÁRIO | E3: TOTAL | G3: Qe | H3: Qu
A4: 1 | B4: 12.5 | C4: =G4*H4 -> 240 | D4: 442 | E4: =D4*C4 -> 106080 | G4: 2 | H4: =60+60 -> 120
A5: 2 | B5: 10 | C5: =G5*H5 -> 120 | D5: 150 | E5: =D5*C5 -> 18000 | G5: 2 | H5: 60
A6: 3 | B6: 10 | C6: =G6*H6 -> 166 | D6: 594 | E6: =D6*C6 -> 98604 | G6: 2 | H6: 83
A7: RESUMO DO AÇO
A10: AÇO CA-50
A12: Ø | B12: COMP. (cm) | D12: kg/m | E12: PESO (KG)
A13: 10 | B13: =SUMIFS($E$4:$E$6,$B$4:$B$6,A13) -> 116604 | D13: 0.617 | E13: =ROUND(D13*B13/100,0) -> 719
A14: 12.5 | B14: =SUMIFS($E$4:$E$6,$B$4:$B$6,A14) -> 106080 | D14: 0.963 | E14: =ROUND(D14*B14/100,0) -> 1022
A15: PESO TOTAL | E15: =SUM(E13:E14) -> 1741

Sheet TRANSV
A1: TRANSVERSINAS
A2: N | B2: Ø | C2: Q | D2: COMPRIMENTO
D3: UNITÁRIO | E3: TOTAL | G3: Qe | H3: Qu
A4: 1 | B4: 20 | C4: =G4*H4 -> 12 | D4: 614 | E4: =D4*C4 -> 7368 | G4: 4 | H4: 3
A5: 2 | B5: 12.5 | C5: =G5*H5 -> 8 | D5: 614 | E5: =D5*C5 -> 4912 | G5: 4 | H5: 2
A6: 3 | B6: 10 | C6: =G6*H6 -> 144 | D6: 162 | E6: =D6*C6 -> 23328 | G6: 4 | H6: =2*6*3 -> 36
A7: 4 | B7: 20 | C7: =G7*H7 -> 24 | D7: 215 | E7: =D7*C7 -> 5160 | G7: 4 | H7: 6
A8: 5 | B8: 20 | C8: =G8*H8 -> 12 | D8: 440 | E8: =D8*C8 -> 5280 | G8: 4 | H8: 3
A9: 6 | B9: 10 | C9: =G9*H9 -> 96 | D9: 290 | E9: =D9*C9 -> 27840 | G9: 4 | H9: 24
A10: 7 | B10: 10 | C10: =G10*H10 -> 56 | D10: Var. | E10: =C10*AVERAGE(J10:K10) -> 12320 | G10: 4 | H10: 14 | J10: 216 | K10: 224
A11: 8 | B11: 8 | C11: =G11*H11 -> 48 | D11: 125 | E11: =D11*C11 -> 6000 | G11: 16 | H11: 3
A12: 9 | B12: 8 | C12: =G12*H12 -> 48 | D12: 145 | E12: =D12*C12 -> 6960 | G12: 16 | H12: 3
A13: RESUMO DO AÇO
A16: AÇO CA-50
A18: Ø | B18: COMP. (cm) | D18: kg/m | E18: PESO (KG)
A19: 8 | B19: =SUMIFS($E$4:$E$12,$B$4:$B$12,A19) -> 12960 | D19: 0.395 | E19: =ROUND(D19*B19/100,0) -> 51
A20: 10 | B20: =SUMIFS($E$4:$E$12,$B$4:$B$12,A20) -> 63488 | D20: 0.617 | E20: =ROUND(D20*B20/100,0) -> 392
A21: 12.5 | B21: =SUMIFS($E$4:$E$12,$B$4:$B$12,A21) -> 4912 | D21: 0.963 | E21: =ROUND(D21*B21/100,0) -> 47
A22: 20 | B22: =SUMIFS($E$4:$E$12,$B$4:$B$12,A22) -> 17808 | D22: 2.466 | E22: =ROUND(D22*B22/100,0) -> 439
A23: PESO TOTAL | E23: =SUM(E19:E22) -> 929

Sheet PRELAJES
A1: PRÉ-LAJES
A2: N | B2: Ø | C2: Q | D2: COMPRIMENTO
D3: UNITÁRIO | E3: TOTAL | G3: Qe | H3: Qu
A4: 1 | B4: 8 | C4: =G4*H4 -> 891 | D4: 186 | E4: =D4*C4 -> 165726 | G4: 297 | H4: 3
A5: 2 | B5: 10 | C5: =G5*H5 -> 297 | D5: 186 | E5: =D5*C5 -> 55242 | G5: 297 | H5: 1
A6: 3 | B6: 6.3 | C6: =G6*H6 -> 2079 | D6: 25 | E6: =D6*C6 -> 51975 | G6: 297 | H6: 7
A7: - | B7: TG-12R | C7: =G7*H7 -> 297 | D7: 150 | E7: =D7*C7 -> 44550 | G7: 297 | H7: 1
A8: RESUMO DO AÇO
A11: AÇO CA-50
A13: Ø | B13: COMP. (cm) | D13: kg/m | E13: PESO (KG)
A14: 6.3 | B14: =SUMIFS($E$4:$E$7,$B$4:$B$7,A14) -> 51975 | D14: 0.245 | E14: =ROUND(D14*B14/100,0) -> 127
A15: 8 | B15: =SUMIFS($E$4:$E$7,$B$4:$B$7,A15) -> 165726 | D15: 0.395 | E15: =ROUND(D15*B15/100,0) -> 655
A16: 10 | B16: =SUMIFS($E$4:$E$7,$B$4:$B$7,A16) -> 55242 | D16: 0.617 | E16: =ROUND(D16*B16/100,0) -> 341
A17: PESO TOTAL | E17: =SUM(E14:E16) -> 1123
A18: TRELIÇA SOLDADA CA-60
A20: TG-12R | B20: =SUMIFS($E$4:$E$7,$B$4:$B$7,A20) -> 44550 | D20: 1.016 | E20: =ROUND(D20*B20/100,0) -> 453
A21: PESO TOTAL | E21: =SUM(E20) -> 453

Sheet LAJE
A1: LAJE E BARREIRAS
A2: N | B2: Ø | C2: Q | D2: COMPRIMENTO
D3: UNITÁRIO | E3: TOTAL | G3: Qe | H3: Qu
A4: 1 | B4: 10 | C4: =G4*H4 -> 100 | D4: 614 | E4: =D4*C4 -> 61400 | G4: 1 | H4: 100
A5: 2 | B5: 10 | C5: =G5*H5 -> 100 | D5: 614 | E5: =D5*C5 -> 61400 | G5: 1 | H5: 100
A6: 3 | B6: 8 | C6: =G6*H6 -> 238 | D6: 614 | E6: =D6*C6 -> 146132 | G6: 1 | H6: 238
A7: 4 | B7: 8 | C7: =G7*H7 -> 238 | D7: 614 | E7: =D7*C7 -> 146132 | G7: 1 | H7: 238
A8: 5 | B8: 8 | C8: =G8*H8 -> 180 | D8: 1200 | E8: =D8*C8 -> 216000 | G8: 1 | H8: =60*3 -> 180
A9: 6 | B9: 10 | C9: =G9*H9 -> 180 | D9: 1200 | E9: =D9*C9 -> 216000 | G9: 1 | H9: =60*3 -> 180
A10: 7 | B10: 8 | C10: =G10*H10 -> 16 | D10: 1200 | E10: =D10*C10 -> 19200 | G10: 1 | H10: =2*8 -> 16
A11: 8 | B11: 10 | C11: =G11*H11 -> 676 | D11: 187 | E11: =D11*C11 -> 126412 | G11: 1 | H11: =2*338 -> 676
A12: 9 | B12: 10 | C12: =G12*H12 -> 676 | D12: 190 | E12: =D12*C12 -> 128440 | G12: 1 | H12: =2*338 -> 676
A13: 10 | B13: 12.5 | C13: =G13*H13 -> 120 | D13: 200 | E13: =D13*C13 -> 24000 | G13: 1 | H13: =2*60 -> 120
A14: 11 | B14: 10 | C14: =G14*H14 -> 18 | D14: 594 | E14: =D14*C14 -> 10692 | G14: 1 | H14: 18
A15: 12 | B15: 12.5 | C15: =G15*H15 -> 60 | D15: 342 | E15: =D15*C15 -> 20520 | G15: 1 | H15: 60
A16: 13 | B16: 10 | C16: =G16*H16 -> 60 | D16: 250 | E16: =D16*C16 -> 15000 | G16: 1 | H16: 60
A17: 14 | B17: 10 | C17: =G17*H17 -> 26 | D17: 594 | E17: =D17*C17 -> 15444 | G17: 1 | H17: 26
A18: RESUMO DO AÇO
A21: AÇO CA-50
A23: Ø | B23: COMP. (cm) | D23: kg/m | E23: PESO (KG)
A24: 8 | B24: =SUMIFS($E$4:$E$17,$B$4:$B$17,A24) -> 527464 | D24: 0.395 | E24: =ROUND(D24*B24/100,0) -> 2083
A25: 10 | B25: =SUMIFS($E$4:$E$17,$B$4:$B$17,A25) -> 634788 | D25: 0.617 | E25: =ROUND(D25*B25/100,0) -> 3917
A26: 12.5 | B26: =SUMIFS($E$4:$E$17,$B$4:$B$17,A26) -> 44520 | D26: 0.963 | E26: =ROUND(D26*B26/100,0) -> 429
A27: PESO TOTAL | E27: =SUM(E24:E26) -> 6429
