Workbook
Name \c: #REF!
Name \I: #REF!
Name \p: #REF!
Name \S: #REF!
Name \t: #REF!
Name _____PL1: #REF!
Name ____PL1: #REF!
Name ____PNV2002: #REF!
Name ____PNV2003: #REF!
Name ___PL1: #REF!
Name ___PNV2002: #REF!
Name ___PNV2003: #REF!
Name __PL1: #REF!
Name __PNV2002: #REF!
Name __PNV2003: #REF!
Name _01_09_96: #REF!
Name _02: #REF!
Name _3: #REF!
Name _33: #REF!
Name _A254001: #REF!
Name _A810101: #REF!
Name _A810102: #REF!
Name _A810105555: #REF!
Name _A810112: #REF!
Name _A840300: #REF!
Name _AHAH: #REF!
Name _DAT1: #REF!
Name _DAT10: #REF!
Name _DAT11: #REF!
Name _DAT12: #REF!
Name _DAT13: #REF!
Name _DAT14: #REF!
Name _DAT15: #REF!
Name _DAT16: #REF!
Name _DAT17: #REF!
Name _DAT18: #REF!
Name _DAT19: #REF!
Name _DAT2: #REF!
Name _DAT20: #REF!
Name _DAT21: #REF!
Name _DAT22: #REF!
Name _DAT23: #REF!
Name _DAT24: #REF!
Name _DAT3: #REF!
Name _DAT4: #REF!
Name _DAT5: #REF!
Name _DAT6: #REF!
Name _DAT7: #REF!
Name _DAT8: #REF!
Name _DAT9: #REF!
Name _PE006: #REF!
Name _PE007: #REF!
Name _PE016: #REF!
Name _PE107: #REF!
Name _PE108: #REF!
Name _PE110: #REF!
Name _PE111: #REF!
Name _PE113: #REF!
Name _PE114: #REF!
Name _PE116: #REF!

Sheet DADOS
A1: Obra: Construção de Obra de Arte Especial
A2: Rodovia Vicinal - Tacuru/MS
A3: Ponte sobre o Rio Puitã
A6: Data Base | B6: Outubro/2025
A7: Tipo do Orçamento | B7: Sem Desoneração

Sheet CUSTO SICRO
A1: MS jul/2025 | H1: MS JUL/2025-sn | N1: MS JUL/2025
A2: mao de obra | G2: equipamento | O2: material
A3: Código | B3: Descrição | C3: Unidade | D3: Custo (R$) | G3: Código | H3: Descrição | I3: Mão de Obra de Operação (R$/h) | J3: Custo Produtivo (R$/h) | K3: Custo Improdutivo (R$/h) | N3: Código | O3: Descrição | P3: Unidade | Q3: Preço Unitário (R$)
A4: P9801 | B4: Ajudante | C4: h | D4: 26.1543 | G4: E9001 | H4: Conjunto vibratório para tubos de concreto com encaixe PB e 3 jogos de fôrmas - D = 0,60 m - 2,20 kW | I4: 0 | J4: 18.4554 | K4: 11.1866 | L4: =IF(LEFT(G4,1)="A","A","") | N4: M0003 | O4: Aço CA 25 | P4: kg | Q4: 7.7515
A5: P9802 | B5: Ajudante especializado | C5: h | D5: 30.4788 | G5: E9002 | H5: Conjunto vibratório para tubos de concreto com encaixe PB e 3 jogos de fôrmas - D = 0,80 m - 2,20 kW | I5: 0 | J5: 24.2745 | K5: 14.7138 | L5: =IF(LEFT(G5,1)="A","A","") | N5: M0004 | O5: Aço CA 50 | P5: kg | Q5: 7.7377
A6: P9803 | B6: Almoxarife - mensalista | C6: mês | D6: 5495.1598 | G6: E9003 | H6: Conjunto vibratório para tubos de concreto com encaixe PB e 3 jogos de fôrmas - D = 1,00 m - 2,20 kW | I6: 0 | J6: 25.3791 | K6: 15.3834 | L6: =IF(LEFT(G6,1)="A","A","") | N6: M0005 | O6: Brita 0 | P6: m³ | Q6: 130.5907
A7: P9804 | B7: Apontador - mensalista | C7: mês | D7: 5124.3075 | G7: E9004 | H7: Conjunto vibratório para tubos de concreto com encaixe PB e 3 jogos de fôrmas - D = 1,20 m - 2,20 kW | I7: 0 | J7: 32.0676 | K7: 19.4376 | L7: =IF(LEFT(G7,1)="A","A","") | N7: M0006 | O7: Fibra de poliamida para concreto | P7: kg | Q7: 27.4859
A8: P9805 | B8: Armador | C8: h | D8: 33.8302 | G8: E9005 | H8: Conjunto vibratório para tubos de concreto com encaixe PB e 3 jogos de fôrmas - D = 1,50 m - 2,20 kW | I8: 0 | J8: 37.8818 | K8: 22.9618 | L8: =IF(LEFT(G8,1)="A","A","") | N8: M0007 | O8: Fibra de aço para concreto | P8: kg | Q8: 16.7652
A9: P9806 | B9: Auxiliar administrativo - mensalista | C9: mês | D9: 5104.4897 | G9: E9006 | H9: Equipamento para sondagem manual | I9: 0 | J9: 1.4715 | K9: 0.9669 | L9: =IF(LEFT(G9,1)="A","A","") | N9: M0008 | O9: Detergente líquido neutro | P9: l | Q9: 4.1271
A10: P9807 | B10: Bombeiro hidráulico | C10: h | D10: 34.373 | G10: E9007 | H10: Bomba de pistão triplex com capacidade de 7,80 m³/h (130 l/min) - 8,20 kW | I10: 0 | J10: 43.1433 | K10: 19.7913 | L10: =IF(LEFT(G10,1)="A","A","") | N10: M0009 | O10: Aço CP 175 RB | P10: kg | Q10: 9.4014
A11: P9808 | B11: Carpinteiro | C11: h | D11: 29.2217 | G11: E9008 | H11: Transportador manual de tubos de concreto com capacidade de 1 t | I11: 0 | J11: 2.273 | K11: 1.4872 | L11: =IF(LEFT(G11,1)="A","A","") | N11: M0010 | O11: Aditivo superplastificante à base de policarboxilato para concreto e argamassa | P11: kg | Q11: 13.1908
A12: P9809 | B12: Encarregado administrativo - mensalista | C12: mês | D12: 8397.0328 | G12: E9009 | H12: Embarcação rebocadora - 268 kW | I12: 135.9683 | J12: 451.5779 | K12: 146.8152 | L12: =IF(LEFT(G12,1)="A","A","") | N12: M0011 | O12: Aditivo modificador de viscosidade para concreto e argamassa | P12: kg | Q12: 9.0665
A13: P9810 | B13: Eletricista | C13: h | D13: 34.0597 | G13: E9010 | H13: Balança plataforma digital à bateria, com mesa de 75 x 75 cm e capacidade de 500 kg | I13: 0 | J13: 1.0943 | K13: 0.7351 | L13: =IF(LEFT(G13,1)="A","A","") | N13: M0012 | O13: Silicato de alumínio | P13: kg | Q13: 2.0183
A14: P9811 | B14: Encarregado especializado - mensalista | C14: mês | D14: 8883.9059 | G14: E9011 | H14: Carro manual modelo plataforma de 200 x 80 cm com capacidade de 800 kg | I14: 0 | J14: 0.5187 | K14: 0.3467 | L14: =IF(LEFT(G14,1)="A","A","") | N14: M0013 | O14: Grampo de ancoragem em aço CA 50 - D = 12,5 mm | P14: kg | Q14: 7.496
A15: P9812 | B15: Engenheiro - mensalista | C15: mês | D15: 26972.094 | G15: E9014 | H15: Deflectômetro de impacto (FWD) instalado em picape com reboque e faixa de carga de 7 a 120 kN - 147 kW | I15: 37.328 | J15: 377.7833 | K15: 263.1596 | L15: =IF(LEFT(G15,1)="A","A","") | N15: M0014 | O15: Aço CA 60 | P15: kg | Q15: 8.586
... A78: P9888 | B78: Engenheiro | C78: h | D78: 146.1624 | G78: E9083 | H78: Vagão fechado FLT com capacidade de 99 t | I78: 0 | J78: 34.8592 | K78: 27.616 | L78: =IF(LEFT(G78,1)="A","A","") | N78: M0103 | O78: Aditivo acelerador de pega para concreto e argamassa projetados | P78: kg | Q78: 7.3715
A79: P9889 | B79: Técnico da qualidade - mensalista | C79: mês | D79: 8544.2116 | G79: E9084 | H79: Vagão tanque convencional TCT com capacidade de 97 t e 103.000 l | I79: 0 | J79: 50.7418 | K79: 40.1985 | L79: =IF(LEFT(G79,1)="A","A","") | N79: M0104 | O79: Asfalto diluído de petróleo - CM-30 | P79: t | Q79: -
A80: P9890 | B80: Engenheiro auxiliar | C80: h | D80: 132.0367 | G80: E9085 | H80: Vagão gôndola GDE com capacidade de 93,5 t / 29 m³ | I80: 0 | J80: 25.5772 | K80: 20.2627 | L80: =IF(LEFT(G80,1)="A","A","") | N80: M0105 | O80: Ancoragem ativa para 4 cordoalhas - D = 15,2 mm | P80: un | Q80: 548.7609
A81: P9892 | B81: Auxiliar de blaster | C81: h | D81: 38.0107 | G81: E9086 | H81: Bomba de concreto rebocável com capacidade de 41 m³/h - 74 kW | I81: 25.9895 | J81: 222.15 | K81: 89.3289 | L81: =IF(LEFT(G81,1)="A","A","") | N81: M0106 | O81: Ancoragem ativa para 6 cordoalhas - D = 15,2 mm | P81: un | Q81: 591.6523
A82: P9893 | B82: Encarregado de pavimentação - mensalista | C82: mês | D82: 8883.9059 | G82: E9089 | H82: Roçadeira costal - 1,40 kW | I82: 0 | J82: 9.0732 | K82: 0.5136 | L82: =IF(LEFT(G82,1)="A","A","") | N82: M0107 | O82: Geocomposto para drenagem | P82: m² | Q82: 46.1402
A83: P9894 | B83: Engenheiro chefe | C83: h | D83: 178.9226 | G83: E9093 | H83: Veículo leve - 53 kW (sem motorista) | I83: 0 | J83: 36.5505 | K83: 6.5542 | L83: =IF(LEFT(G83,1)="A","A","") | N83: M0108 | O83: Ancoragem ativa para 7 cordoalhas - D = 15,2 mm | P83: un | Q83: 659.8864
A84: P9895 | B84: Engenheiro de segurança do trabalho | C84: h | D84: 136.3926 | G84: E9094 | H84: Guindaste móvel sobre pneus com 6 eixos com capacidade máxima de 350 t - 450 kW | I84: 37.328 | J84: 2383.4487 | K84: 1294.4701 | L84: =IF(LEFT(G84,1)="A","A","") | N84: M0109 | O84: Geodreno vertical - L = 10 cm e E = 5 mm | P84: m | Q84: 5.18
A85: P9896 | B85: Porteiro - mensalista | C85: mês | D85: 4528.1004 | G85: E9095 | H85: Guindaste móvel sobre pneus com 8 eixos com capacidade máxima de 500 t - 500 kW | I85: 37.328 | J85: 3934.0023 | K85: 2165.0612 | L85: =IF(LEFT(G85,1)="A","A","") | N85: M0110 | O85: Ancoragem ativa para 10 cordoalhas - D = 15,2 mm | P85: un | Q85: 1095.1146
A86: P9897 | B86: Técnico de meio ambiente - mensalista | C86: mês | D86: 8144.4711 | G86: E9096 | H86: Minicarregadeira de pneus - 45,50 kW | I86: 33.3148 | J86: 176.3378 | K86: 76.4748 | L86: =IF(LEFT(G86,1)="A","A","") | N86: M0111 | O86: Ancoragem ativa para 9 cordoalhas - D = 15,2 mm | P86: un | Q86: 967.7787
A87: P9898 | B87: Engenheiro supervisor | C87: h | D87: 146.1624 | G87: E9101 | H87: Removedora de faixas de sinalização viária - 9,69 kW | I87: 0 | J87: 26.4295 | K87: 4.883 | L87: =IF(LEFT(G87,1)="A","A","") | N87: M0112 | O87: Disco diamantado segmentado para corte de pavimento - D = 1.000 mm | P87: un | Q87: 6189.1351
A88: P9899 | B88: Faxineiro | C88: h | D88: 23.0762 | G88: E9102 | H88: Extrusora para sarjeta de concreto - 10,44 kW | I88: 25.9895 | J88: 48.7445 | K88: 34.1012 | L88: =IF(LEFT(G88,1)="A","A","") | N88: M0113 | O88: Ancoragem ativa para 12 cordoalhas - D = 15,2 mm | P88: un | Q88: 1247.1794
A89: P9901 | B89: Encarregado de superestrutura ferroviária - mensalista | C89: mês | D89: 8883.9059 | G89: E9103 | H89: Extrusora para meio-fio de concreto - 10,44 kW | I89: 25.9895 | J89: 46.1262 | K89: 32.5706 | L89: =IF(LEFT(G89,1)="A","A","") | N89: M0114 | O89: Disco diamantado segmentado para corte de pavimento - D = 1.500 mm | P89: un | Q89: 26132.469
A90: P9902 | B90: Imediato | C90: h | D90: 90.6504 | G90: E9105 | H90: Embarcação rebocadora multipropósito com guindaste hidráulico 155 kN.m - 2 x 186 kW | I90: 135.9683 | J90: 770.2341 | K90: 230.1506 | L90: =IF(LEFT(G90,1)="A","A","") | N90: M0115 | O90: Biomanta vegetal de fibras de coco entrelaçadas com fios de polipropileno biodegradáveis - densidade 0,4 kg/m² | P90: m² | Q90: 6.5
A91: P9903 | B91: Auxiliar técnico - mensalista | C91: mês | D91: 5433.8458 | G91: E9106 | H91: Balsa de convés com capacidade de 200 t | I91: 29.8334 | J91: 103.0079 | K91: 64.5214 | L91: =IF(LEFT(G91,1)="A","A","") | N91: M0116 | O91: Mangote flangeado de borracha reforçada com lonas sintéticas - C = 1,80 m e D = 0,30 m | P91: un | Q91: 10424.159
... A148: P9982 | B148: Vigia | C148: h | D148: 28.8537 | G148: E9203 | H148: Escavadeira hidráulica com martelo hidráulico de 1.700 kg - 103 kW com periculosidade | I148: 41.0438 | J148: 680.6375 | K148: 313.9873 | L148: =IF(LEFT(G148,1)="A","A","") | N148: M0217 | O148: Enxofre | P148: kg | Q148: 2.9892
G149: E9204 | H149: Perfuratriz sobre esteiras - 145 kW com periculosidade | I149: 41.0438 | J149: 524.506 | K149: 239.7854 | L149: =IF(LEFT(G149,1)="A","A","") | N149: M0220 | O149: Adubo à base de nitrogênio, fósforo e potássio (NPK) | P149: kg | Q149: 2.6454
G150: E9205 | H150: Equipamento de corte a plasma CNC - 12.000 x 5.500 mm - 19,5 kW | I150: 0 | J150: 165.2691 | K150: 102.7106 | L150: =IF(LEFT(G150,1)="A","A","") | N150: M0222 | O150: Filer calcário | P150: kg | Q150: 0.1548
G151: E9207 | H151: Máquina de solda elétrica retificadora 425 A - 18,70 kW | I151: 0 | J151: 2.4179 | K151: 1.2955 | L151: =IF(LEFT(G151,1)="A","A","") | N151: M0223 | O151: Sementes para hidrossemeadura | P151: kg | Q151: 28.2512
G152: E9209 | H152: Martelete perfurador/rompedor a ar comprimido de 25 kg para rocha, com insalubridade, com capacidade de 2.040 gpm | I152: 33.6956 | J152: 40.0035 | K152: 37.0754 | L152: =IF(LEFT(G152,1)="A","A","") | N152: M0224 | O152: Guia-chapéu pré-moldada - C = 120 cm | P152: un | Q152: 59.204
G153: E9213 | H153: Jumbo eletro-hidráulico com 3 braços - 155 kW/237 kW com periculosidade | I153: 55.7778 | J153: 2327.7067 | K153: 1123.3268 | L153: =IF(LEFT(G153,1)="A","A","") | N153: M0225 | O153: Adubo orgânico composto | P153: kg | Q153: 0.2637
G154: E9220 | H154: Ônibus rodoviário com capacidade para 50 passageiros - 280 kW | I154: 39.0819 | J154: 549.0824 | K154: 145.9001 | L154: =IF(LEFT(G154,1)="A","A","") | N154: M0229 | O154: Gabião tipo colchão em liga de zinco e alumínio revestido com polímero de malha hexagonal - E = 0,17 m | P154: m² | Q154: 160.2263
G155: E9231 | H155: Maçarico lança-chamas a gás liquefeito de petróleo (GLP) | I155: 0 | J155: 0.0241 | K155: 0.0129 | L155: =IF(LEFT(G155,1)="A","A","") | N155: M0230 | O155: Gabião tipo caixa em liga de zinco e alumínio de malha hexagonal - C = 2,00 m, L = 1,00 m e H = 0,50 m | P155: un | Q155: 496.7009
G156: E9239 | H156: Miniônibus com capacidade para 30 passageiros - 120 kW (sem motorista) | I156: 0 | J156: 216.5026 | K156: 44.7185 | L156: =IF(LEFT(G156,1)="A","A","") | N156: M0231 | O156: Gabião tipo caixa em liga de zinco e alumínio de malha hexagonal - C = 2,00 m, L = 1,00 m e H = 1,00 m | P156: un | Q156: 761.3939
G157: E9240 | H157: Ônibus com capacidade para 46 passageiros - 153 kW (sem motorista) | I157: 0 | J157: 315.1522 | K157: 77.0674 | L157: =IF(LEFT(G157,1)="A","A","") | N157: M0232 | O157: Gabião tipo caixa em liga de zinco e alumínio revestido com polímero de malha hexagonal - C = 2,00 m, L = 1,00 m e H = 0,50 m | P157: un | Q157: 628.4551
G158: E9242 | H158: Estação transmissora de superfície para televisionamento | I158: 0 | J158: 1.9643 | K158: 1.3679 | L158: =IF(LEFT(G158,1)="A","A","") | N158: M0233 | O158: Gabião tipo caixa em liga de zinco e alumínio revestido com polímero de malha hexagonal - C = 2,00 m, L = 1,00 m e H = 1,00 m | P158: un | Q158: 876.2314
...

Sheet CPU-RES
A1: Item | B1: Descrição Abreviada | C1: Unid | D1: Custo Unitário
A2: 4805757 | B2: Escavação mecânica de vala em material de 1ª categoria | C2: m³ | D2: 7.03
A3: 2306122 | B3: Estaca duplo trilho TR 68 - com emenda - fornecimento e cravação | C3: m | D3: 546.13
A4: 1106057 | B4: Concreto magro - confecção em betoneira e lançamento manual - areia e brita comerciais | C4: m³ | D4: 539.81
A5: 3108012 | B5: Fôrmas de compensado plastificado 12 mm - uso geral - utilização de 2 vezes - confecção, instalação e retirada | C5: m² | D5: 96.98
A6: 407819 | B6: Armação em aço CA-50 - fornecimento, preparo e colocação | C6: kg | D6: 11.76
A7: 1107900 | B7: Concreto fck = 30 MPa - confecção em betoneira e lançamento manual - areia e brita comerciais | C7: m³ | D7: 615.25
A8: 1100657 | B8: Adensamento de concreto por vibrador de imersão | C8: m³ | D8: 3.7
A9: 4815671 | B9: Reaterro e compactação com soquete vibratório | C9: m³ | D9: 19.83
A10: 2003864 | B10: Esgotamento de água com bomba submersa | C10: h | D10: 14.54
A11: 2108166 | B11: Escoramento com pontaletes D = 10 cm - utilização de 2 vezes - confecção, instalação e retirada | C11: m³ | D11: 24.91
A12: 1109680 | B12: Argamassa para reparos e grauteamento - confecção em misturador e lançamento manual | C12: m³ | D12: 4462.09
A13: 307732 | B13: Aparelho de apoio de neoprene fretado para estruturas pré-moldadas - fornecimento e instalação | C13: dm³ | D13: 126.15
... A48: 5915014 | B48: Transporte com caminhão carroceria com capacidade de 11,5 t e com guindauto com capacidade de elevação de 11,9 t - rodovia pavimentada | C48: tkm | D48: 1.37

Sheet RESUMO
A1: =DADOS!$A$1 -> Obra: Construção de Obra de Arte Especial | C1: Data Base: | D1: =ORCAMENTO!F1 -> Outubro/2025
A2: =DADOS!$A$2 -> Rodovia Vicinal - Tacuru/MS | C2: Mão de Obra: | D2: Sem Deson.
A3: =DADOS!$A$3 -> Ponte sobre o Rio Puitã | C3: BDI da Obra: | D3: =ORCAMENTO!F3 -> 0.28791653
A4: RESUMO DO ORÇAMENTO
A5: ITEM | B5: DISCRIMINAÇÃO | C5: % | D5: PREÇO TOTAL
A7: 1. | B7: SERVIÇOS DE PRELIMINARES | C7: =D7/$D$25 -> 0.028758462 | D7: =ORCAMENTO!J9 -> 58593.05
A9: 2. | B9: MOBILIZAÇÃO E DESMOBILIZAÇÃO | C9: =D9/$D$25 -> 0.097381264 | D9: =ORCAMENTO!J18 -> 198406.48
A11: 3. | B11: INFRA E MESOESTRUTURA | C11: =D11/$D$25 -> 0.37446293 | D11: =ORCAMENTO!J73 -> 762938.04
A13: 4. | B13: SUPERESTRUTURA | C13: =D13/$D$25 -> 0.2931436 | D13: =ORCAMENTO!J130 -> 597256.46
A15: 5. | B15: DESVIO PROVISÓRIO | C15: =D15/$D$25 -> 0.027689036 | D15: =ORCAMENTO!J140 -> 56414.18
A17: 6. | B17: TERRAPLENAGEM | C17: =D17/$D$25 -> 0.056504168 | D17: =ORCAMENTO!J155 -> 115122.69
A19: 7. | B19: SINALIZAÇÃO E SEGURANÇA VIÁRIA | C19: =D19/$D$25 -> 0.0064657722 | D19: =ORCAMENTO!J160 -> 13173.49
A21: 8. | B21: REMOÇÃO DA PONTE DE MADEIRA E RESÍDUOS SÓLIDOS | C21: =D21/$D$25 -> 0.0013726776 | D21: =ORCAMENTO!J166 -> 2796.72
A23: 9. | B23: ADMINISTRAÇÃO LOCAL | C23: =D23/$D$25 -> 0.1142221 | D23: =ORCAMENTO!J170 -> 232718.32
A25: TOTAL ORÇAMENTO SEM DESONERAÇÃO | D25: =SUM(D7:D24) -> 2037419.4
D28: =33.8*6 -> 202.8
D29: =D25/D28 -> 10046.447

Sheet ORCAMENTO
A1: =DADOS!$A$1 -> Obra: Construção de Obra de Arte Especial | D1: Data Base: | F1: =DADOS!B6 -> Outubro/2025
A2: =DADOS!$A$2 -> Rodovia Vicinal - Tacuru/MS | D2: Mão de Obra: | F2: =DADOS!B7 -> Sem Desoneração
A3: =DADOS!$A$3 -> Ponte sobre o Rio Puitã | D3: BDI da Obra: | F3: ='BDI SICRO'!D18/100 -> 0.28791653
A4: PLANILHA ORÇAMENTÁRIA
A5: ITEM | B5: CÓDIGO | C5: DISCRIMINAÇÃO | D5: UND | E5: QUANT. | F5: CUSTO UNITÁRIO | H5: BDI ADOTADO | I5: % | J5: PREÇO TOTAL
F6: SEM BDI | G6: COM BDI
A7: 1 | C7: SERVIÇOS DE PRELIMINARES
A8: 1.1 | B8: - | C8: Instalação de canteiro de obras e alojamentos | D8: un | E8: 1 | F8: =CANTEIRO!H93 -> 45494.45 | G8: =TRUNC(F8*(1+H8),2) -> 58593.05 | H8: =$F$3 -> 0.28791653 | I8: =J8/$J$172 -> 0.028758462 | J8: =TRUNC(G8*E8,2) -> 58593.05
C9: ="TOTAL DE "&C7 -> TOTAL DE SERVIÇOS DE PRELIMINARES | I9: TOTAL DE SERVIÇOS DE PRELIMINARES | J9: =SUM(J8:J8) -> 58593.05
A11: 2 | C11: MOBILIZAÇÃO E DESMOBILIZAÇÃO
A12: 2.1 | B12: - | C12: Mobilização de pessoal | D12: un | E12: 1 | F12: ='MOB-DESM'!P72 -> 1460.64 | G12: =TRUNC(F12*(1+H12),2) -> 1881.18 | H12: =$F$3 -> 0.28791653 | I12: =J12/$J$172 -> 0.00092331504 | J12: =TRUNC(G12*E12,2) -> 1881.18
A13: 2.2 | B13: - | C13: Desmobilização de pessoal | D13: un | E13: 1 | F13: ='MOB-DESM'!P73 -> 1460.64 | G13: =TRUNC(F13*(1+H13),2) -> 1881.18 | H13: =$F$3 -> 0.28791653 | I13: =J13/$J$172 -> 0.00092331504 | J13: =TRUNC(G13*E13,2) -> 1881.18
A14: 2.3 | B14: - | C14: Mobilização de equipamento rodante | D14: un | E14: 1 | F14: ='MOB-DESM'!P20 -> 23815.1 | G14: =TRUNC(F14*(1+H14),2) -> 30671.86 | H14: =$F$3 -> 0.28791653 | I14: =J14/$J$172 -> 0.015054269 | J14: =TRUNC(G14*E14,2) -> 30671.86
A15: 2.4 | B15: - | C15: Desmobilização de equipamento rodante | D15: un | E15: 1 | F15: ='MOB-DESM'!P21 -> 23815.1 | G15: =TRUNC(F15*(1+H15),2) -> 30671.86 | H15: =$F$3 -> 0.28791653 | I15: =J15/$J$172 -> 0.015054269 | J15: =TRUNC(G15*E15,2) -> 30671.86
A16: 2.5 | B16: - | C16: Mobilização de equipamento pesado | D16: un | E16: 1 | F16: ='MOB-DESM'!P39 -> 51750.41 | G16: =TRUNC(F16*(1+H16),2) -> 66650.2 | H16: =$F$3 -> 0.28791653 | I16: =J16/$J$172 -> 0.032713048 | J16: =TRUNC(G16*E16,2) -> 66650.2
A17: 2.6 | B17: - | C17: Desmobilização de equipamento pesado | D17: un | E17: 1 | F17: ='MOB-DESM'!P40 -> 51750.41 | G17: =TRUNC(F17*(1+H17),2) -> 66650.2 | H17: =$F$3 -> 0.28791653 | I17: =J17/$J$172 -> 0.032713048 | J17: =TRUNC(G17*E17,2) -> 66650.2
C18: ="TOTAL DE "&C11 -> TOTAL DE MOBILIZAÇÃO E DESMOBILIZAÇÃO | I18: TOTAL DE MOBILIZAÇÃO E DESMOBILIZAÇÃO | J18: =SUM(J12:J17) -> 198406.48
A20: 3 | C20: INFRA E MESOESTRUTURA
A21: 3.1 | C21: ESTACAS E BLOCOS
A22: 3.1.1 | B22: 4805757 | C22: Escavação mecânica de vala em material de 1ª categoria | D22: m³ | E22: 222.3 | F22: =VLOOKUP(B22,'CPU-RES'!A:D,4,0) -> 7.03 | G22: =TRUNC(F22*(1+H22),2) -> 9.05 | H22: =$F$3 -> 0.28791653 | I22: =J22/$J$172 -> 0.00098743046 | J22: =TRUNC(G22*E22,2) -> 2011.81
A23: 3.1.2 | B23: 2306122 | C23: Estaca duplo trilho TR 68 - com emenda - fornecimento e cravação | D23: m | E23: 480 | F23: =VLOOKUP(B23,'CPU-RES'!A:D,4,0) -> 546.13 | G23: =TRUNC(F23*(1+H23),2) -> 703.36 | H23: =$F$3 -> 0.28791653 | I23: =J23/$J$172 -> 0.16570609 | J23: =TRUNC(G23*E23,2) -> 337612.8
A24: 3.1.3 | B24: 1106057 | C24: Concreto magro - confecção em betoneira e lançamento manual - areia e brita comerciais | D24: m³ | E24: 2.4 | F24: =VLOOKUP(B24,'CPU-RES'!A:D,4,0) -> 539.81 | G24: =TRUNC(F24*(1+H24),2) -> 695.23 | H24: =$F$3 -> 0.28791653 | I24: =J24/$J$172 -> 0.00081895263 | J24: =TRUNC(G24*E24,2) -> 1668.55
A25: 3.1.4 | B25: 3108012 | C25: Fôrmas de compensado plastificado 12 mm - uso geral - utilização de 2 vezes - confecção, instalação e retirada | D25: m² | E25: 104.16 | F25: =VLOOKUP(B25,'CPU-RES'!A:D,4,0) -> 96.98 | G25: =TRUNC(F25*(1+H25),2) -> 124.9 | H25: =$F$3 -> 0.28791653 | I25: =J25/$J$172 -> 0.0063853224 | J25: =TRUNC(G25*E25,2) -> 13009.58
A26: 3.1.5 | B26: 407819 | C26: Armação em aço CA-50 - fornecimento, preparo e colocação | D26: kg | E26: 2621 | F26: =VLOOKUP(B26,'CPU-RES'!A:D,4,0) -> 11.76 | G26: =TRUNC(F26*(1+H26),2) -> 15.14 | H26: =$F$3 -> 0.28791653 | I26: =J26/$J$172 -> 0.019476569 | J26: =TRUNC(G26*E26,2) -> 39681.94
A27: 3.1.6 | B27: 1107900 | C27: Concreto fck = 30 MPa - confecção em betoneira e lançamento manual - areia e brita comerciais | D27: m³ | E27: 30.24 | F27: =VLOOKUP(B27,'CPU-RES'!A:D,4,0) -> 615.25 | G27: =TRUNC(F27*(1+H27),2) -> 792.39 | H27: =$F$3 -> 0.28791653 | I27: =J27/$J$172 -> 0.011760892 | J27: =TRUNC(G27*E27,2) -> 23961.87
A28: 3.1.7 | B28: 1100657 | C28: Adensamento de concreto por vibrador de imersão | D28: m³ | E28: 30.24 | F28: =VLOOKUP(B28,'CPU-RES'!A:D,4,0) -> 3.7 | G28: =TRUNC(F28*(1+H28),2) -> 4.76 | H28: =$F$3 -> 0.28791653 | I28: =J28/$J$172 -> 7.0648192e-05 | J28: =TRUNC(G28*E28,2) -> 143.94
A29: 3.1.8 | B29: 4815671 | C29: Reaterro e compactação com soquete vibratório | D29: m³ | E29: 191.1 | F29: =VLOOKUP(B29,'CPU-RES'!A:D,4,0) -> 19.83 | G29: =TRUNC(F29*(1+H29),2) -> 25.53 | H29: =$F$3 -> 0.28791653 | I29: =J29/$J$172 -> 0.0023945879 | J29: =TRUNC(G29*E29,2) -> 4878.78
A30: 3.1.9 | B30: 2003864 | C30: Esgotamento de água com bomba submersa | D30: h | E30: 2621 | F30: =VLOOKUP(B30,'CPU-RES'!A:D,4,0) -> 14.54 | G30: =TRUNC(F30*(1+H30),2) -> 18.72 | H30: =$F$3 -> 0.28791653 | I30: =J30/$J$172 -> 0.024081993 | J30: =TRUNC(G30*E30,2) -> 49065.12
C31: ="TOTAL DE "&C21 -> TOTAL DE ESTACAS E BLOCOS | I31: Total de Estacas e Blocos | J31: =SUM(J22:J30) -> 472034.39
A33: 3.2 | C33: PILARES
A34: 3.2.1 | B34: 3108012 | C34: Fôrmas de compensado plastificado 12 mm - uso geral - utilização de 2 vezes - confecção, instalação e retirada | D34: m² | E34: 25.14 | F34: =VLOOKUP(B34,'CPU-RES'!A:D,4,0) -> 96.98 | G34: =TRUNC(F34*(1+H34),2) -> 124.9 | H34: =$F$3 -> 0.28791653 | I34: =J34/$J$172 -> 0.0015411554 | J34: =TRUNC(G34*E34,2) -> 3139.98
A35: 3.2.2 | B35: 407819 | C35: Armação em aço CA-50 - fornecimento, preparo e colocação | D35: kg | E35: 834 | F35: =VLOOKUP(B35,'CPU-RES'!A:D,4,0) -> 11.76 | G35: =TRUNC(F35*(1+H35),2) -> 15.14 | H35: =$F$3 -> 0.28791653 | I35: =J35/$J$172 -> 0.0061974279 | J35: =TRUNC(G35*E35,2) -> 12626.76
A36: 3.2.3 | B36: 1107900 | C36: Concreto fck = 30 MPa - confecção em betoneira e lançamento manual - areia e brita comerciais | D36: m³ | E36: 6.284 | F36: =VLOOKUP(B36,'CPU-RES'!A:D,4,0) -> 615.25 | G36: =TRUNC(F36*(1+H36),2) -> 792.39 | H36: =$F$3 -> 0.28791653 | I36: =J36/$J$172 -> 0.0024439592 | J36: =TRUNC(G36*E36,2) -> 4979.37
A37: 3.2.4 | B37: 1100657 | C37: Adensamento de concreto por vibrador de imersão | D37: m³ | E37: 6.284 | F37: =VLOOKUP(B37,'CPU-RES'!A:D,4,0) -> 3.7 | G37: =TRUNC(F37*(1+H37),2) -> 4.76 | H37: =$F$3 -> 0.28791653 | I37: =J37/$J$172 -> 1.4680335e-05 | J37: =TRUNC(G37*E37,2) -> 29.91
C38: ="TOTAL DE "&C33 -> TOTAL DE PILARES | I38: Total de Pilares | J38: =SUM(J34:J37) -> 20776.02
A40: 3.3 | C40: TRAVESSAS, CORTINAS E BERÇOS
A41: 3.3.1 | B41: 3108012 | C41: Fôrmas de compensado plastificado 12 mm - uso geral - utilização de 2 vezes - confecção, instalação e retirada | D41: m² | E41: 126.31 | F41: =VLOOKUP(B41,'CPU-RES'!A:D,4,0) -> 96.98 | G41: =TRUNC(F41*(1+H41),2) -> 124.9 | H41: =$F$3 -> 0.28791653 | I41: =J41/$J$172 -> 0.0077431823 | J41: =TRUNC(G41*E41,2) -> 15776.11
A42: 3.3.2 | B42: 2108166 | C42: Escoramento com pontaletes D = 10 cm - utilização de 2 vezes - confecção, instalação e retirada | D42: m³ | E42: 41.055 | F42: =VLOOKUP(B42,'CPU-RES'!A:D,4,0) -> 24.91 | G42: =TRUNC(F42*(1+H42),2) -> 32.08 | H42: =$F$3 -> 0.28791653 | I42: =J42/$J$172 -> 0.00064642556 | J42: =TRUNC(G42*E42,2) -> 1317.04
A43: 3.3.3 | B43: 407819 | C43: Armação em aço CA-50 - fornecimento, preparo e colocação | D43: kg | E43: 4247 | F43: =VLOOKUP(B43,'CPU-RES'!A:D,4,0) -> 11.76 | G43: =TRUNC(F43*(1+H43),2) -> 15.14 | H43: =$F$3 -> 0.28791653 | I43: =J43/$J$172 -> 0.031559324 | J43: =TRUNC(G43*E43,2) -> 64299.58
A44: 3.3.4 | B44: 1107900 | C44: Concreto fck = 30 MPa - confecção em betoneira e lançamento manual - areia e brita comerciais | D44: m³ | E44: 46.326 | F44: =VLOOKUP(B44,'CPU-RES'!A:D,4,0) -> 615.25 | G44: =TRUNC(F44*(1+H44),2) -> 792.39 | H44: =$F$3 -> 0.28791653 | I44: =J44/$J$172 -> 0.018017031 | J44: =TRUNC(G44*E44,2) -> 36708.25
...

Sheet CRONOG
A1: =DADOS!$A$1 -> Obra: Construção de Obra de Arte Especial | G1: Data Base: | I1: =ORCAMENTO!F1 -> Outubro/2025
A2: =DADOS!$A$2 -> Rodovia Vicinal - Tacuru/MS | G2: Mão de Obra: | I2: =ORCAMENTO!F2 -> Sem Desoneração
A3: =DADOS!$A$3 -> Ponte sobre o Rio Puitã | G3: BDI da Obra: | I3: =ORCAMENTO!F3 -> 0.28791653
A4: CRONOGRAMA FÍSICO FINANCEIRO
A5: ITEM | B5: DISCRIMINAÇÃO | C5: PREÇO TOTAL | D5: Mês 1 | F5: Mês 2 | H5: Mês 3 | J5: Mês 4 | L5: Mês 5
A7: 1. | B7: SERVIÇOS DE PRELIMINARES | C7: =RESUMO!D7 -> 58593.05 | D7: 1 | E7: =D7*$C7 -> 58593.05 | G7: =F7*$C7 -> 0 | I7: =H7*$C7 -> 0 | K7: =J7*$C7 -> 0 | M7: =L7*$C7 -> 0
A8: 2. | B8: MOBILIZAÇÃO E DESMOBILIZAÇÃO | C8: =RESUMO!D9 -> 198406.48 | D8: 0.5 | E8: =D8*$C8 -> 99203.24 | L8: 0.5 | M8: =L8*$C8 -> 99203.24
A9: 3. | B9: INFRA E MESOESTRUTURA | C9: =RESUMO!D11 -> 762938.04 | E9: =D9*$C9 -> 0 | F9: 0.7 | G9: =F9*$C9 -> 534056.63 | H9: 0.3 | I9: =H9*$C9 -> 228881.41 | K9: =J9*$C9 -> 0 | M9: =L9*$C9 -> 0
A10: 4. | B10: SUPERESTRUTURA | C10: =RESUMO!D13 -> 597256.46 | G10: =F10*$C10 -> 0 | H10: 0.24 | I10: =H10*$C10 -> 143341.55 | J10: 0.56 | K10: =J10*$C10 -> 334463.62 | L10: 0.2 | M10: =L10*$C10 -> 119451.29
A11: 5. | B11: DESVIO PROVISÓRIO | C11: =RESUMO!D15 -> 56414.18 | E11: =D11*$C11 -> 0 | F11: 1 | G11: =F11*$C11 -> 56414.18 | I11: =H11*$C11 -> 0 | K11: =J11*$C11 -> 0
A12: 6. | B12: TERRAPLENAGEM | C12: =RESUMO!D17 -> 115122.69 | L12: 1 | M12: =L12*$C12 -> 115122.69
A13: 7. | B13: SINALIZAÇÃO E SEGURANÇA VIÁRIA | C13: =RESUMO!D19 -> 13173.49 | L13: 1 | M13: =L13*$C13 -> 13173.49
A14: 8. | B14: REMOÇÃO DA PONTE DE MADEIRA E RESÍDUOS SÓLIDOS | C14: =RESUMO!D21 -> 2796.72 | F14: 1 | G14: =F14*$C14 -> 2796.72
A15: 9. | B15: ADMINISTRAÇÃO LOCAL | C15: =RESUMO!D23 -> 232718.32 | E15: =D15*$C15 -> 0 | F15: 0.25 | G15: =F15*$C15 -> 58179.58 | H15: 0.25 | I15: =H15*$C15 -> 58179.58 | J15: 0.25 | K15: =J15*$C15 -> 58179.58 | L15: 0.25 | M15: =L15*$C15 -> 58179.58
A16: TOTAL ORÇAMENTO | C16: =SUM(C7:C15) -> 2037419.4 | D16: =E16/$C16 -> 0.077449095 | E16: =SUM(E7:E15) -> 157796.29 | F16: =G16/$C16 -> 0.31974129 | G16: =SUM(G7:G15) -> 651447.11 | H16: =I16/$C16 -> 0.21124887 | I16: =SUM(I7:I15) -> 430402.54 | J16: =K16/$C16 -> 0.19271594 | K16: =SUM(K7:K15) -> 392643.2 | L16: =M16/$C16 -> 0.19884482 | M16: =SUM(M7:M15) -> 405130.29
A17: TOTAL ACUMULADO | D17: =D16 -> 0.077449095 | E17: =E16 -> 157796.29 | F17: =F16+D17 -> 0.39719038 | G17: =G16+E17 -> 809243.4 | H17: =H16+F17 -> 0.60843925 | I17: =I16+G17 -> 1239645.9 | J17: =J16+H17 -> 0.80115518 | K17: =K16+I17 -> 1632289.1 | L17: =L16+J17 -> 1 | M17: =M16+K17 -> 2037419.4

Sheet QQUANT
A1: =DADOS!$A$1 -> Obra: Construção de Obra de Arte Especial
A2: =DADOS!$A$2 -> Rodovia Vicinal - Tacuru/MS
A3: =DADOS!$A$3 -> Ponte sobre o Rio Puitã
A4: QUADRO DE QUANTIDADES
A5: ITEM | B5: CÓDIGO | C5: DISCRIMINAÇÃO | D5: UND | E5: QUANT.
A7: 1 | C7: SERVIÇOS DE PRELIMINARES
A8: 1.1 | B8: - | C8: Instalação de canteiro de obras e alojamentos | D8: un | E8: 1
A10: 2 | C10: MOBILIZAÇÃO E DESMOBILIZAÇÃO
A11: 2.1 | B11: - | C11: Mobilização de pessoal | D11: un | E11: 1
A12: 2.2 | B12: - | C12: Desmobilização de pessoal | D12: un | E12: 1
A13: 2.3 | B13: - | C13: Mobilização de equipamento rodante | D13: un | E13: 1
A14: 2.4 | B14: - | C14: Desmobilização de equipamento rodante | D14: un | E14: 1
A15: 2.5 | B15: - | C15: Mobilização de equipamento pesado | D15: un | E15: 1
A16: 2.6 | B16: - | C16: Desmobilização de equipamento pesado | D16: un | E16: 1
A18: 3 | C18: INFRA E MESOESTRUTURA
A19: 3.1 | C19: ESTACAS E BLOCOS
A20: 3.1.1 | B20: 4805757 | C20: Escavação mecânica de vala em material de 1ª categoria | D20: m³ | E20: 222.3
A21: 3.1.2 | B21: 2306122 | C21: Estaca duplo trilho TR 68 - com emenda - fornecimento e cravação | D21: m | E21: 480
A22: 3.1.3 | B22: 1106057 | C22: Concreto magro - confecção em betoneira e lançamento manual - areia e brita comerciais | D22: m³ | E22: 2.4
A23: 3.1.4 | B23: 3108012 | C23: Fôrmas de compensado plastificado 12 mm - uso geral - utilização de 2 vezes - confecção, instalação e retirada | D23: m² | E23: 104.16
A24: 3.1.5 | B24: 407819 | C24: Armação em aço CA-50 - fornecimento, preparo e colocação | D24: kg | E24: 2621
A25: 3.1.6 | B25: 1107900 | C25: Concreto fck = 30 MPa - confecção em betoneira e lançamento manual - areia e brita comerciais | D25: m³ | E25: 30.24
A26: 3.1.7 | B26: 1100657 | C26: Adensamento de concreto por vibrador de imersão | D26: m³ | E26: 30.24
A27: 3.1.8 | B27: 4815671 | C27: Reaterro e compactação com soquete vibratório | D27: m³ | E27: 191.1
A28: 3.1.9 | B28: 2003864 | C28: Esgotamento de água com bomba submersa | D28: h | E28: 2621
A30: 3.2 | C30: PILARES
A31: 3.2.1 | B31: 3108012 | C31: Fôrmas de compensado plastificado 12 mm - uso geral - utilização de 2 vezes - confecção, instalação e retirada | D31: m² | E31: 25.14
A32: 3.2.2 | B32: 407819 | C32: Armação em aço CA-50 - fornecimento, preparo e colocação | D32: kg | E32: 834
A33: 3.2.3 | B33: 1107900 | C33: Concreto fck = 30 MPa - confecção em betoneira e lançamento manual - areia e brita comerciais | D33: m³ | E33: 6.284
A34: 3.2.4 | B34: 1100657 | C34: Adensamento de concreto por vibrador de imersão | D34: m³ | E34: 6.284
A36: 3.3 | C36: TRAVESSAS, CORTINAS E BERÇOS
A37: 3.3.1 | B37: 3108012 | C37: Fôrmas de compensado plastificado 12 mm - uso geral - utilização de 2 vezes - confecção, instalação e retirada | D37: m² | E37: 126.31
A38: 3.3.2 | B38: 2108166 | C38: Escoramento com pontaletes D = 10 cm - utilização de 2 vezes - confecção, instalação e retirada | D38: m³ | E38: 41.055
A39: 3.3.3 | B39: 407819 | C39: Armação em aço CA-50 - fornecimento, preparo e colocação | D39: kg | E39: 4247
A40: 3.3.4 | B40: 1107900 | C40: Concreto fck = 30 MPa - confecção em betoneira e lançamento manual - areia e brita comerciais | D40: m³ | E40: 46.326
A41: 3.3.5 | B41: 1100657 | C41: Adensamento de concreto por vibrador de imersão | D41: m³ | E41: 46.326
A42: 3.3.6 | B42: 1109680 | C42: Argamassa para reparos e grauteamento - confecção em misturador e lançamento manual | D42: m³ | E42: 0.096
A43: 3.3.7 | B43: 307732 | C43: Aparelho de apoio de neoprene fretado para estruturas pré-moldadas - fornecimento e instalação | D43: dm³ | E43: 67.2
A45: 3.4 | C45: ALAS
A46: 3.4.1 | B46: 3108012 | C46: Fôrmas de compensado plastificado 12 mm - uso geral - utilização de 2 vezes - confecção, instalação e retirada | D46: m² | E46: 51.53
...

Sheet ABC-S
A1: Obra: Construção de Obra de Arte Especial | D1: Data Base: | F1: Outubro/2025
A2: Rodovia Vicinal - Tacuru/MS | D2: Mão de Obra: | F2: Sem Desoneração
A3: Ponte sobre o Rio Puitã | D3: BDI da Obra: | F3: 0.28791653
A4: CURVA ABC DE SERVIÇOS
A5: CÓDIGO | B5: DISCRIMINAÇÃO | C5: UND | D5: QUANT. | E5: PREÇO UNIT. | F5: PREÇO TOTAL | G5: % ITEM | H5: % ACUM.
A6: 407819 | B6: Armação em aço CA-50 - fornecimento, preparo e colocação | C6: kg | D6: 30861 | E6: 15.14 | F6: 467235.54 | G6: 0.22932712 | H6: 0.22932712
A7: 2306122 | B7: Estaca duplo trilho TR 68 - com emenda - fornecimento e cravação | C7: m | D7: 480 | E7: 703.36 | F7: 337612.8 | G7: 0.16570609 | H7: 0.39503321
A8: - | B8: Administração Local da Obra | C8: unid | D8: 1 | E8: 232718.32 | F8: 232718.32 | G8: 0.1142221 | H8: 0.50925531
A9: 1107900 | B9: Concreto fck = 30 MPa - confecção em betoneira e lançamento manual - areia e brita comerciais | C9: m³ | D9: 162.364 | E9: 792.39 | F9: 128655.56 | G9: 0.06314633 | H9: 0.57240164
A10: 3108012 | B10: Fôrmas de compensado plastificado 12 mm - uso geral - utilização de 2 vezes - confecção, instalação e retirada | C10: m² | D10: 737.713 | E10: 124.9 | F10: 92140.32 | G10: 0.045224031 | H10: 0.61762567
A11: - | B11: Mobilização de equipamento pesado | C11: un | D11: 1 | E11: 66650.2 | F11: 66650.2 | G11: 0.032713048 | H11: 0.65033872
A12: - | B12: Desmobilização de equipamento pesado | C12: un | D12: 1 | E12: 66650.2 | F12: 66650.2 | G12: 0.032713048 | H12: 0.68305177
A13: 5502120 | B13: Escavação, carga e transporte de material de 1ª categoria - DMT de 2.500 a 3.000 m - caminho de serviço em leito natural - com escavadeira e caminhão basculante de 14 m³ | C13: m³ | D13: 3767.83 | E13: 16.39 | F13: 61754.73 | G13: 0.030310269 | H13: 0.71336203
A14: - | B14: Instalação de canteiro de obras e alojamentos | C14: un | D14: 1 | E14: 58593.05 | F14: 58593.05 | G14: 0.028758462 | H14: 0.7421205
A15: 2003864 | B15: Esgotamento de água com bomba submersa | C15: h | D15: 2621 | E15: 18.72 | F15: 49065.12 | G15: 0.024081993 | H15: 0.76620249
A16: 804035 | B16: Corpo de BSTC D = 0,80 m PA4 - areia, brita e pedra de mão comerciais | C16: m | D16: 36 | E16: 1241.83 | F16: 44705.88 | G16: 0.021942404 | H16: 0.78814489
A17: 3806420 | B17: Lançamento de viga pré-moldada de até 500 kN com utilização de guindaste | C17: un. | D17: 8 | E17: 5390.25 | F17: 43122 | G17: 0.021165009 | H17: 0.8093099
A18: 5915400 | B18: Carga, descarga e manobra de vigas pré-moldadas de até 500 kN em cavalo mecânico com dolly de 4 eixos com capacidade de 57 t | C18: un. | D18: 8 | E18: 4288.92 | F18: 34311.36 | G18: 0.016840597 | H18: 0.8261505
A19: - | B19: Mobilização de equipamento rodante | C19: un | D19: 1 | E19: 30671.86 | F19: 30671.86 | G19: 0.015054269 | H19: 0.84120477
A20: - | B20: Desmobilização de equipamento rodante | C20: un | D20: 1 | E20: 30671.86 | F20: 30671.86 | G20: 0.015054269 | H20: 0.85625904
A21: 5502978 | B21: Compactação de aterros a 100% do Proctor normal | C21: m³ | D21: 3528.1 | E21: 7.71 | F21: 27201.64 | G21: 0.013351026 | H21: 0.86961006
A22: 1107908 | B22: Concreto fck = 40 MPa - confecção em betoneira e lançamento manual - areia e brita comerciais | C22: m³ | D22: 30.46 | E22: 892.17 | F22: 27175.49 | G22: 0.013338191 | H22: 0.88294825
A23: 4507959 | B23: Cordoalha engraxada CP 190 RB D = 15,2 mm - fornecimento e instalação | C23: kg | D23: 1524 | E23: 17.78 | F23: 27096.72 | G23: 0.01329953 | H23: 0.89624778
A24: 3106427 | B24: Fôrma metálica para viga de concreto pré-moldada protendida para OAE - utilização de 20 vezes - confecção, instalação e retirada | C24: m² | D24: 431.16 | E24: 53.3 | F24: 22980.82 | G24: 0.011279376 | H24: 0.90752716
A25: 1505879 | B25: Enrocamento de pedra arrumada manualmente - pedra de mão comercial - fornecimento e assentamento | C25: m³ | D25: 59.4 | E25: 374.39 | F25: 22238.76 | G25: 0.01091516 | H25: 0.91844232
A26: 3816196 | B26: Injeção de nata de cimento | C26: m³ | D26: 10.364 | E26: 1845.55 | F26: 19127.28 | G26: 0.0093879933 | H26: 0.92783031
A27: 4413996 | B27: Enleivamento | C27: m² | D27: 834 | E27: 18.03 | F27: 15037.02 | G27: 0.0073804244 | H27: 0.93521074
A28: 307732 | B28: Aparelho de apoio de neoprene fretado para estruturas pré-moldadas - fornecimento e instalação | C28: dm³ | D28: 67.2 | E28: 162.47 | F28: 10917.98 | G28: 0.0053587297 | H28: 0.94056947
A29: 4507784 | B29: Ancoragem ativa para lajes com 1 cordoalha engraxada D = 15,2 mm - fornecimento e instalação | C29: un. | D29: 68 | E29: 147.49 | F29: 10029.32 | G29: 0.0049225603 | H29: 0.94549203
A30: 307737 | B30: Junta de dilatação em elastômero e perfil VV - L = 50 mm e H = 80 mm - fornecimento e instalação | C30: m | D30: 12 | E30: 798.01 | F30: 9576.12 | G30: 0.0047001221 | H30: 0.95019215
A31: 4507867 | B31: Ancoragem passiva para lajes com 1 cordoalha engraxada D = 15,2 mm - fornecimento e instalação | C31: un. | D31: 68 | E31: 140.27 | F31: 9538.36 | G31: 0.0046815888 | H31: 0.95487374
A32: 5213572 | B32: Fornecimento e implantação de placa de aço, de solo, irregular, simples - película III + III | C32: m² | D32: 11.165 | E32: 763.38 | F32: 8523.13 | G32: 0.0041832967 | H32: 0.95905704
... A44: 307084 | B44: Lábios poliméricos em junta de pavimento de concreto - L = 20 mm e H = 30 mm - confecção e assentamento | C44: m | D44: 48 | E44: 46.23 | F44: 2219.04 | G44: 0.0010891425 | H44: 0.99158031
A45: - | B45: Mobilização de pessoal | C45: un | D45: 1 | E45: 1881.18 | F45: 1881.18 | G45: 0.00092331504 | H45: 0.99250363
A46: - | B46: Desmobilização de pessoal | C46: un | D46: 1 | E46: 1881.18 | F46: 1881.18 | G46: 0.00092331504 | H46: 0.99342694
A47: 5501710 | B47: Escavação, carga e transporte em material de 1ª categoria - DMT de 50 m | C47: m³ | D47: 360 | E47: 5.04 | F47: 1814.4 | G47: 0.00089053828 | H47: 0.99431748
A48: 3806426 | B48: Lançamento de pré-laje com utilização de guindauto | C48: t | D48: 21.205 | E48: 85.11 | F48: 1804.75 | G48: 0.0008858019 | H48: 0.99520328
A49: 5915014 | B49: Transporte com caminhão carroceria com capacidade de 11,5 t e com guindauto com capacidade de elevação de 11,9 t - rodovia pavimentada | C49: tkm | D49: 1025.3 | E49: 1.76 | F49: 1804.52 | G49: 0.00088568901 | H49: 0.99608897
A50: 2007971 | B50: Dreno de PVC D = 100 mm para OAE - fornecimento e instalação | C50: m | D50: 12 | E50: 118.3 | F50: 1419.6 | G50: 0.00069676375 | H50: 0.99678573
A51: 2108166 | B51: Escoramento com pontaletes D = 10 cm - utilização de 2 vezes - confecção, instalação e retirada | C51: m³ | D51: 41.055 | E51: 32.08 | F51: 1317.04 | G51: 0.00064642556 | H51: 0.99743216
...

Sheet ABC-MAT
A1: Obra: Construção de Obra de Arte Especial | D1: Data Base: | F1: Outubro/2025
A2: Rodovia Vicinal - Tacuru/MS | D2: Mão de Obra: | F2: Sem Desoneração
A3: Ponte sobre o Rio Puitã | D3: BDI da Obra: | F3: =RESUMO!D3 -> 0.28791653
A4: CURVA ABC DE MATERIAIS
A5: CÓDIGO | B5: DISCRIMINAÇÃO | C5: UND | D5: QUANT. | E5: CUSTO UNIT. | F5: PREÇO TOTAL | G5: % ITEM | H5: % ACUM.
A6: M1606 | B6: Trilho TR68 em aço-carbono usado | C6: kg | D6: 64896 | E6: 3.5 | F6: 227136 | G6: 0.33961929 | H6: 0.33961929
A7: M0004 | B7: Aço CA 50 | C7: kg | D7: 33947.1 | E7: 5.5807 | F7: 189448.58 | G7: 0.28326814 | H7: 0.62288742
A8: M0424 | B8: Cimento Portland CP II - 32 - saco | C8: kg | D8: 90212.379 | E8: 0.7692 | F8: 69391.36 | G8: 0.10375565 | H8: 0.72664308
A9: M0443 | B9: Compensado plastificado - E = 12 mm | C9: m² | D9: 426.02926 | E9: 43.0198 | F9: 18327.69 | G9: 0.027404009 | H9: 0.75404709
A10: M2425 | B10: Cordoalha engraxada tipo CP 190 RB - D = 15,2 mm | C10: kg | D10: 1600.2 | E10: 10.738 | F10: 17182.95 | G10: 0.025692366 | H10: 0.77973945
A11: M2174 | B11: Tubo de concreto armado PA4 - D = 0,80 m | C11: m | D11: 36 | E11: 409.2814 | F11: 14734.13 | G11: 0.022030831 | H11: 0.80177028
A12: M2432 | B12: Ancoragem ativa para cordoalha engraxada - D = 15,2 mm | C12: un | D12: 136 | E12: 100.8334 | F12: 13713.34 | G12: 0.02050452 | H12: 0.8222748
A13: M0082 | B13: Areia média lavada | C13: m³ | D13: 123.57565 | E13: 109.7818 | F13: 13566.36 | G13: 0.020284752 | H13: 0.84255956
A14: M1097 | B14: Pedra de mão ou rachão | C14: m³ | D14: 122.76357 | E14: 82.5 | F14: 10127.99 | G14: 0.015143618 | H14: 0.85770317
A15: M0191 | B15: Brita 1 | C15: m³ | D15: 109.09132 | E15: 90 | F15: 9818.22 | G15: 0.014680442 | H15: 0.87238362
A16: M1376 | B16: Chapa fina em aço ASTM A36 | C16: kg | D16: 869.85236 | E16: 10.2 | F16: 8872.49 | G16: 0.013266363 | H16: 0.88564998
A17: M0290 | B17: Tábua - E = 2,5 cm e L = 10 cm | C17: m | D17: 2251.793 | E17: 3.8442 | F17: 8656.34 | G17: 0.012943171 | H17: 0.89859315
... A61: M1397 | B61: Eletrodo revestido E60XX | C61: kg | D61: 0.001515 | E61: 28.1958 | F61: 0.04 | G61: 5.9808976e-08 | H61: 1
B63: CUSTO TOTAL DOS MATERIAIS | F63: 668795.94
C64: CUSTO TOTAL DA OBRA | F64: =RESUMO!D25/(1+RESUMO!D3) -> 1581949.9
C65: PERCENTUAL DE MATERIAIS | F65: =F63/F64 -> 0.42276683
C66: PERCENTUAL DE SERVIÇOS | F66: =1-F65 -> 0.57723317

Sheet ABC-MAT-REF
A1: Obra: Construção de Obra de Arte Especial | D1: Data Base: | F1: Outubro/2025
A2: Rodovia Vicinal - Tacuru/MS | D2: Mão de Obra: | F2: Sem Desoneração
A3: Ponte sobre o Rio Puitã | D3: BDI da Obra: | F3: =RESUMO!D3 -> 0.28791653
A4: CURVA ABC DE MATERIAIS - PREÇOS REFERÊNCIAIS DO SICRO
A5: CÓDIGO | B5: DISCRIMINAÇÃO | C5: UND | D5: QUANT. | E5: CUSTO UNIT. | F5: PREÇO TOTAL | G5: % ITEM | H5: % ACUM.
A6: M1606 | B6: Trilho TR68 em aço-carbono usado | C6: kg | D6: 64896 | E6: 5.1637 | F6: 335103.48 | G6: 0.3899197 | H6: 0.3899197
A7: M0004 | B7: Aço CA 50 | C7: kg | D7: 33947.1 | E7: 7.7377 | F7: 262672.48 | G7: 0.30564044 | H7: 0.69556013
A8: M0424 | B8: Cimento Portland CP II - 32 - saco | C8: kg | D8: 90212.379 | E8: 0.7004 | F8: 63184.75 | G8: 0.07352051 | H8: 0.76908064
A9: M2425 | B9: Cordoalha engraxada tipo CP 190 RB - D = 15,2 mm | C9: kg | D9: 1600.2 | E9: 12.666 | F9: 20268.13 | G9: 0.02358359 | H9: 0.79266423
A10: M0443 | B10: Compensado plastificado - E = 12 mm | C10: m² | D10: 426.02926 | E10: 43.0198 | F10: 18327.69 | G10: 0.021325733 | H10: 0.81398997
A11: M0082 | B11: Areia média lavada | C11: m³ | D11: 123.57565 | E11: 125.5355 | F11: 15513.13 | G11: 0.018050767 | H11: 0.83204073
A12: M2174 | B12: Tubo de concreto armado PA4 - D = 0,80 m | C12: m | D12: 36 | E12: 409.2814 | F12: 14734.13 | G12: 0.017144339 | H12: 0.84918507
A13: M1097 | B13: Pedra de mão ou rachão | C13: m³ | D13: 122.76357 | E13: 115.063 | F13: 14125.55 | G13: 0.016436207 | H13: 0.86562128
A14: M0191 | B14: Brita 1 | C14: m³ | D14: 109.09132 | E14: 126.0002 | F14: 13745.53 | G14: 0.015994023 | H14: 0.8816153
A15: M2432 | B15: Ancoragem ativa para cordoalha engraxada - D = 15,2 mm | C15: un | D15: 136 | E15: 100.8334 | F15: 13713.34 | G15: 0.015956568 | H15: 0.89757187
A16: M0192 | B16: Brita 2 | C16: m³ | D16: 80.422842 | E16: 123.313 | F16: 9917.18 | G16: 0.011539432 | H16: 0.9091113
A17: M1376 | B17: Chapa fina em aço ASTM A36 | C17: kg | D17: 869.85236 | E17: 10.2 | F17: 8872.49 | G17: 0.010323852 | H17: 0.91943515
... A61: M1397 | B61: Eletrodo revestido E60XX | C61: kg | D61: 0.001515 | E61: 28.1958 | F61: 0.04 | G61: 4.6543199e-08 | H61: 1
B63: CUSTO TOTAL DOS MATERIAIS | F63: 859416.65
C64: CUSTO TOTAL DA OBRA | F64: =RESUMO!D25/(1+RESUMO!D3) -> 1581949.9
C65: PERCENTUAL DE MATERIAIS | F65: =F63/F64 -> 0.54326414
C66: PERCENTUAL DE SERVIÇOS | F66: =1-F65 -> 0.45673586
F68: =0.05*0.55 -> 0.0275

Sheet BDI-DIF
A1: =DADOS!$A$1 -> Obra: Construção de Obra de Arte Especial
A2: =DADOS!$A$2 -> Rodovia Vicinal - Tacuru/MS
A3: =DADOS!$A$3 -> Ponte sobre o Rio Puitã
A4: BENEFÍCIOS E DESPESAS INDIRETAS (BDI)¹ MATERIAIS E EQUIPAMENTOS - SEM DESONERAÇÃO DNIT - OAE - Pequeno Porte
A5: Despesas Indiretas | C5: % sobre o PV | D5: % sobre CD
A7: Administração Central | B7: Variável - f (CD) | C7: =ROUND(D7/(1+$D$21),2) -> 4.35 | D7: 5
A8: Despesas Financeiras | B8: 1,17% sobre (PV - Lucro) | C8: =ROUND(D8/(1+$D$21),2) -> 1.24 | D8: 1.43
A9: Seguros e Garantias Contratuais | B9: 0,25% do PV | C9: =TRUNC(D9/(1+$D$21),2) -> 0.28 | D9: 0.33
A10: Riscos | B10: 0,50% do PV | C10: 0.5 | D10: 0.66
B11: Subtotal 1 | C11: =ROUND(SUM(C7:C10),2) -> 6.37 | D11: =TRUNC(SUM(D7:D10),2) -> 7.42
A12: Benefícios
A13: Lucro | B13: Variável - f (CD) | C13: =D13/(1+D21) -> 2.9391304 | D13: 3.38
B14: Subtotal 2 | C14: =ROUND(SUM(C13),2) -> 2.94 | D14: =ROUND(SUM(D13),2) -> 3.38
A15: Tributos
A16: PIS | B16: 0,65% do PV | C16: 0.65 | D16: =C16*(1+$D$21) -> 0.7475
A17: COFINS | B17: 3,00% do PV | C17: 3 | D17: =C17*(1+$D$21) -> 3.45
A18: ISSQN² | B18: 0,00% do PV | C18: 0 | D18: =C18*(1+$D$21) -> 0
B19: Subtotal 3 | C19: =ROUND(SUM(C16:C18),2) -> 3.65 | D19: =ROUND(SUM(D16:D18),2) -> 4.2
B20: Total - BDI (%) | C20: =ROUND(C19+C14+C11,2) -> 12.96 | D20: =ROUND(100*(1+(D11/100+D14/100))/(1-(C19/100))-100,2) -> 15
A21: BDI SEM DESONERAÇÃO - MATERIAIS E EQUIP. | D21: =D20/100 -> 0.15
A22: ¹ BDI conforme Ofício-Circular nº 4706/2025 (SEI DNIT nº 21705904) com ajuste na aliquota efetiva de ISSQN. ² Conforme Lei Municipal n. 1333 de 9 de novembro de 2017 que Dispõe sobre o Sistema Tributário do Município de TACURU - MS a Execução, por administração, empreitada ou subempreitada, de obras de construção civil, hidráulica ou elétrica e de outras obras semelhantes, inclusive sondagem de perfuração de poços, escavação, drenagem e irrigação, terraplanagem, pavimentação, concretagem e a instalação e montagem de produtos, peças e equipamentos, será tributado 40% (quarenta por cento) de mão de Obra, descrita em nota fiscal sendo que o valor máximo admitido é de 60% (sessenta por cento) de material ou peças. Considerando percentual de serviços de aproximadamente 52% em relação ao custo da obra, conforme demonstrado na Curva ABC de materiais, realiza-se a ponderação do ISSQN, sendo 5% x 52% = 2,60% de aliquota efetiva para a obra.

Sheet BDI SICRO
A1: Planilha de Cálculo do BDI - Sem Desoneração
A2: Descrição das Parcelas | C2: Construção de Obras de Arte Especiais | F2: BDI conforme Ofício-Circular nº 185/2026 (SEI DNIT nº 23528014) sendo adotado do BDI para Construção de Obras de Arte Especiais de Pequeno Porte. Conforme Lei Municipal n. 1333 de 9 de novembro de 2017 que Dispõe sobre o Sistema Tributário do Município de TACURU - MS a Execução, por administração, empreitada ou subempreitada, de obras de construção civil, hidráulica ou elétrica e de outras obras semelhantes, inclusive sondagem de perfuração de poços, escavação, drenagem e irrigação, terraplanagem, pavimentação, concretagem e a instalação e montagem de produtos, peças e equipamentos, será tributado 40% (quarenta por cento) de mão de Obra, descrita em nota fiscal sendo que o valor máximo admitido é de 60% (sessenta por cento) de material ou peças. Considerando percentual de serviços de aproximadamente 60% em relação ao custo da obra, conforme demonstrado na Curva ABC de materiais, realiza-se a ponderação do ISSQN, sendo 5% x 57,70% = 2,90% de aliquota efetiva para a obra.
C3: Pequeno Porte
A4: Despesas Indiretas | C4: % sobre PV | D4: % sobre CD
A5: Administração Central | B5: Variável - f (CD) | C5: =D5/(1+D$18/100) -> 6.2115827 | D5: 8
A6: Despesas Financeiras | B6: 1.17 | C6: =D6/(1+D$18/100) -> 1.0791556 | D6: =D18-(D5+D7+D8+D11+D14+D15+D16) -> 1.3898623
A7: Seguros e Garantias Contratuais | B7: 0,25% do PV | C7: 0.25 | D7: =C7*(1+D$18/100) -> 0.32197913
A8: Riscos | B8: 0,50% do PV | C8: 0.5 | D8: =C8*(1+D$18/100) -> 0.64395827
B9: Subtotal 1 | C9: =SUM(C5:C8) -> 8.0407383 | D9: =SUM(D5:D8) -> 10.3558
A10: Benefícios | C10: % sobre PV | D10: % sobre CD
A11: Lucro | B11: Variável - f (CD) | C11: =D11/(1+D$18/100) -> 7.7644783 | D11: 10
B12: Subtotal 2 | C12: =C11 -> 7.7644783 | D12: =D11 -> 10
A13: Tributos | C13: % sobre PV | D13: % sobre CD
A14: PIS | B14: 0,65% do PV | C14: 0.65 | D14: =C14*(1+D$18/100) -> 0.83714574
A15: COFINS | B15: 3,00% do PV | C15: 3 | D15: =C15*(1+D$18/100) -> 3.8637496
A16: ISSQN* | B16: 2,90% do PV | C16: 2.9 | D16: =C16*(1+D$18/100) -> 3.7349579
B17: Subtotal 3 | C17: =SUM(C14:C16) -> 6.55 | D17: =SUM(D14:D16) -> 8.4358533
A18: Total - BDI (%) Sem Desoneração | C18: =C9+C12+C17 -> 22.355217 | D18: =((1+(D5/100+D11/100-($B6/100*D11/100)))/(1-($B6/100+C8/100+C7/100+C14/100+C15/100+C16/100))-1)*100 -> 28.791653
A20: Planilha de Cálculo do BDI - Com desoneração
A21: Descrição das Parcelas | C21: Construção de Obras de Arte Especiais
C22: Pequeno Porte | F22: No Art. 9º-A da Lei nº 14.973/2024 estabelece que, sobre a Contribuição Previdenciária sobre a Receita Bruta – CPRB adotada para as empresas de construção de obras de infraestrutura, enquadradas nos grupos 421, 422, 429 e 431 da CNAE 2.0, cuja alíquota é de 4,50%, deverão ser aplicadas bases de cálculos específicas a cada ano. Desse modo, durante o regime de transição deverão ser adotadas as alíquotas indicadas a seguir: ▪ 80% de 4,50% em 2025, resultando na alíquota de 3,60%; ▪ 60% de 4,50% em 2026, resultando na alíquota de 2,70%; ▪ 40% de 4,50% em 2027, resultando na alíquota de 1,80%.
A23: Despesas Indiretas | C23: % sobre PV | D23: % sobre CD
A24: Administração Central | B24: Variável - f (CD) | C24: =D24/(1+D$38/100) -> 6.0283501 | D24: 8
A25: Despesas Financeiras | B25: 1.17 | C25: =D25/(1+D$38/100) -> 1.0818354 | D25: =D38-(D24+D26+D27+D30+D33+D34+D35+D36) -> 1.4356636
A26: Seguros e Garantias Contratuais | B26: 0,25% do PV | C26: 0.25 | D26: =C26*(1+D$38/100) -> 0.33176573
A27: Riscos | B27: 0,50% do PV | C27: 0.5 | D27: =C27*(1+D$38/100) -> 0.66353146
B28: Subtotal 1 | C28: =SUM(C24:C27) -> 7.8601855 | D28: =SUM(D24:D27) -> 10.430961
A29: Benefícios | C29: % sobre PV | D29: % sobre CD
A30: Lucro | B30: Variável - f (CD) | C30: =D30/(1+D$38/100) -> 7.5354377 | D30: 10
B31: Subtotal 2 | C31: =C30 -> 7.5354377 | D31: =D30 -> 10
A32: Tributos | C32: % sobre PV | D32: % sobre CD
A33: PIS | B33: 0,65% do PV | C33: 0.65 | D33: =C33*(1+D$38/100) -> 0.8625909
A34: COFINS | B34: 3,00% do PV | C34: 3 | D34: =C34*(1+D$38/100) -> 3.9811888
A35: ISSQN* | B35: 2,90% do PV | C35: 2.9 | D35: =C35*(1+D$38/100) -> 3.8484825
A36: Contribuição Previdenciária sobre a Receita Bruta (CPRB) | B36: 2,70% do PV | C36: 2.7 | D36: =C36*(1+D$38/100) -> 3.5830699
B37: Subtotal 3 | C37: =SUM(C33:C36) -> 9.25 | D37: =SUM(D33:D36) -> 12.275332
A38: Total - BDI (%) Com Desoneração | C38: =C28+C31+C37 -> 24.645623 | D38: =((1+(D24/100+D30/100-($B25/100*D30/100)))/(1-($B25/100+C27/100+C26/100+C33/100+C34/100+C35/100+C36/100))-1)*100 -> 32.706293
A40: PV = Preço de Venda
A41: CD = Custo Direto
A42: SELIC (janeiro/2025) = 13,25% a.a.
...

Sheet BIN-MAT
A1: QUADRO DE PESQUISA DE MERCADO
A2: AÇO CA-50 (kg)
A3: Empresa | B3: Cidade | C3: Coordenadas | D3: Frete | E3: Preço Unit. (R$) | F3: Data Pesq. | G3: Ind. Data Pesq. | H3: Ind. Data Base | I3: Preço Reaj. (R$) | J3: DMT P | K3: DMT RP | L3: Cons. (T/Unid.) | M3: Cod. Tranp. P. | N3: Cod. Transp. RP | O3: Custo Transp PV | P3: Custo Transp RP | Q3: Custo PV + RP | R3: Custo Total
A4: ARCELOR MITTAL | B4: Campo Grande/MS | C4: 20°25'01.9"S 54°34'47.7"W | D4: FOB | E4: 6.3346 | F4: 46023 | G4: 1167.239 | H4: 1165.984 | I4: 6.3278 | J4: 406 | K4: 2.2 | L4: 0.001 | M4: 5914479 | N4: 5914464 | O4: 0.74 | P4: 0.9 | Q4: 0.3024 | R4: 6.6302
A5: AÇO E AÇO | B5: Campo Grande/MS | C5: 20°23'11.33"S 54°32'38.88"O | D5: CIF | E5: 7.5756 | F5: 46023 | G5: 1167.239 | H5: 1165.984 | I5: 7.5675 | Q5: 0 | R5: 7.5675
A6: GUERDAU | B6: Campo Grande/MS | C6: 23°46'48.95"S 53°18'9.28"O | D6: CIF | E6: 6.2722 | F6: 46023 | G6: 1167.239 | H6: 1165.984 | I6: 6.2655 | Q6: 0 | R6: 6.2655
A7: AÇOFORT | B7: Dourados/MS | C7: 22°13'19.38"S 54°45'4.54"O | D7: CIF | E7: 5.5867 | F7: 46023 | G7: 1167.239 | H7: 1165.984 | I7: 5.5807 | Q7: 0 | R7: 5.5807
A9: CORDOALHAS CP-190 RB Ø 15,2mm ENGRAXADA (kg)
A10: Empresa | B10: Cidade | C10: Coordenadas | D10: Frete | E10: Preço Unit. (R$) | F10: Data Pesq. | G10: Ind. Data Pesq. | H10: Ind. Data Base | I10: Preço Reaj. (R$) | J10: DMT P | K10: DMT RP | L10: Cons. (T/Unid.) | M10: Cod. Tranp. P. | N10: Cod. Transp. RP | O10: Custo Transp PV | P10: Custo Transp RP | Q10: Custo PV + RP | R10: Custo Total
A11: PROTENFOR | B11: Maringa/PR | C11: 23°23'38.1"S 51°57'42.4"W | D11: FOB | E11: 10.738 | F11: 45931 | G11: 1165.984 | H11: 1165.984 | I11: 10.738 | J11: 415 | K11: 2.2 | L11: 0.001 | M11: 5914479 | N11: 5914464 | O11: 0.74 | P11: 0.9 | Q11: 0.3091 | R11: 11.0471
A12: AWA | B12: Navegantes/SC | C12: 26°52'21.5"S 48°40'19.3"W | D12: FOB | E12: 10.738 | F12: 45931 | G12: 1165.984 | H12: 1165.984 | I12: 10.738 | J12: 993 | K12: 2.2 | L12: 0.001 | M12: 5914479 | N12: 5914464 | O12: 0.74 | P12: 0.9 | Q12: 0.7368 | R12: 11.4748
A13: AWA | B13: Navegantes/SC | C13: 26°52'21.5"S 48°40'19.3"W | D13: CIF | E13: 13.488 | F13: 45931 | G13: 1165.984 | H13: 1165.984 | I13: 13.488 | L13: 0 | M13: 0 | N13: 0 | O13: 0 | P13: 0 | Q13: 0 | R13: 13.488
A15: BRITA 1 (m³)
A16: Empresa | B16: Cidade | C16: Coordenadas | D16: Frete | E16: Preço Unit. (R$) | F16: Data Pesq. | G16: Ind. Data Pesq. | H16: Ind. Data Base | I16: Preço Reaj. (R$) | J16: DMT P | K16: DMT RP | L16: Cons. (T/Unid.) | M16: Cod. Tranp. P. | N16: Cod. Transp. RP | O16: Custo Transp PV | P16: Custo Transp RP | Q16: Custo PV + RP | R16: Custo Total
A17: PEDREIRA AMAMBAI | B17: Amambai/MS | C17: 23°19'43.0"S 55°12'41.6"W | D17: FOB | E17: 90 | F17: 45931 | G17: 1165.984 | H17: 1165.984 | I17: 90 | J17: 19.9 | K17: 5.3 | L17: 1.5 | M17: 5914389 | N17: 5914374 | O17: 0.85 | P17: 1.03 | Q17: 33.561 | R17: 123.561
A18: DOURAPARK | B18: Dourados/MS | C18: 22°13'25.99"S 54°45'28.96"O | D18: FOB | E18: 125 | F18: 46023 | G18: 1167.239 | H18: 1165.984 | I18: 124.8656 | J18: 176 | K18: 3 | L18: 1.5 | M18: 5914389 | N18: 5914374 | O18: 0.85 | P18: 1.03 | Q18: 229.035 | R18: 353.9006
A19: PEDREIRA SANTO ONOFRE | B19: Terenos/MS | C19: 20°28'43.05"S 54°45'34.46"O | D19: FOB | E19: 103.5 | F19: 46023 | G19: 1167.239 | H19: 1165.984 | I19: 103.3887 | J19: 404 | K19: 3 | L19: 1.5 | M19: 5914389 | N19: 5914374 | O19: 0.85 | P19: 1.03 | Q19: 519.735 | R19: 623.1237
A20: PEDREIRA SANTO ONOFRE | B20: Terenos/MS | C20: 20°28'43.05"S 54°45'34.46"O | D20: CIF | E20: 350.7 | F20: 46023 | G20: 1167.239 | H20: 1165.984 | I20: 350.3229 | R20: 350.3229
A21: PEDREIRA ESTEIO | B21: Dourados/MS | C21: 22° 7'47.24"S 54°57'59.15"O | D21: FOB | E21: 60 | F21: 46023 | G21: 1167.239 | H21: 1165.984 | I21: 59.9355 | J21: 191 | K21: 3 | L21: 1.5 | M21: 5914389 | N21: 5914374 | O21: 0.85 | P21: 1.03 | Q21: 248.16 | R21: 308.0955
A22: CAMBARU | B22: NaviraI/ms | C22: 23° 3'39.19"S 54°12'6.55"O | D22: FOB | E22: 230 | F22: 46023 | G22: 1167.239 | H22: 1165.984 | I22: 229.7527 | J22: 172 | K22: 3 | L22: 1.5 | M22: 5914389 | N22: 5914374 | O22: 0.85 | P22: 1.03 | Q22: 223.935 | R22: 453.6877
A23: ILHA GRANDE | B23: NaviraI/ms | C23: 23° 3'30.16"S 54°12'1.12"O | D23: FOB | E23: 222.3 | F23: 46023 | G23: 1167.239 | H23: 1165.984 | I23: 222.061 | J23: 172 | K23: 3 | L23: 1.5 | M23: 5914389 | N23: 5914374 | O23: 0.85 | P23: 1.03 | Q23: 223.935 | R23: 445.996
A24: DOURATERRA | B24: Dourados/MS | C24: 22°11'25.50"S 54°50'24.72"O | D24: FOB | E24: 115 | F24: 46023 | G24: 1167.239 | H24: 1165.984 | I24: 114.8764 | J24: 176 | K24: 3 | L24: 1.5 | M24: 5914389 | N24: 5914374 | O24: 0.85 | P24: 1.03 | Q24: 229.035 | R24: 343.9114
A26: BRITA 2 (m³)
A27: Empresa | B27: Cidade | C27: Coordenadas | D27: Frete | E27: Preço Unit. (R$) | F27: Data Pesq. | G27: Ind. Data Pesq. | H27: Ind. Data Base | I27: Preço Reaj. (R$) | J27: DMT P | K27: DMT RP | L27: Cons. (T/Unid.) | M27: Cod. Tranp. P. | N27: Cod. Transp. RP | O27: Custo Transp PV | P27: Custo Transp RP | Q27: Custo PV + RP | R27: Custo Total
A28: PEDREIRA AMAMBAI | B28: Amambai/MS | C28: 23°19'43.0"S 55°12'41.6"W | D28: FOB | E28: 90 | F28: 45931 | G28: 1165.984 | H28: 1165.984 | I28: 90 | J28: 19.9 | K28: 5.3 | L28: 1.5 | M28: 5914389 | N28: 5914374 | O28: 0.85 | P28: 1.03 | Q28: 33.561 | R28: 123.561
A29: PEDREIRA ESTEIO | B29: Dourados/MS | C29: 22° 7'47.24"S 54°57'59.15"O | D29: FOB | E29: 68 | F29: 46023 | G29: 1167.239 | H29: 1165.984 | I29: 67.9269 | J29: 191 | K29: 3 | L29: 1.5 | M29: 5914389 | N29: 5914374 | O29: 0.85 | P29: 1.03 | Q29: 248.16 | R29: 316.0869
A30: PEDREIRA SANTO ONOFRE | B30: Terenos/MS | C30: 20°28'43.05"S 54°45'34.46"O | D30: FOB | E30: 103.5 | F30: 46023 | G30: 1167.239 | H30: 1165.984 | I30: 103.3887 | J30: 404 | K30: 3 | L30: 1.5 | M30: 5914389 | N30: 5914374 | O30: 0.85 | P30: 1.03 | Q30: 519.735 | R30: 623.1237
A31: PEDREIRA SANTO ONOFRE | B31: Terenos/MS | C31: 20°28'43.05"S 54°45'34.46"O | D31: CIF | E31: 350.7 | F31: 46023 | G31: 1167.239 | H31: 1165.984 | I31: 350.3229 | Q31: 0 | R31: 350.3229
A32: DOURATERRA | B32: Dourados/MS | C32: 22°11'25.50"S 54°50'24.72"O | D32: FOB | E32: 120 | F32: 46023 | G32: 1167.239 | H32: 1165.984 | I32: 119.871 | J32: 176 | K32: 3 | L32: 1.5 | M32: 5914389 | N32: 5914374 | O32: 0.85 | P32: 1.03 | Q32: 229.035 | R32: 348.906
A34: PEDRA DE MÃO (m³)
A35: Empresa | B35: Cidade | C35: Coordenadas | D35: Frete | E35: Preço Unit. (R$) | F35: Data Pesq. | G35: Ind. Data Pesq. | H35: Ind. Data Base | I35: Preço Reaj. (R$) | J35: DMT P | K35: DMT RP | L35: Cons. (T/Unid.) | M35: Cod. Tranp. P. | N35: Cod. Transp. RP | O35: Custo Transp PV | P35: Custo Transp RP | Q35: Custo PV + RP | R35: Custo Total
A36: PEDREIRA AMAMBAI | B36: Amambai/MS | C36: 23°19'43.0"S 55°12'41.6"W | D36: FOB | E36: 82.5 | F36: 45931 | G36: 1165.984 | H36: 1165.984 | I36: 82.5 | J36: 19.9 | K36: 5.3 | L36: 1.5 | M36: 5914389 | N36: 5914374 | O36: 0.85 | P36: 1.03 | Q36: 33.561 | R36: 116.061
A37: PEDREIRA ESTEIO | B37: Dourados/MS | C37: 22° 7'47.24"S 54°57'59.15"O | D37: FOB | E37: 62 | F37: 46023 | G37: 1167.239 | H37: 1165.984 | I37: 61.9333 | J37: 191 | K37: 2.2 | L37: 1.5 | M37: 5914389 | N37: 5914374 | O37: 0.85 | P37: 1.03 | Q37: 246.924 | R37: 308.8573
A38: CAMBARU | B38: Navirai/MS | C38: 23° 3'39.19"S 54°12'6.55"O | D38: FOB | E38: 265 | F38: 46023 | G38: 1167.239 | H38: 1165.984 | I38: 264.7151 | J38: 172 | K38: 2.2 | L38: 1.5 | M38: 5914389 | N38: 5914374 | O38: 0.85 | P38: 1.03 | Q38: 222.699 | R38: 487.4141
A39: PEDREIRA SANTO ONOFRE | B39: Terenos/MS | C39: 20°28'43.05"S 54°45'34.46"O | D39: FOB | E39: 90 | F39: 46023 | G39: 1167.239 | H39: 1165.984 | I39: 89.9032 | J39: 404 | K39: 2.2 | L39: 1.5 | M39: 5914389 | N39: 5914374 | O39: 0.85 | P39: 1.03 | Q39: 518.499 | R39: 608.4022
A40: PEDREIRA SANTO ONOFRE | B40: Terenos/MS | C40: 20°28'43.05"S 54°45'34.46"O | D40: CIF | E40: 337.2 | F40: 46023 | G40: 1167.239 | H40: 1165.984 | I40: 336.8374 | Q40: 0 | R40: 336.8374
A41: DOURATERRA | B41: Dourados/MS | C41: 22°11'25.50"S 54°50'24.72"O | D41: FOB | E41: 119 | F41: 46023 | G41: 1167.239 | H41: 1165.984 | I41: 118.8721 | J41: 176 | K41: 2.2 | L41: 1.5 | M41: 5914389 | N41: 5914374 | O41: 0.85 | P41: 1.03 | Q41: 227.799 | R41: 346.6711
A43: CIMENTO (kg)
A44: Empresa | B44: Cidade | C44: Coordenadas | D44: Frete | E44: Preço Unit. (R$) | F44: Data Pesq. | G44: Ind. Data Pesq. | H44: Ind. Data Base | I44: Preço Reaj. (R$) | J44: DMT P | K44: DMT RP | L44: Cons. (T/Unid.) | M44: Cod. Tranp. P. | N44: Cod. Transp. RP | O44: Custo Transp PV | P44: Custo Transp RP | Q44: Custo PV + RP | R44: Custo Total
A45: VOTORANTIM | B45: Itau de Minas/MG | C45: 20°45'36.9"S 46°45'50.8"W | D45: FOB | E45: 0.675 | F45: 45931 | G45: 1165.984 | H45: 1165.984 | I45: 0.675 | J45: 1175 | K45: 2.2 | L45: 0.001 | M45: 5914479 | N45: 5914464 | O45: 0.74 | P45: 0.9 | Q45: 0.8715 | R45: 1.5465
...

Sheet BIN-LVIGAS
A1: QUADRO DE PESQUISA DE MERCADO
A2: LANÇAMENTO DE VIGAS (un.)
A3: Empresa | B3: Cidade | C3: Coordenadas | D3: Frete | E3: Preço Unit. (R$) | F3: Data Pesq. | G3: Ind. Data Pesq. | H3: Ind. Data Base | I3: Custo Reaj. (R$) | J3: BDI | K3: Preço Orç. (R$)
A4: Nova Rental | B4: Campo Grande/MS | E4: 8593.75 | F4: 46023 | G4: 1167.239 | H4: 1165.984 | I4: 8584.51 | J4: 0.1527 | K4: 9895.36
A5: Concrelaje | B5: Campo Grande/MS | E5: 8640.5 | F5: 46023 | G5: 1167.239 | H5: 1165.984 | I5: 8631.21 | J5: 0.1527 | K5: 9949.2
A6: Airos | B6: Campo Grande/MS | E6: 13750 | F6: 46023 | G6: 1167.239 | H6: 1165.984 | I6: 13735.22 | J6: 0.1527 | K6: 15832.59
A7: Valores totais propostos fracionados para o lançamento por viga
A9: Composição de Preço Pelo SICRO
A10: Sicro | B10: 5915400 | C10: Carga e Desc | E10: 3330.13 | F10: 45931 | G10: 1165.984 | H10: 1165.984 | I10: 3330.13 | J10: 0.29 | K10: 4295.87
A11: Sicro | B11: 3806420 | C11: Lançamento | E11: 4185.25 | F11: 45931 | G11: 1165.984 | H11: 1165.984 | I11: 4185.25 | J11: 0.29 | K11: 5398.97
A12: Sicro | B12: E9094 | C12: Mobilizacao | E12: 246.85327 | F12: 45931 | G12: 1165.984 | H12: 1165.984 | I12: 246.85 | J12: 0.29 | K12: 318.44
A13: Sicro | B13: E9094 | C13: Desmobilizacao | E13: 246.85327 | F13: 45931 | G13: 1165.984 | H13: 1165.984 | I13: 246.85 | J13: 0.29 | K13: 318.44
A14: Sicro | H14: Total | I14: 8009.08 | K14: 10331.72
