Workbook
Name \c: #REF!
Name \c: #REF!
Name \c: #REF!
Name \c: #REF!
Name \c: #REF!
Name \c: #REF!
Name \c: #REF!
Name \p: #REF!
Name \p: #REF!
Name \p: #REF!
Name \p: #REF!
Name \p: #REF!
Name _3: #REF!
Name _3: #REF!
Name _3: #REF!
Name _3: #REF!
Name _3: #REF!
Name a: #REF!
Name a: #REF!
Name a: #REF!
Name a: #REF!
Name a: #REF!
Name a: #REF!
Name adfhdfhsd: #REF!
Name adfhdfhsd: #REF!
Name adfhdfhsd: #REF!
Name adfhdfhsd: #REF!
Name Bananas: #REF!
Name BOLETIM: #REF!
Name BOLETIM: #REF!
Name BOLETIM: #REF!
Name comp: #REF!
Name comp: #REF!
Name comp: #REF!
Name CONTRATO: #REF!
Name Cronograma: #REF!
Name des: #REF!
Name des: #REF!
Name des: #REF!
Name des: #REF!
Name des: #REF!
Name dghdfhsdf: #REF!
Name dghdfhsdf: #REF!
Name dghdfhsdf: #REF!
Name dghdfhsdf: #REF!
Name dsghnfxgvnjxf: #REF!
Name dsghnfxgvnjxf: #REF!
Name dsghnfxgvnjxf: #REF!
Name dsghnfxgvnjxf: #REF!
Name Eu: #REF!
Name Eu: #REF!
Name Eu: #REF!
Name Eu: #REF!
Name Eu: #REF!
Name Eu: #REF!
Name Eu: #REF!
Name extenção: #REF!
Name extenção: #REF!
Name fhdfhsfd: #REF!
Name fhdfhsfd: #REF!

Sheet PAINEL

Sheet Curva ABC
A1: =Orçamento_Não_Deson!B1 -> PREFEITURA MUNICIPAL DE CAMPO GRANDE - MS | K1: a | L1: TUTORIAL:
A2: =Orçamento_Não_Deson!B2 -> SECRETARIA MUNICIPAL DE INFRAESTRUTURA E SERVIÇOS PÚBLICOS - SISEP | K2: a | L2: 1. COPIAR PLANILHA DE ORÇAMENTO PARA A PASTA "Orçamento Auxiliar" as colunas: código, discriminação, unid., quant., precço unitário, preço total. Usar filtro para copiar somente linhas com valores. Linhas contendo uma célula vazia não devem ser copiada;
K3: a | L3: 2. NA PASTA "Orçamento auxiliar" INSERIR TABELA DINÂMICA
A4: =Orçamento_Não_Deson!B4 -> 0 | B4: =Orçamento_Não_Deson!C4 -> 0 | K4: a | L4: 3. NA PASTA "PlanilhaY" (PLANILHA DINÂMICA) CRIAR A PLANILHA COM AS 4 COLUNAS SEGUINTES:
A5: =Orçamento_Não_Deson!B5 -> OBRA : | B5: =Orçamento_Não_Deson!C5 -> INFRAESTRUTURA URBANA - PAVIMENTAÇÃO ASFÁLTICA E DRENAGEM DE ÁGUAS PLUVIAIS | F5: DATA BASE: | G5: =Orçamento_Não_Deson!J1 -> Agosto/2023 | K5: a
A6: =Orçamento_Não_Deson!B6 -> LOCAL : | B6: =Orçamento_Não_Deson!C6 -> JARDIM NASHIVILLE - ETAPA "B" - FASE 2 | F6: E.S.S.M.O.: | G6: =Orçamento_Não_Deson!$J$2 -> NÃO DESONERADA | K6: a | L6: 4. NA COLUNA "D" (PREÇO TOTAL R$) CLICAR COM TECLA DIREITA DO MOUSE E CLASSIFICAR Z P/ A↓
A7: =Orçamento_Não_Deson!B7 -> MUNICÍPIO : | B7: =Orçamento_Não_Deson!C7 -> CAMPO GRANDE / MS | K7: a | L7: 5. NA PASTA "Pareto" OBSERVAR SE O GRÁFICO ESTÁ CORRETO
I8: A | J8: 0.8 | K8: a
I9: B | J9: 0.95 | K9: a
A10: CURVA ABC | I10: C | J10: 1 | K10: a
K11: a
A12: CÓDIGO | B12: DISCRIMINAÇÃO | C12: UNID. | D12: Nº REPETIÇÕES | E12: QUANT. | F12: PREÇO UNITÁRIO (R$) | G12: PREÇO TOTAL (R$) | H12: PARCIAL (%) | I12: Σ (%) | J12: CLASSIFICAÇÃO
B13: TOTAL GERAL | D13: =SUM(D14:D102) -> 107 | G13: =SUM(G14:G102) -> 3681004.5 | H13: =IF(G13=Orçamento_Não_Deson!J12,"","ERRO SOMATÓRIO") -> ERRO SOMATÓRIO | J13: =G13-Orçamento_Não_Deson!J12 -> 1948.95 | K13: a
A14: =Planilha6!A4 -> PA/0040 | B14: =VLOOKUP($A14,'Orçamento auxliar'!A:F,2,0) -> Construção de pavimento com aplicação de concreto betuminoso usinado à quente (CBUQ - faixa C - CAP 30/45 - usina comercial), camada de rolamento, exclusive transporte da mistura (REF. SINAPI COD. 95995) | C14: =VLOOKUP($A14,'Orçamento auxliar'!A:F,3,0) -> M3 | D14: =VLOOKUP($A14,Planilha6!$A:$D,2,0) -> 1 | E14: =VLOOKUP($A14,Planilha6!$A:$D,3,0) -> 439.39 | F14: =VLOOKUP($A14,'Orçamento auxliar'!A:F,5,0) -> 1980.23 | G14: =VLOOKUP($A14,Planilha6!$A:$E,4,0) -> 870093.25 | H14: =G14/$G$13 -> 0.23637386 | I14: =I13+H14 -> 0.23637386 | J14: =IF(I14<=$J$8,$I$8,IF(I14<=$J$9,$I$9,$I$10)) -> A | K14: a
A15: =Planilha6!A5 -> 95876 | B15: =VLOOKUP($A15,'Orçamento auxliar'!A:F,2,0) -> Transporte com caminhão basculante de 14 m3, em via urbana pavimentada, DMT até 30,00 km (unidade: m3xkm). AF_07/2020 | C15: =VLOOKUP($A15,'Orçamento auxliar'!A:F,3,0) -> M3XKM | D15: =VLOOKUP($A15,Planilha6!$A:$D,2,0) -> 10 | E15: =VLOOKUP($A15,Planilha6!$A:$D,3,0) -> 182639.55 | F15: =VLOOKUP($A15,'Orçamento auxliar'!A:F,5,0) -> 2.52 | G15: =VLOOKUP($A15,Planilha6!$A:$E,4,0) -> 460251.64 | H15: =G15/$G$13 -> 0.12503425 | I15: =I14+H15 -> 0.36140811 | J15: =IF(I15<=$J$8,$I$8,IF(I15<=$J$9,$I$9,$I$10)) -> A | K15: a
A16: =Planilha6!A6 -> 4748 | B16: =VLOOKUP($A16,'Orçamento auxliar'!A:F,2,0) -> Pedra britada ou bica corrida, não classificada (posto pedreira/fornecedor, sem frete) | C16: =VLOOKUP($A16,'Orçamento auxliar'!A:F,3,0) -> M3 | D16: =VLOOKUP($A16,Planilha6!$A:$D,2,0) -> 2 | E16: =VLOOKUP($A16,Planilha6!$A:$D,3,0) -> 3400.47 | F16: =VLOOKUP($A16,'Orçamento auxliar'!A:F,5,0) -> 111.21 | G16: =VLOOKUP($A16,Planilha6!$A:$E,4,0) -> 378166.26 | H16: =G16/$G$13 -> 0.10273453 | I16: =I15+H16 -> 0.46414264 | J16: =IF(I16<=$J$8,$I$8,IF(I16<=$J$9,$I$9,$I$10)) -> A | K16: a
A17: =Planilha6!A7 -> 94991 | B17: =VLOOKUP($A17,'Orçamento auxliar'!A:F,2,0) -> Execução de passeio (calçada) ou piso de concreto com concreto moldado in loco, usinado, acabamento convencional, não armado. AF_07/2016 | C17: =VLOOKUP($A17,'Orçamento auxliar'!A:F,3,0) -> M3 | D17: =VLOOKUP($A17,Planilha6!$A:$D,2,0) -> 1 | E17: =VLOOKUP($A17,Planilha6!$A:$D,3,0) -> 371.45 | F17: =VLOOKUP($A17,'Orçamento auxliar'!A:F,5,0) -> 946.43 | G17: =VLOOKUP($A17,Planilha6!$A:$E,4,0) -> 351551.42 | H17: =G17/$G$13 -> 0.095504207 | I17: =I16+H17 -> 0.55964684 | J17: =IF(I17<=$J$8,$I$8,IF(I17<=$J$9,$I$9,$I$10)) -> A | K17: a
A18: =Planilha6!A8 -> SC/0005 | B18: =VLOOKUP($A18,'Orçamento auxliar'!A:F,2,0) -> Meio-fio (guia) com sarjeta, concreto FCK = 15mpa, seção 615 cm², moldado no local, inclusive escavação e pintura a cal em uma demão | C18: =VLOOKUP($A18,'Orçamento auxliar'!A:F,3,0) -> M | D18: =VLOOKUP($A18,Planilha6!$A:$D,2,0) -> 1 | E18: =VLOOKUP($A18,Planilha6!$A:$D,3,0) -> 3392.16 | F18: =VLOOKUP($A18,'Orçamento auxliar'!A:F,5,0) -> 65.92 | G18: =VLOOKUP($A18,Planilha6!$A:$E,4,0) -> 223611.18 | H18: =G18/$G$13 -> 0.060747325 | I18: =I17+H18 -> 0.62039417 | J18: =IF(I18<=$J$8,$I$8,IF(I18<=$J$9,$I$9,$I$10)) -> A | K18: a
A19: =Planilha6!A9 -> CPU Adm Local | B19: =VLOOKUP($A19,'Orçamento auxliar'!A:F,2,0) -> Administração local do canteiro de obras | C19: =VLOOKUP($A19,'Orçamento auxliar'!A:F,3,0) -> un | D19: =VLOOKUP($A19,Planilha6!$A:$D,2,0) -> 1 | E19: =VLOOKUP($A19,Planilha6!$A:$D,3,0) -> 1 | F19: =VLOOKUP($A19,'Orçamento auxliar'!A:F,5,0) -> 167267.7 | G19: =VLOOKUP($A19,Planilha6!$A:$E,4,0) -> 167267.7 | H19: =G19/$G$13 -> 0.045440775 | I19: =I18+H19 -> 0.66583495 | J19: =IF(I19<=$J$8,$I$8,IF(I19<=$J$9,$I$9,$I$10)) -> A | K19: a
A20: =Planilha6!A10 -> DR/0275 | B20: =VLOOKUP($A20,'Orçamento auxliar'!A:F,2,0) -> BLTC - Boca-de-lobo tripla em concreto simples FCK 20 mpa, incluindo forma, escavação, sarjeta de contorno (chama) em concreto e grelhas em F°F° tipo pesada, conforme projeto | C20: =VLOOKUP($A20,'Orçamento auxliar'!A:F,3,0) -> UN | D20: =VLOOKUP($A20,Planilha6!$A:$D,2,0) -> 1 | E20: =VLOOKUP($A20,Planilha6!$A:$D,3,0) -> 15 | F20: =VLOOKUP($A20,'Orçamento auxliar'!A:F,5,0) -> 5853.49 | G20: =VLOOKUP($A20,Planilha6!$A:$E,4,0) -> 87802.35 | H20: =G20/$G$13 -> 0.023852823 | I20: =I19+H20 -> 0.68968777 | J20: =IF(I20<=$J$8,$I$8,IF(I20<=$J$9,$I$9,$I$10)) -> A | K20: a
A21: =Planilha6!A11 -> 7750 | B21: =VLOOKUP($A21,'Orçamento auxliar'!A:F,2,0) -> Tubo de concreto armado para aguas pluviais, classe PA-1, com encaixe ponta e bolsa, diâmetro nominal de 0,80 m (533,00 kg/m) - Aquisição | C21: =VLOOKUP($A21,'Orçamento auxliar'!A:F,3,0) -> M | D21: =VLOOKUP($A21,Planilha6!$A:$D,2,0) -> 1 | E21: =VLOOKUP($A21,Planilha6!$A:$D,3,0) -> 181.3 | F21: =VLOOKUP($A21,'Orçamento auxliar'!A:F,5,0) -> 473.76 | G21: =VLOOKUP($A21,Planilha6!$A:$E,4,0) -> 85892.68 | H21: =G21/$G$13 -> 0.023334033 | I21: =I20+H21 -> 0.7130218 | J21: =IF(I21<=$J$8,$I$8,IF(I21<=$J$9,$I$9,$I$10)) -> A | K21: a
A22: =Planilha6!A12 -> DR/0135 | B22: =VLOOKUP($A22,'Orçamento auxliar'!A:F,2,0) -> PV-1 - Poço de Visita, com dimensões internas de 1,98m x 1,98m x 1,50m (bxbxh), em alvenaria de bloco de concreto estrutural FBK 14mpa, conforme projeto tipo. Exclusive pescoço e tampão | C22: =VLOOKUP($A22,'Orçamento auxliar'!A:F,3,0) -> UN | D22: =VLOOKUP($A22,Planilha6!$A:$D,2,0) -> 1 | E22: =VLOOKUP($A22,Planilha6!$A:$D,3,0) -> 10 | F22: =VLOOKUP($A22,'Orçamento auxliar'!A:F,5,0) -> 8128.28 | G22: =VLOOKUP($A22,Planilha6!$A:$E,4,0) -> 81282.8 | H22: =G22/$G$13 -> 0.02208169 | I22: =I21+H22 -> 0.73510349 | J22: =IF(I22<=$J$8,$I$8,IF(I22<=$J$9,$I$9,$I$10)) -> A | K22: a
A23: =Planilha6!A13 -> PA/0025 | B23: =VLOOKUP($A23,'Orçamento auxliar'!A:F,2,0) -> Imprimação da base, execução e fornecimento de emulsão asfáltica EAI (REF. SINAPI COD. 102470) | C23: =VLOOKUP($A23,'Orçamento auxliar'!A:F,3,0) -> M2 | D23: =VLOOKUP($A23,Planilha6!$A:$D,2,0) -> 2 | E23: =VLOOKUP($A23,Planilha6!$A:$D,3,0) -> 12688.17 | F23: =VLOOKUP($A23,'Orçamento auxliar'!A:F,5,0) -> 6.38 | G23: =VLOOKUP($A23,Planilha6!$A:$E,4,0) -> 80950.51 | H23: =G23/$G$13 -> 0.021991418 | I23: =I22+H23 -> 0.75709491 | J23: =IF(I23<=$J$8,$I$8,IF(I23<=$J$9,$I$9,$I$10)) -> A | K23: a
A24: =Planilha6!A14 -> PA/0021 | B24: =VLOOKUP($A24,'Orçamento auxliar'!A:F,2,0) -> Execução e compactação de base e ou sub-base, estabilizado granulometricamente, sem mistura, com material de jazida. Exclusive fornecimento e transporte (REF. SINAPI COD. 4011219) | C24: =VLOOKUP($A24,'Orçamento auxliar'!A:F,3,0) -> M3 | D24: =VLOOKUP($A24,Planilha6!$A:$D,2,0) -> 1 | E24: =VLOOKUP($A24,Planilha6!$A:$D,3,0) -> 2166.97 | F24: =VLOOKUP($A24,'Orçamento auxliar'!A:F,5,0) -> 23.33 | G24: =VLOOKUP($A24,Planilha6!$A:$E,4,0) -> 50555.41 | H24: =G24/$G$13 -> 0.013734134 | I24: =I23+H24 -> 0.77082904 | J24: =IF(I24<=$J$8,$I$8,IF(I24<=$J$9,$I$9,$I$10)) -> A | K24: a
A25: =Planilha6!A15 -> 100576 | B25: =VLOOKUP($A25,'Orçamento auxliar'!A:F,2,0) -> Regularização e compactação de subleito de solo predominantemente argiloso. AF_11/2019 | C25: =VLOOKUP($A25,'Orçamento auxliar'!A:F,3,0) -> M2 | D25: =VLOOKUP($A25,Planilha6!$A:$D,2,0) -> 1 | E25: =VLOOKUP($A25,Planilha6!$A:$D,3,0) -> 14446.49 | F25: =VLOOKUP($A25,'Orçamento auxliar'!A:F,5,0) -> 2.98 | G25: =VLOOKUP($A25,Planilha6!$A:$E,4,0) -> 43050.54 | H25: =G25/$G$13 -> 0.011695324 | I25: =I24+H25 -> 0.78252437 | J25: =IF(I25<=$J$8,$I$8,IF(I25<=$J$9,$I$9,$I$10)) -> A | K25: a
... A102: =Planilha6!A92 -> 90105 | B102: =VLOOKUP($A102,'Orçamento auxliar'!A:F,2,0) -> Escavação mecanizada de vala com profundidade até 1,50 m (média entre montante e jusante / uma composição por trecho) com retroescavadeira (capacidade da caçamba: 0,26 m3 / potência: 88 HP), largura menor que 0,80 m, em solo de 1a categoria, locais com baixo nível de interferência. AF_01/2015 | C102: =VLOOKUP($A102,'Orçamento auxliar'!A:F,3,0) -> M3 | D102: =VLOOKUP($A102,Planilha6!$A:$D,2,0) -> 1 | E102: =VLOOKUP($A102,Planilha6!$A:$D,3,0) -> 1.01 | F102: =VLOOKUP($A102,'Orçamento auxliar'!A:F,5,0) -> 10.39 | G102: =VLOOKUP($A102,Planilha6!$A:$E,4,0) -> 10.49 | H102: =G102/$G$13 -> 2.8497656e-06 | I102: =I101+H102 -> 1 | J102: =IF(I102<=$J$8,$I$8,IF(I102<=$J$9,$I$9,$I$10)) -> C | K102: a

Sheet Pareto
S4: =+Orçamento_Não_Deson!B1 -> PREFEITURA MUNICIPAL DE CAMPO GRANDE - MS
S5: =+Orçamento_Não_Deson!B2 -> SECRETARIA MUNICIPAL DE INFRAESTRUTURA E SERVIÇOS PÚBLICOS - SISEP
T6: =+Orçamento_Não_Deson!B5 -> OBRA : | U6: =+Orçamento_Não_Deson!C5 -> INFRAESTRUTURA URBANA - PAVIMENTAÇÃO ASFÁLTICA E DRENAGEM DE ÁGUAS PLUVIAIS
S7: =+Orçamento_Não_Deson!B6 -> LOCAL : | U7: =+Orçamento_Não_Deson!C6 -> JARDIM NASHIVILLE - ETAPA "B" - FASE 2

Sheet Planilha6
A3: Rótulos de Linha | B3: Contagem de QUANT. | C3: Soma de QUANT.2 | D3: Soma de PREÇO TOTAL (R$)
A4: PA/0040 | B4: 1 | C4: 439.39 | D4: 870093.25
A5: 95876 | B5: 10 | C5: 182639.55 | D5: 460251.64
A6: 4748 | B6: 2 | C6: 3400.47 | D6: 378166.26
A7: 94991 | B7: 1 | C7: 371.45 | D7: 351551.42
A8: SC/0005 | B8: 1 | C8: 3392.16 | D8: 223611.18
A9: CPU Adm Local | B9: 1 | C9: 1 | D9: 167267.7
A10: DR/0275 | B10: 1 | C10: 15 | D10: 87802.35
A11: 7750 | B11: 1 | C11: 181.3 | D11: 85892.68
A12: DR/0135 | B12: 1 | C12: 10 | D12: 81282.8
A13: PA/0025 | B13: 2 | C13: 12688.17 | D13: 80950.51
A14: PA/0021 | B14: 1 | C14: 2166.97 | D14: 50555.41
A15: 100576 | B15: 1 | C15: 14446.49 | D15: 43050.54
A16: PA/0005 | B16: 1 | C16: 5742.35 | D16: 41459.76
A17: PA/0020 | B17: 2 | C17: 2473.06 | D17: 40533.44
A18: PA/0023 | B18: 1 | C18: 12682.57 | D18: 38808.66
A19: 95879 | B19: 2 | C19: 21336.43 | D19: 36271.92
A20: SC/0082 | B20: 1 | C20: 1338.35 | D20: 35948.08
A21: 101230 | B21: 1 | C21: 2708.72 | D21: 35511.31
A22: DR/0265 | B22: 1 | C22: 15 | D22: 31953
A23: 92826 | B23: 1 | C23: 181.3 | D23: 28023.54
A24: SV/0090 | B24: 1 | C24: 51 | D24: 27386.49
A25: 7762 | B25: 1 | C25: 105.47 | D25: 26055.3
A26: 92824 | B26: 1 | C26: 207.51 | D26: 24006.83
A27: SR/0020 | B27: 1 | C27: 76.15 | D27: 23399.37
A28: ES/0015 | B28: 1 | C28: 870.24 | D28: 21251.26
A29: 100979 | B29: 3 | C29: 2634.38 | D29: 20758.9
A30: 101573 | B30: 1 | C30: 578.66 | D30: 18262.5
A31: 7781 | B31: 1 | C31: 216 | D31: 17653.68
A32: 92821 | B32: 1 | C32: 216 | D32: 17241.12
A33: SC/0110 | B33: 1 | C33: 400 | D33: 16848
A34: SC/0068 | B34: 1 | C34: 2500 | D34: 16575
A35: 101570 | B35: 1 | C35: 576.28 | D35: 15939.9
A36: DR/0205 | B36: 1 | C36: 2 | D36: 15424.76
A37: 100952 | B37: 1 | C37: 4667.77 | D37: 15170.25
A38: 7791 | B38: 1 | C38: 102.04 | D38: 14859.06
A39: 90087 | B39: 1 | C39: 1132.34 | D39: 12874.7
A40: 104732 | B40: 1 | C40: 1001.11 | D40: 11702.97
A41: 93358 | B41: 1 | C41: 102.05 | D41: 9726.38
A42: DR/0355 | B42: 1 | C42: 10 | D42: 9495.3
...

Sheet Orçamento auxliar
A1: CÓDIGO | B1: DISCRIMINAÇÃO | C1: UNID. | D1: QUANT. | E1: PREÇO UNITÁRIO (R$) | F1: PREÇO TOTAL (R$)
A2: SP/0001 | B2: Placa de identificação de obra pública, inclusive pintura e adesivos, estrutura e suporte de madeira. Incluso fornecimento de material e instalação. Ref SINAPI, CÓD 74209/001, DB 01/2020 | C2: M2 | D2: 16 | E2: 438.38 | F2: 7014.08
A3: 10775 | B3: Locação de container 2,30 x 6,00 m, alt. 2,50 m, com 1 sanitário, para escritório, completo, sem divisórias internas | C3: MES | D3: 6 | E3: 1091.9 | F3: 6551.4
A4: 10776 | B4: Locação de container 2,30 x 6,00 m, alt. 2,50 m, para escritório, sem divisórias internas e sem sanitário | C4: MES | D4: 6 | E4: 853.03 | F4: 5118.18
A5: 10777 | B5: Locação de container 2,30 x 4,30 m, alt. 2,50 m, para sanitário, com 3 bacias, 4 chuveiros, 1 lavatório e 1 mictório | C5: MES | D5: 6 | E5: 1239.75 | F5: 7438.5
A6: 93585 | B6: Execução de guarita em canteiro de obra em chapa de madeira compensada, não incluso mobiliário. AF_04/2016 | C6: M2 | D6: 4 | E6: 1596.22 | F6: 6384.88
A7: SP/0005 | B7: Aluguel de banheiro quimico, incluindo transporte de ida e volta, manutencao e higienizacao 3 vezes por semana. Modelo Luxo, dimensões 2,31 x 1,15 x 1,15m | C7: UN.MÊS | D7: 6 | E7: 1464 | F7: 8784
A8: 98525 | B8: Limpeza mecanizada de camada vegetal, vegetação e pequenas árvores (diâmetro nominal de tronco menor que 0,20 m), com trator de esteiras. AF_05/2018 | C8: M2 | D8: 10000 | E8: 0.45 | F8: 4500
A9: SC/0068 | B9: Revestimento de pátio com pedra britada com espessura de 5 cm com regularização do terreno com motoniveladora. Exclusive transporte. (REF SINAPI COD 100575) | C9: M2 | D9: 2500 | E9: 6.63 | F9: 16575
A10: SC/0110 | B10: Cerca com mourões de madeira roliça Ø 11cm, espaçamento de 2,00m, altura livre de 1,50m, cravado 0,50m, com 5 fios de arame liso ovalado 15x17, conforme projeto | C10: M | D10: 400 | E10: 42.12 | F10: 16848
A11: SC/0120 | B11: Portão para veículos em tela arame galvanizado n.12 malha 2" e moldura em tubos de aco com duas folhas de abrir, incluso ferragens (REF. SINAPI COD. 74238/2 - Descontinuado) | C11: M2 | D11: 7.2 | E11: 1219.28 | F11: 8778.81
A12: SP/0020 | B12: Segurança de trânsito - sinalização de advertência de obra com placa (fundo laranja) sobre cavalete, conforme ABNT - NBR-7678 Segurança na execução de obras e serviços de construção Ministério do Trabalho e da Previdência Social - NB-26 - Sinalização De Segurança CONTRAN - Manual De Noções De Normas De Trânsito | C12: M2 | D12: 13 | E12: 173.6 | F12: 2256.8
A13: SP/0025 | B13: Segurança de trânsito - sinalização de advertência de obra com elemento luminoso (balde vermelho) | C13: M | D13: 302.41 | E13: 4.17 | F13: 1261.04
A14: SP/0030 | B14: Segurança de trânsito - isolamento de obra com tela cerquite plática laranja conforme ABNT - NBR-7678 Segurança na execução de obras e serviços de construção Ministério do Trabalho e da Previdência Social - NB-26 - Sinalização De Segurança CONTRAN - Manual De Noções De Normas De Trânsito | C14: M | D14: 650.77 | E14: 12.45 | F14: 8102.08
A15: 13244 | B15: Segurança de trânsito - cone de sinalização em pvc rígido com faixa refletiva, h = 70 / 76 cm | C15: UN | D15: 27 | E15: 63.31 | F15: 1709.37
A16: SP/0050 | B16: Sondagem de investigação de interferências subterrâneas, incluindo escavações mecânica e manual e reaterro | C16: UN | D16: 6 | E16: 345.4 | F16: 2072.4
A17: SP/0060 | B17: Reparo em ramal de ligação predial de água | C17: UN | D17: 12 | E17: 299.97 | F17: 3599.64
A18: 100575 | B18: Regularização de superfícies com motoniveladora. AF_11/2019 | C18: M2 | D18: 2322.67 | E18: 0.14 | F18: 325.17
A19: 100979 | B19: Carga, manobra e descarga de solos e materiais granulares em caminhão basculante 14 m3 - carga com escavadeira hidráulica (capacidade da caçamba: 1,20 m3 / potência: 155 HP) e descarga livre (unidade: m3). AF_07/2020 | C19: M3 | D19: 2000 | E19: 7.88 | F19: 15760
A20: 95876 | B20: Transporte com caminhão basculante de 14 m3, em via urbana pavimentada, DMT até 30,00 km (unidade: m3xkm). AF_07/2020 | C20: M3XKM | D20: 16000 | E20: 2.52 | F20: 40320
A21: 95876 | B21: Transporte com caminhão basculante de 14 m3, em via urbana pavimentada, DMT até 30,00 km (unidade: m3xkm). AF_07/2020 | C21: M3XKM | D21: 3327.5 | E21: 2.52 | F21: 8385.3
A22: SR/0020 | B22: Demolição de concreto simples, de forma mecanizada, sem reaproveitamento (REF. SICRO COD. 1600989, db 01-2023) | C22: M3 | D22: 76.15 | E22: 307.28 | F22: 23399.37
A23: 97636 | B23: Demolição parcial de pavimento asfáltico, de forma mecanizada, sem reaproveitamento. AF_12/2017 | C23: M2 | D23: 84.85 | E23: 23.3 | F23: 1977
A24: SR/0100 | B24: Recorte mecânico de pavimento asfáltico ou piso de concreto, com serra de disco diamantado para piso/asfalto. REF SICRO 4011537, DB 04-2023 | C24: M | D24: 858.19 | E24: 4.39 | F24: 3767.45
A25: 98526 | B25: Remoção de raízes remanescentes de tronco de árvore com diâmetro maior ou igual a 0,20 m e menor que 0,40 m. AF_05/2018 | C25: UN | D25: 9 | E25: 99.34 | F25: 894.06
A26: 98527 | B26: Remoção de raízes remanescentes de tronco de árvore com diâmetro maior ou igual a 0,40 m e menor que 0,60 m. AF_05/2018 | C26: UN | D26: 1 | E26: 213.86 | F26: 213.86
A27: 98529 | B27: Corte raso e recorte de árvore com diâmetro nominal de tronco maior ou igual a 0,20 m e menor que 0,40 m. AF_05/2018 | C27: UN | D27: 9 | E27: 77.5 | F27: 697.5
A28: 98530 | B28: Corte raso e recorte de árvore com diâmetro nominal de tronco maior ou igual a 0,40 m e menor que 0,60 m. AF_05/2018 | C28: UN | D28: 1 | E28: 138.06 | F28: 138.06
A29: 98533 | B29: Poda em altura de árvore com diâmetro nominal de tronco maior ou igual a 0,20 m e menor que 0,40 m. AF_05/2018 | C29: UN | D29: 9 | E29: 380.83 | F29: 3427.47
A30: 98534 | B30: Poda em altura de árvore com diâmetro nominal de tronco maior ou igual a 0,40 m e menor que 0,60 m. AF_05/2018 | C30: UN | D30: 1 | E30: 976.62 | F30: 976.62
A31: 100983 | B31: Carga, manobra e descarga de entulho em caminhão basculante 14 m3 - carga com escavadeira hidráulica (capacidade da caçamba: 0,80 m3 / potência: 111 HP) e descarga livre (unidade: m3). AF_07/2020 | C31: M3 | D31: 98.51 | E31: 10.67 | F31: 1051.1
A32: ST/0070 | B32: Carga, manobra e descarga de materiais diversos em caminhão carroceria - carga e descaga manuais (REF. SICRO COD. 5915474) | C32: T | D32: 10 | E32: 37.07 | F32: 370.7
A33: 95876 | B33: Transporte com caminhão basculante de 14 m3, em via urbana pavimentada, DMT até 30,00 km (unidade: m3xkm). AF_07/2020 | C33: M3XKM | D33: 788.08 | E33: 2.52 | F33: 1985.96
A34: 100947 | B34: Transporte com caminhão carroceria 9t, em via urbana pavimentada, DMT até 30,00 km (unidade: txkm). AF_07/2020 | C34: TXKM | D34: 80 | E34: 2.58 | F34: 206.4
A35: 90100 | B35: Escavação mecanizada de vala com profundidade até 1,50 m (média entre montante e jusante / uma composição por trecho), com retroescavadeira (capacidade da caçamba: 0,26 m3 / potência: 88 HP), largura de 0,80 m a 1,50 m, em solo de 1a categoria, em locais com alto nível de interferência. AF_01/2015 | C35: M3 | D35: 307.39 | E35: 16.01 | F35: 4921.31
A36: 90102 | B36: Escavação mecanizada de vala com profundidade maior que 1,50 m até 3,00 m (média entre montante e jusante / uma composição por trecho), com retroescavadeira (capacidade da caçamba: 0,26 m3 / potência: 88 HP), largura de 0,80 m a 1,50 m, em solo de 1a categoria, em locais com alto nível de interferência. AF_01/2015 | C36: M3 | D36: 149.86 | E36: 14.4 | F36: 2157.98
A37: 102278 | B37: Escavação mecanizada de vala com profundidade maior que 1,50 m até 3,00 m (média entre montante e jusante / uma composição por trecho), com escavadeira hidráulica (capacidade da caçamba: 1,2 m3 / potência: 155 HP), largura de 1,50 m a 2,50 m, em solo de 1a categoria, em locais com alto nível de interferência. AF_02/2021 | C37: M3 | D37: 451.48 | E37: 11.84 | F37: 5345.52
A38: 90087 | B38: Escavação mecanizada de vala com profundidade de 3,00 m até 4,50 m (média entre montante e jusante / uma composição por trecho), com escavadeira hidráulica (capacidade da caçamba: 1,20 m3 / potência: 155 HP), largura de 1,50 m a 2,50 m, em solo de 1a categoria, em locais com alto nível de interferência. AF_01/2015 | C38: M3 | D38: 1132.34 | E38: 11.37 | F38: 12874.7
A39: 93358 | B39: Escavação manual de vala com profundidade menor ou igual a 1,30 m. AF_03/2016 | C39: M3 | D39: 102.05 | E39: 95.31 | F39: 9726.38
A40: 101570 | B40: Escoramento de vala, tipo pontaleteamento, com profundidade de 0,00 a 1,50 m, largura menor que 1,50 m. AF_08/2020 | C40: M2 | D40: 576.28 | E40: 27.66 | F40: 15939.9
...

Sheet Orçamento_Não_Deson
B1: PREFEITURA MUNICIPAL DE CAMPO GRANDE - MS | I1: DATA BASE: | J1: =[1]BOLETIM_SEL!$B$1 -> Agosto/2023 | L1: VERIFICAÇÕES | N1: PRODUÇÃO (UMA FRENTE)
B2: SECRETARIA MUNICIPAL DE INFRAESTRUTURA E SERVIÇOS PÚBLICOS - SISEP | I2: E.S.S.M.O.: | J2: =[1]BOLETIM_SEL!$D$2 -> NÃO DESONERADA | L2: Total Geral | M2: =IF(J12=J930,"OK","ERRO") -> OK | N2: DIÁRIA | O2: OBRA (MÊS)
I3: E.S.D. (HORA): | J3: =[1]BOLETIM_SEL!$G$3 -> 1.1544
I4: E.S.D. (MÊS): | J4: =[1]BOLETIM_SEL!$G$4 -> 0.7126
B5: OBRA : | C5: INFRAESTRUTURA URBANA - PAVIMENTAÇÃO ASFÁLTICA E DRENAGEM DE ÁGUAS PLUVIAIS | I5: BDI SERVIÇOS: | J5: 0.22
B6: LOCAL : | C6: JARDIM NASHIVILLE - ETAPA "B" - FASE 2 | I6: BDI INSUMO (*): | J6: 0.1528
B7: MUNICÍPIO : | C7: CAMPO GRANDE / MS
B8: COORDENADAS : | C8: (20°32'01.13"S ; 54°36'32.29"O) ; (20°32'04.37"S ; 54°36'52.35"O) ; (20°32'09.83"S ; 54°36'53.82"O)
D10: PLANILHA ORÇAMENTÁRIA NÃO DESONERADA
B12: ITEM | C12: RESUMO | H12: QUANT. | I12: UNID. | J12: =SUM(J13:J31) -> 3679055.6 | K12: =SUM(K13:K31) -> 1 | L12: Σ | M12: % | N12: PRAZOS
B13: =A34 -> 1 | C13: =D34 -> SERVIÇOS PRELIMINARES | H13: =H35 -> 16 | I13: =F35 -> M2 | J13: =J34 -> 171715.35 | K13: =K34 -> 0.046673758 | L13: =IF(SUBTOTAL(109,J35:J62)=J13,"OK","ERRO") -> OK | M13: =IF(K13=J13/J$930,"OK","ERRO") -> OK | N13: =S_Preliminares!N4 -> 6
B14: =A63 -> 2 | C14: =D63 -> REMOÇÕES, DEMOLIÇÕES E SUPRESSÕES | H14: =+H73 -> 858.19 | I14: =+F73 -> M | J14: =J63 -> 39105.55 | K14: =K63 -> 0.010629236 | L14: =IF(SUBTOTAL(109,J64:J98)=J14,"OK","ERRO") -> OK | M14: =IF(K14=J14/J$930,"OK","ERRO") -> OK | N14: =ROUND(SUM(O64:O73)/240,0) -> 1
B15: =A100 -> 3 | C15: =D100 -> MICRODRENAGEM - TERRAPLENAGEM | G15: atenção: se preço unitário ficar rosa é pq tem algo de errado no BDI | H15: =SUM(H104:H123)+H125 -> 2041.07 | I15: =F104 -> M3 | J15: =J100 -> 143972.28 | K15: =K100 -> 0.039132945 | L15: =IF(SUBTOTAL(109,J101:J181)=J15,"OK","ERRO") -> OK | M15: =IF(K15=J15/J$930,"OK","ERRO") -> OK | N15: =ROUND(SUM(O104:O125)/240,0) -> 1
B16: =A183 -> 4 | C16: =D183 -> MICRODRENAGEM - GALERIAS | H16: =SUM(H196:H216)+SUM(H235:H241) -> 604.81 | I16: =F196 -> M | J16: =J183 -> 213732.21 | K16: =K183 -> 0.058094314 | L16: =IF(SUBTOTAL(109,J184:J242)=J16,"OK","ERRO") -> OK | M16: =IF(K16=J16/J$930,"OK","ERRO") -> OK | N16: =ROUND(SUM(O196:O242)/240,0) -> 1
B17: =A244 -> 5 | C17: =D244 -> MICRODRENAGEM - DISPOSITIVOS AUXILIARES | H17: =SUM(H245:H251)+SUM(H261:H281) -> 42 | I17: =+F245 -> UN | J17: =J244 -> 254417.2 | K17: =K244 -> 0.069152856 | L17: =IF(SUBTOTAL(109,J245:J292)=J17,"OK","ERRO") -> OK | M17: =IF(K17=J17/J$930,"OK","ERRO") -> OK | N17: =ROUND(SUM(O245:O271)/240,0) -> 2
B18: =A294 -> 5 | C18: =D294 -> MICRODRENAGEM - SERVIÇOS DE ESTRUTURAS | H18: =SUM(H299:H300) -> 0 | I18: =F299 -> M3 | J18: =J294 -> 0 | K18: =K294 -> 0 | L18: =IF(SUBTOTAL(109,J295:J312)=J18,"OK","ERRO") -> OK | M18: =IF(K18=J18/J$930,"OK","ERRO") -> OK
B19: =A314 -> 5 | C19: =D314 -> MICRODRENAGEM - BACIA DE AMORTECIMENTO | H19: =SUM(H323:H324) -> 0 | I19: =F323 -> M3 | J19: =J314 -> 0 | K19: =K314 -> 0 | L19: =IF(SUBTOTAL(109,J316:J411)=J19,"OK","ERRO") -> OK | M19: =IF(K19=J19/J$930,"OK","ERRO") -> OK | N19: =ROUND(O323/240,0) -> 0
B20: =A413 -> 5 | C20: =D413 -> DRENAGEM DE LENÇOL FREÁTICO | H20: =Dre_Profunda!I3+Dre_Profunda!I15 -> 0 | I20: =F414 -> M | J20: =J413 -> 0 | K20: =K413 -> 0 | L20: =IF(SUBTOTAL(109,J414:J446)=J20,"OK","ERRO") -> OK | M20: =IF(K20=J20/J$930,"OK","ERRO") -> OK | N20: =ROUND(O416/240,0) -> 0
B21: =A448 -> 6 | C21: =D448 -> MICRODRENAGEM - RECOMPOSIÇÃO DO PAVIMENTO | H21: =H460 -> 5.6 | I21: =F460 -> M2 | J21: =J448 -> 618.74 | K21: =K448 -> 0.00016817903 | L21: =IF(SUBTOTAL(109,J449:J504)=J21,"OK","ERRO") -> OK | M21: =IF(K21=J21/J$930,"OK","ERRO") -> OK | N21: =ROUND(SUM(O414:O423)/240,0) -> 0
B22: =A506 -> 6 | C22: =D506 -> RESTAURAÇÃO DO PAVIMENTO - RECUPERAÇÃO PRÉVIA DO PAVIMENTO | H22: =H532+H533 -> 0 | I22: =F532 -> M2 | J22: =J506 -> 0 | K22: =K506 -> 0 | L22: =IF(SUBTOTAL(109,J507:J580)=J22,"OK","ERRO") -> OK | M22: =IF(K22=J22/J$930,"OK","ERRO") -> OK
B23: =A582 -> 6 | C23: =D582 -> RESTAURAÇÃO DO PAVIMENTO - RECAPEAMENTO ASFÁLTICO | H23: =H587 -> 0 | I23: =F587 -> M2 | J23: =J582 -> 0 | K23: =K582 -> 0 | L23: =IF(SUBTOTAL(109,J583:J622)=J23,"OK","ERRO") -> OK | M23: =IF(K23=J23/J$930,"OK","ERRO") -> OK
B24: =A624 -> 7 | C24: =D624 -> IMPLANTAÇÃO ASFÁLTICA - TERRAPLENAGEM | H24: =H626+H627++H630 -> 5749.3 | I24: =F626 -> M3 | J24: =J624 -> 186288.82 | K24: =K624 -> 0.050634957 | L24: =IF(SUBTOTAL(109,J625:J643)=J24,"OK","ERRO") -> OK | M24: =IF(K24=J24/J$930,"OK","ERRO") -> OK | N24: =ROUND(O626/240,0) -> 1
B25: =A645 -> 8 | C25: =D645 -> IMPLANTAÇÃO ASFÁLTICA - PAVIMENTAÇÃO | H25: =H655 -> 12682.57 | I25: =F655 -> M2 | J25: =J645 -> 1827993.6 | K25: =K645 -> 0.49686489 | L25: =IF(SUBTOTAL(109,J646:J717)=J25,"OK","ERRO") -> OK | M25: =IF(K25=J25/J$930,"OK","ERRO") -> OK | N25: =ROUND(O646/240,0) -> 0
B26: =A719 -> 9 | C26: =D719 -> SERVIÇOS COMPLEMENTARES | H26: =SUM(H720:H726) -> 3392.16 | I26: =F720 -> M | J26: =J719 -> 259559.26 | K26: =K719 -> 0.070550513 | L26: =IF(SUBTOTAL(109,J720:J750)=J26,"OK","ERRO") -> OK | M26: =IF(K26=J26/J$930,"OK","ERRO") -> OK | N26: =ROUND(SUM(O720:O726)/240,0) -> 1
B27: =A752 -> 10 | C27: =D752 -> PASSEIO COM ACESSIBILIDADE | H27: =H759 -> 5339.87 | I27: =F759 -> M2 | J27: =J752 -> 362370.94 | K27: =K752 -> 0.098495642 | L27: =IF(SUBTOTAL(109,J753:J794)=J27,"OK","ERRO") -> OK | M27: =IF(K27=J27/J$930,"OK","ERRO") -> OK | N27: =ROUND(SUM(O759:O763)/240,0) -> 0
B28: =A796 -> 10 | C28: =D796 -> IMPLANTAÇÃO / ADEQUAÇÃO GEOMÉTRICA DE CICLOVIA | H28: =Ciclovia!J2 -> 0 | I28: M | J28: =J796 -> 0 | K28: =K796 -> 0 | L28: =IF(SUBTOTAL(109,J797:J856)=J28,"OK","ERRO") -> OK | M28: =IF(K28=J28/J$930,"OK","ERRO") -> OK | N28: =ROUND(SUM(O798:O820)/240,0) -> 0
B29: =A858 -> 11 | C29: =D858 -> SINALIZAÇÃO VIÁRIA DEFINITIVA HORIZONTAL E VERTICAL E DISPOSITIVOS DE SEGURANÇA | H29: =SUM(H859:H869) -> 148.22 | I29: =F859 -> M2 | J29: =J858 -> 52013.98 | K29: =K858 -> 0.014137862 | L29: =IF(SUBTOTAL(109,J859:J886)=J29,"OK","ERRO") -> OK | M29: =IF(K29=J29/J$930,"OK","ERRO") -> OK
B30: =A888 -> 12 | C30: =D888 -> ADMINISTRAÇÃO LOCAL | H30: =S_Preliminares!N4 -> 6 | I30: MÊS | J30: =J888 -> 167267.7 | K30: =K888 -> 0.045464847 | L30: =IF(SUBTOTAL(109,J889:J889)=J30,"OK","ERRO") -> OK | M30: =IF(K30=J30/J$930,"OK","ERRO") -> OK
B31: =A891 -> 12 | C31: =D891 -> SERVIÇOS DE ENGENHARIA | H31: =H911+H918 -> 0 | I31: =F911 -> m² | J31: =J891 -> 0 | K31: =K891 -> 0 | L31: =IF(SUBTOTAL(109,J892:J928)=J31,"OK","ERRO") -> OK | M31: =IF(K31=J31/J$930,"OK","ERRO") -> OK
A33: ITEM | B33: CÓDIGO | C33: FONTE | D33: DISCRIMINAÇÃO | E33: DMT | F33: UNID. | G33: unitário s/BDI | H33: QUANT. | I33: PREÇO UNITÁRIO (R$) | J33: PREÇO TOTAL (R$) | K33: (%) | M33: observações do boletim
A34: 1 | D34: SERVIÇOS PRELIMINARES | G34: S_Preliminares!A1 | I34: =CONCATENATE("SUB-TOTAL ",A34) -> SUB-TOTAL 1 | J34: =SUM(J35:J61) -> 171715.35 | K34: =J34/J$930 -> 0.046673758 | L34: =J34/J$34 -> 1 | U34: =J35+J39+J40+J41+J42+J43+J45+J46+J47+J48+J49+J50+J52+J53+J57+J59+J61 -> 165718.14
A35: =IF(H35>0,A34+0.01,A34) -> 1.01 | B35: SP/0001 | C35: =VLOOKUP($B35,[1]BOLETIM_SEL!$A:$H,2,0) -> COMPOSIÇÃO | D35: =VLOOKUP($B35,[1]BOLETIM_SEL!$A:$H,4,0) -> Placa de identificação de obra pública, inclusive pintura e adesivos, estrutura e suporte de madeira. Incluso fornecimento de material e instalação. Ref SINAPI, CÓD 74209/001, DB 01/2020 | F35: =VLOOKUP($B35,[1]BOLETIM_SEL!$A:$H,6,0) -> M2 | G35: =VLOOKUP($B35,[1]BOLETIM_SEL!$A:$H,7,0) -> 359.33 | H35: =S_Preliminares!N3 -> 16 | I35: =TRUNC(G35*(1+$J$5),2) -> 438.38 | J35: =TRUNC(H35*I35,2) -> 7014.08 | K35: =J35/J$930 -> 0.0019064893 | L35: =J35/J$34 -> 0.040847135
A36: =IF(H36>0,A35+0.01,A35) -> 1.01 | B36: 93207 | C36: =VLOOKUP($B36,[1]BOLETIM_SEL!$A:$H,2,0) -> SINAPI | D36: =VLOOKUP($B36,[1]BOLETIM_SEL!$A:$H,4,0) -> Barracão de obra - Execução de escritório em canteiro de obra em chapa de madeira compensada, não incluso mobiliário e equipamentos. AF_02/2016 | F36: =VLOOKUP($B36,[1]BOLETIM_SEL!$A:$H,6,0) -> M2 | G36: =VLOOKUP($B36,[1]BOLETIM_SEL!$A:$H,7,0) -> 1193.24 | H36: =S_Preliminares!N5 -> 0 | I36: =TRUNC(G36*(1+$J$5),2) -> 1455.75 | J36: =TRUNC(H36*I36,2) -> 0 | K36: =J36/J$930 -> 0 | L36: =J36/J$34 -> 0
A37: =IF(H37>0,A36+0.01,A36) -> 1.01 | B37: 93584 | C37: =VLOOKUP($B37,[1]BOLETIM_SEL!$A:$H,2,0) -> SINAPI | D37: =VLOOKUP($B37,[1]BOLETIM_SEL!$A:$H,4,0) -> Barracão de obra - Execução de depósito em canteiro de obra em chapa de madeira compensada, não incluso mobiliário. AF_04/2016 | F37: =VLOOKUP($B37,[1]BOLETIM_SEL!$A:$H,6,0) -> M2 | G37: =VLOOKUP($B37,[1]BOLETIM_SEL!$A:$H,7,0) -> 936.19 | H37: =S_Preliminares!N6 -> 0 | I37: =TRUNC(G37*(1+$J$5),2) -> 1142.15 | J37: =TRUNC(H37*I37,2) -> 0 | K37: =J37/J$930 -> 0 | L37: =J37/J$34 -> 0
A38: =IF(H38>0,A37+0.01,A37) -> 1.01 | B38: 93212 | C38: =VLOOKUP($B38,[1]BOLETIM_SEL!$A:$H,2,0) -> SINAPI | D38: =VLOOKUP($B38,[1]BOLETIM_SEL!$A:$H,4,0) -> Barracão de obra - Execução de sanitário e vestiário em canteiro de obra em chapa de madeira compensada, não incluso mobiliário. AF_02/2016 | F38: =VLOOKUP($B38,[1]BOLETIM_SEL!$A:$H,6,0) -> M2 | G38: =VLOOKUP($B38,[1]BOLETIM_SEL!$A:$H,7,0) -> 1033.9 | H38: =S_Preliminares!N7 -> 0 | I38: =TRUNC(G38*(1+$J$5),2) -> 1261.35 | J38: =TRUNC(H38*I38,2) -> 0 | K38: =J38/J$930 -> 0 | L38: =J38/J$34 -> 0
A39: =IF(H39>0,A38+0.01,A38) -> 1.02 | B39: 10775 | C39: =VLOOKUP($B39,[1]BOLETIM_SEL!$A:$H,2,0) -> SINAPI | D39: =VLOOKUP($B39,[1]BOLETIM_SEL!$A:$H,4,0) -> Locação de container 2,30 x 6,00 m, alt. 2,50 m, com 1 sanitário, para escritório, completo, sem divisórias internas | F39: =VLOOKUP($B39,[1]BOLETIM_SEL!$A:$H,6,0) -> MES | G39: =VLOOKUP($B39,[1]BOLETIM_SEL!$A:$H,7,0) -> 895 | H39: =S_Preliminares!N8 -> 6 | I39: =TRUNC(G39*(1+$J$5),2) -> 1091.9 | J39: =TRUNC(H39*I39,2) -> 6551.4 | K39: =J39/J$930 -> 0.0017807287 | L39: =J39/J$34 -> 0.038152675
A40: =IF(H40>0,A39+0.01,A39) -> 1.03 | B40: 10776 | C40: =VLOOKUP($B40,[1]BOLETIM_SEL!$A:$H,2,0) -> SINAPI | D40: =VLOOKUP($B40,[1]BOLETIM_SEL!$A:$H,4,0) -> Locação de container 2,30 x 6,00 m, alt. 2,50 m, para escritório, sem divisórias internas e sem sanitário | F40: =VLOOKUP($B40,[1]BOLETIM_SEL!$A:$H,6,0) -> MES | G40: =VLOOKUP($B40,[1]BOLETIM_SEL!$A:$H,7,0) -> 699.21 | H40: =S_Preliminares!N9 -> 6 | I40: =TRUNC(G40*(1+$J$5),2) -> 853.03 | J40: =TRUNC(H40*I40,2) -> 5118.18 | K40: =J40/J$930 -> 0.0013911668 | L40: =J40/J$34 -> 0.029806188
A41: =IF(H41>0,A40+0.01,A40) -> 1.04 | B41: 10777 | C41: =VLOOKUP($B41,[1]BOLETIM_SEL!$A:$H,2,0) -> SINAPI | D41: =VLOOKUP($B41,[1]BOLETIM_SEL!$A:$H,4,0) -> Locação de container 2,30 x 4,30 m, alt. 2,50 m, para sanitário, com 3 bacias, 4 chuveiros, 1 lavatório e 1 mictório | F41: =VLOOKUP($B41,[1]BOLETIM_SEL!$A:$H,6,0) -> MES | G41: =VLOOKUP($B41,[1]BOLETIM_SEL!$A:$H,7,0) -> 1016.19 | H41: =S_Preliminares!N10 -> 6 | I41: =TRUNC(G41*(1+$J$5),2) -> 1239.75 | J41: =TRUNC(H41*I41,2) -> 7438.5 | K41: =J41/J$930 -> 0.0020218504 | L41: =J41/J$34 -> 0.043318783
A42: =IF(H42>0,A41+0.01,A41) -> 1.05 | B42: 93585 | C42: =VLOOKUP($B42,[1]BOLETIM_SEL!$A:$H,2,0) -> SINAPI | D42: =VLOOKUP($B42,[1]BOLETIM_SEL!$A:$H,4,0) -> Execução de guarita em canteiro de obra em chapa de madeira compensada, não incluso mobiliário. AF_04/2016 | F42: =VLOOKUP($B42,[1]BOLETIM_SEL!$A:$H,6,0) -> M2 | G42: =VLOOKUP($B42,[1]BOLETIM_SEL!$A:$H,7,0) -> 1308.38 | H42: =S_Preliminares!N11 -> 4 | I42: =TRUNC(G42*(1+$J$5),2) -> 1596.22 | J42: =TRUNC(H42*I42,2) -> 6384.88 | K42: =J42/J$930 -> 0.0017354671 | L42: =J42/J$34 -> 0.037182931
A43: =IF(H43>0,A42+0.01,A42) -> 1.06 | B43: SP/0005 | C43: =VLOOKUP($B43,[1]BOLETIM_SEL!$A:$H,2,0) -> COMPOSIÇÃO | D43: =VLOOKUP($B43,[1]BOLETIM_SEL!$A:$H,4,0) -> Aluguel de banheiro quimico, incluindo transporte de ida e volta, manutencao e higienizacao 3 vezes por semana. Modelo Luxo, dimensões 2,31 x 1,15 x 1,15m | F43: =VLOOKUP($B43,[1]BOLETIM_SEL!$A:$H,6,0) -> UN.MÊS | G43: =VLOOKUP($B43,[1]BOLETIM_SEL!$A:$H,7,0) -> 1200 | H43: =S_Preliminares!N12 -> 6 | I43: =TRUNC(G43*(1+$J$5),2) -> 1464 | J43: =TRUNC(H43*I43,2) -> 8784 | K43: =J43/J$930 -> 0.0023875693 | L43: =J43/J$34 -> 0.051154425
...

Sheet Cronograma_Não_Deson
A1: =Orçamento_Não_Deson!B1 -> PREFEITURA MUNICIPAL DE CAMPO GRANDE - MS | G1: =Orçamento_Não_Deson!B5 -> OBRA : | H1: =Orçamento_Não_Deson!C5 -> INFRAESTRUTURA URBANA - PAVIMENTAÇÃO ASFÁLTICA E DRENAGEM DE ÁGUAS PLUVIAIS
A2: =Orçamento_Não_Deson!B2 -> SECRETARIA MUNICIPAL DE INFRAESTRUTURA E SERVIÇOS PÚBLICOS - SISEP | G2: =Orçamento_Não_Deson!B6 -> LOCAL : | H2: =Orçamento_Não_Deson!C6 -> JARDIM NASHIVILLE - ETAPA "B" - FASE 2
A5: CRONOGRAMA FÍSICO FINANCEIRO | G5: DATA BASE: | H5: =Orçamento_Não_Deson!J1 -> Agosto/2023
G6: E.S.S.M.O.: | H6: =Orçamento_Não_Deson!J2 -> NÃO DESONERADA
A7: ITEM | B7: DISCRIMINAÇÃO DOS SERVIÇOS | C7: PRODUÇÃO | D7: MESES | F7: 1 | G7: 2 | H7: 3 | I7: 4 | J7: 5 | K7: 6 | L7: 7 | M7: 8 | N7: 9 | O7: 10 | P7: 11 | Q7: 12 | R7: 13 | S7: 14 | T7: 15 | U7: 16 | V7: 17 | W7: 18 | X7: Totais | Z7: serviço preliminar 1º mês (mínimo)
C8: MENSAL | D8: DIAS | F8: 30 | G8: 60 | H8: 90 | I8: 120 | J8: 150 | K8: 180 | L8: 210 | M8: 240 | N8: 270 | O8: 300 | P8: 330 | Q8: 360 | R8: 390 | S8: 420 | T8: 450 | U8: 480 | V8: 510 | W8: 540 | Z8: =+Orçamento_Não_Deson!J35+Orçamento_Não_Deson!J41+Orçamento_Não_Deson!J43+Orçamento_Não_Deson!J44 -> 23236.58 | AA8: =→ | AB8: =+Z8/D10 -> 0.13532034
A9: =Orçamento_Não_Deson!B13 -> 1 | B9: =Orçamento_Não_Deson!C13 -> SERVIÇOS PRELIMINARES | F9: =F10 -> 0.3 | G9: =G10 -> 0.2 | H9: =H10 -> 0.2 | I9: =I10 -> 0.1 | J9: =J10 -> 0.1 | K9: =K10 -> 0.1 | L9: =L10 -> 0 | M9: =M10 -> 0 | ... W9: =W10 -> 0 | Y9: =+D10-X11-X12 -> -2.910383e-11
C10: =CONCATENATE(Orçamento_Não_Deson!H13," ",Orçamento_Não_Deson!I13) -> 16 M2 | D10: =Orçamento_Não_Deson!J13 -> 171715.35 | F10: 0.3 | G10: 0.2 | H10: 0.2 | I10: 0.1 | J10: 0.1 | K10: 0.1 | X10: =SUM(F10:W10) -> 1 | Y10: =1-X10 -> 0 | AA10: =+COUNT(F10:W10) -> 6
D11: CONCEDENTE | E11: =D$88 -> 1 | F11: =IF($D10=0,0,IF(F10=0,0,($E11*$D10*F10)+$AA$92)) -> 51514.605 | G11: =IF($D10=0,0,IF(G10=0,0,($E11*$D10*G10)+$AA$92)) -> 34343.07 | H11: =IF($D10=0,0,IF(H10=0,0,($E11*$D10*H10)+$AA$92)) -> 34343.07 | I11: =IF($D10=0,0,IF(I10=0,0,($E11*$D10*I10)+$AA$92)) -> 17171.535 | J11: =IF($D10=0,0,IF(J10=0,0,($E11*$D10*J10)+$AA$92)) -> 17171.535 | K11: =IF($D10=0,0,IF(K10=0,0,($E11*$D10*K10)+$AA$92)) -> 17171.535 | L11: =IF($D10=0,0,IF(L10=0,0,($E11*$D10*L10)+$AA$92)) -> 0 | M11: =IF($D10=0,0,IF(M10=0,0,($E11*$D10*M10)+$AA$92)) -> 0 | ... W11: =IF($D10=0,0,IF(W10=0,0,($E11*$D10*W10)+$AA$92)) -> 0 | X11: =SUM(F11:W11) -> 171715.35 | Y11: =TRUNC(X11-D10*E11,2) -> 0 | Z11: =+X11/D10 -> 1
D12: PROPONENTE | E12: =1-E11 -> 0 | F12: =($D10*F10-F11) -> 0 | G12: =($D10*G10-G11) -> 0 | H12: =($D10*H10-H11) -> 0 | I12: =($D10*I10-I11) -> 0 | J12: =($D10*J10-J11) -> 0 | K12: =($D10*K10-K11) -> 0 | L12: =($D10*L10-L11) -> 0 | M12: =($D10*M10-M11) -> 0 | ... W12: =($D10*W10-W11) -> 0 | X12: =SUM(F12:W12) -> 0 | Y12: =+D10-X11-X12 -> -2.910383e-11
A13: =Orçamento_Não_Deson!B14 -> 2 | B13: =Orçamento_Não_Deson!C14 -> REMOÇÕES, DEMOLIÇÕES E SUPRESSÕES | F13: =F14 -> 0.5 | G13: =G14 -> 0.5 | H13: =H14 -> 0 | I13: =I14 -> 0 | J13: =J14 -> 0 | K13: =K14 -> 0 | L13: =L14 -> 0 | M13: =M14 -> 0 | ... W13: =W14 -> 0 | Y13: =+D14-X15-X16 -> 0
C14: =CONCATENATE(Orçamento_Não_Deson!H14," ",Orçamento_Não_Deson!I14) -> 858,19 M | D14: =Orçamento_Não_Deson!J14 -> 39105.55 | F14: 0.5 | G14: 0.5 | X14: =SUM(F14:W14) -> 1 | Y14: =1-X14 -> 0 | AA14: =+COUNT(F14:W14) -> 2
C15: =INT(SUM(Orçamento_Não_Deson!O64:O73)/240)+1 -> 1 | D15: CONCEDENTE | E15: =D$88 -> 1 | F15: =IF($D14=0,0,IF(F14=0,0,($E15*$D14*F14)+$AA$92)) -> 19552.775 | G15: =IF($D14=0,0,IF(G14=0,0,($E15*$D14*G14)+$AA$92)) -> 19552.775 | H15: =IF($D14=0,0,IF(H14=0,0,($E15*$D14*H14)+$AA$92)) -> 0 | I15: =IF($D14=0,0,IF(I14=0,0,($E15*$D14*I14)+$AA$92)) -> 0 | J15: =IF($D14=0,0,IF(J14=0,0,($E15*$D14*J14)+$AA$92)) -> 0 | K15: =IF($D14=0,0,IF(K14=0,0,($E15*$D14*K14)+$AA$92)) -> 0 | L15: =IF($D14=0,0,IF(L14=0,0,($E15*$D14*L14)+$AA$92)) -> 0 | M15: =IF($D14=0,0,IF(M14=0,0,($E15*$D14*M14)+$AA$92)) -> 0 | ... W15: =IF($D14=0,0,IF(W14=0,0,($E15*$D14*W14)+$AA$92)) -> 0 | X15: =SUM(F15:W15) -> 39105.55 | Y15: =TRUNC(X15-D14*E15,2) -> 0 | Z15: =+X15/D14 -> 1
D16: PROPONENTE | E16: =1-E15 -> 0 | F16: =($D14*F14-F15) -> 0 | G16: =($D14*G14-G15) -> 0 | H16: =($D14*H14-H15) -> 0 | I16: =($D14*I14-I15) -> 0 | J16: =($D14*J14-J15) -> 0 | K16: =($D14*K14-K15) -> 0 | L16: =($D14*L14-L15) -> 0 | M16: =($D14*M14-M15) -> 0 | ... W16: =($D14*W14-W15) -> 0 | X16: =SUM(F16:W16) -> 0 | Y16: =+D14-X15-X16 -> 0
A17: =Orçamento_Não_Deson!B15 -> 3 | B17: =Orçamento_Não_Deson!C15 -> MICRODRENAGEM - TERRAPLENAGEM | F17: =F18 -> 0.25 | G17: =G18 -> 0.2 | H17: =H18 -> 0.2 | I17: =I18 -> 0.15 | J17: =J18 -> 0.1 | K17: =K18 -> 0.1 | L17: =L18 -> 0 | M17: =M18 -> 0 | ... W17: =W18 -> 0 | Y17: =+D18-X19-X20 -> 0
C18: =CONCATENATE(Orçamento_Não_Deson!H15," ",Orçamento_Não_Deson!I15) -> 2041,07 M3 | D18: =Orçamento_Não_Deson!J15 -> 143972.28 | F18: 0.25 | G18: 0.2 | H18: 0.2 | I18: 0.15 | J18: 0.1 | K18: 0.1 | X18: =SUM(F18:W18) -> 1 | Y18: =1-X18 -> 0 | AA18: =+COUNT(F18:W18) -> 6
C19: =ROUND(SUM(Orçamento_Não_Deson!O104:O125)/240,1) -> 0.6 | D19: CONCEDENTE | E19: =D$88 -> 1 | F19: =IF($D18=0,0,IF(F18=0,0,($E19*$D18*F18)+$AA$92)) -> 35993.07 | G19: =IF($D18=0,0,IF(G18=0,0,($E19*$D18*G18)+$AA$92)) -> 28794.456 | H19: =IF($D18=0,0,IF(H18=0,0,($E19*$D18*H18)+$AA$92)) -> 28794.456 | I19: =IF($D18=0,0,IF(I18=0,0,($E19*$D18*I18)+$AA$92)) -> 21595.842 | J19: =IF($D18=0,0,IF(J18=0,0,($E19*$D18*J18)+$AA$92)) -> 14397.228 | K19: =IF($D18=0,0,IF(K18=0,0,($E19*$D18*K18)+$AA$92)) -> 14397.228 | L19: =IF($D18=0,0,IF(L18=0,0,($E19*$D18*L18)+$AA$92)) -> 0 | M19: =IF($D18=0,0,IF(M18=0,0,($E19*$D18*M18)+$AA$92)) -> 0 | ... W19: =IF($D18=0,0,IF(W18=0,0,($E19*$D18*W18)+$AA$92)) -> 0 | X19: =SUM(F19:W19) -> 143972.28 | Y19: =TRUNC(X19-D18*E19,2) -> 0 | Z19: =+X19/D18 -> 1
D20: PROPONENTE | E20: =1-E19 -> 0 | F20: =($D18*F18-F19) -> 0 | G20: =($D18*G18-G19) -> 0 | H20: =($D18*H18-H19) -> 0 | I20: =($D18*I18-I19) -> 0 | J20: =($D18*J18-J19) -> 0 | K20: =($D18*K18-K19) -> 0 | L20: =($D18*L18-L19) -> 0 | M20: =($D18*M18-M19) -> 0 | ... W20: =($D18*W18-W19) -> 0 | X20: =SUM(F20:W20) -> 0 | Y20: =+D18-X19-X20 -> 0
A21: =Orçamento_Não_Deson!B16 -> 4 | B21: =Orçamento_Não_Deson!C16 -> MICRODRENAGEM - GALERIAS | F21: =F22 -> 0.25 | G21: =G22 -> 0.2 | H21: =H22 -> 0.2 | I21: =I22 -> 0.15 | J21: =J22 -> 0.1 | K21: =K22 -> 0.1 | L21: =L22 -> 0 | M21: =M22 -> 0 | ... W21: =W22 -> 0 | Y21: =+D22-X23-X24 -> 0
C22: =CONCATENATE(Orçamento_Não_Deson!H16," ",Orçamento_Não_Deson!I16) -> 604,81 M | D22: =Orçamento_Não_Deson!J16 -> 213732.21 | F22: 0.25 | G22: 0.2 | H22: 0.2 | I22: 0.15 | J22: 0.1 | K22: 0.1 | X22: =SUM(F22:W22) -> 1 | Y22: =1-X22 -> 0 | AA22: =+COUNT(F22:W22) -> 6
C23: =ROUND((SUM(Orçamento_Não_Deson!O196:O207)+SUM(Orçamento_Não_Deson!O217:O241))/240,1) -> 0.9 | D23: CONCEDENTE | E23: =D$88 -> 1 | F23: =IF($D22=0,0,IF(F22=0,0,($E23*$D22*F22)+$AA$92)) -> 53433.052 | G23: =IF($D22=0,0,IF(G22=0,0,($E23*$D22*G22)+$AA$92)) -> 42746.442 | H23: =IF($D22=0,0,IF(H22=0,0,($E23*$D22*H22)+$AA$92)) -> 42746.442 | I23: =IF($D22=0,0,IF(I22=0,0,($E23*$D22*I22)+$AA$92)) -> 32059.831 | J23: =IF($D22=0,0,IF(J22=0,0,($E23*$D22*J22)+$AA$92)) -> 21373.221 | K23: =IF($D22=0,0,IF(K22=0,0,($E23*$D22*K22)+$AA$92)) -> 21373.221 | L23: =IF($D22=0,0,IF(L22=0,0,($E23*$D22*L22)+$AA$92)) -> 0 | M23: =IF($D22=0,0,IF(M22=0,0,($E23*$D22*M22)+$AA$92)) -> 0 | ... W23: =IF($D22=0,0,IF(W22=0,0,($E23*$D22*W22)+$AA$92)) -> 0 | X23: =SUM(F23:W23) -> 213732.21 | Y23: =TRUNC(X23-D22*E23,2) -> 0 | Z23: =+X23/D22 -> 1
D24: PROPONENTE | E24: =1-E23 -> 0 | F24: =($D22*F22-F23) -> 0 | G24: =($D22*G22-G23) -> 0 | H24: =($D22*H22-H23) -> 0 | I24: =($D22*I22-I23) -> 0 | J24: =($D22*J22-J23) -> 0 | K24: =($D22*K22-K23) -> 0 | L24: =($D22*L22-L23) -> 0 | M24: =($D22*M22-M23) -> 0 | ... W24: =($D22*W22-W23) -> 0 | X24: =SUM(F24:W24) -> 0 | Y24: =+D22-X23-X24 -> 0
A25: =Orçamento_Não_Deson!B17 -> 5 | B25: =Orçamento_Não_Deson!C17 -> MICRODRENAGEM - DISPOSITIVOS AUXILIARES | F25: =F26 -> 0.25 | G25: =G26 -> 0.2 | H25: =H26 -> 0.2 | I25: =I26 -> 0.15 | J25: =J26 -> 0.1 | K25: =K26 -> 0.1 | L25: =L26 -> 0 | M25: =M26 -> 0 | ... W25: =W26 -> 0 | Y25: =+D26-X27-X28 -> 0
C26: =CONCATENATE(Orçamento_Não_Deson!H17," ",Orçamento_Não_Deson!I17) -> 42 UN | D26: =Orçamento_Não_Deson!J17 -> 254417.2 | F26: 0.25 | G26: 0.2 | H26: 0.2 | I26: 0.15 | J26: 0.1 | K26: 0.1 | X26: =SUM(F26:W26) -> 1 | Y26: =1-X26 -> 0 | AA26: =+COUNT(F26:W26) -> 6
C27: =Orçamento_Não_Deson!N17 -> 2 | D27: CONCEDENTE | E27: =D$88 -> 1 | F27: =IF($D26=0,0,IF(F26=0,0,($E27*$D26*F26)+$AA$92)) -> 63604.3 | G27: =IF($D26=0,0,IF(G26=0,0,($E27*$D26*G26)+$AA$92)) -> 50883.44 | H27: =IF($D26=0,0,IF(H26=0,0,($E27*$D26*H26)+$AA$92)) -> 50883.44 | I27: =IF($D26=0,0,IF(I26=0,0,($E27*$D26*I26)+$AA$92)) -> 38162.58 | J27: =IF($D26=0,0,IF(J26=0,0,($E27*$D26*J26)+$AA$92)) -> 25441.72 | K27: =IF($D26=0,0,IF(K26=0,0,($E27*$D26*K26)+$AA$92)) -> 25441.72 | L27: =IF($D26=0,0,IF(L26=0,0,($E27*$D26*L26)+$AA$92)) -> 0 | M27: =IF($D26=0,0,IF(M26=0,0,($E27*$D26*M26)+$AA$92)) -> 0 | ... W27: =IF($D26=0,0,IF(W26=0,0,($E27*$D26*W26)+$AA$92)) -> 0 | X27: =SUM(F27:W27) -> 254417.2 | Y27: =TRUNC(X27-D26*E27,2) -> 0 | Z27: =+X27/D26 -> 1
D28: PROPONENTE | E28: =1-E27 -> 0 | F28: =($D26*F26-F27) -> 0 | G28: =($D26*G26-G27) -> 0 | H28: =($D26*H26-H27) -> 0 | I28: =($D26*I26-I27) -> 0 | J28: =($D26*J26-J27) -> 0 | K28: =($D26*K26-K27) -> 0 | L28: =($D26*L26-L27) -> 0 | M28: =($D26*M26-M27) -> 0 | ... W28: =($D26*W26-W27) -> 0 | X28: =SUM(F28:W28) -> 0 | Y28: =+D26-X27-X28 -> 0
A29: =Orçamento_Não_Deson!B18 -> 5 | B29: =Orçamento_Não_Deson!C18 -> MICRODRENAGEM - SERVIÇOS DE ESTRUTURAS | F29: =F30 -> 0 | G29: =G30 -> 0 | H29: =H30 -> 0 | I29: =I30 -> 0 | J29: =J30 -> 0 | K29: =K30 -> 0 | L29: =L30 -> 0 | M29: =M30 -> 0 | ... W29: =W30 -> 0 | Y29: =+D30-X31-X32 -> 0
C30: =CONCATENATE(Orçamento_Não_Deson!H18," ",Orçamento_Não_Deson!I18) -> 0 M3 | D30: =Orçamento_Não_Deson!J18 -> 0 | X30: =SUM(F30:W30) -> 0 | Y30: =1-X30 -> 1 | AA30: =+COUNT(F30:W30) -> 0
D31: CONCEDENTE | E31: =D$88 -> 1 | F31: =IF($D30=0,0,IF(F30=0,0,($E31*$D30*F30)+$AA$92)) -> 0 | G31: =IF($D30=0,0,IF(G30=0,0,($E31*$D30*G30)+$AA$92)) -> 0 | H31: =IF($D30=0,0,IF(H30=0,0,($E31*$D30*H30)+$AA$92)) -> 0 | I31: =IF($D30=0,0,IF(I30=0,0,($E31*$D30*I30)+$AA$92)) -> 0 | J31: =IF($D30=0,0,IF(J30=0,0,($E31*$D30*J30)+$AA$92)) -> 0 | K31: =IF($D30=0,0,IF(K30=0,0,($E31*$D30*K30)+$AA$92)) -> 0 | L31: =IF($D30=0,0,IF(L30=0,0,($E31*$D30*L30)+$AA$92)) -> 0 | M31: =IF($D30=0,0,IF(M30=0,0,($E31*$D30*M30)+$AA$92)) -> 0 | ... W31: =IF($D30=0,0,IF(W30=0,0,($E31*$D30*W30)+$AA$92)) -> 0 | X31: =SUM(F31:W31) -> 0 | Y31: =TRUNC(X31-D30*E31,2) -> 0 | Z31: =+X31/D30 -> #DIV/0!
D32: PROPONENTE | E32: =1-E31 -> 0 | F32: =($D30*F30-F31) -> 0 | G32: =($D30*G30-G31) -> 0 | H32: =($D30*H30-H31) -> 0 | I32: =($D30*I30-I31) -> 0 | J32: =($D30*J30-J31) -> 0 | K32: =($D30*K30-K31) -> 0 | L32: =($D30*L30-L31) -> 0 | M32: =($D30*M30-M31) -> 0 | ... W32: =($D30*W30-W31) -> 0 | X32: =SUM(F32:W32) -> 0 | Y32: =+D30-X31-X32 -> 0
A33: =Orçamento_Não_Deson!B19 -> 5 | B33: =Orçamento_Não_Deson!C19 -> MICRODRENAGEM - BACIA DE AMORTECIMENTO | F33: =F34 -> 0 | G33: =G34 -> 0 | H33: =H34 -> 0 | I33: =I34 -> 0 | J33: =J34 -> 0 | K33: =K34 -> 0 | L33: =L34 -> 0 | M33: =M34 -> 0 | ... W33: =W34 -> 0 | Y33: =+D34-X35-X36 -> 0
C34: =CONCATENATE(Orçamento_Não_Deson!H19," ",Orçamento_Não_Deson!I19) -> 0 M3 | D34: =Orçamento_Não_Deson!J19 -> 0 | X34: =SUM(F34:W34) -> 0 | Y34: =1-X34 -> 1 | AA34: =+COUNT(F34:W34) -> 0
C35: =Orçamento_Não_Deson!N19 -> 0 | D35: CONCEDENTE | E35: =D$88 -> 1 | F35: =IF($D34=0,0,IF(F34=0,0,($E35*$D34*F34)+$AA$92)) -> 0 | G35: =IF($D34=0,0,IF(G34=0,0,($E35*$D34*G34)+$AA$92)) -> 0 | H35: =IF($D34=0,0,IF(H34=0,0,($E35*$D34*H34)+$AA$92)) -> 0 | I35: =IF($D34=0,0,IF(I34=0,0,($E35*$D34*I34)+$AA$92)) -> 0 | J35: =IF($D34=0,0,IF(J34=0,0,($E35*$D34*J34)+$AA$92)) -> 0 | K35: =IF($D34=0,0,IF(K34=0,0,($E35*$D34*K34)+$AA$92)) -> 0 | L35: =IF($D34=0,0,IF(L34=0,0,($E35*$D34*L34)+$AA$92)) -> 0 | M35: =IF($D34=0,0,IF(M34=0,0,($E35*$D34*M34)+$AA$92)) -> 0 | ... W35: =IF($D34=0,0,IF(W34=0,0,($E35*$D34*W34)+$AA$92)) -> 0 | X35: =SUM(F35:W35) -> 0 | Y35: =TRUNC(X35-D34*E35,2) -> 0 | Z35: =+X35/D34 -> #DIV/0!
D36: PROPONENTE | E36: =1-E35 -> 0 | F36: =($D34*F34-F35) -> 0 | G36: =($D34*G34-G35) -> 0 | H36: =($D34*H34-H35) -> 0 | I36: =($D34*I34-I35) -> 0 | J36: =($D34*J34-J35) -> 0 | K36: =($D34*K34-K35) -> 0 | L36: =($D34*L34-L35) -> 0 | M36: =($D34*M34-M35) -> 0 | ... W36: =($D34*W34-W35) -> 0 | X36: =SUM(F36:W36) -> 0 | Y36: =+D34-X35-X36 -> 0
A37: =Orçamento_Não_Deson!B20 -> 5 | B37: =Orçamento_Não_Deson!C20 -> DRENAGEM DE LENÇOL FREÁTICO | F37: =F38 -> 0 | G37: =G38 -> 0 | H37: =H38 -> 0 | I37: =I38 -> 0 | J37: =J38 -> 0 | K37: =K38 -> 0 | L37: =L38 -> 0 | M37: =M38 -> 0 | ... W37: =W38 -> 0 | Y37: =+D38-X39-X40 -> 0
C38: =CONCATENATE(Orçamento_Não_Deson!H20," ",Orçamento_Não_Deson!I20) -> 0 M | D38: =Orçamento_Não_Deson!J20 -> 0 | X38: =SUM(F38:W38) -> 0 | Y38: =1-X38 -> 1 | AA38: =+COUNT(F38:W38) -> 0
C39: =ROUND(SUM(Orçamento_Não_Deson!O414:O423)/240,1) -> 0 | D39: CONCEDENTE | E39: =D$88 -> 1 | F39: =IF($D38=0,0,IF(F38=0,0,($E39*$D38*F38)+$AA$92)) -> 0 | G39: =IF($D38=0,0,IF(G38=0,0,($E39*$D38*G38)+$AA$92)) -> 0 | H39: =IF($D38=0,0,IF(H38=0,0,($E39*$D38*H38)+$AA$92)) -> 0 | I39: =IF($D38=0,0,IF(I38=0,0,($E39*$D38*I38)+$AA$92)) -> 0 | J39: =IF($D38=0,0,IF(J38=0,0,($E39*$D38*J38)+$AA$92)) -> 0 | K39: =IF($D38=0,0,IF(K38=0,0,($E39*$D38*K38)+$AA$92)) -> 0 | L39: =IF($D38=0,0,IF(L38=0,0,($E39*$D38*L38)+$AA$92)) -> 0 | M39: =IF($D38=0,0,IF(M38=0,0,($E39*$D38*M38)+$AA$92)) -> 0 | ... W39: =IF($D38=0,0,IF(W38=0,0,($E39*$D38*W38)+$AA$92)) -> 0 | X39: =SUM(F39:W39) -> 0 | Y39: =TRUNC(X39-D38*E39,2) -> 0 | Z39: =+X39/D38 -> #DIV/0!
D40: PROPONENTE | E40: =1-E39 -> 0 | F40: =($D38*F38-F39) -> 0 | G40: =($D38*G38-G39) -> 0 | H40: =($D38*H38-H39) -> 0 | I40: =($D38*I38-I39) -> 0 | J40: =($D38*J38-J39) -> 0 | K40: =($D38*K38-K39) -> 0 | L40: =($D38*L38-L39) -> 0 | M40: =($D38*M38-M39) -> 0 | ... W40: =($D38*W38-W39) -> 0 | X40: =SUM(F40:W40) -> 0 | Y40: =+D38-X39-X40 -> 0
A41: =Orçamento_Não_Deson!B21 -> 6 | B41: =Orçamento_Não_Deson!C21 -> MICRODRENAGEM - RECOMPOSIÇÃO DO PAVIMENTO | F41: =F42 -> 0.5 | G41: =G42 -> 0.5 | H41: =H42 -> 0 | I41: =I42 -> 0 | J41: =J42 -> 0 | K41: =K42 -> 0 | L41: =L42 -> 0 | M41: =M42 -> 0 | ... W41: =W42 -> 0 | Y41: =+D42-X43-X44 -> 0
C42: =CONCATENATE(Orçamento_Não_Deson!H21," ",Orçamento_Não_Deson!I21) -> 5,6 M2 | D42: =Orçamento_Não_Deson!J21 -> 618.74 | F42: 0.5 | G42: 0.5 | X42: =SUM(F42:W42) -> 1 | Y42: =1-X42 -> 0 | AA42: =+COUNT(F42:W42) -> 2
...

Sheet CCU_Adm_Local_Não_Deson
A1: COMPOSIÇÃO DE CUSTO UNITÁRIO
A2: OBRA : | B2: Infraestrutura Urbana
A3: PRAÇA : | B3: Campo Grande/MS | C3: =Orçamento_Não_Deson!J2 -> NÃO DESONERADA
A4: DATA : | B4: =Orçamento_Não_Deson!$J$1 -> Agosto/2023 | D4: E.Sociais horista: | E4: =Orçamento_Não_Deson!J3 -> 1.1544
D5: E.Sociais mensalista: | E5: =Orçamento_Não_Deson!J4 -> 0.7126
A6: CÓDIGO | B6: SERVIÇO | E6: UNIDADE DO SERVIÇO | H6: un
A7: CPU Adm Local | B7: Administração local do canteiro de obras | E7: PRAZO DA OBRA | G7: =S_Preliminares!N4 -> 6 | H7: mês
A9: CÓDIGO | B9: EQUIPAMENTO | D9: FONTE | E9: UNID. | F9: CUSTO | G9: QUANT. | H9: CUSTO UNITÁRIO
A11: AD/0002 | B11: =VLOOKUP($A11,[1]BOLETIM_SEL!$A:$G,4,0) -> VEÍCULO LEVE - 53 KW (SEM MOTORISTA) (116,49h CPI + 66h CHP - 182,49h MDO)(REF. SICRO COD. E9512) | D11: =VLOOKUP($A11,[1]BOLETIM_SEL!$A:$G,2,0) -> COMPOSIÇÃO | E11: =VLOOKUP($A11,[1]BOLETIM_SEL!$A:$G,6,0) -> UN.MÊS | F11: =VLOOKUP($A11,[1]BOLETIM_SEL!$A:$G,7,0) -> 2914.22 | G11: =G22 -> 0 | H11: =F11*G11 -> 0
A12: AD/0003 | B12: =VLOOKUP($A12,[1]BOLETIM_SEL!$A:$G,4,0) -> CAMINHONETE - 101/104 CV (SEM MOTORISTA) (116,49h CPI + 66h CHP)(REF. SINAPI COD. 92145 E 92146) | D12: =VLOOKUP($A12,[1]BOLETIM_SEL!$A:$G,2,0) -> COMPOSIÇÃO | E12: =VLOOKUP($A12,[1]BOLETIM_SEL!$A:$G,6,0) -> UN.MÊS | F12: =VLOOKUP($A12,[1]BOLETIM_SEL!$A:$G,7,0) -> 4030.05 | H12: =F12*G12 -> 0
A13: AD/0005 | B13: =VLOOKUP($A13,[1]BOLETIM_SEL!$A:$G,4,0) -> VAN - 93 KW (COM MOTORISTA) (116,49h CPI + 66h CHP). CAPACIDADE DE 10 PESSOAS (REF. SICRO COD. E9125) | D13: =VLOOKUP($A13,[1]BOLETIM_SEL!$A:$G,2,0) -> COMPOSIÇÃO | E13: =VLOOKUP($A13,[1]BOLETIM_SEL!$A:$G,6,0) -> UN.MÊS | F13: =VLOOKUP($A13,[1]BOLETIM_SEL!$A:$G,7,0) -> 9997.76 | H13: =F13*G13 -> 0
A14: B8958 | B14: =VLOOKUP($A14,[1]BOLETIM_SEL!$A:$G,4,0) -> Topografia | D14: =VLOOKUP($A14,[1]BOLETIM_SEL!$A:$G,2,0) -> DNIT/Consultoria | E14: =VLOOKUP($A14,[1]BOLETIM_SEL!$A:$G,6,0) -> mês | F14: =VLOOKUP($A14,[1]BOLETIM_SEL!$A:$G,7,0) -> 3265.25 | G14: =G27 -> 3 | H14: =F14*G14 -> 9795.75
A15: B8957 | B15: =VLOOKUP($A15,[1]BOLETIM_SEL!$A:$G,4,0) -> Laboratório de solos | D15: =VLOOKUP($A15,[1]BOLETIM_SEL!$A:$G,2,0) -> DNIT/Consultoria | E15: =VLOOKUP($A15,[1]BOLETIM_SEL!$A:$G,6,0) -> mês | F15: =VLOOKUP($A15,[1]BOLETIM_SEL!$A:$G,7,0) -> 4491.67 | G15: =G28 -> 3 | H15: =F15*G15 -> 13475.01
D17: CUSTO HORÁRIO DO EQUIPAMENTO | H17: =SUM(H11:H16) -> 23270.76
A19: CÓDIGO | B19: MÃO DE OBRA | E19: UNID. | F19: SALÁRIO BASE | G19: QUANT. | H19: CUSTO HORÁRIO | J19: =Orçamento_Não_Deson!K889 -> 0.045464847
A21: 93567 | B21: =VLOOKUP($A21,[1]BOLETIM_SEL!$A:$G,4,0) -> Engenheiro civil de obra pleno com encargos complementares (mensalista) | E21: =VLOOKUP($A21,[1]BOLETIM_SEL!$A:$G,6,0) -> MES | F21: =VLOOKUP(A21,[1]BOLETIM_SEL!$A:$G,7,0) -> 22490.49 | G21: 0.5 | H21: =F21*G21 -> 11245.245
A22: 93565 | B22: =VLOOKUP($A22,[1]BOLETIM_SEL!$A:$G,4,0) -> Engenheiro civil de obra júnior com encargos complementares (mensalista) | E22: =VLOOKUP($A22,[1]BOLETIM_SEL!$A:$G,6,0) -> MES | F22: =VLOOKUP(A22,[1]BOLETIM_SEL!$A:$G,7,0) -> 19803.86 | H22: =F22*G22 -> 0
A23: 93563 | B23: =VLOOKUP($A23,[1]BOLETIM_SEL!$A:$G,4,0) -> Almoxarife com encargos complementares (mensalista) | E23: =VLOOKUP($A23,[1]BOLETIM_SEL!$A:$G,6,0) -> MES | F23: =VLOOKUP(A23,[1]BOLETIM_SEL!$A:$G,7,0) -> 3769.18 | G23: 2 | H23: =F23*G23 -> 7538.36
A24: 93564 | B24: =VLOOKUP($A24,[1]BOLETIM_SEL!$A:$G,4,0) -> Apontador ou apropriador com encargos complementares (mensalista) | E24: =VLOOKUP($A24,[1]BOLETIM_SEL!$A:$G,6,0) -> MES | F24: =VLOOKUP(A24,[1]BOLETIM_SEL!$A:$G,7,0) -> 3683.35 | G24: 2 | H24: =F24*G24 -> 7366.7
A25: 94295 | B25: =VLOOKUP($A25,[1]BOLETIM_SEL!$A:$G,4,0) -> Mestre de obras com encargos complementares (mensalista) | E25: =VLOOKUP($A25,[1]BOLETIM_SEL!$A:$G,6,0) -> MES | F25: =VLOOKUP(A25,[1]BOLETIM_SEL!$A:$G,7,0) -> 6321.89 | G25: 2 | H25: =F25*G25 -> 12643.78
A26: 100321 | B26: =VLOOKUP($A26,[1]BOLETIM_SEL!$A:$G,4,0) -> Técnico de segurança do trabalho com encargos complementares (mensalista) | E26: =VLOOKUP($A26,[1]BOLETIM_SEL!$A:$G,6,0) -> MES | F26: =VLOOKUP(A26,[1]BOLETIM_SEL!$A:$G,7,0) -> 5338.51 | G26: 2 | H26: =F26*G26 -> 10677.02
A27: 94296 | B27: =VLOOKUP($A27,[1]BOLETIM_SEL!$A:$G,4,0) -> Topografo com encargos complementares (mensalista) | E27: =VLOOKUP($A27,[1]BOLETIM_SEL!$A:$G,6,0) -> MES | F27: =VLOOKUP(A27,[1]BOLETIM_SEL!$A:$G,7,0) -> 4435.85 | G27: 3 | H27: =F27*G27 -> 13307.55 | O27: =N27*G7 -> 0
A28: 101456 | B28: =VLOOKUP($A28,[1]BOLETIM_SEL!$A:$G,4,0) -> Técnico de laboratório e campo de construção com encargos complementares (mensalista) | E28: =VLOOKUP($A28,[1]BOLETIM_SEL!$A:$G,6,0) -> MES | F28: =VLOOKUP(A28,[1]BOLETIM_SEL!$A:$G,7,0) -> 5498.05 | G28: 3 | H28: =F28*G28 -> 16494.15 | O28: =N28*G8 -> 0
A29: 101389 | B29: =VLOOKUP($A29,[1]BOLETIM_SEL!$A:$G,4,0) -> Auxiliar de topógrafo com encargos complementares (mensalista) | E29: =VLOOKUP($A29,[1]BOLETIM_SEL!$A:$G,6,0) -> MES | F29: =VLOOKUP(A29,[1]BOLETIM_SEL!$A:$G,7,0) -> 2199.93 | G29: 2 | H29: =F29*G29 -> 4399.86
A30: 101385 | B30: =VLOOKUP($A30,[1]BOLETIM_SEL!$A:$G,4,0) -> Auxiliar de laboratorista de solos e de concreto com encargos complementares (mensalista) | E30: =VLOOKUP($A30,[1]BOLETIM_SEL!$A:$G,6,0) -> MES | F30: =VLOOKUP(A30,[1]BOLETIM_SEL!$A:$G,7,0) -> 4627.3 | G30: 2 | H30: =F30*G30 -> 9254.6 | O30: =N30*G10 -> 0
A31: 101460 | B31: =VLOOKUP($A31,[1]BOLETIM_SEL!$A:$G,4,0) -> Vigia Diurno com encargos complementares (mensalista) | E31: =VLOOKUP($A31,[1]BOLETIM_SEL!$A:$G,6,0) -> MES | F31: =VLOOKUP(A31,[1]BOLETIM_SEL!$A:$G,7,0) -> 3484.45 | G31: 6 | H31: =F31*G31 -> 20906.7
D64: CUSTO HORÁRIO DA MÃO DE OBRA | H64: =SUM(H21:H63) -> 113833.96
D65: CUSTO UNITÁRIO TOTAL | H65: =H17+H64 -> 137104.73
D66: CUSTO UNITÁRIO DA EXECUÇÃO | H66: =H65/G7 -> 22850.788
A68: CUSTO DIRETO MENSAL : | G68: R$ | H68: =TRUNC(H66,2) -> 22850.78
A69: =CONCATENATE("CUSTO DIRETO TOTAL PARA ",G7," MESES DE OBRA:") -> CUSTO DIRETO TOTAL PARA 6 MESES DE OBRA: | G69: R$ | H69: =TRUNC(+H68*G7,2) -> 137104.68
A70: Nota: Valores internos calculados com maior precisão e truncados para 2 casas decimais no relatório. Instrução normativa do DNIT

Sheet Orçamento_Deson
B1: =+Orçamento_Não_Deson!B1 -> PREFEITURA MUNICIPAL DE CAMPO GRANDE - MS | I1: DATA BASE: | J1: =[2]BOLETIM_SEL!$B$1 -> Agosto/2023 | L1: VERIFICAÇÕES | N1: PRODUÇÃO (UMA FRENTE)
B2: =+Orçamento_Não_Deson!B2 -> SECRETARIA MUNICIPAL DE INFRAESTRUTURA E SERVIÇOS PÚBLICOS - SISEP | I2: E.S.S.M.O.: | J2: =[2]BOLETIM_SEL!$D$2 -> DESONERADA | L2: Total Geral | M2: =IF(J12=J930,"OK","ERRO") -> OK | N2: DIÁRIA | O2: OBRA (MÊS)
B3: =+Orçamento_Não_Deson!B3 -> 0 | I3: E.S.D. (HORA): | J3: =[2]BOLETIM_SEL!$G$3 -> 0.8528
B4: =Orçamento_Não_Deson!B4 -> 0 | C4: =Orçamento_Não_Deson!C4 -> 0 | I4: E.S.D. (MÊS): | J4: =[2]BOLETIM_SEL!$G$4 -> 0.4723
B5: =Orçamento_Não_Deson!B5 -> OBRA : | C5: INFRAESTRUTURA URBANA - PAVIMENTAÇÃO ASFÁLTICA E DRENAGEM DE ÁGUAS PLUVIAIS | I5: BDI SERVIÇOS: | J5: 0.2817
B6: =Orçamento_Não_Deson!B6 -> LOCAL : | C6: JARDIM NASHIVILLE - ETAPA "B" - FASE 2 | I6: BDI INSUMO (*): | J6: 0.1528
B7: =Orçamento_Não_Deson!B7 -> MUNICÍPIO : | C7: =Orçamento_Não_Deson!C7 -> CAMPO GRANDE / MS
B8: =Orçamento_Não_Deson!B8 -> COORDENADAS : | C8: =Orçamento_Não_Deson!C8 -> (20°32'01.13"S ; 54°36'32.29"O) ; (20°32'04.37"S ; 54°36'52.35"O) ; (20°32'09.83"S ; 54°36'53.82"O)
D10: =CONCATENATE("PLANILHA ORÇAMENTÁRIA ",J2) -> PLANILHA ORÇAMENTÁRIA DESONERADA
B12: ITEM | C12: RESUMO | H12: QUANT. | I12: UNID. | J12: =SUM(J13:J31) -> 3778233.4 | K12: =SUM(K13:K31) -> 1 | L12: Σ | M12: % | N12: PRAZOS
B13: =A34 -> 1 | C13: =D34 -> SERVIÇOS PRELIMINARES | H13: =H35 -> 16 | I13: =F35 -> M2 | J13: =J34 -> 176747.43 | K13: =K34 -> 0.046780442 | L13: =IF(SUBTOTAL(109,J35:J62)=J13,"OK","ERRO") -> OK | M13: =IF(K13=J13/J$930,"OK","ERRO") -> OK | N13: =S_Preliminares!N4 -> 6
B14: =A63 -> 2 | C14: =D63 -> REMOÇÕES, DEMOLIÇÕES E SUPRESSÕES | H14: =+H73 -> 858.19 | I14: =+F73 -> M | J14: =J63 -> 39545.1 | K14: =K63 -> 0.010466558 | L14: =IF(SUBTOTAL(109,J64:J98)=J14,"OK","ERRO") -> OK | M14: =IF(K14=J14/J$930,"OK","ERRO") -> OK | N14: =ROUND(SUM(O64:O73)/240,0) -> 1
B15: =A100 -> 3 | C15: =D100 -> MICRODRENAGEM - TERRAPLENAGEM | G15: atenção: se preço unitário ficar rosa é pq tem algo de errado no BDI | H15: =SUM(I104:I123)+I125 -> 819.46 | I15: =F104 -> M3 | J15: =J100 -> 143847.81 | K15: =K100 -> 0.03807277 | L15: =IF(SUBTOTAL(109,J101:J181)=J15,"OK","ERRO") -> OK | M15: =IF(K15=J15/J$930,"OK","ERRO") -> OK | N15: =ROUND(SUM(O104:O125)/240,0) -> 1
B16: =A183 -> 4 | C16: =D183 -> MICRODRENAGEM - GALERIAS | H16: =SUM(H196:H216)+SUM(H235:H241) -> 604.81 | I16: =F196 -> M | J16: =J183 -> 212644.3 | K16: =K183 -> 0.056281409 | L16: =IF(SUBTOTAL(109,J184:J242)=J16,"OK","ERRO") -> OK | M16: =IF(K16=J16/J$930,"OK","ERRO") -> OK | N16: =ROUND(SUM(O196:O242)/240,0) -> #VALUE!
B17: =A244 -> 5 | C17: =D244 -> MICRODRENAGEM - DISPOSITIVOS AUXILIARES | H17: =SUM(H245:H251)+SUM(H261:H281) -> 42 | I17: =F245 -> UN | J17: =J244 -> 259192.7 | K17: =K244 -> 0.068601559 | L17: =IF(SUBTOTAL(109,J245:J292)=J17,"OK","ERRO") -> OK | M17: =IF(K17=J17/J$930,"OK","ERRO") -> OK | N17: =ROUND(SUM(O245:O271)/240,0) -> #VALUE!
B18: =A294 -> 5 | C18: =D294 -> MICRODRENAGEM - SERVIÇOS DE ESTRUTURAS | H18: =SUM(H299:H300) -> 0 | I18: =F299 -> M3 | J18: =J294 -> 0 | K18: =K294 -> 0 | L18: =IF(SUBTOTAL(109,J295:J312)=J18,"OK","ERRO") -> OK | M18: =IF(K18=J18/J$930,"OK","ERRO") -> OK
B19: =A314 -> 5 | C19: =D314 -> MICRODRENAGEM - BACIA DE AMORTECIMENTO | H19: =SUM(H323:H324) -> 0 | I19: =F323 -> M3 | J19: =J314 -> 0 | K19: =K314 -> 0 | L19: =IF(SUBTOTAL(109,J316:J411)=J19,"OK","ERRO") -> OK | M19: =IF(K19=J19/J$930,"OK","ERRO") -> OK | N19: =ROUND(O323/240,0) -> 0
B20: =A413 -> 5 | C20: =D413 -> DRENAGEM DE LENÇOL FREÁTICO | H20: =Dre_Profunda!I3+Dre_Profunda!I15 -> 0 | I20: =F414 -> M | J20: =J413 -> 0 | K20: =K413 -> 0 | L20: =IF(SUBTOTAL(109,J414:J446)=J20,"OK","ERRO") -> OK | M20: =IF(K20=J20/J$930,"OK","ERRO") -> OK | N20: =ROUND(O416/240,0) -> 0
B21: =A448 -> 6 | C21: =D448 -> MICRODRENAGEM - RECOMPOSIÇÃO DO PAVIMENTO | H21: =H460 -> 5.6 | I21: =F460 -> M2 | J21: =J448 -> 640.4 | K21: =K448 -> 0.0001694972 | L21: =IF(SUBTOTAL(109,J449:J504)=J21,"OK","ERRO") -> OK | M21: =IF(K21=J21/J$930,"OK","ERRO") -> OK | N21: =ROUND(SUM(O414:O423)/240,0) -> 0
B22: =A506 -> 6 | C22: =D506 -> RESTAURAÇÃO DO PAVIMENTO - RECUPERAÇÃO PRÉVIA DO PAVIMENTO | H22: =H532+H533 -> 0 | I22: =F532 -> M2 | J22: =J506 -> 0 | K22: =K506 -> 0 | L22: =IF(SUBTOTAL(109,J507:J580)=J22,"OK","ERRO") -> OK | M22: =IF(K22=J22/J$930,"OK","ERRO") -> OK
