Workbook
Name \c: #REF!
Name \c: #REF!
Name \c: [1]SID_NI_5!#REF!
Name \c: #REF!
Name \c: #REF!
Name \c: #REF!
Name \c: #REF!
Name \c: #REF!
Name \c: #REF!
Name \c: #REF!
Name \c: #REF!
Name \c: #REF!
Name \c: #REF!
Name \D: #REF!
Name \D: #REF!
Name \D: #REF!
Name \G: #REF!
Name \G: #REF!
Name \I: #REF!
Name \I: #REF!
Name \I: #REF!
Name \I: #REF!
Name \I: #REF!
Name \I: #REF!
Name \I: #REF!
Name \I: #REF!
Name \I: #REF!
Name \I: #REF!
Name \M: #REF!
Name \p: #REF!
Name \p: #REF!
Name \p: [1]SID_NI_5!#REF!
Name \p: #REF!
Name \p: #REF!
Name \p: #REF!
Name \p: #REF!
Name \p: #REF!
Name \p: #REF!
Name \p: #REF!
Name \p: #REF!
Name \p: #REF!
Name \p: #REF!
Name \R: #REF!
Name \R: #REF!
Name \R: #REF!
Name \S: [2]COMPOS1!#REF!
Name \S: #REF!
Name \S: #REF!
Name \S: #REF!
Name \S: #REF!
Name \S: #REF!
Name \t: [2]COMPOS1!#REF!
Name \t: #REF!
Name \t: #REF!
Name \t: #REF!
Name \t: #REF!
Name \t: #REF!
Name \Y: #REF!
Name \Y: #REF!
Name \Y: #REF!

Sheet RESUMO DES
B2: Obra | D2: Bancos | E2: B.D.I. | H2: Encargos Sociais
B3: =RESUMO!B3 -> Projeto Executivo de Infraestrutura Urbana - Jardim Basilia - Três Lagoas R09 | D3: =RESUMO!D3 -> SINAPI - 01/2026 - MS; SICRO3 - 10/2025 - MS; AGESUL 01/2026 | E3: Serviço: 30,66% Material: 20,92% | H3: Desonerado
B4: Planilha Orçamentária Resumida
B5: Item | C5: Descrição | I5: Total | J5: Peso (%)
B6: 1 | C6: SERVIÇOS PRELIMINARES | I6: ='ORÇ. SINTÉTICO'!T9 -> 93245.84 | J6: =I6/$H$15 -> 0.011569866
B7: 2 | C7: DRENAGEM DE ÁGUAS PLUVIAIS | I7: ='ORÇ. SINTÉTICO'!T31 -> 2845944.2 | J7: =I7/$H$15 -> 0.35312238
B8: 3 | C8: PAVIMENTAÇÃO ASFÁLTICA | I8: ='ORÇ. SINTÉTICO'!T88 -> 4484712.8 | J8: =I8/$H$15 -> 0.55645943
B9: 4 | C9: CALÇADA E ACESSIBILIDADE | I9: ='ORÇ. SINTÉTICO'!T116 -> 139389.85 | J9: =I9/$H$15 -> 0.017295377
B10: 5 | C10: SINALIZAÇÃO VIÁRIA PERMANENTE | I10: ='ORÇ. SINTÉTICO'!T124 -> 118791.98 | J10: =I10/$H$15 -> 0.01473961
B11: 6 | C11: ADMINISTRAÇÃO LOCAL DO CANTEIRO DE OBRAS | I11: ='ORÇ. SINTÉTICO'!T130 -> 377285.97 | J11: =I11/$H$15 -> 0.046813329 | K11: =SUM(I6:I11) -> 8059370.6 | L11: =K11=H15 -> TRUE
F13: Total sem BDI | H13: ='ORÇ. SINTÉTICO'!S133 -> 6271782.8
F14: Total do BDI | H14: ='ORÇ. SINTÉTICO'!S134 -> 1787587.8
F15: Total Geral | H15: ='ORÇ. SINTÉTICO'!S135 -> 8059370.6

Sheet RESUMO
B2: Obra | D2: Bancos | E2: B.D.I. | H2: Encargos Sociais
B3: Projeto Executivo de Infraestrutura Urbana - Jardim Basilia - Três Lagoas R09 | D3: SINAPI - 01/2026 - MS; SICRO3 - 10/2025 - MS; AGESUL 01/2026 | E3: Serviço: 24,23% Material: 15,27% | H3: Não Desonerado
B4: Planilha Orçamentária Resumida
B5: Item | C5: Descrição | I5: Total | J5: Peso (%)
B6: 1 | C6: SERVIÇOS PRELIMINARES | I6: ='ORÇ. SINTÉTICO'!N9 -> 90506.22 | J6: =I6/$H$15 -> 0.01167047
B7: 2 | C7: DRENAGEM DE ÁGUAS PLUVIAIS | I7: ='ORÇ. SINTÉTICO'!N31 -> 2741273.4 | J7: =I7/$H$15 -> 0.35347789
B8: 3 | C8: PAVIMENTAÇÃO ASFÁLTICA | I8: ='ORÇ. SINTÉTICO'!N88 -> 4292066.5 | J8: =I8/$H$15 -> 0.55344739
B9: 4 | C9: CALÇADA E ACESSIBILIDADE | I9: ='ORÇ. SINTÉTICO'!N116 -> 133824.13 | J9: =I9/$H$15 -> 0.017256167
B10: 5 | C10: SINALIZAÇÃO VIÁRIA PERMANENTE | I10: ='ORÇ. SINTÉTICO'!N124 -> 113286.68 | J10: =I10/$H$15 -> 0.014607933
B11: 6 | C11: ADMINISTRAÇÃO LOCAL DO CANTEIRO DE OBRAS | I11: ='ORÇ. SINTÉTICO'!N130 -> 384191.21 | J11: =I11/$H$15 -> 0.049540151 | L11: =SUM(I6:I11) -> 7755148.1 | M11: =L11=H15 -> TRUE
F13: Total sem BDI | H13: ='ORÇ. SINTÉTICO'!M133 -> 6343333.2
F14: Total do BDI | H14: ='ORÇ. SINTÉTICO'!M134 -> 1411814.8
F15: Total Geral | H15: ='ORÇ. SINTÉTICO'!M135 -> 7755148.1

Sheet ORÇ. SINTÉTICO
B3: Obra | F3: Bancos | J3: B.D.I. | P3: B.D.I.:
B4: =RESUMO!B3 -> Projeto Executivo de Infraestrutura Urbana - Jardim Basilia - Três Lagoas R09 | F4: =RESUMO!D3 -> SINAPI - 01/2026 - MS; SICRO3 - 10/2025 - MS; AGESUL 01/2026 | J4: Serviços: | K4: 0.2423 | P4: Serviços: | Q4: 0.3066
J5: Materiais: | K5: 0.1527 | P5: Materiais: | Q5: 0.2092
B6: Planilha Orçamentária Sintética
J7: Não Desonerado | P7: Desonerado
B8: Item | C8: Código | D8: Banco | E8: Descrição | F8: DMT | G8: Tipo | H8: Und | I8: Quant. | J8: Valor Unit | K8: BDI | L8: Valor Unit com BDI | M8: Total SEM BDI | N8: Total COM BDI | O8: Peso (%) | P8: Valor Unit | Q8: BDI | R8: Valor Unit com BDI | S8: Total SEM BDI | T8: Total COM BDI | U8: Peso (%)
B9: 1 | E9: SERVIÇOS PRELIMINARES | I9: 1 | M9: =M10+M24 -> 73826.98 | N9: =N10+N24 -> 90506.22 | O9: =N9/$M$135 -> 0.01167047 | S9: =S10+S24 -> 72366.18 | T9: =T10+T24 -> 93245.84 | U9: =T9/$S$135 -> 0.011569866
B10: 1.1 | E10: SERVIÇOS PRELIMINARES | I10: 1 | M10: =TRUNC(SUM(M11:M23),2) -> 60255.9 | N10: =TRUNC(SUM(N11:N23),2) -> 73648.55 | O10: =N10/$M$135 -> 0.0094967303 | S10: =SUM(S11:S23) -> 59330.99 | T10: =SUM(T11:T23) -> 76216.54 | U10: =T10/$S$135 -> 0.0094568849
B11: 1.1.1 | C11: =INDEX('Orçamento Analítico'!$B:$M,MATCH('ORÇ. SINTÉTICO'!B11,'Orçamento Analítico'!$B:$B,0)+1,2) -> 103689 | D11: =INDEX('Orçamento Analítico'!$B:$M,MATCH('ORÇ. SINTÉTICO'!B11,'Orçamento Analítico'!$B:$B,0)+1,3) -> SINAPI | E11: =INDEX('Orçamento Analítico'!$B:$M,MATCH('ORÇ. SINTÉTICO'!B11,'Orçamento Analítico'!$B:$B,0)+1,4) -> FORNECIMENTO E INSTALAÇÃO DE PLACA DE OBRA COM CHAPA GALVANIZADA E ESTRUTURA DE MADEIRA. AF_03/2022_PS | G11: =INDEX('Orçamento Analítico'!$B:$M,MATCH('ORÇ. SINTÉTICO'!$B11,'Orçamento Analítico'!$B:$B,0)+1,5) -> Sinalização Vertical Viária | H11: =INDEX('Orçamento Analítico'!$B:$M,MATCH('ORÇ. SINTÉTICO'!B11,'Orçamento Analítico'!$B:$B,0)+1,7) -> m² | I11: 8 | J11: =INDEX('Orçamento Analítico'!$B:$M,MATCH(B11,'Orçamento Analítico'!$B:$B,0)+1,10) -> 458.76 | K11: =IF((OR($G11="MATERIAL",$G11="Equipamento")),K$5,K$4) -> 0.2423 | L11: =TRUNC(J11*(1+K11),2) -> 569.91 | M11: =TRUNC($I11 * J11, 2) -> 3670.08 | N11: =TRUNC($I11 * L11, 2) -> 4559.28 | O11: =N11/$M$135 -> 0.00058790367 | P11: =INDEX('Orçamento Analítico'!$B:$M,MATCH(B11,'Orçamento Analítico'!$B:$B,0)+1,12) -> 456.44 | Q11: =IF((OR($G11="MATERIAL",$G11="Equipamento")),Q$5,Q$4) -> 0.3066 | R11: =TRUNC(P11*(1+Q11),2) -> 596.38 | S11: =TRUNC($I11 * P11, 2) -> 3651.52 | T11: =TRUNC($I11 * R11, 2) -> 4771.04 | U11: =T11/$S$135 -> 0.00059198667
B12: 1.1.2 | C12: =INDEX('Orçamento Analítico'!$B:$M,MATCH('ORÇ. SINTÉTICO'!B12,'Orçamento Analítico'!$B:$B,0)+1,2) -> 1616 | D12: =INDEX('Orçamento Analítico'!$B:$M,MATCH('ORÇ. SINTÉTICO'!B12,'Orçamento Analítico'!$B:$B,0)+1,3) -> AGESUL | E12: =INDEX('Orçamento Analítico'!$B:$M,MATCH('ORÇ. SINTÉTICO'!B12,'Orçamento Analítico'!$B:$B,0)+1,4) -> LOCACAO DE BANHEIRO QUIMICO, INCLUSO 4 HIGIENIZAÇOES, MOBILIZACAO E DESMOBILIZACAO | G12: =INDEX('Orçamento Analítico'!$B:$M,MATCH('ORÇ. SINTÉTICO'!$B12,'Orçamento Analítico'!$B:$B,0)+1,5) -> Material | H12: =INDEX('Orçamento Analítico'!$B:$M,MATCH('ORÇ. SINTÉTICO'!B12,'Orçamento Analítico'!$B:$B,0)+1,7) -> MES | I12: 8 | J12: =INDEX('Orçamento Analítico'!$B:$M,MATCH(B12,'Orçamento Analítico'!$B:$B,0)+1,10) -> 800 | K12: =IF((OR($G12="MATERIAL",$G12="Equipamento")),K$5,K$4) -> 0.1527 | L12: =TRUNC(J12*(1+K12),2) -> 922.16 | M12: =TRUNC($I12 * J12, 2) -> 6400 | N12: =TRUNC($I12 * L12, 2) -> 7377.28 | O12: =N12/$M$135 -> 0.00095127519 | P12: =INDEX('Orçamento Analítico'!$B:$M,MATCH(B12,'Orçamento Analítico'!$B:$B,0)+1,12) -> 800 | Q12: =IF((OR($G12="MATERIAL",$G12="Equipamento")),Q$5,Q$4) -> 0.2092 | R12: =TRUNC(P12*(1+Q12),2) -> 967.36 | S12: =TRUNC($I12 * P12, 2) -> 6400 | T12: =TRUNC($I12 * R12, 2) -> 7738.88 | U12: =T12/$S$135 -> 0.00096023379
B13: 1.1.3 | C13: =INDEX('Orçamento Analítico'!$B:$M,MATCH('ORÇ. SINTÉTICO'!B13,'Orçamento Analítico'!$B:$B,0)+1,2) -> 00010776 | D13: =INDEX('Orçamento Analítico'!$B:$M,MATCH('ORÇ. SINTÉTICO'!B13,'Orçamento Analítico'!$B:$B,0)+1,3) -> SINAPI | E13: =INDEX('Orçamento Analítico'!$B:$M,MATCH('ORÇ. SINTÉTICO'!B13,'Orçamento Analítico'!$B:$B,0)+1,4) -> LOCACAO DE CONTAINER 2,30 X 6,00 M, ALT. 2,50 M, PARA ESCRITORIO, SEM DIVISORIAS INTERNAS E SEM SANITARIO (NAO INCLUI MOBILIZACAO/DESMOBILIZACAO) | G13: =INDEX('Orçamento Analítico'!$B:$M,MATCH('ORÇ. SINTÉTICO'!$B13,'Orçamento Analítico'!$B:$B,0)+1,5) -> Equipamento | H13: =INDEX('Orçamento Analítico'!$B:$M,MATCH('ORÇ. SINTÉTICO'!B13,'Orçamento Analítico'!$B:$B,0)+1,7) -> MES | I13: 8 | J13: =INDEX('Orçamento Analítico'!$B:$M,MATCH(B13,'Orçamento Analítico'!$B:$B,0)+1,10) -> 725.58 | K13: 0.1527 | L13: =TRUNC(J13*(1+K13),2) -> 836.37 | M13: =TRUNC($I13 * J13, 2) -> 5804.64 | N13: =TRUNC($I13 * L13, 2) -> 6690.96 | O13: =N13/$M$135 -> 0.00086277656 | P13: =INDEX('Orçamento Analítico'!$B:$M,MATCH(B13,'Orçamento Analítico'!$B:$B,0)+1,12) -> 725.58 | Q13: =IF((OR($G13="MATERIAL",$G13="Equipamento")),Q$5,Q$4) -> 0.2092 | R13: =TRUNC(P13*(1+Q13),2) -> 877.37 | S13: =TRUNC($I13 * P13, 2) -> 5804.64 | T13: =TRUNC($I13 * R13, 2) -> 7018.96 | U13: =T13/$S$135 -> 0.00087090672
B14: 1.1.4 | C14: =INDEX('Orçamento Analítico'!$B:$M,MATCH('ORÇ. SINTÉTICO'!B14,'Orçamento Analítico'!$B:$B,0)+1,2) -> PRE.LIG.ÁGUA | D14: =INDEX('Orçamento Analítico'!$B:$M,MATCH('ORÇ. SINTÉTICO'!B14,'Orçamento Analítico'!$B:$B,0)+1,3) -> Próprio | E14: =INDEX('Orçamento Analítico'!$B:$M,MATCH('ORÇ. SINTÉTICO'!B14,'Orçamento Analítico'!$B:$B,0)+1,4) -> LIGAÇÃO PROVISORIA DE ÁGUA | G14: =INDEX('Orçamento Analítico'!$B:$M,MATCH('ORÇ. SINTÉTICO'!$B14,'Orçamento Analítico'!$B:$B,0)+1,5) -> SEDI - SERVIÇOS DIVERSOS | H14: =INDEX('Orçamento Analítico'!$B:$M,MATCH('ORÇ. SINTÉTICO'!B14,'Orçamento Analítico'!$B:$B,0)+1,7) -> un | I14: 1 | J14: =INDEX('Orçamento Analítico'!$B:$M,MATCH(B14,'Orçamento Analítico'!$B:$B,0)+1,10) -> 995.63 | K14: =IF((OR($G14="MATERIAL",$G14="Equipamento")),K$5,K$4) -> 0.2423 | L14: =TRUNC(J14*(1+K14),2) -> 1236.87 | M14: =TRUNC($I14 * J14, 2) -> 995.63 | N14: =TRUNC($I14 * L14, 2) -> 1236.87 | O14: =N14/$M$135 -> 0.00015949018 | P14: =INDEX('Orçamento Analítico'!$B:$M,MATCH(B14,'Orçamento Analítico'!$B:$B,0)+1,12) -> 969.34 | Q14: =IF((OR($G14="MATERIAL",$G14="Equipamento")),Q$5,Q$4) -> 0.3066 | R14: =TRUNC(P14*(1+Q14),2) -> 1266.53 | S14: =TRUNC($I14 * P14, 2) -> 969.34 | T14: =TRUNC($I14 * R14, 2) -> 1266.53 | U14: =T14/$S$135 -> 0.00015714999
B15: 1.1.5 | C15: =INDEX('Orçamento Analítico'!$B:$M,MATCH('ORÇ. SINTÉTICO'!B15,'Orçamento Analítico'!$B:$B,0)+1,2) -> 00005033 | D15: =INDEX('Orçamento Analítico'!$B:$M,MATCH('ORÇ. SINTÉTICO'!B15,'Orçamento Analítico'!$B:$B,0)+1,3) -> SINAPI | E15: =INDEX('Orçamento Analítico'!$B:$M,MATCH('ORÇ. SINTÉTICO'!B15,'Orçamento Analítico'!$B:$B,0)+1,4) -> POSTE DE CONCRETO ARMADO DE SECAO DUPLO T, EXTENSAO DE 9,00 M, RESISTENCIA DE 300 A 400 DAN, TIPO B OU D | G15: =INDEX('Orçamento Analítico'!$B:$M,MATCH('ORÇ. SINTÉTICO'!$B15,'Orçamento Analítico'!$B:$B,0)+1,5) -> Material | H15: =INDEX('Orçamento Analítico'!$B:$M,MATCH('ORÇ. SINTÉTICO'!B15,'Orçamento Analítico'!$B:$B,0)+1,7) -> UN | I15: 1 | J15: =INDEX('Orçamento Analítico'!$B:$M,MATCH(B15,'Orçamento Analítico'!$B:$B,0)+1,10) -> 1149 | K15: =IF((OR($G15="MATERIAL",$G15="Equipamento")),K$5,K$4) -> 0.1527 | L15: =TRUNC(J15*(1+K15),2) -> 1324.45 | M15: =TRUNC($I15 * J15, 2) -> 1149 | N15: =TRUNC($I15 * L15, 2) -> 1324.45 | O15: =N15/$M$135 -> 0.00017078333 | P15: =INDEX('Orçamento Analítico'!$B:$M,MATCH(B15,'Orçamento Analítico'!$B:$B,0)+1,12) -> 1149 | Q15: =IF((OR($G15="MATERIAL",$G15="Equipamento")),Q$5,Q$4) -> 0.2092 | R15: =TRUNC(P15*(1+Q15),2) -> 1389.37 | S15: =TRUNC($I15 * P15, 2) -> 1149 | T15: =TRUNC($I15 * R15, 2) -> 1389.37 | U15: =T15/$S$135 -> 0.00017239187
B16: 1.1.6 | C16: =INDEX('Orçamento Analítico'!$B:$M,MATCH('ORÇ. SINTÉTICO'!B16,'Orçamento Analítico'!$B:$B,0)+1,2) -> 101507 | D16: =INDEX('Orçamento Analítico'!$B:$M,MATCH('ORÇ. SINTÉTICO'!B16,'Orçamento Analítico'!$B:$B,0)+1,3) -> SINAPI | E16: =INDEX('Orçamento Analítico'!$B:$M,MATCH('ORÇ. SINTÉTICO'!B16,'Orçamento Analítico'!$B:$B,0)+1,4) -> ENTRADA DE ENERGIA ELÉTRICA, AÉREA, TRIFÁSICA, COM CAIXA DE SOBREPOR, CABO DE 25 MM2 E DISJUNTOR DIN 50A (NÃO INCLUSO O POSTE DE CONCRETO). AF_07/2020_PS | G16: =INDEX('Orçamento Analítico'!$B:$M,MATCH('ORÇ. SINTÉTICO'!$B16,'Orçamento Analítico'!$B:$B,0)+1,5) -> Instalações Elétricas - Rede de Distribuição | H16: =INDEX('Orçamento Analítico'!$B:$M,MATCH('ORÇ. SINTÉTICO'!B16,'Orçamento Analítico'!$B:$B,0)+1,7) -> UN | I16: 1 | J16: =INDEX('Orçamento Analítico'!$B:$M,MATCH(B16,'Orçamento Analítico'!$B:$B,0)+1,10) -> 2256.74 | K16: =IF((OR($G16="MATERIAL",$G16="Equipamento")),K$5,K$4) -> 0.2423 | L16: =TRUNC(J16*(1+K16),2) -> 2803.54 | M16: =TRUNC($I16 * J16, 2) -> 2256.74 | N16: =TRUNC($I16 * L16, 2) -> 2803.54 | O16: =N16/$M$135 -> 0.00036150696 | P16: =INDEX('Orçamento Analítico'!$B:$M,MATCH(B16,'Orçamento Analítico'!$B:$B,0)+1,12) -> 2225.68 | Q16: =IF((OR($G16="MATERIAL",$G16="Equipamento")),Q$5,Q$4) -> 0.3066 | R16: =TRUNC(P16*(1+Q16),2) -> 2908.07 | S16: =TRUNC($I16 * P16, 2) -> 2225.68 | T16: =TRUNC($I16 * R16, 2) -> 2908.07 | U16: =T16/$S$135 -> 0.00036083091
B17: 1.1.7 | C17: =INDEX('Orçamento Analítico'!$B:$M,MATCH('ORÇ. SINTÉTICO'!B17,'Orçamento Analítico'!$B:$B,0)+1,2) -> 101203 | D17: =INDEX('Orçamento Analítico'!$B:$M,MATCH('ORÇ. SINTÉTICO'!B17,'Orçamento Analítico'!$B:$B,0)+1,3) -> SINAPI | E17: =INDEX('Orçamento Analítico'!$B:$M,MATCH('ORÇ. SINTÉTICO'!B17,'Orçamento Analítico'!$B:$B,0)+1,4) -> CERCA COM MOURÕES DE MADEIRA ROLIÇA, DIÂMETRO 11 CM, ESPAÇAMENTO DE 2,5 M, ALTURA LIVRE DE 1,7 M, CRAVADOS 0,5 M, COM 5 FIOS DE ARAME DE AÇO OVALADO 15X17 - FORNECIMENTO E INSTALAÇÃO. AF_05/2020 | G17: =INDEX('Orçamento Analítico'!$B:$M,MATCH('ORÇ. SINTÉTICO'!$B17,'Orçamento Analítico'!$B:$B,0)+1,5) -> Cercas, Protetores e Alambrados | H17: =INDEX('Orçamento Analítico'!$B:$M,MATCH('ORÇ. SINTÉTICO'!B17,'Orçamento Analítico'!$B:$B,0)+1,7) -> M | I17: =PRELIMINARES!G12 -> 400 | J17: =INDEX('Orçamento Analítico'!$B:$M,MATCH(B17,'Orçamento Analítico'!$B:$B,0)+1,10) -> 38.51 | K17: =IF((OR($G17="MATERIAL",$G17="Equipamento")),K$5,K$4) -> 0.2423 | L17: =TRUNC(J17*(1+K17),2) -> 47.84 | M17: =TRUNC($I17 * J17, 2) -> 15404 | N17: =TRUNC($I17 * L17, 2) -> 19136 | O17: =N17/$M$135 -> 0.0024675222 | P17: =INDEX('Orçamento Analítico'!$B:$M,MATCH(B17,'Orçamento Analítico'!$B:$B,0)+1,12) -> 37.43 | Q17: =IF((OR($G17="MATERIAL",$G17="Equipamento")),Q$5,Q$4) -> 0.3066 | R17: =TRUNC(P17*(1+Q17),2) -> 48.9 | S17: =TRUNC($I17 * P17, 2) -> 14972 | T17: =TRUNC($I17 * R17, 2) -> 19560 | U17: =T17/$S$135 -> 0.0024269885
B18: 1.1.8 | C18: =INDEX('Orçamento Analítico'!$B:$M,MATCH('ORÇ. SINTÉTICO'!B18,'Orçamento Analítico'!$B:$B,0)+1,2) -> 96622 | D18: =INDEX('Orçamento Analítico'!$B:$M,MATCH('ORÇ. SINTÉTICO'!B18,'Orçamento Analítico'!$B:$B,0)+1,3) -> SINAPI | E18: =INDEX('Orçamento Analítico'!$B:$M,MATCH('ORÇ. SINTÉTICO'!B18,'Orçamento Analítico'!$B:$B,0)+1,4) -> LASTRO COM MATERIAL GRANULAR, APLICADO EM PISOS OU LAJES SOBRE SOLO, ESPESSURA DE *5 CM*. AF_01/2024 | G18: =INDEX('Orçamento Analítico'!$B:$M,MATCH('ORÇ. SINTÉTICO'!$B18,'Orçamento Analítico'!$B:$B,0)+1,5) -> Lastro | H18: =INDEX('Orçamento Analítico'!$B:$M,MATCH('ORÇ. SINTÉTICO'!B18,'Orçamento Analítico'!$B:$B,0)+1,7) -> m³ | I18: =PRELIMINARES!G13 -> 7.5 | J18: =INDEX('Orçamento Analítico'!$B:$M,MATCH(B18,'Orçamento Analítico'!$B:$B,0)+1,10) -> 209.31 | K18: =IF((OR($G18="MATERIAL",$G18="Equipamento")),K$5,K$4) -> 0.2423 | L18: =TRUNC(J18*(1+K18),2) -> 260.02 | M18: =TRUNC($I18 * J18, 2) -> 1569.82 | N18: =TRUNC($I18 * L18, 2) -> 1950.15 | O18: =N18/$M$135 -> 0.00025146522 | P18: =INDEX('Orçamento Analítico'!$B:$M,MATCH(B18,'Orçamento Analítico'!$B:$B,0)+1,12) -> 205.22 | Q18: =IF((OR($G18="MATERIAL",$G18="Equipamento")),Q$5,Q$4) -> 0.3066 | R18: =TRUNC(P18*(1+Q18),2) -> 268.14 | S18: =TRUNC($I18 * P18, 2) -> 1539.15 | T18: =TRUNC($I18 * R18, 2) -> 2011.05 | U18: =T18/$S$135 -> 0.00024952941
B19: 1.1.9 | C19: =INDEX('Orçamento Analítico'!$B:$M,MATCH('ORÇ. SINTÉTICO'!B19,'Orçamento Analítico'!$B:$B,0)+1,2) -> 100982 | D19: =INDEX('Orçamento Analítico'!$B:$M,MATCH('ORÇ. SINTÉTICO'!B19,'Orçamento Analítico'!$B:$B,0)+1,3) -> SINAPI | E19: =INDEX('Orçamento Analítico'!$B:$M,MATCH('ORÇ. SINTÉTICO'!B19,'Orçamento Analítico'!$B:$B,0)+1,4) -> CARGA, MANOBRA E DESCARGA DE ENTULHO EM CAMINHÃO BASCULANTE 10 M³ - CARGA COM ESCAVADEIRA HIDRÁULICA (CAÇAMBA DE 0,80 M³ / 111 HP) E DESCARGA LIVRE (UNIDADE: M3). AF_07/2020 | G19: =INDEX('Orçamento Analítico'!$B:$M,MATCH('ORÇ. SINTÉTICO'!$B19,'Orçamento Analítico'!$B:$B,0)+1,5) -> Transporte, Carga e Descarga de Materiais | H19: =INDEX('Orçamento Analítico'!$B:$M,MATCH('ORÇ. SINTÉTICO'!B19,'Orçamento Analítico'!$B:$B,0)+1,7) -> m³ | I19: =PRELIMINARES!F21 -> 10.35 | J19: =INDEX('Orçamento Analítico'!$B:$M,MATCH(B19,'Orçamento Analítico'!$B:$B,0)+1,10) -> 9.07 | K19: =IF((OR($G19="MATERIAL",$G19="Equipamento")),K$5,K$4) -> 0.2423 | L19: =TRUNC(J19*(1+K19),2) -> 11.26 | M19: =TRUNC($I19 * J19, 2) -> 93.87 | N19: =TRUNC($I19 * L19, 2) -> 116.54 | O19: =N19/$M$135 -> 1.5027437e-05 | P19: =INDEX('Orçamento Analítico'!$B:$M,MATCH(B19,'Orçamento Analítico'!$B:$B,0)+1,12) -> 8.97 | Q19: =IF((OR($G19="MATERIAL",$G19="Equipamento")),Q$5,Q$4) -> 0.3066 | R19: =TRUNC(P19*(1+Q19),2) -> 11.72 | S19: =TRUNC($I19 * P19, 2) -> 92.83 | T19: =TRUNC($I19 * R19, 2) -> 121.3 | U19: =T19/$S$135 -> 1.5050803e-05
B20: 1.1.10 | C20: =INDEX('Orçamento Analítico'!$B:$M,MATCH('ORÇ. SINTÉTICO'!B20,'Orçamento Analítico'!$B:$B,0)+1,2) -> 95875 | D20: =INDEX('Orçamento Analítico'!$B:$M,MATCH('ORÇ. SINTÉTICO'!B20,'Orçamento Analítico'!$B:$B,0)+1,3) -> SINAPI | E20: =INDEX('Orçamento Analítico'!$B:$M,MATCH('ORÇ. SINTÉTICO'!B20,'Orçamento Analítico'!$B:$B,0)+1,4) -> TRANSPORTE COM CAMINHÃO BASCULANTE DE 10 M³, EM VIA URBANA PAVIMENTADA, DMT ATÉ 30 KM (UNIDADE: M3XKM). AF_07/2020 | F20: =DMT!F9 -> 18.2 | G20: =INDEX('Orçamento Analítico'!$B:$M,MATCH('ORÇ. SINTÉTICO'!$B20,'Orçamento Analítico'!$B:$B,0)+1,5) -> Transporte, Carga e Descarga de Materiais | H20: =INDEX('Orçamento Analítico'!$B:$M,MATCH('ORÇ. SINTÉTICO'!B20,'Orçamento Analítico'!$B:$B,0)+1,7) -> M3XKM | I20: =PRELIMINARES!F20 -> 188.37 | J20: =INDEX('Orçamento Analítico'!$B:$M,MATCH(B20,'Orçamento Analítico'!$B:$B,0)+1,10) -> 2.5 | K20: =IF((OR($G20="MATERIAL",$G20="Equipamento")),K$5,K$4) -> 0.2423 | L20: =TRUNC(J20*(1+K20),2) -> 3.1 | M20: =TRUNC($I20 * J20, 2) -> 470.92 | N20: =TRUNC($I20 * L20, 2) -> 583.94 | O20: =N20/$M$135 -> 7.5297079e-05 | P20: =INDEX('Orçamento Analítico'!$B:$M,MATCH(B20,'Orçamento Analítico'!$B:$B,0)+1,12) -> 2.48 | Q20: =IF((OR($G20="MATERIAL",$G20="Equipamento")),Q$5,Q$4) -> 0.3066 | R20: =TRUNC(P20*(1+Q20),2) -> 3.24 | S20: =TRUNC($I20 * P20, 2) -> 467.15 | T20: =TRUNC($I20 * R20, 2) -> 610.31 | U20: =T20/$S$135 -> 7.5726757e-05
B21: 1.1.11 | C21: =INDEX('Orçamento Analítico'!$B:$M,MATCH('ORÇ. SINTÉTICO'!B21,'Orçamento Analítico'!$B:$B,0)+1,2) -> PRE.SIN.ADVERT. | D21: =INDEX('Orçamento Analítico'!$B:$M,MATCH('ORÇ. SINTÉTICO'!B21,'Orçamento Analítico'!$B:$B,0)+1,3) -> Próprio | E21: =INDEX('Orçamento Analítico'!$B:$M,MATCH('ORÇ. SINTÉTICO'!B21,'Orçamento Analítico'!$B:$B,0)+1,4) -> SINALIZAÇÃO DE ADVERTÊNCIA DE OBRA COM PLACA (FUNDO LARANJA) SOBRE CAVALETE, CONFORME ABNT-NBR-7678 | G21: =INDEX('Orçamento Analítico'!$B:$M,MATCH('ORÇ. SINTÉTICO'!$B21,'Orçamento Analítico'!$B:$B,0)+1,5) -> SEDI - SERVIÇOS DIVERSOS | H21: =INDEX('Orçamento Analítico'!$B:$M,MATCH('ORÇ. SINTÉTICO'!B21,'Orçamento Analítico'!$B:$B,0)+1,7) -> un | I21: =PRELIMINARES!G14 -> 29 | J21: =INDEX('Orçamento Analítico'!$B:$M,MATCH(B21,'Orçamento Analítico'!$B:$B,0)+1,10) -> 492.48 | K21: =IF((OR($G21="MATERIAL",$G21="Equipamento")),K$5,K$4) -> 0.2423 | L21: =TRUNC(J21*(1+K21),2) -> 611.8 | M21: =TRUNC($I21 * J21, 2) -> 14281.92 | N21: =TRUNC($I21 * L21, 2) -> 17742.2 | O21: =N21/$M$135 -> 0.0022877964 | P21: =INDEX('Orçamento Analítico'!$B:$M,MATCH(B21,'Orçamento Analítico'!$B:$B,0)+1,12) -> 489.04 | Q21: =IF((OR($G21="MATERIAL",$G21="Equipamento")),Q$5,Q$4) -> 0.3066 | R21: =TRUNC(P21*(1+Q21),2) -> 638.97 | S21: =TRUNC($I21 * P21, 2) -> 14182.16 | T21: =TRUNC($I21 * R21, 2) -> 18530.13 | U21: =T21/$S$135 -> 0.0022992031
B22: 1.1.12 | C22: =INDEX('Orçamento Analítico'!$B:$M,MATCH('ORÇ. SINTÉTICO'!B22,'Orçamento Analítico'!$B:$B,0)+1,2) -> PRE.ISOL.OBRA | D22: =INDEX('Orçamento Analítico'!$B:$M,MATCH('ORÇ. SINTÉTICO'!B22,'Orçamento Analítico'!$B:$B,0)+1,3) -> Próprio | E22: =INDEX('Orçamento Analítico'!$B:$M,MATCH('ORÇ. SINTÉTICO'!B22,'Orçamento Analítico'!$B:$B,0)+1,4) -> ISOLAMENTO DE OBRA COM TELA PLASTICA COM MALHA DE 5MM | G22: =INDEX('Orçamento Analítico'!$B:$M,MATCH('ORÇ. SINTÉTICO'!$B22,'Orçamento Analítico'!$B:$B,0)+1,5) -> SERP - SERVIÇOS PRELIMINARES | H22: =INDEX('Orçamento Analítico'!$B:$M,MATCH('ORÇ. SINTÉTICO'!B22,'Orçamento Analítico'!$B:$B,0)+1,7) -> m² | I22: =PRELIMINARES!G15 -> 633 | J22: =INDEX('Orçamento Analítico'!$B:$M,MATCH(B22,'Orçamento Analítico'!$B:$B,0)+1,10) -> 9.52 | K22: =IF((OR($G22="MATERIAL",$G22="Equipamento")),K$5,K$4) -> 0.2423 | L22: =TRUNC(J22*(1+K22),2) -> 11.82 | M22: =TRUNC($I22 * J22, 2) -> 6026.16 | N22: =TRUNC($I22 * L22, 2) -> 7482.06 | O22: =N22/$M$135 -> 0.00096478622 | P22: =INDEX('Orçamento Analítico'!$B:$M,MATCH(B22,'Orçamento Analítico'!$B:$B,0)+1,12) -> 9.2 | Q22: =IF((OR($G22="MATERIAL",$G22="Equipamento")),Q$5,Q$4) -> 0.3066 | R22: =TRUNC(P22*(1+Q22),2) -> 12.02 | S22: =TRUNC($I22 * P22, 2) -> 5823.6 | T22: =TRUNC($I22 * R22, 2) -> 7608.66 | U22: =T22/$S$135 -> 0.0009440762
B23: 1.1.13 | C23: =INDEX('Orçamento Analítico'!$B:$M,MATCH('ORÇ. SINTÉTICO'!B23,'Orçamento Analítico'!$B:$B,0)+1,2) -> PRE.SIN.TRANS. | D23: =INDEX('Orçamento Analítico'!$B:$M,MATCH('ORÇ. SINTÉTICO'!B23,'Orçamento Analítico'!$B:$B,0)+1,3) -> Próprio | E23: =INDEX('Orçamento Analítico'!$B:$M,MATCH('ORÇ. SINTÉTICO'!B23,'Orçamento Analítico'!$B:$B,0)+1,4) -> SINALIZACAO DE TRANSITO - NOTURNA (AF.06/2024) | G23: =INDEX('Orçamento Analítico'!$B:$M,MATCH('ORÇ. SINTÉTICO'!$B23,'Orçamento Analítico'!$B:$B,0)+1,5) -> SERP - SERVIÇOS PRELIMINARES | H23: =INDEX('Orçamento Analítico'!$B:$M,MATCH('ORÇ. SINTÉTICO'!B23,'Orçamento Analítico'!$B:$B,0)+1,7) -> M | I23: =PRELIMINARES!G16 -> 528 | J23: =INDEX('Orçamento Analítico'!$B:$M,MATCH(B23,'Orçamento Analítico'!$B:$B,0)+1,10) -> 4.04 | K23: =IF((OR($G23="MATERIAL",$G23="Equipamento")),K$5,K$4) -> 0.2423 | L23: =TRUNC(J23*(1+K23),2) -> 5.01 | M23: =TRUNC($I23 * J23, 2) -> 2133.12 | N23: =TRUNC($I23 * L23, 2) -> 2645.28 | O23: =N23/$M$135 -> 0.00034109987 | P23: =INDEX('Orçamento Analítico'!$B:$M,MATCH(B23,'Orçamento Analítico'!$B:$B,0)+1,12) -> 3.89 | Q23: =IF((OR($G23="MATERIAL",$G23="Equipamento")),Q$5,Q$4) -> 0.3066 | R23: =TRUNC(P23*(1+Q23),2) -> 5.08 | S23: =TRUNC($I23 * P23, 2) -> 2053.92 | T23: =TRUNC($I23 * R23, 2) -> 2682.24 | U23: =T23/$S$135 -> 0.00033281011
B24: 1.2 | E24: DEMOLIÇÕES | I24: 1 | M24: =TRUNC(SUM(M25:M30),2) -> 13571.08 | N24: =TRUNC(SUM(N25:N30),2) -> 16857.67 | O24: =N24/$M$135 -> 0.0021737393 | S24: =TRUNC(SUM(S25:S30),2) -> 13035.19 | T24: =TRUNC(SUM(T25:T30),2) -> 17029.3 | U24: =T24/$S$135 -> 0.0021129814
B25: 1.2.1 | C25: =INDEX('Orçamento Analítico'!$B:$M,MATCH('ORÇ. SINTÉTICO'!B25,'Orçamento Analítico'!$B:$B,0)+1,2) -> DEM.CONCR.S | D25: =INDEX('Orçamento Analítico'!$B:$M,MATCH('ORÇ. SINTÉTICO'!B25,'Orçamento Analítico'!$B:$B,0)+1,3) -> Próprio | E25: =INDEX('Orçamento Analítico'!$B:$M,MATCH('ORÇ. SINTÉTICO'!B25,'Orçamento Analítico'!$B:$B,0)+1,4) -> DEMOLICAO DE CONCRETO SIMPLES, DE FORMA MANUAL, SEM REAPROVEITAMENTO (Ref. SINAPI 73616-11/2017) | G25: =INDEX('Orçamento Analítico'!$B:$M,MATCH('ORÇ. SINTÉTICO'!$B25,'Orçamento Analítico'!$B:$B,0)+1,5) -> SERP - SERVIÇOS PRELIMINARES | H25: =INDEX('Orçamento Analítico'!$B:$M,MATCH('ORÇ. SINTÉTICO'!B25,'Orçamento Analítico'!$B:$B,0)+1,7) -> m³ | I25: ='DEMOLIÇÕES E RETIRADAS'!O11 -> 15.53 | J25: =INDEX('Orçamento Analítico'!$B:$M,MATCH(B25,'Orçamento Analítico'!$B:$B,0)+1,10) -> 332.93 | K25: =IF((OR($G25="MATERIAL",$G25="Equipamento")),K$5,K$4) -> 0.2423 | L25: =TRUNC(J25*(1+K25),2) -> 413.59 | M25: =TRUNC($I25 * J25, 2) -> 5170.4 | N25: =TRUNC($I25 * L25, 2) -> 6423.05 | O25: =N25/$M$135 -> 0.00082823048 | P25: =INDEX('Orçamento Analítico'!$B:$M,MATCH(B25,'Orçamento Analítico'!$B:$B,0)+1,12) -> 315.08 | Q25: =IF((OR($G25="MATERIAL",$G25="Equipamento")),Q$5,Q$4) -> 0.3066 | R25: =TRUNC(P25*(1+Q25),2) -> 411.68 | S25: =TRUNC($I25 * P25, 2) -> 4893.19 | T25: =TRUNC($I25 * R25, 2) -> 6393.39 | U25: =T25/$S$135 -> 0.00079328651
B26: 1.2.2 | C26: =INDEX('Orçamento Analítico'!$B:$M,MATCH('ORÇ. SINTÉTICO'!B26,'Orçamento Analítico'!$B:$B,0)+1,2) -> 97636 | D26: =INDEX('Orçamento Analítico'!$B:$M,MATCH('ORÇ. SINTÉTICO'!B26,'Orçamento Analítico'!$B:$B,0)+1,3) -> SINAPI | E26: =INDEX('Orçamento Analítico'!$B:$M,MATCH('ORÇ. SINTÉTICO'!B26,'Orçamento Analítico'!$B:$B,0)+1,4) -> DEMOLIÇÃO PARCIAL DE PAVIMENTO ASFÁLTICO, DE FORMA MECANIZADA, SEM REAPROVEITAMENTO. AF_09/2023 | G26: =INDEX('Orçamento Analítico'!$B:$M,MATCH('ORÇ. SINTÉTICO'!$B26,'Orçamento Analítico'!$B:$B,0)+1,5) -> Demolições e Remoções | H26: =INDEX('Orçamento Analítico'!$B:$M,MATCH('ORÇ. SINTÉTICO'!B26,'Orçamento Analítico'!$B:$B,0)+1,7) -> m² | I26: ='DEMOLIÇÕES E RETIRADAS'!K8 -> 267.15 | J26: =INDEX('Orçamento Analítico'!$B:$M,MATCH(B26,'Orçamento Analítico'!$B:$B,0)+1,10) -> 22.54 | K26: =IF((OR($G26="MATERIAL",$G26="Equipamento")),K$5,K$4) -> 0.2423 | L26: =TRUNC(J26*(1+K26),2) -> 28 | M26: =TRUNC($I26 * J26, 2) -> 6021.56 | N26: =TRUNC($I26 * L26, 2) -> 7480.2 | O26: =N26/$M$135 -> 0.00096454638 | P26: =INDEX('Orçamento Analítico'!$B:$M,MATCH(B26,'Orçamento Analítico'!$B:$B,0)+1,12) -> 21.88 | Q26: =IF((OR($G26="MATERIAL",$G26="Equipamento")),Q$5,Q$4) -> 0.3066 | R26: =TRUNC(P26*(1+Q26),2) -> 28.58 | S26: =TRUNC($I26 * P26, 2) -> 5845.24 | T26: =TRUNC($I26 * R26, 2) -> 7635.14 | U26: =T26/$S$135 -> 0.00094736182
B27: 1.2.3 | C27: =INDEX('Orçamento Analítico'!$B:$M,MATCH('ORÇ. SINTÉTICO'!B27,'Orçamento Analítico'!$B:$B,0)+1,2) -> 100982 | D27: =INDEX('Orçamento Analítico'!$B:$M,MATCH('ORÇ. SINTÉTICO'!B27,'Orçamento Analítico'!$B:$B,0)+1,3) -> SINAPI | E27: =INDEX('Orçamento Analítico'!$B:$M,MATCH('ORÇ. SINTÉTICO'!B27,'Orçamento Analítico'!$B:$B,0)+1,4) -> CARGA, MANOBRA E DESCARGA DE ENTULHO EM CAMINHÃO BASCULANTE 10 M³ - CARGA COM ESCAVADEIRA HIDRÁULICA (CAÇAMBA DE 0,80 M³ / 111 HP) E DESCARGA LIVRE (UNIDADE: M3). AF_07/2020 | G27: =INDEX('Orçamento Analítico'!$B:$M,MATCH('ORÇ. SINTÉTICO'!$B27,'Orçamento Analítico'!$B:$B,0)+1,5) -> Transporte, Carga e Descarga de Materiais | H27: =INDEX('Orçamento Analítico'!$B:$M,MATCH('ORÇ. SINTÉTICO'!B27,'Orçamento Analítico'!$B:$B,0)+1,7) -> m³ | I27: ='DEMOLIÇÕES E RETIRADAS'!O14 -> 30.6 | J27: =INDEX('Orçamento Analítico'!$B:$M,MATCH(B27,'Orçamento Analítico'!$B:$B,0)+1,10) -> 9.07 | K27: =IF((OR($G27="MATERIAL",$G27="Equipamento")),K$5,K$4) -> 0.2423 | L27: =TRUNC(J27*(1+K27),2) -> 11.26 | M27: =TRUNC($I27 * J27, 2) -> 277.54 | N27: =TRUNC($I27 * L27, 2) -> 344.55 | O27: =N27/$M$135 -> 4.4428552e-05 | P27: =INDEX('Orçamento Analítico'!$B:$M,MATCH(B27,'Orçamento Analítico'!$B:$B,0)+1,12) -> 8.97 | Q27: =IF((OR($G27="MATERIAL",$G27="Equipamento")),Q$5,Q$4) -> 0.3066 | R27: =TRUNC(P27*(1+Q27),2) -> 11.72 | S27: =TRUNC($I27 * P27, 2) -> 274.48 | T27: =TRUNC($I27 * R27, 2) -> 358.63 | U27: =T27/$S$135 -> 4.4498512e-05
B28: 1.2.4 | C28: =INDEX('Orçamento Analítico'!$B:$M,MATCH('ORÇ. SINTÉTICO'!B28,'Orçamento Analítico'!$B:$B,0)+1,2) -> 95875 | D28: =INDEX('Orçamento Analítico'!$B:$M,MATCH('ORÇ. SINTÉTICO'!B28,'Orçamento Analítico'!$B:$B,0)+1,3) -> SINAPI | E28: =INDEX('Orçamento Analítico'!$B:$M,MATCH('ORÇ. SINTÉTICO'!B28,'Orçamento Analítico'!$B:$B,0)+1,4) -> TRANSPORTE COM CAMINHÃO BASCULANTE DE 10 M³, EM VIA URBANA PAVIMENTADA, DMT ATÉ 30 KM (UNIDADE: M3XKM). AF_07/2020 | F28: =DMT!F13 -> 4.6 | G28: =INDEX('Orçamento Analítico'!$B:$M,MATCH('ORÇ. SINTÉTICO'!$B28,'Orçamento Analítico'!$B:$B,0)+1,5) -> Transporte, Carga e Descarga de Materiais | H28: =INDEX('Orçamento Analítico'!$B:$M,MATCH('ORÇ. SINTÉTICO'!B28,'Orçamento Analítico'!$B:$B,0)+1,7) -> M3XKM | I28: ='DEMOLIÇÕES E RETIRADAS'!O15 -> 140.76 | J28: =INDEX('Orçamento Analítico'!$B:$M,MATCH(B28,'Orçamento Analítico'!$B:$B,0)+1,10) -> 2.5 | K28: =IF((OR($G28="MATERIAL",$G28="Equipamento")),K$5,K$4) -> 0.2423 | L28: =TRUNC(J28*(1+K28),2) -> 3.1 | M28: =TRUNC($I28 * J28, 2) -> 351.9 | N28: =TRUNC($I28 * L28, 2) -> 436.35 | O28: =N28/$M$135 -> 5.626585e-05 | P28: =INDEX('Orçamento Analítico'!$B:$M,MATCH(B28,'Orçamento Analítico'!$B:$B,0)+1,12) -> 2.48 | Q28: =IF((OR($G28="MATERIAL",$G28="Equipamento")),Q$5,Q$4) -> 0.3066 | R28: =TRUNC(P28*(1+Q28),2) -> 3.24 | S28: =TRUNC($I28 * P28, 2) -> 349.08 | T28: =TRUNC($I28 * R28, 2) -> 456.06 | U28: =T28/$S$135 -> 5.6587545e-05
B29: 1.2.5 | C29: =INDEX('Orçamento Analítico'!$B:$M,MATCH('ORÇ. SINTÉTICO'!B29,'Orçamento Analítico'!$B:$B,0)+1,2) -> 98529 | D29: =INDEX('Orçamento Analítico'!$B:$M,MATCH('ORÇ. SINTÉTICO'!B29,'Orçamento Analítico'!$B:$B,0)+1,3) -> SINAPI | E29: =INDEX('Orçamento Analítico'!$B:$M,MATCH('ORÇ. SINTÉTICO'!B29,'Orçamento Analítico'!$B:$B,0)+1,4) -> CORTE RASO E RECORTE DE ÁRVORE COM DIÂMETRO DE TRONCO MAIOR OU IGUAL A 0,20 M E MENOR QUE 0,40 M. AF_03/2024 | G29: =INDEX('Orçamento Analítico'!$B:$M,MATCH('ORÇ. SINTÉTICO'!$B29,'Orçamento Analítico'!$B:$B,0)+1,5) -> Supressão Vegetal | H29: =INDEX('Orçamento Analítico'!$B:$M,MATCH('ORÇ. SINTÉTICO'!B29,'Orçamento Analítico'!$B:$B,0)+1,7) -> UN | I29: ='DEMOLIÇÕES E RETIRADAS'!K10 -> 8 | J29: =INDEX('Orçamento Analítico'!$B:$M,MATCH(B29,'Orçamento Analítico'!$B:$B,0)+1,10) -> 80.72 | K29: =IF((OR($G29="MATERIAL",$G29="Equipamento")),K$5,K$4) -> 0.2423 | L29: =TRUNC(J29*(1+K29),2) -> 100.27 | M29: =TRUNC($I29 * J29, 2) -> 645.76 | N29: =TRUNC($I29 * L29, 2) -> 802.16 | O29: =N29/$M$135 -> 0.00010343581 | P29: =INDEX('Orçamento Analítico'!$B:$M,MATCH(B29,'Orçamento Analítico'!$B:$B,0)+1,12) -> 76.34 | Q29: =IF((OR($G29="MATERIAL",$G29="Equipamento")),Q$5,Q$4) -> 0.3066 | R29: =TRUNC(P29*(1+Q29),2) -> 99.74 | S29: =TRUNC($I29 * P29, 2) -> 610.72 | T29: =TRUNC($I29 * R29, 2) -> 797.92 | U29: =T29/$S$135 -> 9.900525e-05
B30: 1.2.6 | C30: =INDEX('Orçamento Analítico'!$B:$M,MATCH('ORÇ. SINTÉTICO'!B30,'Orçamento Analítico'!$B:$B,0)+1,2) -> 98526 | D30: =INDEX('Orçamento Analítico'!$B:$M,MATCH('ORÇ. SINTÉTICO'!B30,'Orçamento Analítico'!$B:$B,0)+1,3) -> SINAPI | E30: =INDEX('Orçamento Analítico'!$B:$M,MATCH('ORÇ. SINTÉTICO'!B30,'Orçamento Analítico'!$B:$B,0)+1,4) -> REMOÇÃO DE RAÍZES REMANESCENTES DE TRONCO DE ÁRVORE COM DIÂMETRO MAIOR OU IGUAL A 0,20 M E MENOR QUE 0,40 M. AF_03/2024 | G30: =INDEX('Orçamento Analítico'!$B:$M,MATCH('ORÇ. SINTÉTICO'!$B30,'Orçamento Analítico'!$B:$B,0)+1,5) -> Supressão Vegetal | H30: =INDEX('Orçamento Analítico'!$B:$M,MATCH('ORÇ. SINTÉTICO'!B30,'Orçamento Analítico'!$B:$B,0)+1,7) -> UN | I30: ='DEMOLIÇÕES E RETIRADAS'!K10 -> 8 | J30: =INDEX('Orçamento Analítico'!$B:$M,MATCH(B30,'Orçamento Analítico'!$B:$B,0)+1,10) -> 137.99 | K30: =IF((OR($G30="MATERIAL",$G30="Equipamento")),K$5,K$4) -> 0.2423 | L30: =TRUNC(J30*(1+K30),2) -> 171.42 | M30: =TRUNC($I30 * J30, 2) -> 1103.92 | N30: =TRUNC($I30 * L30, 2) -> 1371.36 | O30: =N30/$M$135 -> 0.00017683221 | P30: =INDEX('Orçamento Analítico'!$B:$M,MATCH(B30,'Orçamento Analítico'!$B:$B,0)+1,12) -> 132.81 | Q30: =IF((OR($G30="MATERIAL",$G30="Equipamento")),Q$5,Q$4) -> 0.3066 | R30: =TRUNC(P30*(1+Q30),2) -> 173.52 | S30: =TRUNC($I30 * P30, 2) -> 1062.48 | T30: =TRUNC($I30 * R30, 2) -> 1388.16 | U30: =T30/$S$135 -> 0.00017224174
B31: 2 | E31: DRENAGEM DE ÁGUAS PLUVIAIS | I31: 1 | M31: =M32+M52 -> 2294729.4 | N31: =N32+N52 -> 2741273.4 | O31: =N31/$M$135 -> 0.35347789 | S31: =S32+S52 -> 2269532.7 | T31: =T32+T52 -> 2845944.2 | U31: =T31/$M$135 -> 0.36697483
B32: 2.1 | E32: DRENAGEM - TERRAPLENAGEM | I32: 1 | M32: =TRUNC(SUM(M33:M51),2) -> 471645.68 | N32: =TRUNC(SUM(N33:N51),2) -> 585730.44 | O32: =N32/$M$135 -> 0.07552795 | S32: =TRUNC(SUM(S33:S51),2) -> 458046.78 | T32: =TRUNC(SUM(T33:T51),2) -> 598370.62 | U32: =T32/$M$135 -> 0.077157859
B33: 2.1.1 | C33: =INDEX('Orçamento Analítico'!$B:$M,MATCH('ORÇ. SINTÉTICO'!B33,'Orçamento Analítico'!$B:$B,0)+1,2) -> 90106 | D33: =INDEX('Orçamento Analítico'!$B:$M,MATCH('ORÇ. SINTÉTICO'!B33,'Orçamento Analítico'!$B:$B,0)+1,3) -> SINAPI | E33: =INDEX('Orçamento Analítico'!$B:$M,MATCH('ORÇ. SINTÉTICO'!B33,'Orçamento Analítico'!$B:$B,0)+1,4) -> ESCAVAÇÃO MECANIZADA DE VALA COM PROFUNDIDADE ATÉ 1,5 M (MÉDIA MONTANTE E JUSANTE/UMA COMPOSIÇÃO POR TRECHO), RETROESCAV. (0,26 M3), LARGURA DE 0,8 M A 1,5 M, EM SOLO DE 1A CATEGORIA, LOCAIS COM BAIXO NÍVEL DE INTERFERÊNCIA. AF_09/2024 | G33: =INDEX('Orçamento Analítico'!$B:$M,MATCH('ORÇ. SINTÉTICO'!$B33,'Orçamento Analítico'!$B:$B,0)+1,5) -> Escavação de Valas | H33: =INDEX('Orçamento Analítico'!$B:$M,MATCH('ORÇ. SINTÉTICO'!B33,'Orçamento Analítico'!$B:$B,0)+1,7) -> m³ | I33: =DRENAGEM!BL30 -> 1159.77 | J33: =INDEX('Orçamento Analítico'!$B:$M,MATCH(B33,'Orçamento Analítico'!$B:$B,0)+1,10) -> 8.42 | K33: =IF((OR($G33="MATERIAL",$G33="Equipamento")),K$5,K$4) -> 0.2423 | L33: =TRUNC(J33*(1+K33),2) -> 10.46 | M33: =TRUNC($I33 * J33, 2) -> 9765.26 | N33: =TRUNC($I33 * L33, 2) -> 12131.19 | O33: =N33/$M$135 -> 0.0015642757 | P33: =INDEX('Orçamento Analítico'!$B:$M,MATCH(B33,'Orçamento Analítico'!$B:$B,0)+1,12) -> 8.21 | Q33: =IF((OR($G33="MATERIAL",$G33="Equipamento")),Q$5,Q$4) -> 0.3066 | R33: =TRUNC(P33*(1+Q33),2) -> 10.72 | S33: =TRUNC($I33 * P33, 2) -> 9521.71 | T33: =TRUNC($I33 * R33, 2) -> 12432.73 | U33: =T33/$S$135 -> 0.0015426428
B34: 2.1.2 | C34: =INDEX('Orçamento Analítico'!$B:$M,MATCH('ORÇ. SINTÉTICO'!B34,'Orçamento Analítico'!$B:$B,0)+1,2) -> 102281 | D34: =INDEX('Orçamento Analítico'!$B:$M,MATCH('ORÇ. SINTÉTICO'!B34,'Orçamento Analítico'!$B:$B,0)+1,3) -> SINAPI | E34: =INDEX('Orçamento Analítico'!$B:$M,MATCH('ORÇ. SINTÉTICO'!B34,'Orçamento Analítico'!$B:$B,0)+1,4) -> ESCAVAÇÃO MECANIZADA DE VALA COM PROF. MAIOR QUE 1,5 M ATÉ 3,0 M (MÉDIA MONTANTE E JUSANTE/UMA COMPOSIÇÃO POR TRECHO),COM ESCAVADEIRA (1,2 M3),LARG. DE 1,5 M A 2,5 M, EM SOLO DE 1A CATEGORIA, LOCAIS COM BAIXO NÍVEL DE INTERFERÊNCIA. AF_09/2024 | G34: =INDEX('Orçamento Analítico'!$B:$M,MATCH('ORÇ. SINTÉTICO'!$B34,'Orçamento Analítico'!$B:$B,0)+1,5) -> Escavação de Valas | H34: =INDEX('Orçamento Analítico'!$B:$M,MATCH('ORÇ. SINTÉTICO'!B34,'Orçamento Analítico'!$B:$B,0)+1,7) -> m³ | I34: =DRENAGEM!BP30 -> 3637.07 | J34: =INDEX('Orçamento Analítico'!$B:$M,MATCH(B34,'Orçamento Analítico'!$B:$B,0)+1,10) -> 5.63 | K34: =IF((OR($G34="MATERIAL",$G34="Equipamento")),K$5,K$4) -> 0.2423 | L34: =TRUNC(J34*(1+K34),2) -> 6.99 | M34: =TRUNC($I34 * J34, 2) -> 20476.7 | N34: =TRUNC($I34 * L34, 2) -> 25423.11 | O34: =N34/$M$135 -> 0.0032782237 | P34: =INDEX('Orçamento Analítico'!$B:$M,MATCH(B34,'Orçamento Analítico'!$B:$B,0)+1,12) -> 5.53 | Q34: =IF((OR($G34="MATERIAL",$G34="Equipamento")),Q$5,Q$4) -> 0.3066 | R34: =TRUNC(P34*(1+Q34),2) -> 7.22 | S34: =TRUNC($I34 * P34, 2) -> 20112.99 | T34: =TRUNC($I34 * R34, 2) -> 26259.64 | U34: =T34/$S$135 -> 0.0032582743
B35: 2.1.3 | C35: =INDEX('Orçamento Analítico'!$B:$M,MATCH('ORÇ. SINTÉTICO'!B35,'Orçamento Analítico'!$B:$B,0)+1,2) -> 90095 | D35: =INDEX('Orçamento Analítico'!$B:$M,MATCH('ORÇ. SINTÉTICO'!B35,'Orçamento Analítico'!$B:$B,0)+1,3) -> SINAPI | E35: =INDEX('Orçamento Analítico'!$B:$M,MATCH('ORÇ. SINTÉTICO'!B35,'Orçamento Analítico'!$B:$B,0)+1,4) -> ESCAVAÇÃO MECANIZADA DE VALA COM PROF. MAIOR QUE 3,0 M ATÉ 4,5 M (MÉDIA MONTANTE E JUSANTE/UMA COMPOSIÇÃO POR TRECHO), ESCAVADEIRA (1,2 M3), LARG. DE 1,5 M A 2,5 M, EM SOLO DE 1A CATEGORIA, LOCAIS COM BAIXO NÍVEL DE INTERFERÊNCIA. AF_09/2024 | G35: =INDEX('Orçamento Analítico'!$B:$M,MATCH('ORÇ. SINTÉTICO'!$B35,'Orçamento Analítico'!$B:$B,0)+1,5) -> Escavação de Valas | H35: =INDEX('Orçamento Analítico'!$B:$M,MATCH('ORÇ. SINTÉTICO'!B35,'Orçamento Analítico'!$B:$B,0)+1,7) -> m³ | I35: =DRENAGEM!BS30 -> 1269.59 | J35: =INDEX('Orçamento Analítico'!$B:$M,MATCH(B35,'Orçamento Analítico'!$B:$B,0)+1,10) -> 5.41 | K35: =IF((OR($G35="MATERIAL",$G35="Equipamento")),K$5,K$4) -> 0.2423 | L35: =TRUNC(J35*(1+K35),2) -> 6.72 | M35: =TRUNC($I35 * J35, 2) -> 6868.48 | N35: =TRUNC($I35 * L35, 2) -> 8531.64 | O35: =N35/$M$135 -> 0.001100126 | P35: =INDEX('Orçamento Analítico'!$B:$M,MATCH(B35,'Orçamento Analítico'!$B:$B,0)+1,12) -> 5.33 | Q35: =IF((OR($G35="MATERIAL",$G35="Equipamento")),Q$5,Q$4) -> 0.3066 | R35: =TRUNC(P35*(1+Q35),2) -> 6.96 | S35: =TRUNC($I35 * P35, 2) -> 6766.91 | T35: =TRUNC($I35 * R35, 2) -> 8836.34 | U35: =T35/$S$135 -> 0.0010964057
B36: 2.1.4 | C36: =INDEX('Orçamento Analítico'!$B:$M,MATCH('ORÇ. SINTÉTICO'!B36,'Orçamento Analítico'!$B:$B,0)+1,2) -> 90098 | D36: =INDEX('Orçamento Analítico'!$B:$M,MATCH('ORÇ. SINTÉTICO'!B36,'Orçamento Analítico'!$B:$B,0)+1,3) -> SINAPI | E36: =INDEX('Orçamento Analítico'!$B:$M,MATCH('ORÇ. SINTÉTICO'!B36,'Orçamento Analítico'!$B:$B,0)+1,4) -> ESCAVAÇÃO MECANIZADA DE VALA COM PROF. MAIOR QUE 4,5 M ATÉ 6,0 M (MÉDIA MONTANTE E JUSANTE/UMA COMPOSIÇÃO POR TRECHO), ESCAVADEIRA (1,2 M3), LARG. DE 1,5 M A 2,5 M, EM SOLO DE 1A CATEGORIA, LOCAIS COM BAIXO NÍVEL DE INTERFERÊNCIA. AF_09/2024 | G36: =INDEX('Orçamento Analítico'!$B:$M,MATCH('ORÇ. SINTÉTICO'!$B36,'Orçamento Analítico'!$B:$B,0)+1,5) -> Escavação de Valas | H36: =INDEX('Orçamento Analítico'!$B:$M,MATCH('ORÇ. SINTÉTICO'!B36,'Orçamento Analítico'!$B:$B,0)+1,7) -> m³ | I36: =DRENAGEM!BV30 -> 3577.91 | J36: =INDEX('Orçamento Analítico'!$B:$M,MATCH(B36,'Orçamento Analítico'!$B:$B,0)+1,10) -> 5.3 | K36: =IF((OR($G36="MATERIAL",$G36="Equipamento")),K$5,K$4) -> 0.2423 | L36: =TRUNC(J36*(1+K36),2) -> 6.58 | M36: =TRUNC($I36 * J36, 2) -> 18962.92 | N36: =TRUNC($I36 * L36, 2) -> 23542.64 | O36: =N36/$M$135 -> 0.0030357434 | P36: =INDEX('Orçamento Analítico'!$B:$M,MATCH(B36,'Orçamento Analítico'!$B:$B,0)+1,12) -> 5.22 | Q36: =IF((OR($G36="MATERIAL",$G36="Equipamento")),Q$5,Q$4) -> 0.3066 | R36: =TRUNC(P36*(1+Q36),2) -> 6.82 | S36: =TRUNC($I36 * P36, 2) -> 18676.69 | T36: =TRUNC($I36 * R36, 2) -> 24401.34 | U36: =T36/$S$135 -> 0.003027698
B37: 2.1.5 | C37: =INDEX('Orçamento Analítico'!$B:$M,MATCH('ORÇ. SINTÉTICO'!B37,'Orçamento Analítico'!$B:$B,0)+1,2) -> 100978 | D37: =INDEX('Orçamento Analítico'!$B:$M,MATCH('ORÇ. SINTÉTICO'!B37,'Orçamento Analítico'!$B:$B,0)+1,3) -> SINAPI | E37: =INDEX('Orçamento Analítico'!$B:$M,MATCH('ORÇ. SINTÉTICO'!B37,'Orçamento Analítico'!$B:$B,0)+1,4) -> CARGA, MANOBRA E DESCARGA DE SOLOS E MATERIAIS GRANULARES EM CAMINHÃO BASCULANTE 10 M³ - CARGA COM ESCAVADEIRA HIDRÁULICA (CAÇAMBA DE 1,20 M³ / 155 HP) E DESCARGA LIVRE (UNIDADE: M3). AF_07/2020 | G37: =INDEX('Orçamento Analítico'!$B:$M,MATCH('ORÇ. SINTÉTICO'!$B37,'Orçamento Analítico'!$B:$B,0)+1,5) -> Transporte, Carga e Descarga de Materiais | H37: =INDEX('Orçamento Analítico'!$B:$M,MATCH('ORÇ. SINTÉTICO'!B37,'Orçamento Analítico'!$B:$B,0)+1,7) -> m³ | I37: =DRENAGEM!CA30 -> 1292.65 | J37: =INDEX('Orçamento Analítico'!$B:$M,MATCH(B37,'Orçamento Analítico'!$B:$B,0)+1,10) -> 7.03 | K37: =IF((OR($G37="MATERIAL",$G37="Equipamento")),K$5,K$4) -> 0.2423 | L37: =TRUNC(J37*(1+K37),2) -> 8.73 | M37: =TRUNC($I37 * J37, 2) -> 9087.32 | N37: =TRUNC($I37 * L37, 2) -> 11284.83 | O37: =N37/$M$135 -> 0.0014551405 | P37: =INDEX('Orçamento Analítico'!$B:$M,MATCH(B37,'Orçamento Analítico'!$B:$B,0)+1,12) -> 6.95 | Q37: =IF((OR($G37="MATERIAL",$G37="Equipamento")),Q$5,Q$4) -> 0.3066 | R37: =TRUNC(P37*(1+Q37),2) -> 9.08 | S37: =TRUNC($I37 * P37, 2) -> 8983.91 | T37: =TRUNC($I37 * R37, 2) -> 11737.26 | U37: =T37/$S$135 -> 0.0014563495
B38: 2.1.6 | C38: =INDEX('Orçamento Analítico'!$B:$M,MATCH('ORÇ. SINTÉTICO'!B38,'Orçamento Analítico'!$B:$B,0)+1,2) -> 95875 | D38: =INDEX('Orçamento Analítico'!$B:$M,MATCH('ORÇ. SINTÉTICO'!B38,'Orçamento Analítico'!$B:$B,0)+1,3) -> SINAPI | E38: =INDEX('Orçamento Analítico'!$B:$M,MATCH('ORÇ. SINTÉTICO'!B38,'Orçamento Analítico'!$B:$B,0)+1,4) -> TRANSPORTE COM CAMINHÃO BASCULANTE DE 10 M³, EM VIA URBANA PAVIMENTADA, DMT ATÉ 30 KM (UNIDADE: M3XKM). AF_07/2020 | F38: =DMT!F13 -> 4.6 | G38: =INDEX('Orçamento Analítico'!$B:$M,MATCH('ORÇ. SINTÉTICO'!$B38,'Orçamento Analítico'!$B:$B,0)+1,5) -> Transporte, Carga e Descarga de Materiais | H38: =INDEX('Orçamento Analítico'!$B:$M,MATCH('ORÇ. SINTÉTICO'!B38,'Orçamento Analítico'!$B:$B,0)+1,7) -> M3XKM | I38: =DRENAGEM!AW50 -> 5946.19 | J38: =INDEX('Orçamento Analítico'!$B:$M,MATCH(B38,'Orçamento Analítico'!$B:$B,0)+1,10) -> 2.5 | K38: =IF((OR($G38="MATERIAL",$G38="Equipamento")),K$5,K$4) -> 0.2423 | L38: =TRUNC(J38*(1+K38),2) -> 3.1 | M38: =TRUNC($I38 * J38, 2) -> 14865.47 | N38: =TRUNC($I38 * L38, 2) -> 18433.18 | O38: =N38/$M$135 -> 0.0023768959 | P38: =INDEX('Orçamento Analítico'!$B:$M,MATCH(B38,'Orçamento Analítico'!$B:$B,0)+1,12) -> 2.48 | Q38: =IF((OR($G38="MATERIAL",$G38="Equipamento")),Q$5,Q$4) -> 0.3066 | R38: =TRUNC(P38*(1+Q38),2) -> 3.24 | S38: =TRUNC($I38 * P38, 2) -> 14746.55 | T38: =TRUNC($I38 * R38, 2) -> 19265.65 | U38: =T38/$S$135 -> 0.0023904658
B39: 2.1.7 | C39: =INDEX('Orçamento Analítico'!$B:$M,MATCH('ORÇ. SINTÉTICO'!B39,'Orçamento Analítico'!$B:$B,0)+1,2) -> 100574 | D39: =INDEX('Orçamento Analítico'!$B:$M,MATCH('ORÇ. SINTÉTICO'!B39,'Orçamento Analítico'!$B:$B,0)+1,3) -> SINAPI | E39: =INDEX('Orçamento Analítico'!$B:$M,MATCH('ORÇ. SINTÉTICO'!B39,'Orçamento Analítico'!$B:$B,0)+1,4) -> ESPALHAMENTO DE MATERIAL COM TRATOR DE ESTEIRAS. AF_09/2024 | G39: =INDEX('Orçamento Analítico'!$B:$M,MATCH('ORÇ. SINTÉTICO'!$B39,'Orçamento Analítico'!$B:$B,0)+1,5) -> Aterros, Bases, Sub bases e Imprimações | H39: =INDEX('Orçamento Analítico'!$B:$M,MATCH('ORÇ. SINTÉTICO'!B39,'Orçamento Analítico'!$B:$B,0)+1,7) -> m³ | I39: =DRENAGEM!BW30 -> 1124.05 | J39: =INDEX('Orçamento Analítico'!$B:$M,MATCH(B39,'Orçamento Analítico'!$B:$B,0)+1,10) -> 1.42 | K39: =IF((OR($G39="MATERIAL",$G39="Equipamento")),K$5,K$4) -> 0.2423 | L39: =TRUNC(J39*(1+K39),2) -> 1.76 | M39: =TRUNC($I39 * J39, 2) -> 1596.15 | N39: =TRUNC($I39 * L39, 2) -> 1978.32 | O39: =N39/$M$135 -> 0.00025509764 | P39: =INDEX('Orçamento Analítico'!$B:$M,MATCH(B39,'Orçamento Analítico'!$B:$B,0)+1,12) -> 1.39 | Q39: =IF((OR($G39="MATERIAL",$G39="Equipamento")),Q$5,Q$4) -> 0.3066 | R39: =TRUNC(P39*(1+Q39),2) -> 1.81 | S39: =TRUNC($I39 * P39, 2) -> 1562.42 | T39: =TRUNC($I39 * R39, 2) -> 2034.53 | U39: =T39/$S$135 -> 0.00025244279
B40: 2.1.8 | C40: =INDEX('Orçamento Analítico'!$B:$M,MATCH('ORÇ. SINTÉTICO'!B40,'Orçamento Analítico'!$B:$B,0)+1,2) -> 101573 | D40: =INDEX('Orçamento Analítico'!$B:$M,MATCH('ORÇ. SINTÉTICO'!B40,'Orçamento Analítico'!$B:$B,0)+1,3) -> SINAPI | E40: =INDEX('Orçamento Analítico'!$B:$M,MATCH('ORÇ. SINTÉTICO'!B40,'Orçamento Analítico'!$B:$B,0)+1,4) -> ESCORAMENTO DE VALA, TIPO PONTALETEAMENTO, COM PROFUNDIDADE DE 1,5 A 3,0 M, LARGURA MAIOR OU IGUAL A 1,5 M E MENOR QUE 2,5 M. AF_08/2020 | G40: =INDEX('Orçamento Analítico'!$B:$M,MATCH('ORÇ. SINTÉTICO'!$B40,'Orçamento Analítico'!$B:$B,0)+1,5) -> Escoramento e Preparo de Fundo de Valas | H40: =INDEX('Orçamento Analítico'!$B:$M,MATCH('ORÇ. SINTÉTICO'!B40,'Orçamento Analítico'!$B:$B,0)+1,7) -> m² | I40: =DRENAGEM!CE30 -> 3775.65 | J40: =INDEX('Orçamento Analítico'!$B:$M,MATCH(B40,'Orçamento Analítico'!$B:$B,0)+1,10) -> 27.19 | K40: =IF((OR($G40="MATERIAL",$G40="Equipamento")),K$5,K$4) -> 0.2423 | L40: =TRUNC(J40*(1+K40),2) -> 33.77 | M40: =TRUNC($I40 * J40, 2) -> 102659.92 | N40: =TRUNC($I40 * L40, 2) -> 127503.7 | O40: =N40/$M$135 -> 0.016441169 | P40: =INDEX('Orçamento Analítico'!$B:$M,MATCH(B40,'Orçamento Analítico'!$B:$B,0)+1,12) -> 26.07 | Q40: =IF((OR($G40="MATERIAL",$G40="Equipamento")),Q$5,Q$4) -> 0.3066 | R40: =TRUNC(P40*(1+Q40),2) -> 34.06 | S40: =TRUNC($I40 * P40, 2) -> 98431.19 | T40: =TRUNC($I40 * R40, 2) -> 128598.63 | U40: =T40/$S$135 -> 0.015956411
B41: 2.1.9 | C41: =INDEX('Orçamento Analítico'!$B:$M,MATCH('ORÇ. SINTÉTICO'!B41,'Orçamento Analítico'!$B:$B,0)+1,2) -> 101575 | D41: =INDEX('Orçamento Analítico'!$B:$M,MATCH('ORÇ. SINTÉTICO'!B41,'Orçamento Analítico'!$B:$B,0)+1,3) -> SINAPI | E41: =INDEX('Orçamento Analítico'!$B:$M,MATCH('ORÇ. SINTÉTICO'!B41,'Orçamento Analítico'!$B:$B,0)+1,4) -> ESCORAMENTO DE VALA, TIPO PONTALETEAMENTO, COM PROFUNDIDADE DE 3,0 A 4,5 M, LARGURA MAIOR OU IGUAL A 1,5 M E MENOR QUE 2,5 M. AF_08/2020 | G41: =INDEX('Orçamento Analítico'!$B:$M,MATCH('ORÇ. SINTÉTICO'!$B41,'Orçamento Analítico'!$B:$B,0)+1,5) -> Escoramento e Preparo de Fundo de Valas | H41: =INDEX('Orçamento Analítico'!$B:$M,MATCH('ORÇ. SINTÉTICO'!B41,'Orçamento Analítico'!$B:$B,0)+1,7) -> m² | I41: =DRENAGEM!CG30 -> 3122.66 | J41: =INDEX('Orçamento Analítico'!$B:$M,MATCH(B41,'Orçamento Analítico'!$B:$B,0)+1,10) -> 23.68 | K41: =IF((OR($G41="MATERIAL",$G41="Equipamento")),K$5,K$4) -> 0.2423 | L41: =TRUNC(J41*(1+K41),2) -> 29.41 | M41: =TRUNC($I41 * J41, 2) -> 73944.58 | N41: =TRUNC($I41 * L41, 2) -> 91837.43 | O41: =N41/$M$135 -> 0.011842125 | P41: =INDEX('Orçamento Analítico'!$B:$M,MATCH(B41,'Orçamento Analítico'!$B:$B,0)+1,12) -> 22.78 | Q41: =IF((OR($G41="MATERIAL",$G41="Equipamento")),Q$5,Q$4) -> 0.3066 | R41: =TRUNC(P41*(1+Q41),2) -> 29.76 | S41: =TRUNC($I41 * P41, 2) -> 71134.19 | T41: =TRUNC($I41 * R41, 2) -> 92930.36 | U41: =T41/$S$135 -> 0.011530722
B42: 2.1.10 | C42: =INDEX('Orçamento Analítico'!$B:$M,MATCH('ORÇ. SINTÉTICO'!B42,'Orçamento Analítico'!$B:$B,0)+1,2) -> 101616 | D42: =INDEX('Orçamento Analítico'!$B:$M,MATCH('ORÇ. SINTÉTICO'!B42,'Orçamento Analítico'!$B:$B,0)+1,3) -> SINAPI | E42: =INDEX('Orçamento Analítico'!$B:$M,MATCH('ORÇ. SINTÉTICO'!B42,'Orçamento Analítico'!$B:$B,0)+1,4) -> PREPARO DE FUNDO DE VALA COM LARGURA MENOR QUE 1,5 M (ACERTO DO SOLO NATURAL). AF_08/2020 | G42: =INDEX('Orçamento Analítico'!$B:$M,MATCH('ORÇ. SINTÉTICO'!$B42,'Orçamento Analítico'!$B:$B,0)+1,5) -> Escoramento e Preparo de Fundo de Valas | H42: =INDEX('Orçamento Analítico'!$B:$M,MATCH('ORÇ. SINTÉTICO'!B42,'Orçamento Analítico'!$B:$B,0)+1,7) -> m² | I42: =DRENAGEM!CH30 -> 1510 | J42: =INDEX('Orçamento Analítico'!$B:$M,MATCH(B42,'Orçamento Analítico'!$B:$B,0)+1,10) -> 7.78 | K42: =IF((OR($G42="MATERIAL",$G42="Equipamento")),K$5,K$4) -> 0.2423 | L42: =TRUNC(J42*(1+K42),2) -> 9.66 | M42: =TRUNC($I42 * J42, 2) -> 11747.8 | N42: =TRUNC($I42 * L42, 2) -> 14586.6 | O42: =N42/$M$135 -> 0.0018808925 | P42: =INDEX('Orçamento Analítico'!$B:$M,MATCH(B42,'Orçamento Analítico'!$B:$B,0)+1,12) -> 7.35 | Q42: =IF((OR($G42="MATERIAL",$G42="Equipamento")),Q$5,Q$4) -> 0.3066 | R42: =TRUNC(P42*(1+Q42),2) -> 9.6 | S42: =TRUNC($I42 * P42, 2) -> 11098.5 | T42: =TRUNC($I42 * R42, 2) -> 14496 | U42: =T42/$S$135 -> 0.0017986516
...

Sheet Orçamento Analítico
B1: Obra | F1: Bancos | J1: Encargos Sociais: | L1: Encargos Sociais:
B2: ='ORÇ. SINTÉTICO'!B4 -> Projeto Executivo de Infraestrutura Urbana - Jardim Basilia - Três Lagoas R09 | F2: ='ORÇ. SINTÉTICO'!F4 -> SINAPI - 01/2026 - MS; SICRO3 - 10/2025 - MS; AGESUL 01/2026 | J2: Não Desonerado | L2: Desonerado
J3: BDI: | L3: BDI:
J4: Serviço: 24,23% | L4: Serviço: 30,66%
J5: Material: 15,27% | L5: Material: 20,92%
B6: Planilha Orçamentária Analítica
B7: 1 | E7: SERVIÇOS PRELIMINARES | K7: 91112.08 | M7: 93245.84
B8: 1.1 | E8: SERVIÇOS PRELIMINARES | K8: 74119.43 | M8: 76216.54
B9: 1.1.1 | C9: Código | D9: Banco | E9: Descrição | F9: Tipo | H9: Und | I9: Quant. | J9: Valor Unit | K9: Total | L9: Valor Unit | M9: Total
B10: Composição | C10: 103689 | D10: SINAPI | E10: FORNECIMENTO E INSTALAÇÃO DE PLACA DE OBRA COM CHAPA GALVANIZADA E ESTRUTURA DE MADEIRA. AF_03/2022_PS | F10: Sinalização Vertical Viária | H10: m² | I10: 1 | J10: 458.76 | K10: 458.76 | L10: 456.44 | M10: 456.44
B11: Composição Auxiliar | C11: 88262 | D11: SINAPI | E11: CARPINTEIRO DE FORMAS COM ENCARGOS COMPLEMENTARES | F11: Livro SINAPI: Cálculos e Parâmetros | H11: H | I11: 0.3729 | J11: 27.74 | K11: 10.34 | L11: 26.13 | M11: 9.74
B12: Composição Auxiliar | C12: 88316 | D12: SINAPI | E12: SERVENTE COM ENCARGOS COMPLEMENTARES | F12: Livro SINAPI: Cálculos e Parâmetros | H12: H | I12: 1.1186 | J12: 22.76 | K12: 25.45 | L12: 21.55 | M12: 24.1
B13: Composição Auxiliar | C13: 102234 | D13: SINAPI | E13: PINTURA IMUNIZANTE PARA MADEIRA, 2 DEMÃOS. AF_01/2021 | F13: Pintura em Madeira | H13: m² | I13: 0.5 | J13: 22.42 | K13: 11.21 | L13: 21.69 | M13: 10.84
B14: Insumo | C14: 00005069 | D14: SINAPI | E14: PREGO DE ACO POLIDO COM CABECA 17 X 27 (2 1/2 X 11) | F14: Material | H14: KG | I14: 0.0132 | J14: 20.74 | K14: 0.27 | L14: 20.74 | M14: 0.27
B15: Insumo | C15: 00004813 | D15: SINAPI | E15: PLACA DE OBRA (PARA CONSTRUCAO CIVIL) EM CHAPA GALVANIZADA *N. 22*, ADESIVADA, DE *2,4 X 1,2* M (SEM POSTES PARA FIXACAO) | F15: Material | H15: m² | I15: 1 | J15: 400 | K15: 400 | L15: 400 | M15: 400
B16: Insumo | C16: 00004509 | D16: SINAPI | E16: SARRAFO *2,5 X 10* CM EM PINUS, MISTA OU EQUIVALENTE DA REGIAO - BRUTA | F16: Material | H16: M | I16: 3.2083 | J16: 3.45 | K16: 11.06 | L16: 3.45 | M16: 11.06
B17: Insumo | C17: 00005065 | D17: SINAPI | E17: PREGO DE ACO POLIDO COM CABECA 10 X 10 (7/8 X 17) | F17: Material | H17: KG | I17: 0.0113 | J17: 38.7 | K17: 0.43 | L17: 38.7 | M17: 0.43
F18: MO sem LS => | G18: 31.03 | H18: LS => | I18: 0 | J18: MO com LS => | K18: 31.03 | L18: MO com LS => | M18: 28.71
F19: Valor do BDI => | G19: 115.74 | I19: Valor com BDI => | K19: 574.5 | M19: 596.38
H20: Quant. => | I20: 8,00 | J20: Preço Total => | K20: 4596 | L20: Preço Total => | M20: 4771.04
B22: 1.1.2 | C22: Código | D22: Banco | E22: Descrição | F22: Tipo | H22: Und | I22: Quant. | J22: Valor Unit | K22: Total | L22: Valor Unit | M22: Total
B23: Insumo | C23: 1616 | D23: AGESUL | E23: LOCACAO DE BANHEIRO QUIMICO, INCLUSO 4 HIGIENIZAÇOES, MOBILIZACAO E DESMOBILIZACAO | F23: Material | H23: MES | I23: 1 | J23: 800 | K23: 800 | L23: 800 | M23: 800
F24: MO sem LS => | G24: 0 | H24: LS => | I24: 0 | J24: MO com LS => | K24: 0 | L24: MO com LS => | M24: 0
F25: Valor do BDI => | I25: Valor com BDI => | K25: 922.16 | M25: 967.36
H26: Quant. => | I26: 8,00 | J26: Preço Total => | K26: 7377.28 | L26: Preço Total => | M26: 7738.88
B28: 1.1.3 | C28: Código | D28: Banco | E28: Descrição | F28: Tipo | H28: Und | I28: Quant. | J28: Valor Unit | K28: Total | L28: Valor Unit | M28: Total
B29: Insumo | C29: 00010776 | D29: SINAPI | E29: LOCACAO DE CONTAINER 2,30 X 6,00 M, ALT. 2,50 M, PARA ESCRITORIO, SEM DIVISORIAS INTERNAS E SEM SANITARIO (NAO INCLUI MOBILIZACAO/DESMOBILIZACAO) | F29: Equipamento | H29: MES | I29: 1 | J29: 725.58 | K29: 725.58 | L29: 725.58 | M29: 725.58
F30: MO sem LS => | G30: 0 | H30: LS => | I30: 0 | J30: MO com LS => | K30: 0 | L30: MO com LS => | M30: 0
F31: Valor do BDI => | I31: Valor com BDI => | K31: 836.37 | M31: 877.37
H32: Quant. => | I32: 8,00 | J32: Preço Total => | K32: 6690.96 | L32: Preço Total => | M32: 7018.96
B34: 1.1.4 | C34: Código | D34: Banco | E34: Descrição | F34: Tipo | H34: Und | I34: Quant. | J34: Valor Unit | K34: Total | L34: Valor Unit | M34: Total
B35: Composição | C35: PRE.LIG.ÁGUA | D35: Próprio | E35: LIGAÇÃO PROVISORIA DE ÁGUA | F35: SEDI - SERVIÇOS DIVERSOS | H35: un | I35: 1 | J35: 995.63 | K35: 995.63 | L35: 969.34 | M35: 969.34
B36: Composição Auxiliar | C36: AUX.PRE.LIG | D36: Próprio | E36: LIGACAO DA REDE 75MM AO RAMAL PREDIAL 1/2" | F36: LIPR - LIGAÇÕES PREDIAIS ÁGUA/ESGOTO/ENERGIA/TELEFONE | H36: UN | I36: 1 | J36: 67.64 | K36: 67.64 | L36: 65.95 | M36: 65.95
B37: Composição Auxiliar | C37: 95676 | D37: SINAPI | E37: CAIXA EM CONCRETO PRÉ-MOLDADO PARA ABRIGO DE HIDRÔMETRO COM DN 20 MM - FORNECIMENTO E INSTALAÇÃO. AF_03/2024 | F37: Sistemas de Medição | H37: UN | I37: 1 | J37: 141 | K37: 141 | L37: 140.24 | M37: 140.24
B38: Composição Auxiliar | C38: 95674 | D38: SINAPI | E38: HIDRÔMETRO DN 1/2", 3,0 M3/H - FORNECIMENTO E INSTALAÇÃO. AF_03/2024 | F38: Sistemas de Medição | H38: UN | I38: 1 | J38: 134.79 | K38: 134.79 | L38: 133.54 | M38: 133.54
B39: Composição Auxiliar | C39: AUX.PRE.RAMAL | D39: Próprio | E39: RAMAL PREDIAL EM TUBO PEAD 20MM - FORNECIMENTO, INSTALAÇÃO, ESCAVAÇÃO E REATERRO (af 01/2024) | F39: LIPR - LIGAÇÕES PREDIAIS ÁGUA/ESGOTO/ENERGIA/TELEFONE | H39: M | I39: 15 | J39: 28.64 | K39: 429.6 | L39: 27.42 | M39: 411.3
B40: Composição Auxiliar | C40: 95635 | D40: SINAPI | E40: KIT CAVALETE PARA MEDIÇÃO DE ÁGUA - ENTRADA PRINCIPAL, EM PVC 25 MM (3/4") - FORNECIMENTO E INSTALAÇÃO (EXCLUSIVE HIDRÔMETRO). AF_03/2024 | F40: Sistemas de Medição | H40: UN | I40: 1 | J40: 222.6 | K40: 222.6 | L40: 218.31 | M40: 218.31
F41: MO sem LS => | G41: 350.4 | H41: LS => | I41: 0 | J41: MO com LS => | K41: 350.4 | L41: MO com LS => | M41: 324.4
F42: Valor do BDI => | G42: 251.19 | I42: Valor com BDI => | K42: 1246.82 | M42: 1266.53
H43: Quant. => | I43: 1,00 | J43: Preço Total => | K43: 1246.82 | L43: Preço Total => | M43: 1266.53
...

Sheet CFF
B2: Obra | D2: Bancos | E2: B.D.I. | F2: Encargos Sociais
B3: =RESUMO!B3 -> Projeto Executivo de Infraestrutura Urbana - Jardim Basilia - Três Lagoas R09 | D3: =RESUMO!D3 -> SINAPI - 01/2026 - MS; SICRO3 - 10/2025 - MS; AGESUL 01/2026 | E3: =RESUMO!E3 -> Serviço: 24,23% Material: 15,27% | F3: Não Desonerado
B4: Cronograma Físico e Financeiro
B5: Item | C5: Descrição | D5: Total Por Etapa | E5: 30 DIAS | F5: 60 DIAS | G5: 90 DIAS | H5: 120 DIAS | I5: 150 DIAS | J5: 180 DIAS | K5: 210 DIAS | L5: 240 DIAS
B6: 1 | C6: SERVIÇOS PRELIMINARES | D6: =SUM(E6:L6) -> 1 | E6: 1
D7: =RESUMO!I6 -> 90506.22 | E7: =E6*D7 -> 90506.22
B8: 2 | C8: DRENAGEM DE ÁGUAS PLUVIAIS | D8: =SUM(E8:L8) -> 1 | E8: 0.1 | F8: 0.15 | G8: 0.2 | H8: 0.2 | I8: 0.15 | J8: 0.1 | K8: 0.1
D9: =RESUMO!I7 -> 2741273.4 | E9: =E8*$D$9 -> 274127.34 | F9: =F8*$D$9 -> 411191.01 | G9: =G8*$D$9 -> 548254.68 | H9: =H8*$D$9 -> 548254.68 | I9: =I8*$D$9 -> 411191.01 | J9: =J8*$D$9 -> 274127.34 | K9: =K8*$D$9 -> 274127.34
B10: 3 | C10: PAVIMENTAÇÃO ASFÁLTICA | D10: =SUM(E10:L10) -> 1 | F10: 0.15 | G10: 0.15 | H10: 0.2 | I10: 0.2 | J10: 0.15 | K10: 0.15
D11: =RESUMO!I8 -> 4292066.5 | F11: =F10*$D$11 -> 643809.97 | G11: =G10*$D$11 -> 643809.97 | H11: =H10*$D$11 -> 858413.29 | I11: =I10*$D$11 -> 858413.29 | J11: =J10*$D$11 -> 643809.97 | K11: =K10*$D$11 -> 643809.97
B12: 4 | C12: CALÇADA E ACESSIBILIDADE | D12: =SUM(E12:L12) -> 1 | K12: 0.5 | L12: 0.5
D13: =RESUMO!I9 -> 133824.13 | K13: =K12*$D$13 -> 66912.065 | L13: =L12*$D$13 -> 66912.065
B14: 5 | C14: SINALIZAÇÃO VIÁRIA PERMANENTE | D14: =SUM(E14:L14) -> 1 | K14: 0.75 | L14: 0.25
D15: =RESUMO!I10 -> 113286.68 | K15: =K14*$D$15 -> 84965.01 | L15: =L14*$D$15 -> 28321.67
B16: 6 | C16: ADMINISTRAÇÃO LOCAL DO CANTEIRO DE OBRAS | D16: =SUM(E16:L16) -> 1 | E16: 0.0496 | F16: 0.1432 | G16: 0.1617 | H16: 0.1908 | I16: 0.1722 | J16: 0.1245 | K16: 0.1451 | L16: 0.0129
D17: =RESUMO!I11 -> 384191.21 | E17: =E16*$D$17 -> 19055.884 | F17: =F16*$D$17 -> 55016.181 | G17: =G16*$D$17 -> 62123.719 | H17: =H16*$D$17 -> 73303.683 | I17: =I16*$D$17 -> 66157.726 | J17: =J16*$D$17 -> 47831.806 | K17: =K16*$D$17 -> 55746.145 | L17: =L16*$D$17 -> 4956.0666
B18: Porcentagem | E18: =E19/$L$21 -> 0.04947545 | F18: =F19/$L$21 -> 0.14313294 | G18: =G19/$L$21 -> 0.16172333 | H18: =H19/$L$21 -> 0.19083732 | I18: =I19/$L$21 -> 0.17224198 | J18: =J19/$L$21 -> 0.12453265 | K18: =K19/$L$21 -> 0.14513721 | L18: =L19/$L$21 -> 0.012919135
B19: Custo | E19: =E7+E9+E11+E13+E15+E17 -> 383689.44 | F19: =F7+F9+F11+F13+F15+F17 -> 1110017.2 | G19: =G7+G9+G11+G13+G15+G17 -> 1254188.4 | H19: =H7+H9+H11+H13+H15+H17 -> 1479971.7 | I19: =I7+I9+I11+I13+I15+I17 -> 1335762 | J19: =J7+J9+J11+J13+J15+J17 -> 965769.11 | K19: =K7+K9+K11+K13+K15+K17 -> 1125560.5 | L19: =L7+L9+L11+L13+L15+L17 -> 100189.8
B20: Porcentagem Acumulado | E20: =E21/$L$21 -> 0.04947545 | F20: =F21/$L$21 -> 0.19260839 | G20: =G21/$L$21 -> 0.35433172 | H20: =H21/$L$21 -> 0.54516904 | I20: =I21/$L$21 -> 0.71741101 | J20: =J21/$L$21 -> 0.84194366 | K20: =K21/$L$21 -> 0.98708087 | L20: =L21/$L$21 -> 1
B21: Custo Acumulado | E21: =E19 -> 383689.44 | F21: =E21+F19 -> 1493706.6 | G21: =F21+G19 -> 2747895 | H21: =G21+H19 -> 4227866.6 | I21: =H21+I19 -> 5563628.6 | J21: =I21+J19 -> 6529397.8 | K21: =J21+K19 -> 7654958.3 | L21: =K21+L19 -> 7755148.1 | M21: =L21='ORÇ. SINTÉTICO'!M135 -> TRUE
E25: =E19-E17 -> 364633.56 | F25: =F19-F17 -> 1055001 | G25: =G19-G17 -> 1192064.6 | H25: =H19-H17 -> 1406668 | I25: =I19-I17 -> 1269604.3 | J25: =J19-J17 -> 917937.31 | K25: =K19-K17 -> 1069814.4 | L25: =L19-L17 -> 95233.735 | M25: =SUM(E25:L25) -> 7370956.9
E26: =E25/$M$25 -> 0.049468958 | F26: =F25/$M$25 -> 0.14312945 | G26: =G25/$M$25 -> 0.16172454 | H26: =H25/$M$25 -> 0.19083926 | I26: =I25/$M$25 -> 0.17224416 | J26: =J25/$M$25 -> 0.12453435 | K26: =K25/$M$25 -> 0.14513915 | L26: =L25/$M$25 -> 0.012920132

Sheet CPU
B3: Composições Analíticas com Preço Unitário | F3: Bancos | H3: B.D.I. | J3: Encargos Sociais
B4: =RESUMO!B3 -> Projeto Executivo de Infraestrutura Urbana - Jardim Basilia - Três Lagoas R09 | F4: =RESUMO!D3 -> SINAPI - 01/2026 - MS; SICRO3 - 10/2025 - MS; AGESUL 01/2026 | H4: =RESUMO!E3 -> Serviço: 24,23% Material: 15,27% | J4: Não Desonerado
B5: Composições Analíticas com Preço Unitário
B6: Composições Principais
C7: Código | D7: Banco | E7: Descrição | F7: Tipo | H7: Und | I7: Quant. | J7: Valor Unit | K7: Total
B8: 1.1.4 | C8: Código | D8: Banco | E8: Descrição | F8: Tipo | H8: Und | I8: Quant. | J8: Valor Unit | K8: Total
B9: Composição | C9: PRE.LIG.ÁGUA | D9: Próprio | E9: LIGAÇÃO PROVISORIA DE ÁGUA | F9: SEDI - SERVIÇOS DIVERSOS | H9: un | I9: 1 | J9: 995.63 | K9: 995.63
B10: Composição Auxiliar | C10: AUX.PRE.LIG | D10: Próprio | E10: LIGACAO DA REDE 75MM AO RAMAL PREDIAL 1/2" | F10: LIPR - LIGAÇÕES PREDIAIS ÁGUA/ESGOTO/ENERGIA/TELEFONE | H10: UN | I10: 1 | J10: 67.64 | K10: 67.64
B11: Composição Auxiliar | C11: 95676 | D11: SINAPI | E11: CAIXA EM CONCRETO PRÉ-MOLDADO PARA ABRIGO DE HIDRÔMETRO COM DN 20 MM - FORNECIMENTO E INSTALAÇÃO. AF_03/2024 | F11: Sistemas de Medição | H11: UN | I11: 1 | J11: 141 | K11: 141
B12: Composição Auxiliar | C12: 95674 | D12: SINAPI | E12: HIDRÔMETRO DN 1/2", 3,0 M3/H - FORNECIMENTO E INSTALAÇÃO. AF_03/2024 | F12: Sistemas de Medição | H12: UN | I12: 1 | J12: 134.79 | K12: 134.79
B13: Composição Auxiliar | C13: AUX.PRE.RAMAL | D13: Próprio | E13: RAMAL PREDIAL EM TUBO PEAD 20MM - FORNECIMENTO, INSTALAÇÃO, ESCAVAÇÃO E REATERRO (af 01/2024) | F13: LIPR - LIGAÇÕES PREDIAIS ÁGUA/ESGOTO/ENERGIA/TELEFONE | H13: M | I13: 15 | J13: 28.64 | K13: 429.6
B14: Composição Auxiliar | C14: 95635 | D14: SINAPI | E14: KIT CAVALETE PARA MEDIÇÃO DE ÁGUA - ENTRADA PRINCIPAL, EM PVC 25 MM (3/4") - FORNECIMENTO E INSTALAÇÃO (EXCLUSIVE HIDRÔMETRO). AF_03/2024 | F14: Sistemas de Medição | H14: UN | I14: 1 | J14: 222.6 | K14: 222.6
F15: MO sem LS => | G15: 350.4 | H15: LS => | I15: 0 | J15: MO com LS => | K15: 350.4
F16: Valor do BDI => | G16: 241.24 | I16: Valor com BDI => | K16: 1236.87
B18: 1.1.11 | C18: Código | D18: Banco | E18: Descrição | F18: Tipo | H18: Und | I18: Quant. | J18: Valor Unit | K18: Total
B19: Composição | C19: PRE.SIN.ADVERT. | D19: Próprio | E19: SINALIZAÇÃO DE ADVERTÊNCIA DE OBRA COM PLACA (FUNDO LARANJA) SOBRE CAVALETE, CONFORME ABNT-NBR-7678 | F19: SEDI - SERVIÇOS DIVERSOS | H19: un | I19: 1 | J19: 492.48 | K19: 492.48
B20: Composição Auxiliar | C20: 88262 | D20: SINAPI | E20: CARPINTEIRO DE FORMAS COM ENCARGOS COMPLEMENTARES | F20: Livro SINAPI: Cálculos e Parâmetros | H20: H | I20: 1 | J20: 27.74 | K20: 27.74
B21: Composição Auxiliar | C21: 88316 | D21: SINAPI | E21: SERVENTE COM ENCARGOS COMPLEMENTARES | F21: Livro SINAPI: Cálculos e Parâmetros | H21: H | I21: 1.5 | J21: 22.76 | K21: 34.14
B22: Composição Auxiliar | C22: 73467 | D22: SINAPI | E22: CAMINHÃO TOCO, PBT 14.300 KG, CARGA ÚTIL MÁX. 9.710 KG, DIST. ENTRE EIXOS 3,56 M, POTÊNCIA 185 CV, INCLUSIVE CARROCERIA FIXA ABERTA DE MADEIRA P/ TRANSPORTE GERAL DE CARGA SECA, DIMEN. APROX. 2,50 X 6,50 X 0,50 M - CHP DIURNO. AF_06/2014 | F22: Custos Horários Produtivo e Improdutivo dos Equipamentos | H22: CHP | I22: 0.01 | J22: 248.87 | K22: 2.48
B23: Insumo | C23: 00004433 | D23: SINAPI | E23: CAIBRO NAO APARELHADO *6 X 6* CM, EM MACARANDUBA/MASSARANDUBA, ANGELIM OU EQUIVALENTE DA REGIAO - BRUTA | F23: Material | H23: M | I23: 1 | J23: 28.12 | K23: 28.12
