Workbook
Name \c: #REF!
Name \c: #REF!
Name \c: #REF!
Name \c: #REF!
Name \c: #REF!
Name \c: #REF!
Name \c: #REF!
Name \c: #REF!
Name \c: #REF!
Name \c: #REF!
Name \c: #REF!
Name \D: #REF!
Name \D: #REF!
Name \G: #REF!
Name \G: #REF!
Name \I: #REF!
Name \I: #REF!
Name \I: #REF!
Name \I: #REF!
Name \I: #REF!
Name \I: #REF!
Name \I: #REF!
Name \I: #REF!
Name \I: #REF!
Name \I: #REF!
Name \M: #REF!
Name \M: #REF!
Name \p: #REF!
Name \p: #REF!
Name \p: #REF!
Name \p: #REF!
Name \p: #REF!
Name \p: #REF!
Name \p: #REF!
Name \p: #REF!
Name \p: #REF!
Name \p: #REF!
Name \p: #REF!
Name \R: #REF!
Name \R: #REF!
Name \S: #REF!
Name \S: #REF!
Name \S: #REF!
Name \S: #REF!
Name \S: #REF!
Name \S: #REF!
Name \t: #REF!
Name \t: #REF!
Name \t: #REF!
Name \t: #REF!
Name \t: #REF!
Name \t: #REF!
Name \Y: #REF!
Name \Y: #REF!
Name _: #REF!
Name _: #REF!
Name ______ms299: #REF!
Name ______ms299: #REF!
Name ______ms299: #REF!
Name ______ms299: #REF!

Sheet DMT
B2: JARDIM ANTUNES ETAPA 2 E JARDIM MATE DAS LARANJEIRAS
B4: QUADRO RESUMO DE DISTÂNCIAS DE TRANSPORTE
B5: MATERIAL | C5: PERCURSO | E5: TRANSPORTE COMERCIAL (km) | F5: DMT TOTAL (km)
C6: ORIGEM | D6: DESTINO
B7: CBUQ - COMERCIAL | C7: AMAMBAI | D7: CORONEL SAPUCAIA | E7: 65.4 | F7: =E7 -> 65.4
B8: EMULSÃO ASFÁLTICA TIPO RR-2C | C8: CAMPO GRANDE | D8: CORONEL SAPUCAIA | E8: ='MAT BET'!H9 -> 402.9 | F8: =E8 -> 402.9
B9: EMULSÃO ASFÁLTICA - EAI | C9: CAMPO GRANDE | D9: CORONEL SAPUCAIA | E9: ='MAT BET'!H6 -> 402.9 | F9: =E9 -> 402.9
B10: BRITA, BICA CORRIDA E RACHÃO OU PEDRA DE MÃO | C10: AMAMBAI | D10: CORONEL SAPUCAIA | E10: =E7 -> 65.4 | F10: =E10 -> 65.4
B11: TUBOS DE CONCRETO | C11: DOURADOS | D11: CORONEL SAPUCAIA | E11: 170 | F11: =E11 -> 170
B12: TUBOS PEAD | D12: CORONEL SAPUCAIA | F12: =E12 -> 0
B13: PISO TÁTIL | C13: DOURADOS | D13: CORONEL SAPUCAIA | E13: =E11 -> 170 | F13: =E13 -> 170
B14: GRELHAS | C14: CURITIBA/PR | D14: CORONEL SAPUCAIA | E14: =GRELHA!H5 -> 876.8 | F14: =E14 -> 876.8
B15: BOTA FORA | C15: CORONEL SAPUCAIA | D15: CORONEL SAPUCAIA | E15: 3.4 | F15: =E15 -> 3.4
B16: MATERIAL PARA BASE | C16: AMAMBAI | D16: CORONEL SAPUCAIA | E16: =E7 -> 65.4 | F16: =E16 -> 65.4

Sheet MAT BET
B2: PREÇO MÉDIO DE AQUISIÇÃO DE MATERIAL PARA IMPRIMAÇÃO
B3: Produto | C3: Período | D3: Empresa | E3: UF | F3: Valor R$/kg | G3: Valor R$/t | H3: DMT (km) | I3: TRANSPORTE DMT ATÉ 30 KM (R$/t) | J3: TRANSPORTE DMT EXCEDENTE A 30 KM (R$/t) | K3: Pedágio R$/t | L3: Total Aquisição + Pedágio (R$/t) | M3: Total Aquisição + Alíquota + Pedágio + Transporte (R$/t)
B4: EMULSÃO ASFÁLTICA PARA IMPRIMAÇÃO | C4: 46023 | D4: CBB Asfaltos | E4: Apucarana/PR | F4: 3.26 | G4: =TRUNC(F4*1000,2) -> 3260 | H4: 574.1 | I4: =2.49*30 -> 74.7 | J4: =(H4-30)*0.98 -> 533.218 | K4: =D17 -> 3 | L4: =G4+K4 -> 3263 | M4: =G4+I4+J4+K4 -> 3870.918
C5: 46023 | D5: Greca Asfaltos | E5: Campo Grande/MS | F5: 3.732 | G5: =TRUNC(F5*1000,2) -> 3732 | H5: 402.1 | I5: 0 | J5: 0 | K5: =E17 -> 0 | L5: =G5+K5 -> 3732 | M5: =G5+I5+J5+K5 -> 3732
C6: 46023 | D6: Betunel | E6: Campo Grande/MS | F6: 3 | G6: =TRUNC(F6*1000,2) -> 3000 | H6: 402.9 | I6: =2.49*30 -> 74.7 | J6: =(H6-30)*0.98 -> 365.442 | K6: =F17 -> 13.44 | L6: =G6+K6 -> 3013.44 | M6: =G6+I6+J6+K6 -> 3453.582
B7: EMULSÃO ASFÁLTICA RR-2C | C7: =C4 -> 46023 | D7: CBB Asfaltos | E7: Apucarana/PR | F7: 3.67 | G7: =TRUNC(F7*1000,2) -> 3670 | H7: =H4 -> 574.1 | I7: =2.49*30 -> 74.7 | J7: =(H7-30)*0.98 -> 533.218 | K7: =D17 -> 3 | L7: =G7+K7 -> 3673 | M7: =G7+I7+J7+K7 -> 4280.918
C8: =C5 -> 46023 | D8: Greca Asfaltos | E8: Campo Grande/MS | F8: 4.602 | G8: =TRUNC(F8*1000,2) -> 4602 | H8: =H5 -> 402.1 | I8: 0 | J8: 0 | K8: =E17 -> 0 | L8: =G8+K8 -> 4602 | M8: =G8+I8+J8+K8 -> 4602
C9: =C6 -> 46023 | D9: Betunel | E9: Campo Grande/MS | F9: 3.7 | G9: =TRUNC(F9*1000,2) -> 3700 | H9: =H6 -> 402.9 | I9: =2.49*30 -> 74.7 | J9: =(H9-30)*0.98 -> 365.442 | K9: =F17 -> 13.44 | L9: =G9+K9 -> 3713.44 | M9: =G9+I9+J9+K9 -> 4153.582
L10: * O valor da Greca é CIF
B11: TRANSPORTE DE MATERIAL PARA IMPRIMAÇÃO - PEDÁGIO
B12: Descrição | D12: Apucarana/PR | E12: Campo Grande/MS | F12: Campo Grande/MS | G12: Unidade
B13: Custo c/ Pedágio | C13: Ida | D13: 39 | E13: 0 | F13: 168 | G13: R$/viagem
C14: Volta | D14: 36 | E14: =E13 -> 0 | F14: =F13 -> 168 | G14: R$/viagem
C15: Total | D15: =D13+D14 -> 75 | E15: =E13+E14 -> 0 | F15: =F13+F14 -> 336 | G15: R$/viagem
B16: Capacidade da carreta 6 eixos: | D16: 25 | E16: 25 | F16: 25 | G16: t/viagem
B17: Valor Total: | D17: =ROUND(D15/D16,2) -> 3 | E17: =ROUND(E15/E16,2) -> 0 | F17: =ROUND(F15/F16,2) -> 13.44 | G17: R$/t
C19: Apucarana/PR | H19: Campo Grande/MS | L19: Campo Grande/MS
C20: CBB Asfaltos | H20: GRECA | L20: BETUNEL

Sheet GRELHA
B2: PREÇO MÉDIO DE AQUISIÇÃO DE GRELHAS PARA BOCAS DE LOBO
B3: Produto | C3: Período | D3: Empresa | E3: UF | F3: Valor R$/und | G3: Valor R$/und | H3: DMT (km) | I3: TRANSPORTE DMT ATÉ 30 KM (R$/und) | J3: TRANSPORTE DMT EXCEDENTE A 30 KM (R$/und) | K3: Pedágio R$/t | L3: Total Aquisição + Pedágio (R$/t) | M3: Total Aquisição + Pedágio + Transporte (R$/t)
B4: GRELHAS | C4: 45931 | D4: ALEA | E4: Carmo da Mata/MG | F4: 350 | G4: =TRUNC(F4,2) -> 350 | H4: 1481.5 | I4: =2.2*30*0.04 -> 2.64 | J4: =(H4-30)*0.87*0.04 -> 50.5122 | K4: =D14 -> 4.33 | L4: =G4+K4 -> 354.33 | M4: =G4+I4+J4+K4 -> 407.4822
C5: 45931 | D5: LGR | E5: Curitiba/PR | F5: 801 | G5: =TRUNC(F5,2) -> 801 | H5: 876.8 | I5: =2.2*30*0.04 -> 2.64 | J5: =(H5-30)*0.87*0.04 -> 29.46864 | K5: =E14 -> 1.02 | L5: =G5+K5 -> 802.02 | M5: =G5+I5+J5+K5 -> 834.12864
C6: 45931 | D6: Mais Fer | E6: Claudio/MG | F6: 795 | G6: =TRUNC(F6,2) -> 795 | H6: 1483.6 | I6: =2.2*30*0.04 -> 2.64 | J6: =(H6-30)*0.87*0.04 -> 50.58528 | K6: =F14 -> 4.33 | L6: =G6+K6 -> 799.33 | M6: =G6+I6+J6+K6 -> 852.55528
B8: TRANSPORTE DE MATERIAL PARA GRELHAS - PEDÁGIO
B9: Descrição | D9: =E4 -> Carmo da Mata/MG | E9: =E5 -> Curitiba/PR | F9: =E6 -> Claudio/MG | G9: Unidade | I9: Capacidade de carga carroceria 9T | K9: 9000 | L9: kg
B10: Custo c/ Pedágio | C10: Ida | D10: 487.45 | E10: 115.2 | F10: 487.45 | G10: R$/viagem | I10: Peso adotado p/ grelha | K10: 40 | L10: kg/unidade
C11: Volta | D11: =D10 -> 487.45 | E11: =E10 -> 115.2 | F11: =F10 -> 487.45 | G11: R$/viagem | I11: Capacidade de carga | K11: =K9/K10 -> 225 | L11: und
C12: Total | D12: =D10+D11 -> 974.9 | E12: =E10+E11 -> 230.4 | F12: =F10+F11 -> 974.9 | G12: R$/viagem
B13: Capacidade da carreta 3 eixos: | D13: =K11 -> 225 | E13: =K11 -> 225 | F13: =K11 -> 225 | G13: und/viagem
B14: Valor Total: | D14: =ROUND(D12/D13,2) -> 4.33 | E14: =ROUND(E12/E13,2) -> 1.02 | F14: =ROUND(F12/F13,2) -> 4.33 | G14: R$/t
B16: =E4 -> Carmo da Mata/MG | E16: =E5 -> Curitiba/PR | K16: =F9 -> Claudio/MG

Sheet PRELIMINARES - JDML+JDA-E2
B2: MEMORIAL DE CÁLCULO DE QUANTITATIVOS DE SERVIÇOS PRELIMINARES
B4: Extensão rede de drenagem | D4: ='DRENAGEM - JDML'!AU18+'DRENAGEM - JDA-E2'!AU21+'DRENO - JDA-E2'!L12 -> 2120.8
B5: Extensão pavimentação asfáltica | D5: ='PAVIMENTAÇÃO - JDML'!I12+'PAVIMENTAÇÃO - JDA-E2'!I13 -> 2183.678
B7: Serviço | C7: Critério | G7: Total
B8: Barracão de obra | C8: Implantação Asfáltica até 3.000m ou Rede drenagem até 3.000m ou Drenagem + Pavimentação até 4.000m | E8: 15 | F8: =D4+D5 -> 4304.478 | G8: N.A.
C9: Implantação Asfáltica até 6.000m ou Rede drenagem até 6.000m ou Drenagem + Pavimentação até 8.000m | E9: 30
C10: Implantação Asfáltica acima 6.000m ou Rede drenagem acima 6.000m ou Drenagem + Pavimentação acima 8.000m | E10: 45
B11: Placa de advertência fundo laranja | C11: 2 Placas de (2,0 x 1,125) m² a cada 200,00m de rede ou implantação (aproximandamente uma quadra fechada) | F11: =D4+D5 -> 4304.478 | G11: =ROUNDUP(F11/200,0) -> 22
B12: Tela plástica | C12: Rede de drenagem + dreno X 1,20m (Considerando que as redes e dreno sejam executados em 2 etapas, no mínimo) | F12: =D4 -> 2120.8 | G12: =ROUNDUP(F12*1.2/4,0) -> 637
B13: Sinalização noturna | C13: Rede de drenagem + dreno (Considerando que as redes e dreno sejam executados em 2 etapas, no mínimo) | F13: =D4 -> 2120.8 | G13: =ROUNDUP(F13/4,0) -> 531

Sheet DEMOLIÇÃO - JDML
D4: MEMORIAL DE CÁLCULO DE DEMOLIÇÕES
D5: ESTRUTURA | E5: QUANTIDADE | F5: UNIDADE | G5: CONCRETO SIMPLES (m³/und) | H5: CONCRETO ARMADO (m³/und) | I5: ÁREA DE PAVIMENTO (m²) | J5: TOTAL CONCRETO SIMPLES (m³) | K5: TOTAL CONCRETO ARMADO (m³) | L5: TOTAL PAVIMENTO (m²)
D6: BOCA DE LOBO SIMPLES | E6: 0 | F6: und | G6: 0 | H6: 0.729 | I6: 0 | J6: =TRUNC(E6*G6,2) -> 0 | K6: =TRUNC(E6*H6,2) -> 0 | L6: -
D7: PAVIMENTO EXISTENTE | E7: =44.07+45.43 -> 89.5 | F7: m² | G7: 0 | H7: 0 | I7: =E7 -> 89.5 | J7: - | K7: - | L7: =I7 -> 89.5
D8: MEIO-FIO EXISTENTE | E8: 79.75 | F8: m | G8: 0.0615 | H8: 0 | I8: 0 | J8: =TRUNC(E8*G8,2) -> 4.9 | K8: =TRUNC(E8*H8,2) -> 0 | L8: -
D9: CALÇADA EXISTENTE | E9: 0 | F9: m² | G9: =1*0.07 -> 0.07 | H9: 0 | I9: 0 | J9: =TRUNC(E9*G9,2) -> 0 | K9: =TRUNC(E9*H9,2) -> 0 | L9: -
D10: TOTAL | J10: =SUM(J6:J9) -> 4.9 | K10: =SUM(K6:K9) -> 0 | L10: =SUM(L6:L9) -> 89.5
I12: CARGA, MAN. E DESCARGA MATERIAL DEMOLIDO (EMP. 30%): | J12: =TRUNC((J10+K10+(L10*0.03))*1.3,2) -> 9.86 | K12: m³
I13: DMT BOTA-FORA: | J13: =DMT!F15 -> 3.4 | K13: km
I14: TRANSPORTE MATERIAL DEMOLIDO PARA BOTA-FORA: | J14: =TRUNC(J12*J13,2) -> 33.52 | K14: m³.km

Sheet COORD RETIRADAS
B3: POSTES A REMANEJAR | F3: ÁRVORES A REMOVER
B4: DECRIÇÃO | C4: NORTE | D4: ESTE | F4: DECRIÇÃO | G4: NORTE | H4: ESTE
B5: POSTE XX | F5: ÁRVORE XX
B6: POSTE XX | F6: ÁRVORE XX
B7: POSTE XX | F7: ÁRVORE XX
B8: POSTE XX | F8: ÁRVORE XX
B9: POSTE XX | F9: ÁRVORE XX

Sheet DRENO - JDA-E2
B2: QUANTIFICAÇÃO DOS DRENOS E COLCHÃO DRENANTE
B3: Rua | C3: ESTACAS | I3: Extensão (m) | J3: Larg. de Regularização (m) | K3: TIPO DE DRENO | M3: DRENO SUB-SUPERFICIAL | P3: DRENO PROFUNDO | S3: MACADAME SECO (COLCHÃO DRENANTE) | V3: MANTA GEOTÊXTIL (COLCHÃO DRENANTE)
C4: Início | F4: Fim | K4: Tipo | L4: Extensão (m) | M4: Coef. (m³/m) | N4: Extensão (m) | O4: Volume (m³) | P4: Coef. (m³/m) | Q4: Extensão (m) | R4: Volume (m³) | S4: Área (m²) | T4: Espessura (m) | U4: Volume (m³) | V4: Acréscimo* (m) | W4: Área (m²)
B5: Rua Clemência Antunes | C5: =[1]PAVIMENTAÇÃO!C7 -> 0 | D5: + | E5: 0 | F5: 5 | G5: + | H5: 9.08 | I5: =(F5*20+H5)-(C5*20+E5) -> 109.08 | J5: 7.44 | K5: SUBSUPERFICIAL | L5: =ROUNDUP(I5,0)*2 -> 220 | M5: 0.1674 | N5: =L5 -> 220 | O5: =M5*N5*2 -> 73.656 | P5: 0 | Q5: 0 | R5: =P5*Q5*2 -> 0 | S5: =(I5*J5) -> 811.5552 | T5: 0.3 | U5: =T5*S5 -> 243.46656 | V5: =T5*2 -> 0.6 | W5: =(I5*(V5+J5)) -> 877.0032
B6: Rua Clemência Antunes | C6: 6 | D6: =[1]PAVIMENTAÇÃO!D9 -> + | E6: 12.378 | F6: 11 | G6: =[1]PAVIMENTAÇÃO!G9 -> + | H6: 13.571 | I6: =(F6*20+H6)-(C6*20+E6) -> 101.193 | J6: 0 | K6: PROFUNDO | L6: =ROUNDUP(I6,0)*2 -> 204 | M6: 0 | N6: =(M6*L6)*2 -> 0 | O6: 0 | P6: 0.8164 | Q6: =(P6*L6)*2 -> 333.0912 | R6: =P6*Q6*2 -> 543.87131 | S6: 0 | T6: 0 | U6: =T6*S6 -> 0 | V6: 0 | W6: 0
B7: Rua Clemência Antunes | C7: 12 | D7: =[1]PAVIMENTAÇÃO!D10 -> + | E7: 14.17 | F7: 17 | G7: =[1]PAVIMENTAÇÃO!G10 -> + | H7: 11.688 | I7: =(F7*20+H7)-(C7*20+E7) -> 97.518 | J7: 0 | K7: PROFUNDO | L7: =ROUNDUP(I7,0)*2 -> 196 | M7: 0 | N7: =(M7*L7)*2 -> 0 | O7: 0 | P7: 0.8164 | Q7: =(P7*L7)*2 -> 320.0288 | R7: =P7*Q7*2 -> 522.54302 | S7: 0 | T7: 0 | U7: =T7*S7 -> 0 | V7: 0 | W7: 0
B8: Rua Clemência Antunes | C8: 18 | D8: =[1]PAVIMENTAÇÃO!D11 -> + | E8: 12.177 | F8: 21 | G8: =[1]PAVIMENTAÇÃO!G11 -> + | H8: 8.865 | I8: =(F8*20+H8)-(C8*20+E8) -> 56.688 | J8: 0 | K8: PROFUNDO | L8: =ROUNDUP(I8,0)*2 -> 114 | M8: 0 | N8: =(M8*L8)*2 -> 0 | O8: 0 | P8: 0.8164 | Q8: =(P8*L8)*2 -> 186.1392 | R8: =P8*Q8*2 -> 303.92809 | S8: 0 | T8: 0 | U8: =T8*S8 -> 0 | V8: 0 | W8: 0
B9: Rua José Guiomar | C9: =[1]PAVIMENTAÇÃO!C10 -> 0 | D9: =[1]PAVIMENTAÇÃO!D10 -> + | E9: 6.378 | F9: 4 | G9: =[1]PAVIMENTAÇÃO!G10 -> + | H9: 9.034 | I9: =(F9*20+H9)-(C9*20+E9) -> 82.656 | J9: 0 | K9: PROFUNDO | L9: =ROUNDUP(I9,0)*2 -> 166 | M9: 0 | N9: =(M9*L9)*2 -> 0 | O9: 0 | P9: 0.8164 | Q9: =(P9*L9)*2 -> 271.0448 | R9: =P9*Q9*2 -> 442.56195 | S9: 0 | T9: 0 | U9: =T9*S9 -> 0 | V9: 0 | W9: 0
B10: Rua Batista Terra | C10: =[1]PAVIMENTAÇÃO!C11 -> 0 | D10: =[1]PAVIMENTAÇÃO!D11 -> + | E10: 6.594 | F10: 4 | G10: =[1]PAVIMENTAÇÃO!G11 -> + | H10: 6.488 | I10: =(F10*20+H10)-(C10*20+E10) -> 79.894 | J10: 0 | K10: PROFUNDO | L10: =ROUNDUP(I10,0)*2 -> 160 | M10: 0 | N10: =(M10*L10)*2 -> 0 | O10: 0 | P10: 0.8164 | Q10: =(P10*L10)*2 -> 261.248 | R10: =P10*Q10*2 -> 426.56573 | S10: 0 | T10: 0 | U10: =T10*S10 -> 0 | V10: 0 | W10: 0
B11: Rua Fortunato de Oliveira | C11: =[1]PAVIMENTAÇÃO!C12 -> 0 | D11: + | E11: 6.687 | F11: 4 | G11: + | H11: 4.65 | I11: =(F11*20+H11)-(C11*20+E11) -> 77.963 | J11: 0 | K11: PROFUNDO | L11: =ROUNDUP(I11,0)*2 -> 156 | M11: 0 | N11: =(M11*L11)*2 -> 0 | O11: 0 | P11: 0.8164 | Q11: =(P11*L11)*2 -> 254.7168 | R11: =P11*Q11*2 -> 415.90159 | S11: 0 | T11: 0 | U11: =T11*S11 -> 0 | V11: 0 | W11: 0
B12: TOTAIS | L12: =+SUM(L5:L11) -> 1216 | N12: =+SUM(N5:N11) -> 220 | O12: =+SUM(O5:O11) -> 73.656 | Q12: =+SUM(Q5:Q11) -> 1626.2688 | R12: =+SUM(R5:R11) -> 2655.3717 | U12: =+SUM(U5:U11) -> 243.46656 | W12: =+SUM(W5:W11) -> 877.0032
B14: 1 - Cálculo de manta geotêxtil: ( Extensão do trecho x (Larg. de Regularização + Acréscimo)); | O14: TRANSPORTE
B15: 2 - Cálculo de macadame seco: ( Extensão do trecho x Larg. de Regularização ) x Espessura da camada; | O15: Volume Total de Pedra (Macadame + Brita 2) (m³) : | U15: =(O12*0.1674)+(U12*0.8164)+(R12*(1.1+0.3)) -> 3928.6165
B16: 3 - * A extensão do acréscimo de manta refere-se a 2 vezes a espessura do macadame para transpasse nas laterais. | O16: TRANSP. DE PEDRA (DMT até 30Km) (m³ x km) : | U16: =U15*30 -> 117858.49
O17: TRANSP. DE PEDRA (DMT exc. a 30Km) (t x km) : | U17: =U15*(DMT!F10-30) -> 139073.02
O18: CARGA, MANOBRA E DESCARGA : | U18: =U15 -> 3928.6165

Sheet DRENAGEM - JDML
B1: OBRA: | C1: Implantação de Pavimentação Asfáltica e Drenagem de Águas Pluviais - Parque Industrial e Jardim Mate Laranjeira
B2: CIDADE: | C2: Coronel Sapucaias/MS
G3: Tempo de Retorno (anos): | K3: =C8 -> 10
B4: Equação da Chuva | G4: Vazão (Deflúvio a escoar): | K4: Q = 2,78 x n x I x A x f
G5: Tempo de Concentração - Formulação de Mc Cuen - (tc): L - comprimento talvegue (km) ; S - Declividade (m/m) | K5: Tc = 10,5721 x L⁰’⁵⁵⁵² x S¯⁰’²⁰⁷⁰
B6: a= | C6: 1873.91 | D6: tc= | E6: VAR | G6: Coeficiente de impermeabilidade (C): | K6: 0.6
B7: b= | C7: 0.192 | D7: c= | E7: 13 | G7: Coeficiente de Deflúvio ( f ): | K7: f = a x (I x tc)^1/3
B8: Tr= | C8: 10 | D8: d= | E8: 0.827 | G8: Fator impermeabilidade ( a ): | K8: a = (2,913 + 64,073 x C) x 10³
B10: MEMORIAL DE DIMENSIONAMENTO DA REDE DE DRENAGEM | AT10: MEMORIAL DE CÁLCULO DE QUANTITATIVOS DE TERRAPLENAGEM DRENAGEM
B11: TRECHO | C11: EXTENSÃO (m) | D11: Área de Contribuição (ha) | F11: C Coef. Impermeabilidade | G11: n (A-0,15) Coef. Distribuição | H11: n (A-0,15) Coef. Distribuição | I11: f Coef. de Deflúvio | J11: I Precipitação (L/s/ha) | K11: Vazão Q (m³/s) | L11: Vazão Q Existente (m³/s) | M11: tc (min) | N11: te Tempo Percurso (min) | O11: Desnível (m) | P11: Declividade (%) | Q11: Vazão que Escoa Pela Rua (m³/s) | R11: Desnível Rua (m) | S11: Declividade da Rua (m/m) | T11: Diâmetro de Projeto (m) | U11: Linhas Existentes (und) | V11: Diâmetro Existente (m) | W11: Linhas a Implantar (und) | X11: Diâmetro Comercial (m) | Y11: V (m/s) | Z11: FH | AA11: RH/D | AB11: Tirante y/D (%) | AC11: Tirante Normal Y (m) | AD11: RH | AE11: Vazão Máxima d/D=0,80 (Projetada) (m³/s) | AF11: Vazão Máxima d/D=0,80 (Existente) (m³/s) | AG11: Vazão Máxima TOTAL (m³/s) | AH11: Cota do Terreno ou Greide (m) | AJ11: Profundidade PV (m) | AM11: Cota da Geratriz Inferior Externa (m) | AO11: Cota do Nível d'água (m) | AQ11: Recobrimento da Galeria (m) | AT11: TRECHOS | AU11: EXTENSÃO | AW11: TUBULAÇÃO | BA11: PROFUNDIDADE DA LINHA D'ÁGUA | BC11: ESPESSURA LASTRO - BASE DA GALERIA (se for o caso) | BD11: INCLINAÇÃO TALUDE - 1:(V) | BE11: PRESENÇA DE ESCORAMENTO | BF11: PROFUNDIDADE DA VALA | BH11: LARGURA DA VALA | BJ11: ESCAVAÇÃO MECÂNICA | BV11: BOTA-FORA | CA11: ESCORAMENTO (2 x Prof x Ext) | CG11: PREPARO DE FUNDO DA VALA | CI11: LASTRO COM PREPARO DE FUNDO DE VALA (BASE DA GALERIA) (se for o caso) | CN11: REATERRO | CU11: TRANSPORTE DO TUBO | CV11: TUBOS DN 400MM: | CW11: TUBOS DN 600MM: | CX11: TUBOS DN 800MM: | CY11: TUBOS DN 1000MM: | CZ11: TUBOS DN 1200MM: | DA11: TUBOS DN 1500MM: | DB11: CHAMINÉ PARA PV:
D12: SIMPLES | E12: ACUMULADA | AH12: Montante | AI12: Jusante | AJ12: Degrau | AK12: Montante | AL12: Jusante | AM12: Montante | AN12: Jusante | AO12: Montante | AP12: Jusante | AQ12: Montante | AR12: Jusante | AV12: Nº LINHAS EXISTENTE | AW12: Nº LINHAS | AX12: DIÂMETRO NOMINAL EXISTENTE | AY12: DIÂMETRO NOMINAL | AZ12: PS-1 / PA-1 / PA-2 / PVC | BA12: MONTANTE | BB12: JUSANTE | BF12: MÉDIA ENTRE MONTANTE E JUSANTE | BG12: TOTAL (MÉDIA + BOLSA + LASTRO) | BH12: INFERIOR (BASE DA VALA) | BI12: SUPERIOR (TOPO DA VALA) | BJ12: 0,00 < PROF ≤ 1,50 (0,00 < LARG ≤ 0,80) | BK12: 0,00 < PROF ≤ 1,50 (0,80 < LARG ≤ 1,50) | BL12: 0,00 < PROF ≤ 1,50 (1,50 < LARG ≤ 2,50) | BM12: 1,50 < PROF ≤ 3,00 (0,00 < LARG ≤ 0,80) | BN12: 1,50 < PROF ≤ 3,00 (0,80 < LARG ≤ 1,50) | BO12: 1,50 < PROF ≤ 3,00 (1,50 < LARG ≤ 2,50) | BP12: 3,00 < PROF ≤ 4,50 (0,00 < LARG ≤ 0,80) | BQ12: 3,00 < PROF ≤ 4,50 (0,80 < LARG ≤ 1,50) | BR12: 3,00 < PROF ≤ 4,50 (1,50 < LARG ≤ 2,50) | BS12: 4,50 < PROF ≤ 6,00 (0,00 < LARG ≤ 0,80) | BT12: 4,50 < PROF ≤ 6,00 (0,80 < LARG ≤ 1,50) | BU12: 4,50 < PROF ≤ 6,00 (1,50 < LARG ≤ 2,50) | BV12: VOLUME DO TUBO (SEÇÃO EXTERNA) | BW12: TAXA INSERVÍVEL DO MATERIAL ESCAVADO | BX12: FATOR DE EMPOLAMENTO MAT. ESCAVADO | BY12: VOLUME ESCAVADO INSERVÍVEL | BZ12: VOLUME TOTAL BOTA-FORA (EMPOLADO) | CA12: 0,00 < PROF ≤ 1,50 (0,00 < LARG ≤ 1,50) | CB12: 0,00 < PROF ≤ 1,50 (1,50 < LARG ≤ 2,50) | CC12: 1,50 < PROF ≤ 3,00 (0,00 < LARG ≤ 1,50) | CD12: 1,50 < PROF ≤ 3,00 (1,50 < LARG ≤ 2,50) | CE12: 3,00 < PROF ≤ 4,50 (0,00 < LARG ≤ 1,50) | CF12: 3,00 < PROF ≤ 4,50 (1,50 < LARG ≤ 2,50) | CG12: LARG. DA BASE < 1,50m | CH12: LARG. DA BASE ≥ 1,50m | CI12: MATERIAL | CJ12: VOLUME GEOMÉTRICO (BASE < 1,50m) | CK12: VOLUME GEOMÉTRICO (BASE ≥ 1,50m) | CL12: TAXA DE EMPOLAMENTO MATER. DA BASE | CM12: VOLUME EMPOLADO | CN12: 0,00 < PROF ≤ 1,50 (0,00 < LARG ≤ 0,80) | CO12: 1,50 < PROF ≤ 3,00 (0,00 < LARG ≤ 0,80) | CP12: 0,00 < PROF ≤ 1,50 (0,80 < LARG ≤ 1,50) | CQ12: 1,50 < PROF ≤ 3,00 (0,80 < LARG ≤ 1,50) | CR12: 0,00 < PROF ≤ 1,50 (1,50 < LARG ≤ 2,50) | CS12: 1,50 < PROF ≤ 3,00 (1,50 < LARG ≤ 2,50) | CT12: 3,00 < PROF ≤ 6,00 (1,50 < LARG ≤ 2,50)
AU13: m | AV13: und | AW13: und | AX13: mm | AY13: mm | AZ13: - | BA13: m | BB13: m | BC13: m | BD13: - | BE13: - | BF13: m | BG13: m | BH13: m | BI13: m | BJ13: m³ | BK13: m³ | BL13: m³ | BM13: m³ | BN13: m³ | BO13: m³ | BP13: m³ | BQ13: m³ | BR13: m³ | BS13: m³ | BT13: m³ | BU13: m³ | BV13: m³ | BW13: % | BX13: % | BY13: m³ | BZ13: m³ | CA13: m² | CB13: m² | CC13: m² | CD13: m² | CE13: m² | CF13: m² | CG13: m² | CH13: m² | CI13: - | CJ13: m³ | CK13: m³ | CL13: % | CM13: m³ | CN13: m³ | CO13: m³ | CP13: m³ | CQ13: m³ | CR13: m³ | CS13: m³ | CT13: m³ | CU13: T | CV13: m | CW13: m | CX13: m | CY13: m | CZ13: m | DA13: m | DB13: m
B14: TR-01 | C14: 55 | D14: 1.34 | E14: =D14 -> 1.34 | F14: 0.6 | G14: =IF(E14<1,1,E14^-0.15) -> 0.95704923 | H14: =$E14^-0.15 -> 0.95704923 | I14: =0.0725*F14*((J14*M14)^(0.333333333333333)) -> 0.52985559 | J14: =$C$6*($C$8^$C$7)/(M14+$E$7)^$E$8 -> 239.3599 | K14: =2.78*G14*E14*I14*J14/1000 -> 0.45216067 | L14: 0 | M14: =10.57215256*(C14/1000)^0.5552*P14^-0.207 -> 7.5501119 | N14: =C14/(Y14*60) -> 0.84466878 | O14: =AM14-AN14 -> 0.117 | P14: =O14/C14 -> 0.0021272727 | Q14: =2.78*G14*J14*D14*I14/1000 -> 0.45216067 | R14: =AH14-AI14 -> 0.017 | S14: =R14/C14 -> 0.00030909091 | T14: =1.55*(K14*0.015/(P14)^(1/2))^(3/8) -> 0.75532502 | U14: 0 | V14: 0 | W14: 1 | X14: 0.8 | Y14: =((AD14^(2/3))*(P14^0.5))/0.015 -> 1.085238 | Z14: =IF(W14=1,(K14*0.01)/(((X14)^(8/3))*(P14^0.5)),IF(W14=2,(K14*0.015*0.5)/(((X14)^(8/3))*(P14^0.5)),IF(W14=3,((K14*0.015)/3)/(((X14)^(8/3))*(P14^0.5)),"ERRO"))) -> 0.1777493 | AA14: =VLOOKUP(Z14,$A$103:$C$202,2,TRUE) -> 0.2621 | AB14: =VLOOKUP(Z14,$A$103:$C$202,3,TRUE) -> 0.54 | AC14: =AB14*X14 -> 0.432 | AD14: =AA14*X14 -> 0.20968 | AE14: =((1/0.015)*((0.3042*X14)^(2/3))*(0.6736*(X14^2)*(SQRT(P14))))*W14 -> 0.51669609 | AF14: =((1/0.015)*((0.3042*V14)^(2/3))*(0.6736*(V14^2)*(SQRT(P14))))*U14 -> 0 | AG14: =AE14+AF14 -> 0.51669609 | AH14: 525.331 | AI14: 525.314 | AK14: 1.4 | AL14: 1.5 | AM14: =AH14-AK14 -> 523.931 | AN14: =AI14-AL14 -> 523.814 | AO14: =AM14+AC14 -> 524.363 | AP14: =AN14+AC14 -> 524.246 | AQ14: =AH14-X14*1.105-AM14 -> 0.516 | AR14: =AI14-X14*1.105-AN14 -> 0.616 | AT14: =B14 -> TR-01 | AU14: =C14 -> 55 | AV14: =U14 -> 0 | AW14: =W14 -> 1 | AX14: =V14 -> 0 | AY14: =X14*1000 -> 800 | AZ14: =IF(AY14=600,"PS-1","PA-1") -> PA-1 | BA14: =AK14 -> 1.4 | BB14: =AL14 -> 1.5 | BC14: =IF(AY14>=1000,0.2,0) -> 0 | BD14: 4 | BE14: =IF(BF14>1.25,"Com","Sem") -> Com | BF14: =AVERAGE(BA14:BB14) -> 1.45 | BG14: =BF14+BC14+0.21*AY14/1000 -> 1.618 | BH14: =IF(AW14=1,2*AY14/1000,IF(AW14=2,((1.21*2*(AY14/1000))+0.4),IF(AW14=3,((3*1.21*(AY14/1000))+0.6),0))) -> 1.6 | BI14: =IF(BD14=0,BH14,BH14+2*(1/BD14)*BG14) -> 2.409 | BJ14: =IF(AND(BG14<=1.5,BI14<=0.8),(BI14+BH14)*BG14/2*AU14,"") | BK14: =IF(AND(BG14<=1.5,BI14>0.8,BI14<=1.5),(BI14+BH14)*BG14/2*AU14,"") | BL14: =IF(AND(BG14<=1.5,BI14>1.5),(BI14+BH14)*BG14/2*AU14,"") | BM14: =IF(AND(BG14>1.5,BG14<=3,BI14<=0.8),(BI14+BH14)*BG14/2*AU14,"") | BN14: =IF(AND(BG14>1.5,BG14<=3,BI14>0.8,BI14<=1.5),(BI14+BH14)*BG14/2*AU14,"") | BO14: =IF(AND(BG14>1.5,BG14<=3,BI14>1.5),(BI14+BH14)*BG14/2*AU14,"") -> 178.38046 | BP14: =IF(AND(BG14>3,BG14<=4.5,BI14<=0.8),(BI14+BH14)*BG14/2*AU14,"") | BQ14: =IF(AND(BG14>3,BG14<=4.5,BI14>0.8,BI14<=1.5),(BI14+BH14)*BG14/2*AU14,"") | BR14: =IF(AND(BG14>3,BG14<=4.5,BI14>1.5),(BI14+BH14)*BG14/2*AU14,"") | BS14: =IF(AND(BG14>4.5,BI14<=0.8),(BI14+BH14)*BG14/2*AU14,"") | BT14: =IF(AND(BG14>4.5,BI14>0.8,BI14<=1.5),(BI14+BH14)*BG14/2*AU14,"") | BU14: =IF(AND(BG14>4.5,BI14>1.5),(BI14+BH14)*BG14/2*AU14,"") | BV14: =(PI()*(AY14/1000*1.21)^2/4*AU14)*AW14 -> 40.476531 | BW14: 0 | BX14: 0.15 | BY14: =BW14*SUM(BJ14:BU14) -> 0 | BZ14: =MAX(BY14,BV14)*(1+BX14) -> 46.548011 | CA14: =IF(BE14="Sem","",IF(AND(BG14<=1.5,BI14<=1.5),2*BG14*AU14,"")) | CB14: =IF(BE14="Sem","",IF(AND(BG14<=1.5,BI14>1.5),2*BG14*AU14,"")) | CC14: =IF(BE14="Sem","",IF(AND(BG14>1.5,BG14<=3,BI14<=1.5),2*BG14*AU14,"")) | CD14: =IF(BE14="Sem","",IF(AND(BG14>1.5,BG14<=3,BI14>1.5),2*BG14*AU14,"")) -> 177.98 | CE14: =IF(BE14="Sem","",IF(AND(BG14>3,BI14<=1.5),2*BG14*AU14,"")) | CF14: =IF(BE14="Sem","",IF(AND(BG14>3,BI14>1.5),2*BG14*AU14,"")) | CG14: =IF(BC14<>0,"",IF(BH14<1.5,BH14*AU14,"")) | CH14: =IF(BC14<>0,"",IF(BH14>=1.5,BH14*AU14,"")) -> 88 | CI14: =IF(BC14=0,"-","Brita") -> - | CJ14: =IF(BC14=0,"",IF(BH14<1.5,BC14*BH14*AU14,"")) | CK14: =IF(BC14=0,"",IF(BH14>=1.5,BC14*BH14*AU14,"")) | CL14: 0.1 | CM14: =SUM(CJ14:CK14)*(1+CL14) -> 0 | CN14: =IF(AND(BG14<=1.5,BI14<=0.8),SUM(BJ14:BU14)-BV14,"") | CO14: =IF(AND(BG14>1.5,BG14<=3,BI14<=0.8),SUM(BJ14:BU14)-BV14,"") | CP14: =IF(AND(BG14<=1.5,BI14>0.8,BI14<=1.5),SUM(BJ14:BU14)-BV14,"") | CQ14: =IF(AND(BG14>1.5,BG14<=3,BI14>0.8,BI14<=1.5),SUM(BJ14:BU14)-BV14,"") | CR14: =IF(AND(BG14<=1.5,BI14>1.5),SUM(BJ14:BU14)-BV14,"") | CS14: =IF(AND(BG14>1.5,BG14<=3,BI14>1.5),SUM(BJ14:BU14)-BV14,"") -> 137.90392 | CT14: =IF(AND(BG14>3,BG14<=6,BI14>1.5),SUM(BJ14:BU14)-BV14,"") | CU14: =HLOOKUP(AY14,$AV$25:$BA$26,2,FALSE)*AU14*AW14 -> 29.15 | CV14: =IF(AY14=400,AU14*AW14,0) -> 0 | CW14: =IF($AY14=600,$AU14*AW14,0) -> 0 | CX14: =IF($AY14=800,$AU14*AW14,0) -> 55 | CY14: =IF($AY14=1000,$AU14*AW14,0) -> 0 | CZ14: =IF($AY14=1200,$AU14*AW14,0) -> 0 | DA14: =IF($AY14=1500,$AU14*AW14,0) -> 0 | DB14: =IF(AK14=0,0,(IF(AK14<=1.9,0.3,AK14-1.5))) -> 0.3
B15: TR-02 | C15: 55 | D15: 1.3 | E15: =D15 -> 1.3 | F15: 0.6 | G15: =IF(E15<1,1,E15^-0.15) -> 0.96140969 | H15: =$E15^-0.15 -> 0.96140969 | I15: =0.0725*F15*((J15*M15)^(0.333333333333333)) -> 0.50449087 | J15: =$C$6*($C$8^$C$7)/(M15+$E$7)^$E$8 -> 253.78125 | K15: =2.78*G15*E15*I15*J15/1000 -> 0.4448458 | L15: 0 | M15: =10.57215256*(C15/1000)^0.5552*P15^-0.207 -> 6.1465672 | N15: =C15/(Y15*60) -> 0.53042075 | O15: =AM15-AN15 -> 0.316 | P15: =O15/C15 -> 0.0057454545 | Q15: =2.78*G15*J15*D15*I15/1000 -> 0.4448458 | R15: =AH15-AI15 -> 0.216 | S15: =R15/C15 -> 0.0039272727 | T15: =1.55*(K15*0.015/(P15)^(1/2))^(3/8) -> 0.62311924 | U15: 0 | V15: 0 | W15: 1 | X15: 0.8 | Y15: =((AD15^(2/3))*(P15^0.5))/0.015 -> 1.7281878 | Z15: =IF(W15=1,(K15*0.015)/(((X15)^(8/3))*(P15^0.5)),IF(W15=2,(K15*0.015*0.5)/(((X15)^(8/3))*(P15^0.5)),IF(W15=3,((K15*0.015)/3)/(((X15)^(8/3))*(P15^0.5)),"ERRO"))) -> 0.1596119 | AA15: =VLOOKUP(Z15,$A$103:$C$202,2,TRUE) -> 0.25 | AB15: =VLOOKUP(Z15,$A$103:$C$202,3,TRUE) -> 0.5 | AC15: =AB15*X15 -> 0.4 | AD15: =AA15*X15 -> 0.2 | AE15: =((1/0.015)*((0.3042*X15)^(2/3))*(0.6736*(X15^2)*(SQRT(P15))))*W15 -> 0.84915269 | AF15: =((1/0.015)*((0.3042*V15)^(2/3))*(0.6736*(V15^2)*(SQRT(P15))))*U15 -> 0 | AG15: =AE15+AF15 -> 0.84915269 | AH15: 524.907 | AI15: 524.691 | AK15: 1.4 | AL15: 1.5 | AM15: =AH15-AK15 -> 523.507 | AN15: =AI15-AL15 -> 523.191 | AO15: =AM15+AC15 -> 523.907 | AP15: =AN15+AC15 -> 523.591 | AQ15: =AH15-X15*1.105-AM15 -> 0.516 | AR15: =AI15-X15*1.105-AN15 -> 0.616 | AT15: =B15 -> TR-02 | AU15: =C15 -> 55 | AV15: =U15 -> 0 | AW15: =W15 -> 1 | AX15: =V15 -> 0 | AY15: =X15*1000 -> 800 | AZ15: =IF(AY15=600,"PS-1","PA-1") -> PA-1 | BA15: =AK15 -> 1.4 | BB15: =AL15 -> 1.5 | BC15: =IF(AY15>=1000,0.2,0) -> 0 | BD15: 4 | BE15: =IF(BF15>1.25,"Com","Sem") -> Com | BF15: =AVERAGE(BA15:BB15) -> 1.45 | BG15: =BF15+BC15+0.21*AY15/1000 -> 1.618 | BH15: =IF(AW15=1,2*AY15/1000,IF(AW15=2,((1.21*2*(AY15/1000))+0.4),IF(AW15=3,((3*1.21*(AY15/1000))+0.6),0))) -> 1.6 | BI15: =IF(BD15=0,BH15,BH15+2*(1/BD15)*BG15) -> 2.409 | BJ15: =IF(AND(BG15<=1.5,BI15<=0.8),(BI15+BH15)*BG15/2*AU15,"") | BK15: =IF(AND(BG15<=1.5,BI15>0.8,BI15<=1.5),(BI15+BH15)*BG15/2*AU15,"") | BL15: =IF(AND(BG15<=1.5,BI15>1.5),(BI15+BH15)*BG15/2*AU15,"") | BM15: =IF(AND(BG15>1.5,BG15<=3,BI15<=0.8),(BI15+BH15)*BG15/2*AU15,"") | BN15: =IF(AND(BG15>1.5,BG15<=3,BI15>0.8,BI15<=1.5),(BI15+BH15)*BG15/2*AU15,"") | BO15: =IF(AND(BG15>1.5,BG15<=3,BI15>1.5),(BI15+BH15)*BG15/2*AU15,"") -> 178.38046 | BP15: =IF(AND(BG15>3,BG15<=4.5,BI15<=0.8),(BI15+BH15)*BG15/2*AU15,"") | BQ15: =IF(AND(BG15>3,BG15<=4.5,BI15>0.8,BI15<=1.5),(BI15+BH15)*BG15/2*AU15,"") | BR15: =IF(AND(BG15>3,BG15<=4.5,BI15>1.5),(BI15+BH15)*BG15/2*AU15,"") | BS15: =IF(AND(BG15>4.5,BI15<=0.8),(BI15+BH15)*BG15/2*AU15,"") | BT15: =IF(AND(BG15>4.5,BI15>0.8,BI15<=1.5),(BI15+BH15)*BG15/2*AU15,"") | BU15: =IF(AND(BG15>4.5,BI15>1.5),(BI15+BH15)*BG15/2*AU15,"") | BV15: =(PI()*(AY15/1000*1.21)^2/4*AU15)*AW15 -> 40.476531 | BW15: 0 | BX15: 0.15 | BY15: =BW15*SUM(BJ15:BU15) -> 0 | BZ15: =MAX(BY15,BV15)*(1+BX15) -> 46.548011 | CA15: =IF(BE15="Sem","",IF(AND(BG15<=1.5,BI15<=1.5),2*BG15*AU15,"")) | CB15: =IF(BE15="Sem","",IF(AND(BG15<=1.5,BI15>1.5),2*BG15*AU15,"")) | CC15: =IF(BE15="Sem","",IF(AND(BG15>1.5,BG15<=3,BI15<=1.5),2*BG15*AU15,"")) | CD15: =IF(BE15="Sem","",IF(AND(BG15>1.5,BG15<=3,BI15>1.5),2*BG15*AU15,"")) -> 177.98 | CE15: =IF(BE15="Sem","",IF(AND(BG15>3,BI15<=1.5),2*BG15*AU15,"")) | CF15: =IF(BE15="Sem","",IF(AND(BG15>3,BI15>1.5),2*BG15*AU15,"")) | CG15: =IF(BC15<>0,"",IF(BH15<1.5,BH15*AU15,"")) | CH15: =IF(BC15<>0,"",IF(BH15>=1.5,BH15*AU15,"")) -> 88 | CI15: =IF(BC15=0,"-","Brita") -> - | CJ15: =IF(BC15=0,"",IF(BH15<1.5,BC15*BH15*AU15,"")) | CK15: =IF(BC15=0,"",IF(BH15>=1.5,BC15*BH15*AU15,"")) | CL15: 0.1 | CM15: =SUM(CJ15:CK15)*(1+CL15) -> 0 | CN15: =IF(AND(BG15<=1.5,BI15<=0.8),SUM(BJ15:BU15)-BV15,"") | CO15: =IF(AND(BG15>1.5,BG15<=3,BI15<=0.8),SUM(BJ15:BU15)-BV15,"") | CP15: =IF(AND(BG15<=1.5,BI15>0.8,BI15<=1.5),SUM(BJ15:BU15)-BV15,"") | CQ15: =IF(AND(BG15>1.5,BG15<=3,BI15>0.8,BI15<=1.5),SUM(BJ15:BU15)-BV15,"") | CR15: =IF(AND(BG15<=1.5,BI15>1.5),SUM(BJ15:BU15)-BV15,"") | CS15: =IF(AND(BG15>1.5,BG15<=3,BI15>1.5),SUM(BJ15:BU15)-BV15,"") -> 137.90392 | CT15: =IF(AND(BG15>3,BG15<=6,BI15>1.5),SUM(BJ15:BU15)-BV15,"") | CU15: =HLOOKUP(AY15,$AV$25:$BA$26,2,FALSE)*AU15*AW15 -> 29.15 | CV15: =IF(AY15=400,AU15*AW15,0) -> 0 | CW15: =IF($AY15=600,$AU15*AW15,0) -> 0 | CX15: =IF($AY15=800,$AU15*AW15,0) -> 55 | CY15: =IF($AY15=1000,$AU15*AW15,0) -> 0 | CZ15: =IF($AY15=1200,$AU15*AW15,0) -> 0 | DA15: =IF($AY15=1500,$AU15*AW15,0) -> 0 | DB15: =IF(AK15=0,0,(IF(AK15<=1.9,0.3,AK15-1.5))) -> 0.3
B16: TR-03 | C16: 55 | D16: 1.34 | E16: =D16 -> 1.34 | F16: 0.6 | G16: =IF(E16<1,1,E16^-0.15) -> 0.95704923 | H16: =$E16^-0.15 -> 0.95704923 | I16: =0.0725*F16*((J16*M16)^(0.333333333333333)) -> 0.5143349 | J16: =$C$6*($C$8^$C$7)/(M16+$E$7)^$E$8 -> 248.32309 | K16: =2.78*G16*E16*I16*J16/1000 -> 0.45535171 | L16: 0 | M16: =10.57215256*(C16/1000)^0.5552*P16^-0.207 -> 6.6566098 | N16: =C16/(Y16*60) -> 0.67376737 | O16: =AM16-AN16 -> 0.215 | P16: =O16/C16 -> 0.0039090909 | Q16: =2.78*G16*J16*D16*I16/1000 -> 0.45535171 | R16: =AH16-AI16 -> 0.115 | S16: =R16/C16 -> 0.0020909091 | T16: =1.55*(K16*0.015/(P16)^(1/2))^(3/8) -> 0.67566563 | U16: 0 | V16: 0 | W16: 1 | X16: 0.8 | Y16: =((AD16^(2/3))*(P16^0.5))/0.015 -> 1.3605091 | Z16: =IF(W16=1,(K16*0.01)/(((X16)^(8/3))*(P16^0.5)),IF(W16=2,(K16*0.015*0.5)/(((X16)^(8/3))*(P16^0.5)),IF(W16=3,((K16*0.015)/3)/(((X16)^(8/3))*(P16^0.5)),"ERRO"))) -> 0.1320492 | AA16: =VLOOKUP(Z16,$A$103:$C$202,2,TRUE) -> 0.2331 | AB16: =VLOOKUP(Z16,$A$103:$C$202,3,TRUE) -> 0.45 | AC16: =AB16*X16 -> 0.36 | AD16: =AA16*X16 -> 0.18648 | AE16: =((1/0.015)*((0.3042*X16)^(2/3))*(0.6736*(X16^2)*(SQRT(P16))))*W16 -> 0.70042474 | AF16: =((1/0.015)*((0.3042*V16)^(2/3))*(0.6736*(V16^2)*(SQRT(P16))))*U16 -> 0 | AG16: =AE16+AF16 -> 0.70042474 | AH16: 525.393 | AI16: 525.278 | AK16: 1.4 | AL16: 1.5 | AM16: =AH16-AK16 -> 523.993 | AN16: =AI16-AL16 -> 523.778 | AO16: =AM16+AC16 -> 524.353 | AP16: =AN16+AC16 -> 524.138 | AQ16: =AH16-X16*1.105-AM16 -> 0.516 | AR16: =AI16-X16*1.105-AN16 -> 0.616 | AT16: =B16 -> TR-03 | AU16: =C16 -> 55 | AV16: =U16 -> 0 | AW16: =W16 -> 1 | AX16: =V16 -> 0 | AY16: =X16*1000 -> 800 | AZ16: =IF(AY16=600,"PS-1","PA-1") -> PA-1 | BA16: =AK16 -> 1.4 | BB16: =AL16 -> 1.5 | BC16: =IF(AY16>=1000,0.2,0) -> 0 | BD16: 4 | BE16: =IF(BF16>1.25,"Com","Sem") -> Com | BF16: =AVERAGE(BA16:BB16) -> 1.45 | BG16: =BF16+BC16+0.21*AY16/1000 -> 1.618 | BH16: =IF(AW16=1,2*AY16/1000,IF(AW16=2,((1.21*2*(AY16/1000))+0.4),IF(AW16=3,((3*1.21*(AY16/1000))+0.6),0))) -> 1.6 | BI16: =IF(BD16=0,BH16,BH16+2*(1/BD16)*BG16) -> 2.409 | BJ16: =IF(AND(BG16<=1.5,BI16<=0.8),(BI16+BH16)*BG16/2*AU16,"") | BK16: =IF(AND(BG16<=1.5,BI16>0.8,BI16<=1.5),(BI16+BH16)*BG16/2*AU16,"") | BL16: =IF(AND(BG16<=1.5,BI16>1.5),(BI16+BH16)*BG16/2*AU16,"") | BM16: =IF(AND(BG16>1.5,BG16<=3,BI16<=0.8),(BI16+BH16)*BG16/2*AU16,"") | BN16: =IF(AND(BG16>1.5,BG16<=3,BI16>0.8,BI16<=1.5),(BI16+BH16)*BG16/2*AU16,"") | BO16: =IF(AND(BG16>1.5,BG16<=3,BI16>1.5),(BI16+BH16)*BG16/2*AU16,"") -> 178.38046 | BP16: =IF(AND(BG16>3,BG16<=4.5,BI16<=0.8),(BI16+BH16)*BG16/2*AU16,"") | BQ16: =IF(AND(BG16>3,BG16<=4.5,BI16>0.8,BI16<=1.5),(BI16+BH16)*BG16/2*AU16,"") | BR16: =IF(AND(BG16>3,BG16<=4.5,BI16>1.5),(BI16+BH16)*BG16/2*AU16,"") | BS16: =IF(AND(BG16>4.5,BI16<=0.8),(BI16+BH16)*BG16/2*AU16,"") | BT16: =IF(AND(BG16>4.5,BI16>0.8,BI16<=1.5),(BI16+BH16)*BG16/2*AU16,"") | BU16: =IF(AND(BG16>4.5,BI16>1.5),(BI16+BH16)*BG16/2*AU16,"") | BV16: =(PI()*(AY16/1000*1.21)^2/4*AU16)*AW16 -> 40.476531 | BW16: 0 | BX16: 0.15 | BY16: =BW16*SUM(BJ16:BU16) -> 0 | BZ16: =MAX(BY16,BV16)*(1+BX16) -> 46.548011 | CA16: =IF(BE16="Sem","",IF(AND(BG16<=1.5,BI16<=1.5),2*BG16*AU16,"")) | CB16: =IF(BE16="Sem","",IF(AND(BG16<=1.5,BI16>1.5),2*BG16*AU16,"")) | CC16: =IF(BE16="Sem","",IF(AND(BG16>1.5,BG16<=3,BI16<=1.5),2*BG16*AU16,"")) | CD16: =IF(BE16="Sem","",IF(AND(BG16>1.5,BG16<=3,BI16>1.5),2*BG16*AU16,"")) -> 177.98 | CE16: =IF(BE16="Sem","",IF(AND(BG16>3,BI16<=1.5),2*BG16*AU16,"")) | CF16: =IF(BE16="Sem","",IF(AND(BG16>3,BI16>1.5),2*BG16*AU16,"")) | CG16: =IF(BC16<>0,"",IF(BH16<1.5,BH16*AU16,"")) | CH16: =IF(BC16<>0,"",IF(BH16>=1.5,BH16*AU16,"")) -> 88 | CI16: =IF(BC16=0,"-","Brita") -> - | CJ16: =IF(BC16=0,"",IF(BH16<1.5,BC16*BH16*AU16,"")) | CK16: =IF(BC16=0,"",IF(BH16>=1.5,BC16*BH16*AU16,"")) | CL16: 0.1 | CM16: =SUM(CJ16:CK16)*(1+CL16) -> 0 | CN16: =IF(AND(BG16<=1.5,BI16<=0.8),SUM(BJ16:BU16)-BV16,"") | CO16: =IF(AND(BG16>1.5,BG16<=3,BI16<=0.8),SUM(BJ16:BU16)-BV16,"") | CP16: =IF(AND(BG16<=1.5,BI16>0.8,BI16<=1.5),SUM(BJ16:BU16)-BV16,"") | CQ16: =IF(AND(BG16>1.5,BG16<=3,BI16>0.8,BI16<=1.5),SUM(BJ16:BU16)-BV16,"") | CR16: =IF(AND(BG16<=1.5,BI16>1.5),SUM(BJ16:BU16)-BV16,"") | CS16: =IF(AND(BG16>1.5,BG16<=3,BI16>1.5),SUM(BJ16:BU16)-BV16,"") -> 137.90392 | CT16: =IF(AND(BG16>3,BG16<=6,BI16>1.5),SUM(BJ16:BU16)-BV16,"") | CU16: =HLOOKUP(AY16,$AV$25:$BA$26,2,FALSE)*AU16*AW16 -> 29.15 | CV16: =IF(AY16=400,AU16*AW16,0) -> 0 | CW16: =IF($AY16=600,$AU16*AW16,0) -> 0 | CX16: =IF($AY16=800,$AU16*AW16,0) -> 55 | CY16: =IF($AY16=1000,$AU16*AW16,0) -> 0 | CZ16: =IF($AY16=1200,$AU16*AW16,0) -> 0 | DA16: =IF($AY16=1500,$AU16*AW16,0) -> 0 | DB16: =IF(AK16=0,0,(IF(AK16<=1.9,0.3,AK16-1.5))) -> 0.3
AT17: TUBO 40cm (Tubos de Ligação) | AU17: 124 | AV17: =U17 -> 0 | AW17: 1 | AX17: =V17 -> 0 | AY17: 400 | AZ17: PS-1 | BA17: 1 | BB17: 1.5 | BC17: =IF(AY17>=1000,0.2,0) -> 0 | BD17: 4 | BE17: =IF(BF17>1.25,"Com","Sem") -> Sem | BF17: =AVERAGE(BA17:BB17) -> 1.25 | BG17: =BF17+BC17+0.21*AY17/1000 -> 1.334 | BH17: =IF(AW17=1,2*AY17/1000,IF(AW17=2,((1.21*2*(AY17/1000))+0.4),IF(AW17=3,((3*1.21*(AY17/1000))+0.6),0))) -> 0.8 | BI17: =IF(BD17=0,BH17,BH17+2*(1/BD17)*BG17) -> 1.467 | BJ17: =IF(AND(BG17<=1.5,BI17<=0.8),(BI17+BH17)*BG17/2*AU17,"") | BK17: =IF(AND(BG17<=1.5,BI17>0.8,BI17<=1.5),(BI17+BH17)*BG17/2*AU17,"") -> 187.49904 | BL17: =IF(AND(BG17<=1.5,BI17>1.5),(BI17+BH17)*BG17/2*AU17,"") | BM17: =IF(AND(BG17>1.5,BG17<=3,BI17<=0.8),(BI17+BH17)*BG17/2*AU17,"") | BN17: =IF(AND(BG17>1.5,BG17<=3,BI17>0.8,BI17<=1.5),(BI17+BH17)*BG17/2*AU17,"") | BO17: =IF(AND(BG17>1.5,BG17<=3,BI17>1.5),(BI17+BH17)*BG17/2*AU17,"") | BP17: =IF(AND(BG17>3,BG17<=4.5,BI17<=0.8),(BI17+BH17)*BG17/2*AU17,"") | BQ17: =IF(AND(BG17>3,BG17<=4.5,BI17>0.8,BI17<=1.5),(BI17+BH17)*BG17/2*AU17,"") | BR17: =IF(AND(BG17>3,BG17<=4.5,BI17>1.5),(BI17+BH17)*BG17/2*AU17,"") | BS17: =IF(AND(BG17>4.5,BI17<=0.8),(BI17+BH17)*BG17/2*AU17,"") | BT17: =IF(AND(BG17>4.5,BI17>0.8,BI17<=1.5),(BI17+BH17)*BG17/2*AU17,"") | BU17: =IF(AND(BG17>4.5,BI17>1.5),(BI17+BH17)*BG17/2*AU17,"") | BV17: =(PI()*(AY17/1000*1.21)^2/4*AU17)*AW17 -> 22.814045 | BW17: 0 | BX17: 0.15 | BY17: =BW17*SUM(BJ17:BU17) -> 0 | BZ17: =MAX(BY17,BV17)*(1+BX17) -> 26.236152 | CA17: =IF(BE17="Sem","",IF(AND(BG17<=1.5,BI17<=1.5),2*BG17*AU17,"")) | CB17: =IF(BE17="Sem","",IF(AND(BG17<=1.5,BI17>1.5),2*BG17*AU17,"")) | CC17: =IF(BE17="Sem","",IF(AND(BG17>1.5,BG17<=3,BI17<=1.5),2*BG17*AU17,"")) | CD17: =IF(BE17="Sem","",IF(AND(BG17>1.5,BG17<=3,BI17>1.5),2*BG17*AU17,"")) | CE17: =IF(BE17="Sem","",IF(AND(BG17>3,BI17<=1.5),2*BG17*AU17,"")) | CF17: =IF(BE17="Sem","",IF(AND(BG17>3,BI17>1.5),2*BG17*AU17,"")) | CG17: =IF(BC17<>0,"",IF(BH17<1.5,BH17*AU17,"")) -> 99.2 | CH17: =IF(BC17<>0,"",IF(BH17>=1.5,BH17*AU17,"")) | CI17: =IF(BC17=0,"-","Brita") -> - | CJ17: =IF(BC17=0,"",IF(BH17<1.5,BC17*BH17*AU17,"")) | CK17: =IF(BC17=0,"",IF(BH17>=1.5,BC17*BH17*AU17,"")) | CL17: 0.1 | CM17: =SUM(CJ17:CK17)*(1+CL17) -> 0 | CN17: =IF(AND(BG17<=1.5,BI17<=0.8),SUM(BJ17:BU17)-BV17,"") | CO17: =IF(AND(BG17>1.5,BG17<=3,BI17<=0.8),SUM(BJ17:BU17)-BV17,"") | CP17: =IF(AND(BG17<=1.5,BI17>0.8,BI17<=1.5),SUM(BJ17:BU17)-BV17,"") -> 164.68499 | CQ17: =IF(AND(BG17>1.5,BG17<=3,BI17>0.8,BI17<=1.5),SUM(BJ17:BU17)-BV17,"") | CR17: =IF(AND(BG17<=1.5,BI17>1.5),SUM(BJ17:BU17)-BV17,"") | CS17: =IF(AND(BG17>1.5,BG17<=3,BI17>1.5),SUM(BJ17:BU17)-BV17,"") | CT17: =IF(AND(BG17>3,BG17<=6,BI17>1.5),SUM(BJ17:BU17)-BV17,"") | CU17: =HLOOKUP(AY17,$AV$25:$BA$26,2,FALSE)*AU17*AW17 -> 22.32 | CV17: =IF(AY17=400,AU17*AW17,0) -> 124 | CW17: =IF($AY17=600,$AU17*AW17,0) -> 0 | CX17: =IF($AY17=800,$AU17*AW17,0) -> 0 | CY17: =IF($AY17=1000,$AU17*AW17,0) -> 0 | CZ17: =IF($AY17=1200,$AU17*AW17,0) -> 0 | DA17: =IF($AY17=1500,$AU17*AW17,0) -> 0 | DB17: =IF($AY17=1500,$AU17*AX17,0) -> 0
AT18: TOTAL | AU18: =SUM(CV18:DA18) -> 289 | AV18: - | AW18: - | AX18: - | AY18: - | AZ18: - | BA18: - | BB18: - | BC18: - | BD18: - | BE18: - | BF18: - | BG18: - | BH18: - | BI18: - | BJ18: =SUM(BJ14:BJ17) -> 0 | BK18: =TRUNC(SUM(BK14:BK17),2) -> 187.49 | BL18: =TRUNC(SUM(BL14:BL17),2) -> 0 | BM18: =TRUNC(SUM(BM14:BM17),2) -> 0 | BN18: =TRUNC(SUM(BN14:BN17),2) -> 0 | BO18: =TRUNC(SUM(BO14:BO17),2) -> 535.14 | BP18: =TRUNC(SUM(BP14:BP17),2) -> 0 | BQ18: =TRUNC(SUM(BQ14:BQ17),2) -> 0 | BR18: =TRUNC(SUM(BR14:BR17),2) -> 0 | ... BV18: =TRUNC(SUM(BV14:BV17),2) -> 144.24 | BW18: - | BX18: - | BY18: - | BZ18: =TRUNC(SUM(BZ14:BZ17),2) -> 165.88 | CA18: =TRUNC(SUM(CA14:CA17),2) -> 0 | CB18: =TRUNC(SUM(CB14:CB17),2) -> 0 | CC18: =TRUNC(SUM(CC14:CC17),2) -> 0 | CD18: =TRUNC(SUM(CD14:CD17),2) -> 533.94 | CE18: =TRUNC(SUM(CE14:CE17),2) -> 0 | CF18: =TRUNC(SUM(CF14:CF17),2) -> 0 | CG18: =TRUNC(SUM(CG14:CG17),2) -> 99.2 | CH18: =TRUNC(SUM(CH14:CH17),2) -> 264 | CI18: - | CJ18: =SUM(CJ14:CJ17) -> 0 | CK18: =TRUNC(SUM(CK14:CK17),2) -> 0 | CL18: - | CM18: =TRUNC(SUM(CM14:CM17),2) -> 0 | CN18: =TRUNC(SUM(CN14:CN17),2) -> 0 | CO18: =TRUNC(SUM(CO14:CO17),2) -> 0 | CP18: =TRUNC(SUM(CP14:CP17),2) -> 164.68 | CQ18: =TRUNC(SUM(CQ14:CQ17),2) -> 0 | CR18: =TRUNC(SUM(CR14:CR17),2) -> 0 | CS18: =TRUNC(SUM(CS14:CS17),2) -> 413.71 | CT18: =TRUNC(SUM(CT14:CT17),2) -> 0 | ... CY18: =TRUNC(SUM(CY14:CY17),2) -> 0 | CZ18: =SUM(CZ14:CZ17) -> 0 | DA18: =SUM(DA14:DA17) -> 0 | DB18: =SUM(DB14:DB17) -> 0.9
Z19: CONFERIR AS COLUNAS: Y Z E AF (VELOCIDADE FH E VAZÃO) | CS19: PEAD
Z20: * PARA TUBOS PEAD USAR O COEF. = 0,01; | AT20: 1) NOSSO USUAL PARA O TALUDE DE ESCAVAÇÃO É 1/4; | CS20: CONCRETO
Z21: * PARA TUBOS DE CONCRETO USAR O COEF. = 0,015; | AT21: 2) PESO DOS TUBOS SÃO OS MESMOS ADOTADOS PELA DEIURB/AGESUL.
AV23: CONCRETO | BB23: PEAD
AV24: PS-1 | AW24: PS-1 | AX24: PA-1 | AY24: PA-1 | AZ24: PA-1 | BA24: PA-1 | BB24: PEAD | BC24: PEAD | BD24: PEAD
AT25: Diâmetro | AV25: 400 | AW25: 600 | AX25: 800 | AY25: 1000 | AZ25: 1200 | BA25: 1500 | BB25: 600 | BC25: 800 | BD25: 1000
AT26: Peso linear (t/m) | AV26: 0.18 | AW26: 0.35 | AX26: 0.53 | AY26: 0.8 | AZ26: 1.36 | BA26: 1.93 | BB26: 0.02 | BC26: 0.029 | BD26: 0.035
AT28: PLANILHA DE QUANTIDADES DE SERVIÇOS DA DRENAGEM PROFUNDA
AT29: DRENAGEM PROFUNDA - DRENO PROFUNDO COM TUBO PEAD | AV29: Hmédia(m) | AW29: COMPRIM. (M) | AX29: BASE INFERIOR (M) | AY29: BASE SUPERIOR (M) | AZ29: ESCAVAÇÃO MECANICA (M³) | BA29: REATERRO MECÂNICO PROF. 0,0 A 1,50m (M³) | BB29: BOTA FORA (M³) | BC29: TUBO PEAD DN 150MM | BD29: PEDRA BRITADA Nº3 | BE29: MANTA GEOTEXTIL 200G/M²
AZ30: =(((AY30+AX30)*$AV30)/2)*$AW30 -> 0 | BA30: =AZ30-BB30/1.3 -> 0 | BB30: =0.2799*AW30*1.3 -> 0 | BC30: =AW30 -> 0 | BD30: =0.2323*AW30 -> 0 | BE30: =2.1*AW30 -> 0
AU33: TRANSP. TUBOS DMT ATÉ 30km: | AV33: =IF(AV43>30,TRUNC((CU18)*30,2),TRUNC((CU18)*AV43,2)) -> 3293.1 | AW33: t.km
AU34: TRANSP. TUBOS DMT EXC 30km: | AV34: =IF(AV43>30,TRUNC((CU18)*(AV43-30),2),0) -> 15367.8 | AW34: t.km
AU35: TRANSP. TUBOS PEAD DMT ATÉ 30km: | AV35: =IF(AV44>30,TRUNC((#REF!+#REF!+#REF!+#REF!+#REF!+#REF!+#REF!)*30,2),TRUNC((#REF!+#REF!+#REF!+#REF!+#REF!+#REF!+#REF!)*AV44,2)) -> #REF! | AW35: t.km
AU36: TRANSP. TUBOS PEAD DMT EXC 30km: | AV36: =IF(AV44>30,TRUNC((#REF!+#REF!+#REF!+#REF!+#REF!+#REF!+#REF!)*(AV44-30),2),0) -> 0 | AW36: t.km
AU37: TRANSP. BOTA FORA: | AV37: =TRUNC(BZ18*AV45,2) -> 563.99 | AW37: m³.km
AU38: TRANSP. BRITA DMT ATÉ 30km: | AV38: =TRUNC(BG43*AV46,2) -> 0 | AW38: m³.km
AU39: TRANSP. BRITA DMT EXC 30km: | AV39: 0 | AW39: m³.km
AU40: TRANSP. BRITA LASTRO DMT ATÉ 30km: | AV40: =TRUNC(CM18*AV46,2) -> 0 | AW40: m³.km
AU41: TRANSP. BRITA LASTRO DMT ATÉ 30km: | AV41: =IF(AV47>30,TRUNC(CM18*30,2),TRUNC(CM18*AV47,2)) -> 0 | AW41: m³.km
AU42: TRANSP. BRITA LASTRO DMT EXC 30km: | AV42: =IF(AV47>30,TRUNC(CM18*(AV47-30),2),0) -> 0 | AW42: m³.km
AU43: DMT TUBOS DE CONCRETO: | AV43: =DMT!F11 -> 170 | AW43: km
AU44: DMT TUBOS PEAD: | AV44: =[2]DMT!F10 -> 0 | AW44: km
AU45: DMT BOTA FORA: | AV45: =DMT!F15 -> 3.4 | AW45: km
...

Sheet DRENAGEM - JDA-E2
B1: OBRA: | C1: Implantação de Pavimentação Asfáltica e Drenagem de Águas Pluviais - Jardim Antunes - Etapa II
B2: CIDADE: | C2: Coronel Sapucaia/MS
G3: Tempo de Retorno (anos): | K3: =C8 -> 10
B4: Equação da Chuva | G4: Vazão (Deflúvio a escoar): | K4: Q = 2,78 x n x I x A x f
G5: Tempo de Concentração - Formulação de Mc Cuen - (tc): L - comprimento talvegue (km) ; S - Declividade (m/m) | K5: Tc = 10,5721 x L⁰’⁵⁵⁵² x S¯⁰’²⁰⁷⁰
B6: a= | C6: 1873.91 | D6: tc= | E6: VAR | G6: Coeficiente de impermeabilidade (C): | K6: =F14 -> 0.6 | AI6: 516.422 | AJ6: 515.945
B7: b= | C7: 0.192 | D7: c= | E7: 13 | G7: Coeficiente de Deflúvio ( f ): | K7: f = a x (I x tc)^1/3
B8: Tr= | C8: 10 | D8: d= | E8: 0.827 | G8: Fator impermeabilidade ( a ): | K8: a = (2,913 + 64,073 x C) x 10³
B10: PLANILHA DE DIMENSIONAMENTO | Y10: PLANILHA DE DIMENSIONAMENTO | AT10: PLANILHA DE QUANTIDADES DE SERVIÇOS DA TERRAPLENAGEM DRENAGEM
B11: TRECHO | C11: EXTENSÃO (m) | D11: Área de Contribuição (ha) | F11: C Coef. Impermeabilidade | G11: n (A-0,15) Coef. Distribuição | H11: n (A-0,15) Coef. Distribuição | I11: f Coef. de Deflúvio | J11: I Precipitação (L/s/ha) | K11: Vazão Q (m³/s) | L11: Vazão Q Existente (m³/s) | M11: tc (min) | N11: te Tempo Percurso (min) | O11: Desnível (m) | P11: Declividade (%) | Q11: Vazão que Escoa Pela Rua (m³/s) | R11: Desnível Rua (m) | S11: Declividade da Rua (m/m) | T11: Diâmetro de Projeto (m) | U11: Linhas Existentes (und) | V11: Diâmetro Existente (m) | W11: Linhas a Implantar (und) | X11: Verificação Diâmetro 1 Linha | Y11: Diâmetro Comercial (m) | Z11: V (m/s) | AA11: FH | AB11: RH/D | AC11: Tirante y/D (%) | AD11: Tirante Normal Y (m) | AE11: RH | AF11: Vazão Máxima p/ h=0,94d (Projetada) (m³/s) | AG11: Vazão Máxima p/ h=0,94d (Existente) (m³/s) | AH11: Vazão Máxima TOTAL (m³/s) | AI11: Cota do Terreno ou Greide (m) | AK11: Profundidade PV (m) | AM11: Cota da Geratriz Inferior Externa (m) | AO11: Cota do Nível d'água (m) | AQ11: Recobrimento da Galeria (m) | AT11: TRECHOS | AU11: EXTENSÃO | AW11: TUBULAÇÃO | BA11: PROFUNDIDADE DA LINHA D'ÁGUA | BC11: ESPESSURA LASTRO - BASE DA GALERIA (se for o caso) | BD11: INCLINAÇÃO TALUDE - 1:(V) | BE11: PRESENÇA DE ESCORAMENTO | BF11: PROFUNDIDADE DA VALA | BH11: LARGURA DA VALA | BJ11: ESCAVAÇÃO MECÂNICA | BV11: BOTA-FORA | CA11: ESCORAMENTO (2 x Prof x Ext) | CG11: PREPARO DE FUNDO DA VALA | CI11: LASTRO COM PREPARO DE FUNDO DE VALA (BASE DA GALERIA) (se for o caso) | CN11: REATERRO | CZ11: TRANSPORTE DO TUBO | DA11: TUBOS DN 400MM: | DB11: TUBOS DN 600MM: | DC11: TUBOS DN 600MM PEAD: | DD11: TUBOS DN 800MM: | DE11: TUBOS DN 1000MM: | DF11: TUBOS DN 1200MM: | DG11: TUBOS DN 1500MM:
D12: SIMPLES | E12: ACUMULADA | AI12: Montante | AJ12: Jusante | AK12: Montante | AL12: Jusante | AM12: Montante | AN12: Jusante | AO12: Montante | AP12: Jusante | AQ12: Montante | AR12: Jusante | AV12: Nº LINHAS EXISTENTE | AW12: Nº LINHAS | AX12: DIÂMETRO NOMINAL EXISTENTE | AY12: DIÂMETRO NOMINAL | AZ12: PS-1 / PA-1 / PA-2 / PVC | BA12: MONTANTE | BB12: JUSANTE | BF12: MÉDIA ENTRE MONTANTE E JUSANTE | BG12: TOTAL (MÉDIA + BOLSA + LASTRO) | BH12: INFERIOR (BASE DA VALA) | BI12: SUPERIOR (TOPO DA VALA) | BJ12: 0,00 < PROF ≤ 1,50 (0,00 < LARG ≤ 0,80) | BK12: 0,00 < PROF ≤ 1,50 (0,80 < LARG ≤ 1,50) | BL12: 0,00 < PROF ≤ 1,50 (1,50 < LARG ≤ 2,50) | BM12: 1,50 < PROF ≤ 3,00 (0,00 < LARG ≤ 0,80) | BN12: 1,50 < PROF ≤ 3,00 (0,80 < LARG ≤ 1,50) | BO12: 1,50 < PROF ≤ 3,00 (1,50 < LARG ≤ 2,50) | BP12: 3,00 < PROF ≤ 4,50 (0,00 < LARG ≤ 0,80) | BQ12: 3,00 < PROF ≤ 4,50 (0,80 < LARG ≤ 1,50) | BR12: 3,00 < PROF ≤ 4,50 (1,50 < LARG ≤ 2,50) | BS12: 4,50 < PROF ≤ 6,00 (0,00 < LARG ≤ 0,80) | BT12: 4,50 < PROF ≤ 6,00 (0,80 < LARG ≤ 1,50) | BU12: 4,50 < PROF ≤ 6,00 (1,50 < LARG ≤ 2,50) | BV12: VOLUME DO TUBO (SEÇÃO EXTERNA) | BW12: TAXA INSERVÍVEL DO MATERIAL ESCAVADO | BX12: FATOR DE EMPOLAMENTO MAT. ESCAVADO | BY12: VOLUME ESCAVADO INSERVÍVEL | BZ12: VOLUME TOTAL BOTA-FORA (EMPOLADO) | CA12: 0,00 < PROF ≤ 1,50 (0,00 < LARG ≤ 1,50) | CB12: 0,00 < PROF ≤ 1,50 (1,50 < LARG ≤ 2,50) | CC12: 1,50 < PROF ≤ 3,00 (0,00 < LARG ≤ 1,50) | CD12: 1,50 < PROF ≤ 3,00 (1,50 < LARG ≤ 2,50) | CE12: 3,00 < PROF ≤ 4,50 (0,00 < LARG ≤ 1,50) | CF12: 3,00 < PROF ≤ 4,50 (1,50 < LARG ≤ 2,50) | CG12: LARG. DA BASE < 1,50m | CH12: LARG. DA BASE ≥ 1,50m | CI12: MATERIAL | CJ12: VOLUME GEOMÉTRICO (BASE < 1,50m) | CK12: VOLUME GEOMÉTRICO (BASE ≥ 1,50m) | CL12: TAXA DE EMPOLAMENTO MATER. DA BASE | CM12: VOLUME EMPOLADO | CN12: 0,00 < PROF ≤ 1,50 (0,00 < LARG ≤ 0,80) | CO12: 0,00 < PROF ≤ 1,50 (0,80 < LARG ≤ 1,50) | CP12: 0,00 < PROF ≤ 1,50 (1,50 < LARG ≤ 2,50) | CQ12: 1,50 < PROF ≤ 3,00 (0,00 < LARG ≤ 0,80) | CR12: 1,50 < PROF ≤ 3,00 (0,80 < LARG ≤ 1,50) | CS12: 1,50 < PROF ≤ 3,00 (1,50 < LARG ≤ 2,50) | CT12: 3,00 < PROF ≤ 4,50 (0,00 < LARG ≤ 0,80) | CU12: 3,00 < PROF ≤ 4,50 (0,80 < LARG ≤ 1,50) | CV12: 3,00 < PROF ≤ 4,50 (1,50 < LARG ≤ 2,50) | CW12: 4,50 < PROF ≤ 6,00 (0,00 < LARG ≤ 0,80) | CX12: 4,50 < PROF ≤ 6,00 (0,80 < LARG ≤ 1,50) | CY12: 4,50 < PROF ≤ 6,00 (1,50 < LARG ≤ 2,50)
AT13: TRECHOS | AU13: m | AV13: und | AW13: und | AX13: mm | AY13: mm | AZ13: - | BA13: m | BB13: m | BC13: m | BD13: - | BE13: - | BF13: m | BG13: m | BH13: m | BI13: m | BJ13: m³ | BK13: m³ | BL13: m³ | BM13: m³ | BN13: m³ | BO13: m³ | BP13: m³ | BQ13: m³ | BR13: m³ | BS13: m³ | BT13: m³ | BU13: m³ | BV13: m³ | BW13: % | BX13: % | BY13: m³ | BZ13: m³ | CA13: m² | CB13: m² | CC13: m² | CD13: m² | CE13: m² | CF13: m² | CG13: m² | CH13: m² | CI13: - | CJ13: m³ | CK13: m³ | CL13: % | CM13: m³ | CN13: m³ | CO13: m³ | CP13: m³ | CQ13: m³ | CR13: m³ | CS13: m³ | CT13: m³ | CU13: m³ | CV13: m³ | CW13: m³ | CX13: m³ | CY13: m³ | CZ13: T | DA13: m | DB13: m | DC13: m | DD13: m | DE13: m | DF13: m | DG13: m
B14: TR-01 | C14: 47 | D14: 0.97 | E14: 0.97 | F14: 0.6 | G14: =IF(E14<1,1,IF(H14<0.5,0.5,H14)) -> 1 | H14: =$E14^-0.15 -> 1.0045793 | I14: =0.0725*F14*((J14*M14)^(0.333333333333333)) -> 0.4939075 | J14: =$C$6*($C$8^$C$7)/(M14+$E$7)^$E$8 -> 259.45173 | K14: =2.78*G14*E14*I14*J14/1000 -> 0.34555623 | L14: 0 | M14: =10.57215256*(C14/1000)^0.5552*P14^-0.207 -> 5.6417327 | N14: =C14/(Z14*60) -> 0.49082565 | O14: =AM14-AN14 -> 0.268 | P14: =O14/C14 -> 0.0057021277 | Q14: =2.78*G14*J14*D14*I14/1000 -> 0.34555623 | R14: =AI14-AJ14 -> 0.168 | S14: =R14/C14 -> 0.0035744681 | T14: =1.55*(K14*0.015/(P14)^(1/2))^(3/8) -> 0.56761455 | U14: 0 | V14: 0 | W14: 1 | Y14: 0.6 | Z14: =((AE14^(2/3))*(P14^0.5))/0.015 -> 1.5959503 | AA14: =IF(W14=1,(K14*0.015)/(((Y14)^(8/3))*(P14^0.5)),IF(W14=2,(K14*0.015*0.5)/(((Y14)^(8/3))*(P14^0.5)),IF(W14=3,((K14*0.015)/3)/(((Y14)^(8/3))*(P14^0.5)),"ERRO"))) -> 0.26803295 | AB14: =VLOOKUP(AA14,$A$106:$C$205,2,TRUE) -> 0.2975 | AC14: =VLOOKUP(AA14,$A$106:$C$205,3,TRUE) -> 0.71 | AD14: =AC14*Y14 -> 0.426 | AE14: =AB14*Y14 -> 0.1785 | AF14: =((1/0.015)*((0.2895*Y14)^(2/3))*(0.7662*(Y14^2)*(SQRT(P14))))*W14 -> 0.43228656 | AG14: =((1/0.015)*((0.2895*V14)^(2/3))*(0.7662*(V14^2)*(SQRT(P14))))*U14 -> 0 | AH14: =AF14+AG14 -> 0.43228656 | AI14: 516.137 | AJ14: 515.969 | AK14: 1.7 | AL14: 1.8 | AM14: =AI14-AK14 -> 514.437 | AN14: =AJ14-AL14 -> 514.169 | AO14: =AM14+AD14 -> 514.863 | AP14: =AN14+AD14 -> 514.595 | AQ14: =AI14-Y14*1.105-AM14 -> 1.037 | AR14: =AJ14-Y14*1.105-AN14 -> 1.137 | AT14: =B14 -> TR-01 | AU14: =C14 -> 47 | AV14: =U14 -> 0 | AW14: =W14 -> 1 | AX14: =V14 -> 0 | AY14: =Y14*1000 -> 600 | AZ14: PA-1 | BA14: =AK14 -> 1.7 | BB14: =AL14 -> 1.8 | BC14: 0.3 | BD14: 4 | BE14: =IF(BF14>1.25,"Com","Sem") -> Com | BF14: =AVERAGE(BA14:BB14) -> 1.75 | BG14: =BF14+BC14+0.21*AY14/1000 -> 2.176 | BH14: =IF(AW14=1,2*AY14/1000,IF(AW14=2,((1.21*2*(AY14/1000))+0.4),IF(AW14=3,((3*1.21*(AY14/1000))+0.6),0))) -> 1.2 | BI14: =IF(BD14=0,BH14,BH14+2*(1/BD14)*BG14) -> 2.288 | BJ14: =IF(AND(BG14<=1.5,BI14<=0.8),(BI14+BH14)*BG14/2*AU14,"") | BK14: =IF(AND(BG14<=1.5,BI14>0.8,BI14<=1.5),(BI14+BH14)*BG14/2*AU14,"") | BL14: =IF(AND(BG14<=1.5,BI14>1.5),(BI14+BH14)*BG14/2*AU14,"") | BM14: =IF(AND(BG14>1.5,BG14<=3,BI14<=0.8),(BI14+BH14)*BG14/2*AU14,"") | BN14: =IF(AND(BG14>1.5,BG14<=3,BI14>0.8,BI14<=1.5),(BI14+BH14)*BG14/2*AU14,"") | BO14: =IF(AND(BG14>1.5,BG14<=3,BI14>1.5),(BI14+BH14)*BG14/2*AU14,"") -> 178.36237 | BP14: =IF(AND(BG14>3,BG14<=4.5,BI14<=0.8),(BI14+BH14)*BG14/2*AU14,"") | BQ14: =IF(AND(BG14>3,BG14<=4.5,BI14>0.8,BI14<=1.5),(BI14+BH14)*BG14/2*AU14,"") | BR14: =IF(AND(BG14>3,BG14<=4.5,BI14>1.5),(BI14+BH14)*BG14/2*AU14,"") | BS14: =IF(AND(BG14>4.5,BI14<=0.8),(BI14+BH14)*BG14/2*AU14,"") | BT14: =IF(AND(BG14>4.5,BI14>0.8,BI14<=1.5),(BI14+BH14)*BG14/2*AU14,"") | BU14: =IF(AND(BG14>4.5,BI14>1.5),(BI14+BH14)*BG14/2*AU14,"") | BV14: =PI()*(AY14/1000*1.21)^2/4*AU14 -> 19.456333 | BW14: 0 | BX14: 0.3 | BY14: =BW14*SUM(BJ14:BU14) -> 0 | BZ14: =MAX(BY14,BV14)*(1+BX14) -> 25.293232 | CA14: =IF(BE14="Sem","",IF(AND(BG14<=1.5,BI14<=1.5),2*BG14*AU14,"")) | CB14: =IF(BE14="Sem","",IF(AND(BG14<=1.5,BI14>1.5),2*BG14*AU14,"")) | CC14: =IF(BE14="Sem","",IF(AND(BG14>1.5,BG14<=3,BI14<=1.5),2*BG14*AU14,"")) | CD14: =IF(BE14="Sem","",IF(AND(BG14>1.5,BG14<=3,BI14>1.5),2*BG14*AU14,"")) -> 204.544 | CE14: =IF(BE14="Sem","",IF(AND(BG14>3,BI14<=1.5),2*BG14*AU14,"")) | CF14: =IF(BE14="Sem","",IF(AND(BG14>3,BI14>1.5),2*BG14*AU14,"")) | CG14: =IF(BC14<>0,"",IF(BH14<1.5,BH14*AU14,"")) | CH14: =IF(BC14<>0,"",IF(BH14>=1.5,BH14*AU14,"")) | CI14: Brita | CJ14: =IF(BC14=0,"",IF(BH14<1.5,BC14*BH14*AU14,"")) -> 16.92 | CK14: =IF(BC14=0,"",IF(BH14>=1.5,BC14*BH14*AU14,"")) | CL14: 0.3 | CM14: =SUM(CJ14:CK14)*(1+CL14) -> 21.996 | CN14: =IF(AND(BG14<=1.5,BI14<=0.8),SUM(BJ14:BU14)-BV14,"") | CO14: =IF(AND(BG14<=1.5,BI14>0.8,BI14<=1.5),SUM(BJ14:BU14)-BV14,"") | CP14: =IF(AND(BG14<=1.5,BI14>1.5),SUM(BJ14:BU14)-BV14,"") | CQ14: =IF(AND(BG14>1.5,BG14<=3,BI14<=0.8),SUM(BJ14:BU14)-BV14,"") | CR14: =IF(AND(BG14>1.5,BG14<=3,BI14>0.8,BI14<=1.5),SUM(BJ14:BU14)-BV14,"") | CS14: =IF(AND(BG14>1.5,BG14<=3,BI14>1.5),SUM(BJ14:BU14)-BV14,"") -> 158.90604 | CT14: =IF(AND(BG14>3,BG14<=4.5,BI14<=0.8),SUM(BJ14:BU14)-BV14,"") | CU14: =IF(AND(BG14>3,BG14<=4.5,BI14>0.8,BI14<=1.5),SUM(BJ14:BU14)-BV14,"") | CV14: =IF(AND(BG14>3,BG14<=4.5,BI14>1.5),SUM(BJ14:BU14)-BV14,"") | CW14: =IF(AND(BG14>4.5,BI14<=0.8),SUM(BJ14:BU14)-BV14,"") | CX14: =IF(AND(BG14>4.5,BI14>0.8,BI14<=1.5),SUM(BJ14:BU14)-BV14,"") | CY14: =IF(AND(BG14>4.5,BI14>1.5),SUM(BJ14:BU14)-BV14,"") | CZ14: =IFERROR(IF(AZ14="PA-1",HLOOKUP(AY14,$AV$27:$BF$28,2,FALSE)*AU14*AW14,AZ$28*AU14),0) -> 14.711 | DA14: =IF(AY14=400,AU14*AW14,0) -> 0 | DB14: =IF($AY14=600,$AU14,0) -> 47 | DC14: =IF(AND($AY14=600,$AZ14="PEAD"),$AU14*AW14,0) -> 0 | DD14: =IF($AY14=800,$AU14*AW14,0) -> 0 | DE14: =IF($AY14=1000,$AU14*AW14,0) -> 0 | DF14: =IF($AY14=1200,$AU14*AW14,0) -> 0 | DG14: =IF($AY14=1500,$AU14*AW14,0) -> 0
B15: TR-02 | C15: 118 | D15: 0.97 | E15: =E14+D15 -> 1.94 | F15: 0.6 | G15: =IF(E15<1,1,IF(H15<0.5,0.5,H15)) -> 0.90537759 | H15: =$E15^-0.15 -> 0.90537759 | I15: =0.0725*F15*((J15*M15)^(0.333333333333333)) -> 0.50420904 | J15: =$C$6*($C$8^$C$7)/(M15+$E$7)^$E$8 -> 253.93492 | K15: =2.78*G15*E15*I15*J15/1000 -> 0.6251861 | L15: 0 | M15: =+M14+N14 -> 6.1325584 | N15: =C15/(Z15*60) -> 0.56437525 | O15: =AM15-AN15 -> 3.518 | P15: =O15/C15 -> 0.029813559 | Q15: =2.78*G15*J15*D15*I15/1000 -> 0.31259305 | R15: =AI15-AJ15 -> 3.418 | S15: =R15/C15 -> 0.028966102 | T15: =1.55*(K15*0.015/(P15)^(1/2))^(3/8) -> 0.51989641 | U15: 0 | V15: 0 | W15: 1 | Y15: 0.6 | Z15: =((AE15^(2/3))*(P15^0.5))/0.015 -> 3.4846791 | AA15: =IF(W15=1,(K15*0.015)/(((Y15)^(8/3))*(P15^0.5)),IF(W15=2,(K15*0.015*0.5)/(((Y15)^(8/3))*(P15^0.5)),IF(W15=3,((K15*0.015)/3)/(((Y15)^(8/3))*(P15^0.5)),"ERRO"))) -> 0.21207541 | AB15: =VLOOKUP(AA15,$A$106:$C$205,2,TRUE) -> 0.2776 | AC15: =VLOOKUP(AA15,$A$106:$C$205,3,TRUE) -> 0.6 | AD15: =AC15*Y15 -> 0.36 | AE15: =AB15*Y15 -> 0.16656 | AF15: =((1/0.015)*((0.2895*Y15)^(2/3))*(0.7662*(Y15^2)*(SQRT(P15))))*W15 -> 0.98846246 | AG15: =((1/0.015)*((0.2895*V15)^(2/3))*(0.7662*(V15^2)*(SQRT(P15))))*U15 -> 0 | AH15: =AF15+AG15 -> 0.98846246 | AI15: =AJ14 -> 515.969 | AJ15: 512.551 | AK15: =AL14 -> 1.8 | AL15: 1.9 | AM15: =AI15-AK15 -> 514.169 | AN15: =AJ15-AL15 -> 510.651 | AO15: =AM15+AD15 -> 514.529 | AP15: =AN15+AD15 -> 511.011 | AQ15: =AI15-Y15*1.105-AM15 -> 1.137 | AR15: =AJ15-Y15*1.105-AN15 -> 1.237 | AT15: =B15 -> TR-02 | AU15: =C15 -> 118 | AV15: =U15 -> 0 | AW15: =W15 -> 1 | AX15: =V15 -> 0 | AY15: =Y15*1000 -> 600 | AZ15: PA-1 | BA15: =AK15 -> 1.8 | BB15: =AL15 -> 1.9 | BC15: 0.3 | BD15: 4 | BE15: =IF(BF15>1.25,"Com","Sem") -> Com | BF15: =AVERAGE(BA15:BB15) -> 1.85 | BG15: =BF15+BC15+0.21*AY15/1000 -> 2.276 | BH15: =IF(AW15=1,2*AY15/1000,IF(AW15=2,((1.21*2*(AY15/1000))+0.4),IF(AW15=3,((3*1.21*(AY15/1000))+0.6),0))) -> 1.2 | BI15: =IF(BD15=0,BH15,BH15+2*(1/BD15)*BG15) -> 2.338 | BJ15: =IF(AND(BG15<=1.5,BI15<=0.8),(BI15+BH15)*BG15/2*AU15,"") | BK15: =IF(AND(BG15<=1.5,BI15>0.8,BI15<=1.5),(BI15+BH15)*BG15/2*AU15,"") | BL15: =IF(AND(BG15<=1.5,BI15>1.5),(BI15+BH15)*BG15/2*AU15,"") | BM15: =IF(AND(BG15>1.5,BG15<=3,BI15<=0.8),(BI15+BH15)*BG15/2*AU15,"") | BN15: =IF(AND(BG15>1.5,BG15<=3,BI15>0.8,BI15<=1.5),(BI15+BH15)*BG15/2*AU15,"") | BO15: =IF(AND(BG15>1.5,BG15<=3,BI15>1.5),(BI15+BH15)*BG15/2*AU15,"") -> 475.09679 | BP15: =IF(AND(BG15>3,BG15<=4.5,BI15<=0.8),(BI15+BH15)*BG15/2*AU15,"") | BQ15: =IF(AND(BG15>3,BG15<=4.5,BI15>0.8,BI15<=1.5),(BI15+BH15)*BG15/2*AU15,"") | BR15: =IF(AND(BG15>3,BG15<=4.5,BI15>1.5),(BI15+BH15)*BG15/2*AU15,"") | BS15: =IF(AND(BG15>4.5,BI15<=0.8),(BI15+BH15)*BG15/2*AU15,"") | BT15: =IF(AND(BG15>4.5,BI15>0.8,BI15<=1.5),(BI15+BH15)*BG15/2*AU15,"") | BU15: =IF(AND(BG15>4.5,BI15>1.5),(BI15+BH15)*BG15/2*AU15,"") | BV15: =PI()*(AY15/1000*1.21)^2/4*AU15 -> 48.847814 | BW15: 0 | BX15: 0.3 | BY15: =BW15*SUM(BJ15:BU15) -> 0 | BZ15: =MAX(BY15,BV15)*(1+BX15) -> 63.502158 | CA15: =IF(BE15="Sem","",IF(AND(BG15<=1.5,BI15<=1.5),2*BG15*AU15,"")) | CB15: =IF(BE15="Sem","",IF(AND(BG15<=1.5,BI15>1.5),2*BG15*AU15,"")) | CC15: =IF(BE15="Sem","",IF(AND(BG15>1.5,BG15<=3,BI15<=1.5),2*BG15*AU15,"")) | CD15: =IF(BE15="Sem","",IF(AND(BG15>1.5,BG15<=3,BI15>1.5),2*BG15*AU15,"")) -> 537.136 | CE15: =IF(BE15="Sem","",IF(AND(BG15>3,BI15<=1.5),2*BG15*AU15,"")) | CF15: =IF(BE15="Sem","",IF(AND(BG15>3,BI15>1.5),2*BG15*AU15,"")) | CG15: =IF(BC15<>0,"",IF(BH15<1.5,BH15*AU15,"")) | CH15: =IF(BC15<>0,"",IF(BH15>=1.5,BH15*AU15,"")) | CI15: Brita | CJ15: =IF(BC15=0,"",IF(BH15<1.5,BC15*BH15*AU15,"")) -> 42.48 | CK15: =IF(BC15=0,"",IF(BH15>=1.5,BC15*BH15*AU15,"")) | CL15: 0.3 | CM15: =SUM(CJ15:CK15)*(1+CL15) -> 55.224 | CN15: =IF(AND(BG15<=1.5,BI15<=0.8),SUM(BJ15:BU15)-BV15,"") | CO15: =IF(AND(BG15<=1.5,BI15>0.8,BI15<=1.5),SUM(BJ15:BU15)-BV15,"") | CP15: =IF(AND(BG15<=1.5,BI15>1.5),SUM(BJ15:BU15)-BV15,"") | CQ15: =IF(AND(BG15>1.5,BG15<=3,BI15<=0.8),SUM(BJ15:BU15)-BV15,"") | CR15: =IF(AND(BG15>1.5,BG15<=3,BI15>0.8,BI15<=1.5),SUM(BJ15:BU15)-BV15,"") | CS15: =IF(AND(BG15>1.5,BG15<=3,BI15>1.5),SUM(BJ15:BU15)-BV15,"") -> 426.24898 | CT15: =IF(AND(BG15>3,BG15<=4.5,BI15<=0.8),SUM(BJ15:BU15)-BV15,"") | CU15: =IF(AND(BG15>3,BG15<=4.5,BI15>0.8,BI15<=1.5),SUM(BJ15:BU15)-BV15,"") | CV15: =IF(AND(BG15>3,BG15<=4.5,BI15>1.5),SUM(BJ15:BU15)-BV15,"") | CW15: =IF(AND(BG15>4.5,BI15<=0.8),SUM(BJ15:BU15)-BV15,"") | CX15: =IF(AND(BG15>4.5,BI15>0.8,BI15<=1.5),SUM(BJ15:BU15)-BV15,"") | CY15: =IF(AND(BG15>4.5,BI15>1.5),SUM(BJ15:BU15)-BV15,"") | CZ15: =IFERROR(IF(AZ15="PA-1",HLOOKUP(AY15,$AV$27:$BF$28,2,FALSE)*AU15*AW15,AZ$28*AU15),0) -> 36.934 | DA15: =IF(AY15=400,AU15*AW15,0) -> 0 | DB15: =IF($AY15=600,$AU15,0) -> 118 | DC15: =IF(AND($AY15=600,$AZ15="PEAD"),$AU15*AW15,0) -> 0 | DD15: =IF($AY15=800,$AU15*AW15,0) -> 0 | DE15: =IF($AY15=1000,$AU15*AW15,0) -> 0 | DF15: =IF($AY15=1200,$AU15*AW15,0) -> 0 | DG15: =IF($AY15=1500,$AU15*AW15,0) -> 0
