Workbook
Name \: '[2]T. BURACO'!#REF!
Name \: '[2]T. BURACO'!#REF!
Name \: #REF!
Name \c: [3]SID_NI_5!#REF!
Name \c: [3]SID_NI_5!#REF!
Name \c: #REF!
Name \I: #REF!
Name \I: #REF!
Name \I: #REF!
Name \p: [3]SID_NI_5!#REF!
Name \p: [3]SID_NI_5!#REF!
Name \p: #REF!
Name \S: [4]COMPOS1!#REF!
Name \S: [4]COMPOS1!#REF!
Name \S: #REF!
Name \t: [4]COMPOS1!#REF!
Name \t: [4]COMPOS1!#REF!
Name \t: #REF!
Name _____PL1: #REF!
Name _____PL1: #REF!
Name _____PL1: #REF!
Name ____PL1: #REF!
Name ____PL1: #REF!
Name ____PNV2002: #REF!
Name ____PNV2002: #REF!
Name ____PNV2003: #REF!
Name ____PNV2003: #REF!
Name ___PL1: #REF!
Name ___PL1: #REF!
Name ___PNV2002: #REF!
Name ___PNV2002: #REF!
Name ___PNV2003: #REF!
Name ___PNV2003: #REF!
Name __PL1: #REF!
Name __PL1: #REF!
Name __PNV2002: #REF!
Name __PNV2002: #REF!
Name __PNV2003: #REF!
Name __PNV2003: #REF!
Name _01_09_96: #REF!
Name _01_09_96: #REF!
Name _02: #REF!
Name _02: #REF!
Name _1830201: #N/A
Name _3: #REF!
Name _3: #REF!
Name _3: #REF!
Name _33: #REF!
Name _33: #REF!
Name _33: #REF!
Name _4: #REF!
Name _4: #REF!
Name _4: #REF!
Name _A254001: '[5]F. MEDIÇAO'!$J$20
Name _A254001: '[5]F. MEDIÇAO'!$J$20
Name _A254001: #REF!
Name _A810101: '[5]F. MEDIÇAO'!#REF!
Name _A810101: '[5]F. MEDIÇAO'!#REF!
Name _A810101: #REF!
Name _A810102: '[5]F. MEDIÇAO'!#REF!

Sheet SERVIÇOS PRELIMINARES
A1: Objeto: OBRA INFRAESTRUTURA URBANA - PAVIMENTAÇÃO ASFÁLTICA E DRENAGEM DE ÁGUAS PLUVIAIS
A2: Município: NOVA ANDRADINA - MS
A3: Local: CASA VERDE LOTE 1
A4: SINAPI DEIURB 2025-09
A5: NOVA ANDRADINA
A6: SERVIÇOS PRELIMINARES
A8: =[1]Orçamento!D8 -> Placa de obra em chapa de aço galvanizado (REF 74209/001) | I8: =[1]Orçamento!G8 -> 8
A9: =[1]Orçamento!D9 -> Locacao de container 2,30 x 6,00 m, alt. 2,50 m, com 1 sanitario, para escritorio, completo, sem divisorias internas (nao inclui mobilizacao/desmobilizacao) | I9: =[1]Orçamento!G9 -> 8
A10: =[1]Orçamento!D10 -> Locacao de container 2,30 x 6,00 m, alt. 2,50 m, para escritorio, sem divisorias internas e sem sanitario (nao inclui mobilizacao/desmobilizacao) | I10: =[1]Orçamento!G10 -> 8
A11: =[1]Orçamento!D11 -> Locacao de container 2,30 x 4,30 m, alt. 2,50 m, para sanitario, com 3 bacias, 4 chuveiros, 1 lavatorio e 1 mictorio (nao inclui mobilizacao/desmobilizacao) | I11: =[1]Orçamento!G11 -> 8
A12: =[1]Orçamento!D12 -> Locação de um banheiro químico (2,31x1,15x1,15)m com uma higienização por semana, inclusive transporte, carga e descarga | I12: =[1]Orçamento!G12 -> 8
A13: =[1]Orçamento!D13 -> Ligação provisória de água | I13: =[1]Orçamento!G13 -> 1
A14: =[1]Orçamento!D14 -> Sinalização de transito - noturna (REF SINAPI 74221/001) | I14: =[1]Orçamento!G14 -> 50
A15: =[1]Orçamento!D15 -> Sinalização de advertência de obra com placa (fundo laranja) sobre cavalete, conforme ABNT-NBR-7678 - estrutura de madeira | I15: =[1]Orçamento!G15 -> 5
A16: =[1]Orçamento!D16 -> Tapume com compensado de madeira. Af_03/2024 | I16: =[1]Orçamento!G16 -> 450
A17: =[1]Orçamento!D17 -> Container almoxarifado, de *2,40* x *6,00* m, padrão simples, sem revestimento e sem divisórias internos e sem sanitário, para uso em canteiro de obras | I17: =[1]Orçamento!G17 -> 1
A18: =[1]Orçamento!D18 -> Cone de sinalização em PVC rígido com faixa refletiva, H = 70/76 cm | I18: =[1]Orçamento!G18 -> 50
I19: =[1]Orçamento!G19 -> 0
A27: ALAN PINHEIRO TRINDADE
A28: ENGENHEIRO CIVIL CREA 70161/D - MS

Sheet MEMO DREN
A1: PLANILHA DE QUANTIDADES DE SERVIÇOS DA TERRAPLENAGEM DRENAGEM | C1: TRECHOS | E1: UND | F1: =DIMENS!A16 -> TR-33 | G1: =DIMENS!A17 -> TR-34 | H1: =DIMENS!A18 -> TR-35 | I1: =DIMENS!A19 -> TR-36 | J1: =DIMENS!A20 -> TR-37 | K1: =DIMENS!A21 -> TR-38 | L1: =DIMENS!A22 -> TR-39 | M1: =DIMENS!A23 -> TR-40 | N1: =DIMENS!A15 -> TR-24A | O1: =DIMENS!A24 -> TR-32 | P1: =DIMENS!A25 -> TR-41 | Q1: =DIMENS!A26 -> TR-42 | R1: =DIMENS!A27 -> TR-43 | S1: =DIMENS!A28 -> TR-44 | T1: =DIMENS!A29 -> TR-45 | U1: =DIMENS!A30 -> TR-46 | V1: =DIMENS!A31 -> TR-47 | W1: =DIMENS!A32 -> TR-48 | X1: BIGODE | Y1: CHAMINÉ | Z1: TOTAL | AA1: TOTAL DN | AB1: EXTENSÃO(M) | AC1: Diâmetro | AD1: Peso linear (tf/m)
C2: EXTENSÃO | E2: m | F2: =DIMENS!B16 -> 76.27 | G2: =DIMENS!B17 -> 75.03 | H2: =DIMENS!B18 -> 76.28 | I2: =DIMENS!B19 -> 73.36 | J2: =DIMENS!B20 -> 74.73 | K2: =DIMENS!B21 -> 75.64 | L2: =DIMENS!B22 -> 75.21 | M2: =DIMENS!B23 -> 38.88 | N2: =DIMENS!B15 -> 79.35 | O2: =DIMENS!B24 -> 105.31 | P2: =DIMENS!B25 -> 76.44 | Q2: =DIMENS!B26 -> 75.07 | R2: =DIMENS!B27 -> 76.45 | S2: =DIMENS!B28 -> 74.23 | T2: =DIMENS!B29 -> 74.75 | U2: =DIMENS!B30 -> 74.36 | V2: =DIMENS!B31 -> 74.95 | W2: =DIMENS!B32 -> 74.16 | X2: =Z6 -> 992 | Z2: =SUM(F2:X2) -> 2342.47 | AA2: 400 | AB2: =Z6 -> 992 | AC2: 400 | AD2: 0.158 | AE2: DIMENS!W5 | AF2: DIMENS!W6 | AG2: DIMENS!W7 | AH2: DIMENS!W8 | AI2: DIMENS!W9 | AJ2: DIMENS!W10 | AK2: DIMENS!W11 | AL2: DIMENS!W12 | AM2: DIMENS!W13 | AN2: DIMENS!W14 | AO2: DIMENS!W15 | AP2: DIMENS!W16 | AQ2: DIMENS!W17 | AR2: DIMENS!W18 | AS2: DIMENS!W19 | AT2: DIMENS!W20 | AU2: DIMENS!W21 | AV2: DIMENS!W22 | AW2: DIMENS!W23 | AX2: DIMENS!W24 | AY2: DIMENS!W25 | AZ2: DIMENS!W26 | BA2: DIMENS!W27 | BB2: DIMENS!W28 | BC2: DIMENS!W29 | BD2: DIMENS!W30 | BE2: DIMENS!W31 | BF2: DIMENS!W32 | BG2: DIMENS!W33 | BH2: DIMENS!W34 | BI2: DIMENS!W35 | BJ2: DIMENS!W36 | BK2: DIMENS!W37 | BL2: DIMENS!W38 | BM2: DIMENS!W39 | BN2: DIMENS!W40 | BO2: DIMENS!W41
C3: TUBULAÇÃO | D3: Nº LINHAS | E3: und | F3: 1 | G3: 1 | H3: 1 | I3: 1 | J3: 1 | K3: 1 | L3: 1 | M3: 1 | N3: 1 | O3: 1 | P3: 1 | Q3: 1 | R3: 1 | S3: 1 | T3: 1 | U3: 1 | V3: 1 | W3: 1 | X3: 1 | Z3: =SUM(F3:X3) -> 19 | AA3: 600 | AB3: =SUMIF($F$4:$Y$4,600,$F$2:$Y$2) -> 1091.65 | AC3: 500 | AD3: 0.2495
D4: DIÂMETRO NOMINAL | E4: mm | F4: =DIMENS!J16 -> 600 | G4: =DIMENS!J17 -> 600 | H4: =DIMENS!J18 -> 600 | I4: =DIMENS!J19 -> 600 | J4: =DIMENS!J20 -> 600 | K4: =DIMENS!J21 -> 600 | L4: =DIMENS!J22 -> 600 | M4: =DIMENS!J23 -> 600 | N4: =DIMENS!J15 -> 1000 | O4: =DIMENS!J24 -> 1200 | P4: =DIMENS!J25 -> 600 | Q4: =DIMENS!J26 -> 600 | R4: =DIMENS!J27 -> 600 | S4: =DIMENS!J28 -> 600 | T4: =DIMENS!J29 -> 600 | U4: =DIMENS!J30 -> 600 | V4: =DIMENS!J31 -> 600 | W4: =DIMENS!J32 -> 800 | X4: 400 | AA4: 800 | AB4: =SUMIF($F$4:$Y$4,800,$F$2:$Y$2) -> 74.16 | AC4: 600 | AD4: 0.341
D5: POÇO DE VISITA -PS-1 / PA-1 / PA-2 / PVC | E5: - | F5: =IF(F4>600,"PA-1","PS-1") -> PS-1 | G5: =IF(G4>600,"PA-1","PS-1") -> PS-1 | H5: =IF(H4>600,"PA-1","PS-1") -> PS-1 | I5: =IF(I4>600,"PA-1","PS-1") -> PS-1 | J5: =IF(J4>600,"PA-1","PS-1") -> PS-1 | K5: =IF(K4>600,"PA-1","PS-1") -> PS-1 | L5: =IF(L4>600,"PA-1","PS-1") -> PS-1 | M5: =IF(M4>600,"PA-1","PS-1") -> PS-1 | ... X5: =IF(X4>600,"PA-1","PS-1") -> PS-1 | Z5: =SUM(F5:X5) -> 0 | AA5: 1000 | AB5: =SUMIF($F$4:$Y$4,1000,$F$2:$Y$2) -> 79.35 | AC5: 700 | AD5: 0.488
D6: TUBO DE LIGAÇÃO- 400mm | E6: m | G6: =17*3+18 -> 69 | H6: =17*3+18 -> 69 | I6: =17*3+18 -> 69 | J6: =17*3+18 -> 69 | K6: =17*3+18 -> 69 | L6: =17*3+18 -> 69 | M6: =17*3+18 -> 69 | O6: =9+34 -> 43 | Q6: =17*2+16*2 -> 66 | R6: =17*2+16*2 -> 66 | S6: =17*3+16 -> 67 | T6: =17*3+16 -> 67 | U6: =17*4 -> 68 | V6: =17*2+16*2 -> 66 | W6: =17*2+16*2 -> 66 | Z6: =SUM(F6:X6) -> 992 | AA6: 1200 | AB6: =SUMIF($F$4:$Y$4,1200,$F$2:$Y$2) -> 105.31 | AC6: 800 | AD6: 0.635
D7: PV1 | E7: ud | F7: 1 | G7: 1 | H7: 1 | I7: 1 | J7: 1 | K7: 1 | L7: 1 | M7: 1 | N7: 1 | O7: 1 | P7: 1 | Q7: 1 | R7: 1 | S7: 1 | T7: 1 | U7: 1 | V7: 1 | W7: 1 | Z7: =SUM(F7:X7) -> 18 | AA7: 1500 | AB7: =SUMIF($F$4:$Y$4,1500,$F$2:$Y$2) -> 0 | AC7: 900 | AD7: 0.7585
D8: BLS | E8: ud | G8: 3 | H8: 3 | I8: 3 | J8: 3 | K8: 3 | L8: 3 | M8: 3 | O8: 2 | Q8: 4 | R8: 4 | S8: 3 | T8: 4 | U8: 4 | V8: 4 | W8: 4 | Z8: =SUM(F8:X8) -> 50 | AC8: 1000 | AD8: 0.882
D9: BLD | E9: ud | G9: 1 | H9: 1 | I9: 1 | J9: 1 | K9: 1 | L9: 1 | M9: 1 | S9: 1 | Z9: =SUM(F9:X9) -> 8 | AC9: 1200 | AD9: 1.286
D10: BLT | E10: ud | Z10: =SUM(F10:X10) -> 0 | AC10: 1500 | AD10: 2.009
D11: TRANSP DE BRITA PV,BL | E11: m3 | F11: =(0.702*0.585*F8)+(1.27*0.585*F9)+(1.74*0.585*F10)+(((1.02+1.74*0.585+0.64*0.585)*F7)) -> 2.4123 | G11: =(0.702*0.585*G8)+(1.27*0.585*G9)+(1.74*0.585*G10)+(((1.02+1.74*0.585+0.64*0.585)*G7)) -> 4.38726 | H11: =(0.702*0.585*H8)+(1.27*0.585*H9)+(1.74*0.585*H10)+(((1.02+1.74*0.585+0.64*0.585)*H7)) -> 4.38726 | I11: =(0.702*0.585*I8)+(1.27*0.585*I9)+(1.74*0.585*I10)+(((1.02+1.74*0.585+0.64*0.585)*I7)) -> 4.38726 | J11: =(0.702*0.585*J8)+(1.27*0.585*J9)+(1.74*0.585*J10)+(((1.02+1.74*0.585+0.64*0.585)*J7)) -> 4.38726 | K11: =(0.702*0.585*K8)+(1.27*0.585*K9)+(1.74*0.585*K10)+(((1.02+1.74*0.585+0.64*0.585)*K7)) -> 4.38726 | L11: =(0.702*0.585*L8)+(1.27*0.585*L9)+(1.74*0.585*L10)+(((1.02+1.74*0.585+0.64*0.585)*L7)) -> 4.38726 | M11: =(0.702*0.585*M8)+(1.27*0.585*M9)+(1.74*0.585*M10)+(((1.02+1.74*0.585+0.64*0.585)*M7)) -> 4.38726 | ... W11: =(0.702*0.585*W8)+(1.27*0.585*W9)+(1.74*0.585*W10)+(((1.02+1.74*0.585+0.64*0.585)*W7)) -> 4.05498 | Z11: =SUM(F11:X11) -> 69.8985
D12: DISSIPADOR TIPO | E12: m3
C13: PROFUNDIDADE DA LINHA D'ÁGUA | D13: MONTANTE | E13: m | F13: =DIMENS!X16 -> 1.72 | G13: =DIMENS!X17 -> 1.82867 | H13: =DIMENS!X18 -> 1.83233 | I13: =DIMENS!X19 -> 1.83449 | J13: =DIMENS!X20 -> 1.84041 | K13: =DIMENS!X21 -> 1.84547 | L13: =DIMENS!X22 -> 1.84855 | M13: =DIMENS!X23 -> 1.85217 | N13: =DIMENS!X15 -> 2.2 | O13: =DIMENS!X24 -> 2.4509 | P13: =DIMENS!X25 -> 1.72 | Q13: =DIMENS!X26 -> 1.84812 | R13: =DIMENS!X27 -> 1.87059 | S13: =DIMENS!X28 -> 1.81559 | T13: =DIMENS!X29 -> 1.83842 | U13: =DIMENS!X30 -> 1.86117 | V13: =DIMENS!X31 -> 1.88473 | W13: =DIMENS!X32 -> 1.93273 | X13: 1.1
D14: JUSANTE | E14: m | F14: =DIMENS!Y16 -> 1.72867 | G14: =DIMENS!Y17 -> 1.73233 | H14: =DIMENS!Y18 -> 1.73449 | I14: =DIMENS!Y19 -> 1.74041 | J14: =DIMENS!Y20 -> 1.74547 | K14: =DIMENS!Y21 -> 1.74855 | L14: =DIMENS!Y22 -> 1.75217 | M14: =DIMENS!Y23 -> 1.97665 | N14: =DIMENS!Y15 -> 2.2509 | O14: =DIMENS!Y24 -> 2.47731 | P14: =DIMENS!Y25 -> 1.74812 | Q14: =DIMENS!Y26 -> 1.77059 | R14: =DIMENS!Y27 -> 1.71559 | S14: =DIMENS!Y28 -> 1.73842 | T14: =DIMENS!Y29 -> 1.76117 | U14: =DIMENS!Y30 -> 1.78473 | V14: =DIMENS!Y31 -> 1.73273 | W14: =DIMENS!Y32 -> 1.97941 | X14: 1.5
C15: ESPESSURA LASTRO - BASE DA GALERIA (se for o caso) | E15: m | F15: 0 | G15: 0 | H15: 0 | I15: 0 | J15: 0 | K15: 0 | L15: 0 | M15: 0 | N15: 0 | O15: 0 | P15: 0 | Q15: 0 | R15: 0 | S15: 0 | T15: 0 | U15: 0 | V15: 0 | W15: 0 | X15: 0
C16: INCLINAÇÃO TALUDE - 1:(V) | E16: - | F16: 5 | G16: 5 | H16: 5 | I16: 5 | J16: 5 | K16: 5 | L16: 5 | M16: 5 | N16: 5 | O16: 5 | P16: 5 | Q16: 5 | R16: 5 | S16: 5 | T16: 5 | U16: 5 | V16: 5 | W16: 5 | X16: 5
C17: PROFUNDIDADE DA VALA | D17: MÉDIA ENTRE MONTANTE E JUSANTE | E17: m | F17: =AVERAGE(F13:F14) -> 1.724335 | G17: =AVERAGE(G13:G14) -> 1.7805 | H17: =AVERAGE(H13:H14) -> 1.78341 | I17: =AVERAGE(I13:I14) -> 1.78745 | J17: =AVERAGE(J13:J14) -> 1.79294 | K17: =AVERAGE(K13:K14) -> 1.79701 | L17: =AVERAGE(L13:L14) -> 1.80036 | M17: =AVERAGE(M13:M14) -> 1.91441 | ... X17: =AVERAGE(X13:X14) -> 1.3 | Z17: =SUM(F17:X17) -> 34.871025
D18: TOTAL (MÉDIA + BOLSA + LASTRO) | E18: m | F18: =F17+F15+0.21*F4/1000 -> 1.850335 | G18: =G17+G15+0.21*G4/1000 -> 1.9065 | H18: =H17+H15+0.21*H4/1000 -> 1.90941 | I18: =I17+I15+0.21*I4/1000 -> 1.91345 | J18: =J17+J15+0.21*J4/1000 -> 1.91894 | K18: =K17+K15+0.21*K4/1000 -> 1.92301 | L18: =L17+L15+0.21*L4/1000 -> 1.92636 | M18: =M17+M15+0.21*M4/1000 -> 2.04041 | ... X18: =X17+X15+0.21*X4/1000 -> 1.384 | Y18: =AVERAGE(F18:X18)-1.5 -> 0.47236974 | Z18: =SUM(F18:Y18) -> 37.947395
C19: LARGURA DA VALA | D19: INFERIOR (BASE DA VALA) | E19: m | F19: =IF(F3>1,F3*1.49*F4/1000+((F3-1)+2)*0.5,2*F4/1000) -> 1.2 | G19: =IF(G3>1,G3*1.49*G4/1000+((G3-1)+2)*0.5,2*G4/1000) -> 1.2 | H19: =IF(H3>1,H3*1.49*H4/1000+((H3-1)+2)*0.5,2*H4/1000) -> 1.2 | I19: =IF(I3>1,I3*1.49*I4/1000+((I3-1)+2)*0.5,2*I4/1000) -> 1.2 | J19: =IF(J3>1,J3*1.49*J4/1000+((J3-1)+2)*0.5,2*J4/1000) -> 1.2 | K19: =IF(K3>1,K3*1.49*K4/1000+((K3-1)+2)*0.5,2*K4/1000) -> 1.2 | L19: =IF(L3>1,L3*1.49*L4/1000+((L3-1)+2)*0.5,2*L4/1000) -> 1.2 | M19: =IF(M3>1,M3*1.49*M4/1000+((M3-1)+2)*0.5,2*M4/1000) -> 1.2 | ... X19: =IF(X3>1,X3*1.49*X4/1000+((X3-1)+2)*0.5,2*X4/1000) -> 0.8 | Z19: =SUM(F19:X19) -> 24.8
D20: SUPERIOR (TOPO DA VALA) | E20: m | F20: =F19+2*(1/F16)*F18 -> 1.940134 | G20: =G19+2*(1/G16)*G18 -> 1.9626 | H20: =H19+2*(1/H16)*H18 -> 1.963764 | I20: =I19+2*(1/I16)*I18 -> 1.96538 | J20: =J19+2*(1/J16)*J18 -> 1.967576 | K20: =K19+2*(1/K16)*K18 -> 1.969204 | L20: =L19+2*(1/L16)*L18 -> 1.970544 | M20: =M19+2*(1/M16)*M18 -> 2.016164 | ... X20: =X19+2*(1/X16)*X18 -> 1.3536 | Z20: =SUM(F20:X20) -> 39.79001
B21: ESCAVAÇÃO MECÂNICA | C21: 90105 | D21: 0,00 < PROF ≤ 1,50 (0,00 < LARG ≤ 0,80) | E21: m³ | F21: =IF(AND(F18<=1.5,F20<=0.8),(F20+F19)*F18/2*F2,"") | G21: =IF(AND(G18<=1.5,G20<=0.8),(G20+G19)*G18/2*G2,"") | H21: =IF(AND(H18<=1.5,H20<=0.8),(H20+H19)*H18/2*H2,"") | I21: =IF(AND(I18<=1.5,I20<=0.8),(I20+I19)*I18/2*I2,"") | J21: =IF(AND(J18<=1.5,J20<=0.8),(J20+J19)*J18/2*J2,"") | K21: =IF(AND(K18<=1.5,K20<=0.8),(K20+K19)*K18/2*K2,"") | L21: =IF(AND(L18<=1.5,L20<=0.8),(L20+L19)*L18/2*L2,"") | M21: =IF(AND(M18<=1.5,M20<=0.8),(M20+M19)*M18/2*M2,"") | ... X21: =IF(AND(X18<=1.5,X20<=0.8),(X20+X19)*X18/2*X2,"") | Z21: =SUM(F21:X21) -> 0
C22: 90106 | D22: 0,00 < PROF ≤ 1,50 (0,80 < LARG ≤ 1,50) | E22: m³ | F22: =IF(AND(F18<=1.5,F20>0.8,F20<=1.5),(F20+F19)*F18/2*F2,"") | G22: =IF(AND(G18<=1.5,G20>0.8,G20<=1.5),(G20+G19)*G18/2*G2,"") | H22: =IF(AND(H18<=1.5,H20>0.8,H20<=1.5),(H20+H19)*H18/2*H2,"") | I22: =IF(AND(I18<=1.5,I20>0.8,I20<=1.5),(I20+I19)*I18/2*I2,"") | J22: =IF(AND(J18<=1.5,J20>0.8,J20<=1.5),(J20+J19)*J18/2*J2,"") | K22: =IF(AND(K18<=1.5,K20>0.8,K20<=1.5),(K20+K19)*K18/2*K2,"") | L22: =IF(AND(L18<=1.5,L20>0.8,L20<=1.5),(L20+L19)*L18/2*L2,"") | M22: =IF(AND(M18<=1.5,M20>0.8,M20<=1.5),(M20+M19)*M18/2*M2,"") | ... X22: =IF(AND(X18<=1.5,X20>0.8,X20<=1.5),(X20+X19)*X18/2*X2,"") -> 1478.3689 | Z22: =SUM(F22:X22) -> 1478.3689
C23: 90091 | D23: 0,00 < PROF ≤ 1,50 (1,50 < LARG ≤ 2,50) | E23: m³ | F23: =IF(AND(F18<=1.5,F20>1.5),(F20+F19)*F18/2*F2,"") | G23: =IF(AND(G18<=1.5,G20>1.5),(G20+G19)*G18/2*G2,"") | H23: =IF(AND(H18<=1.5,H20>1.5),(H20+H19)*H18/2*H2,"") | I23: =IF(AND(I18<=1.5,I20>1.5),(I20+I19)*I18/2*I2,"") | J23: =IF(AND(J18<=1.5,J20>1.5),(J20+J19)*J18/2*J2,"") | K23: =IF(AND(K18<=1.5,K20>1.5),(K20+K19)*K18/2*K2,"") | L23: =IF(AND(L18<=1.5,L20>1.5),(L20+L19)*L18/2*L2,"") | M23: =IF(AND(M18<=1.5,M20>1.5),(M20+M19)*M18/2*M2,"") | ... X23: =IF(AND(X18<=1.5,X20>1.5),(X20+X19)*X18/2*X2,"") | Z23: =SUM(F23:X23) -> 0
C24: 90107 | D24: 1,50 < PROF ≤ 3,00 (0,00 < LARG ≤ 0,80) | E24: m³ | F24: =IF(AND(F18>1.5,F18<=3,F20<=0.8),(F20+F19)*F18/2*F2,"") | G24: =IF(AND(G18>1.5,G18<=3,G20<=0.8),(G20+G19)*G18/2*G2,"") | H24: =IF(AND(H18>1.5,H18<=3,H20<=0.8),(H20+H19)*H18/2*H2,"") | I24: =IF(AND(I18>1.5,I18<=3,I20<=0.8),(I20+I19)*I18/2*I2,"") | J24: =IF(AND(J18>1.5,J18<=3,J20<=0.8),(J20+J19)*J18/2*J2,"") | K24: =IF(AND(K18>1.5,K18<=3,K20<=0.8),(K20+K19)*K18/2*K2,"") | L24: =IF(AND(L18>1.5,L18<=3,L20<=0.8),(L20+L19)*L18/2*L2,"") | M24: =IF(AND(M18>1.5,M18<=3,M20<=0.8),(M20+M19)*M18/2*M2,"") | ... X24: =IF(AND(X18>1.5,X18<=3,X20<=0.8),(X20+X19)*X18/2*X2,"") | Z24: =SUM(F24:X24) -> 0
C25: 90108 | D25: 1,50 < PROF ≤ 3,00 (0,80 < LARG ≤ 1,50) | E25: m³ | F25: =IF(AND(F18>1.5,F18<=3,F20>0.8,F20<=1.5),(F20+F19)*F18/2*F2,"") | G25: =IF(AND(G18>1.5,G18<=3,G20>0.8,G20<=1.5),(G20+G19)*G18/2*G2,"") | H25: =IF(AND(H18>1.5,H18<=3,H20>0.8,H20<=1.5),(H20+H19)*H18/2*H2,"") | I25: =IF(AND(I18>1.5,I18<=3,I20>0.8,I20<=1.5),(I20+I19)*I18/2*I2,"") | J25: =IF(AND(J18>1.5,J18<=3,J20>0.8,J20<=1.5),(J20+J19)*J18/2*J2,"") | K25: =IF(AND(K18>1.5,K18<=3,K20>0.8,K20<=1.5),(K20+K19)*K18/2*K2,"") | L25: =IF(AND(L18>1.5,L18<=3,L20>0.8,L20<=1.5),(L20+L19)*L18/2*L2,"") | M25: =IF(AND(M18>1.5,M18<=3,M20>0.8,M20<=1.5),(M20+M19)*M18/2*M2,"") | ... X25: =IF(AND(X18>1.5,X18<=3,X20>0.8,X20<=1.5),(X20+X19)*X18/2*X2,"") | Z25: =SUM(F25:X25) -> 0
C26: 102281 | D26: 1,50 < PROF ≤ 3,00 (1,50 < LARG ≤ 2,50) | E26: m³ | F26: =IF(AND(F18>1.5,F18<=3,F20>1.5),(F20+F19)*F18/2*F2,"") -> 221.57578 | G26: =IF(AND(G18>1.5,G18<=3,G20>1.5),(G20+G19)*G18/2*G2,"") -> 226.19658 | H26: =IF(AND(H18>1.5,H18<=3,H20>1.5),(H20+H19)*H18/2*H2,"") -> 230.40079 | I26: =IF(AND(I18>1.5,I18<=3,I20>1.5),(I20+I19)*I18/2*I2,"") -> 222.16329 | J26: =IF(AND(J18>1.5,J18<=3,J20>1.5),(J20+J19)*J18/2*J2,"") -> 227.11898 | K26: =IF(AND(K18>1.5,K18<=3,K20>1.5),(K20+K19)*K18/2*K2,"") -> 230.49062 | L26: =IF(AND(L18>1.5,L18<=3,L20>1.5),(L20+L19)*L18/2*L2,"") -> 229.67664 | M26: =IF(AND(M18>1.5,M18<=3,M20>1.5),(M20+M19)*M18/2*M2,"") -> 127.57098 | ... X26: =IF(AND(X18>1.5,X18<=3,X20>1.5),(X20+X19)*X18/2*X2,"") | Z26: =SUM(F26:X26) -> 4955.0865
C27: 90094 | D27: 3,00 < PROF ≤ 4,50 (0,00 < LARG ≤ 0,80) | E27: m³ | F27: =IF(AND(F18>3,F18<=4.5,F20<=0.8),(F20+F19)*F18/2*F2,"") | G27: =IF(AND(G18>3,G18<=4.5,G20<=0.8),(G20+G19)*G18/2*G2,"") | H27: =IF(AND(H18>3,H18<=4.5,H20<=0.8),(H20+H19)*H18/2*H2,"") | I27: =IF(AND(I18>3,I18<=4.5,I20<=0.8),(I20+I19)*I18/2*I2,"") | J27: =IF(AND(J18>3,J18<=4.5,J20<=0.8),(J20+J19)*J18/2*J2,"") | K27: =IF(AND(K18>3,K18<=4.5,K20<=0.8),(K20+K19)*K18/2*K2,"") | L27: =IF(AND(L18>3,L18<=4.5,L20<=0.8),(L20+L19)*L18/2*L2,"") | M27: =IF(AND(M18>3,M18<=4.5,M20<=0.8),(M20+M19)*M18/2*M2,"") | ... X27: =IF(AND(X18>3,X18<=4.5,X20<=0.8),(X20+X19)*X18/2*X2,"") | Z27: =SUM(F27:X27) -> 0
C28: 90094 | D28: 3,00 < PROF ≤ 4,50 (0,80 < LARG ≤ 1,50) | E28: m³ | F28: =IF(AND(F18>3,F18<=4.5,F20>0.8,F20<=1.5),(F20+F19)*F18/2*F2,"") | G28: =IF(AND(G18>3,G18<=4.5,G20>0.8,G20<=1.5),(G20+G19)*G18/2*G2,"") | H28: =IF(AND(H18>3,H18<=4.5,H20>0.8,H20<=1.5),(H20+H19)*H18/2*H2,"") | I28: =IF(AND(I18>3,I18<=4.5,I20>0.8,I20<=1.5),(I20+I19)*I18/2*I2,"") | J28: =IF(AND(J18>3,J18<=4.5,J20>0.8,J20<=1.5),(J20+J19)*J18/2*J2,"") | K28: =IF(AND(K18>3,K18<=4.5,K20>0.8,K20<=1.5),(K20+K19)*K18/2*K2,"") | L28: =IF(AND(L18>3,L18<=4.5,L20>0.8,L20<=1.5),(L20+L19)*L18/2*L2,"") | M28: =IF(AND(M18>3,M18<=4.5,M20>0.8,M20<=1.5),(M20+M19)*M18/2*M2,"") | ... X28: =IF(AND(X18>3,X18<=4.5,X20>0.8,X20<=1.5),(X20+X19)*X18/2*X2,"") | Z28: =SUM(F28:X28) -> 0
C29: 90095 | D29: 3,00 < PROF ≤ 4,50 (1,50 < LARG ≤ 2,50) | E29: m³ | F29: =IF(AND(F18>3,F18<=4.5,F20>1.5),(F20+F19)*F18/2*F2,"") | G29: =IF(AND(G18>3,G18<=4.5,G20>1.5),(G20+G19)*G18/2*G2,"") | H29: =IF(AND(H18>3,H18<=4.5,H20>1.5),(H20+H19)*H18/2*H2,"") | I29: =IF(AND(I18>3,I18<=4.5,I20>1.5),(I20+I19)*I18/2*I2,"") | J29: =IF(AND(J18>3,J18<=4.5,J20>1.5),(J20+J19)*J18/2*J2,"") | K29: =IF(AND(K18>3,K18<=4.5,K20>1.5),(K20+K19)*K18/2*K2,"") | L29: =IF(AND(L18>3,L18<=4.5,L20>1.5),(L20+L19)*L18/2*L2,"") | M29: =IF(AND(M18>3,M18<=4.5,M20>1.5),(M20+M19)*M18/2*M2,"") | ... X29: =IF(AND(X18>3,X18<=4.5,X20>1.5),(X20+X19)*X18/2*X2,"") | Z29: =SUM(F29:X29) -> 0
C30: 90098 | D30: 4,50 < PROF ≤ 6,00 (0,00 < LARG ≤ 0,80) | E30: m³ | F30: =IF(AND(F18>4.5,F20<=0.8),(F20+F19)*F18/2*F8,"") | G30: =IF(AND(G18>4.5,G20<=0.8),(G20+G19)*G18/2*G8,"") | H30: =IF(AND(H18>4.5,H20<=0.8),(H20+H19)*H18/2*H8,"") | I30: =IF(AND(I18>4.5,I20<=0.8),(I20+I19)*I18/2*I8,"") | J30: =IF(AND(J18>4.5,J20<=0.8),(J20+J19)*J18/2*J8,"") | K30: =IF(AND(K18>4.5,K20<=0.8),(K20+K19)*K18/2*K8,"") | L30: =IF(AND(L18>4.5,L20<=0.8),(L20+L19)*L18/2*L8,"") | M30: =IF(AND(M18>4.5,M20<=0.8),(M20+M19)*M18/2*M8,"") | ... X30: =IF(AND(X18>4.5,X20<=0.8),(X20+X19)*X18/2*X8,"") | Z30: =SUM(F30:X30) -> 0
C31: 90098 | D31: 4,50 < PROF ≤ 6,00 (0,80 < LARG ≤ 1,50) | E31: m³ | F31: =IF(AND(F18>4.5,F20>0.8,F20<=1.5),(F20+F19)*F18/2*F8,"") | G31: =IF(AND(G18>4.5,G20>0.8,G20<=1.5),(G20+G19)*G18/2*G8,"") | H31: =IF(AND(H18>4.5,H20>0.8,H20<=1.5),(H20+H19)*H18/2*H8,"") | I31: =IF(AND(I18>4.5,I20>0.8,I20<=1.5),(I20+I19)*I18/2*I8,"") | J31: =IF(AND(J18>4.5,J20>0.8,J20<=1.5),(J20+J19)*J18/2*J8,"") | K31: =IF(AND(K18>4.5,K20>0.8,K20<=1.5),(K20+K19)*K18/2*K8,"") | L31: =IF(AND(L18>4.5,L20>0.8,L20<=1.5),(L20+L19)*L18/2*L8,"") | M31: =IF(AND(M18>4.5,M20>0.8,M20<=1.5),(M20+M19)*M18/2*M8,"") | ... X31: =IF(AND(X18>4.5,X20>0.8,X20<=1.5),(X20+X19)*X18/2*X8,"") | Z31: =SUM(F31:X31) -> 0
C32: 90098 | D32: 4,50 < PROF ≤ 6,00 (1,50 < LARG ≤ 2,50) | E32: m³ | F32: =IF(AND(F18>4.5,F20>1.5),(F20+F19)*F18/2*F8,"") | G32: =IF(AND(G18>4.5,G20>1.5),(G20+G19)*G18/2*G8,"") | H32: =IF(AND(H18>4.5,H20>1.5),(H20+H19)*H18/2*H8,"") | I32: =IF(AND(I18>4.5,I20>1.5),(I20+I19)*I18/2*I8,"") | J32: =IF(AND(J18>4.5,J20>1.5),(J20+J19)*J18/2*J8,"") | K32: =IF(AND(K18>4.5,K20>1.5),(K20+K19)*K18/2*K8,"") | L32: =IF(AND(L18>4.5,L20>1.5),(L20+L19)*L18/2*L8,"") | M32: =IF(AND(M18>4.5,M20>1.5),(M20+M19)*M18/2*M8,"") | ... X32: =IF(AND(X18>4.5,X20>1.5),(X20+X19)*X18/2*X8,"") | Z32: =SUM(F32:X32) -> 0
C33: ESCAVAÇÃO MANUAL (10% DA ESCAVAÇÃO MECÂNICA) | E33: m³ | F33: =0.1*SUM(F21:F32) -> 22.157578 | G33: =0.1*SUM(G21:G32) -> 22.619658 | H33: =0.1*SUM(H21:H32) -> 23.040079 | I33: =0.1*SUM(I21:I32) -> 22.216329 | J33: =0.1*SUM(J21:J32) -> 22.711898 | K33: =0.1*SUM(K21:K32) -> 23.049062 | L33: =0.1*SUM(L21:L32) -> 22.967664 | M33: =0.1*SUM(M21:M32) -> 12.757098 | ... X33: =0.1*SUM(X21:X32) -> 147.83689 | Z33: =SUM(F33:X33) -> 643.34554
C34: BOTA-FORA | D34: TUBO / GALERIA (SEÇÃO EXTERNA) | E34: m³ | F34: =PI()*(F4/1000*1.21)^2/4*F2 -> 31.573074 | G34: =PI()*(G4/1000*1.21)^2/4*G2 -> 31.059758 | H34: =PI()*(H4/1000*1.21)^2/4*H2 -> 31.577214 | I34: =PI()*(I4/1000*1.21)^2/4*I2 -> 30.368437 | J34: =PI()*(J4/1000*1.21)^2/4*J2 -> 30.935569 | K34: =PI()*(K4/1000*1.21)^2/4*K2 -> 31.312276 | L34: =PI()*(L4/1000*1.21)^2/4*L2 -> 31.134272 | M34: =PI()*(M4/1000*1.21)^2/4*M2 -> 16.094941 | ... X34: =PI()*(X4/1000*1.21)^2/4*X2 -> 182.51236 | Z34: =SUM(F34:X34) -> 954.61691
D35: TAXA DE MATERIAL INSERVÍVEL | E35: % | F35: 0 | G35: 0 | H35: 0 | I35: 0 | J35: 0 | K35: 0 | L35: 0 | M35: 0 | N35: 0 | O35: 0 | P35: 0 | Q35: 0 | R35: 0 | S35: 0 | T35: 0 | U35: 0 | V35: 0 | W35: 0 | X35: 0 | Z35: =SUM(F35:X35) -> 0
D36: VOLUME INSERVÍVEL | E36: m³ | F36: =F35*SUM(F21:F32) -> 0 | G36: =G35*SUM(G21:G32) -> 0 | H36: =H35*SUM(H21:H32) -> 0 | I36: =I35*SUM(I21:I32) -> 0 | J36: =J35*SUM(J21:J32) -> 0 | K36: =K35*SUM(K21:K32) -> 0 | L36: =L35*SUM(L21:L32) -> 0 | M36: =M35*SUM(M21:M32) -> 0 | ... X36: =X35*SUM(X21:X32) -> 0 | Z36: =SUM(F36:X36) -> 0
D37: TOTAL | E37: m³ | F37: =MAX(F36,F34) -> 31.573074 | G37: =MAX(G36,G34) -> 31.059758 | H37: =MAX(H36,H34) -> 31.577214 | I37: =MAX(I36,I34) -> 30.368437 | J37: =MAX(J36,J34) -> 30.935569 | K37: =MAX(K36,K34) -> 31.312276 | L37: =MAX(L36,L34) -> 31.134272 | M37: =MAX(M36,M34) -> 16.094941 | ... X37: =MAX(X36,X34) -> 182.51236 | Z37: =SUM(F37:X37) -> 954.61691
C38: ESCORAMENTO (2 x Prof x Ext) | D38: 0,00 < PROF ≤ 1,50 (0,00 < LARG ≤ 1,50) | E38: m² | Z38: =SUM(F38:X38) -> 0
D39: 0,00 < PROF ≤ 1,50 (1,50 < LARG ≤ 2,50) | E39: m² | F39: =IF(AND(F18<=1.5,F20>1.5),2*F18*F2,"") | G39: =IF(AND(G18<=1.5,G20>1.5),2*G18*G2,"") | H39: =IF(AND(H18<=1.5,H20>1.5),2*H18*H2,"") | I39: =IF(AND(I18<=1.5,I20>1.5),2*I18*I2,"") | J39: =IF(AND(J18<=1.5,J20>1.5),2*J18*J2,"") | K39: =IF(AND(K18<=1.5,K20>1.5),2*K18*K2,"") | L39: =IF(AND(L18<=1.5,L20>1.5),2*L18*L2,"") | M39: =IF(AND(M18<=1.5,M20>1.5),2*M18*M2,"") | ... X39: =IF(AND(X18<=1.5,X20>1.5),2*X18*X2,"")
D40: 1,50 < PROF ≤ 3,00 (0,00 < LARG ≤ 1,50) | E40: m² | F40: =(IF(AND(F18>1.5,F18<=3,F20<=1.5),2*F18*F2,"")) | G40: =(IF(AND(G18>1.5,G18<=3,G20<=1.5),2*G18*G2,"")) | H40: =(IF(AND(H18>1.5,H18<=3,H20<=1.5),2*H18*H2,"")) | I40: =(IF(AND(I18>1.5,I18<=3,I20<=1.5),2*I18*I2,"")) | J40: =(IF(AND(J18>1.5,J18<=3,J20<=1.5),2*J18*J2,"")) | K40: =(IF(AND(K18>1.5,K18<=3,K20<=1.5),2*K18*K2,"")) | L40: =(IF(AND(L18>1.5,L18<=3,L20<=1.5),2*L18*L2,"")) | M40: =(IF(AND(M18>1.5,M18<=3,M20<=1.5),2*M18*M2,"")) | ... X40: =(IF(AND(X18>1.5,X18<=3,X20<=1.5),2*X18*X2,"")) | Z40: =SUM(F40:X40) -> 0
...

Sheet DIMENS
B2: OBRA: | C2: LOTE 01 - DISTRITO NOVA CASA VERDE - MS
B3: CIDADE: | C3: Município: NOVA ANDRADINA (MS)
G4: Tempo de Retorno (anos): | K4: 5
G5: Vazão (Deflúvio a escoar) | K5: Q = 2.78 x n x I x A x f
B6: I = a . Trd /(tc+c)b | G6: Tempo de Concentração (tc): Formulação de Mc Cuen: L - comprimento talvegue (km) S - Declividade (m/m) | K6: Tc = 10,5721 x L⁰’⁵⁵⁵² x S¯⁰’²⁰⁷⁰
B7: a= | C7: 1244.95 | D7: tc= | E7: VAR | G7: Coeficiente de impermeabilidade (C)
B8: b= | C8: 0.801 | D8: c= | E8: 13 | G8: Coeficiente de Deflúvio ( f ) | K8: f = a x (I x tc)^1/3
B9: Tr= | C9: 5 | D9: d= | E9: 0.17 | G9: Fator impermeabilidade ( a ) | K9: a = (2.913 + 64.073 x C) x 10³
A11: DIMENSIONAMENTO | P11: DIMENSIONAMENTO
A12: TRECHO | B12: COMPR. | C12: ÁREA | E12: TC | F12: TR | G12: i | H12: VAZÃO | I12: DIAM. | J12: DIAM. | K12: QUANT. | L12: FH | M12: H/D | N12: RH/D | O12: TIR. LIQ. | P12: COTAS | T12: DECL | U12: DECL | V12: VELOC. | W12: TC GAL. | X12: PROF GAL. (mont.) | Y12: PROF GAL. (jus.) | Z12: PROF. MIN. | AA12: iminim | AB12: comp tub | AD12: PV- COTA GREIDE | AE12: DIFERENÇA DE COTA (TN x GREIDE) | AF12: PROF. REAL DO PV c/ GREIDE
C13: UNIT. | D13: ACUMUL. | P13: T. MONT. | Q13: T. JUS. | R13: G. MONT. | S13: G. JUS.
B14: m | C14: ha | D14: ha | E14: min | F14: ano | G14: l/s/ha | H14: l/s | I14: m | J14: mm | K14: LÂMINA (m) | P14: m | Q14: m | R14: m | S14: m | T14: % | U14: m/m | V14: m/s | W14: min. | X14: m | Y14: m | Z14: m | AA14: % | AB14: m | AD14: m | AE14: m | AF14: m
A15: TR-24A | B15: 79.35 | C15: 24.37 | D15: =C15 -> 24.37 | E15: 10 | F15: 5 | G15: =$C$7*POWER(F15,$E$9)/(POWER((E15+$E$8),($C$8))) -> 132.81062 | H15: =0.1195*D15*POWER(G15,(4/3))*POWER(E15,(1/3))*D15^-0.15 -> 2633.3314 | I15: 1 | J15: =I15*1000 -> 1000 | K15: 1 | L15: =(H15/(1000*K15))*0.014/((POWER(I15,2.667)*POWER(U15,0.5))) -> 0.31157998 | M15: =LOOKUP(ROUND(L15,3),[1]HD!$A$1:$A$91,[1]HD!$B$1:$B$91) -> 0.82 | N15: =LOOKUP(ROUND(L15,3),[1]HD!$A$1:$A$91,[1]HD!$C$1:$C$91) -> 0.3043 | O15: =M15*I15 -> 0.82 | P15: 384.522 | Q15: =383.462 -> 383.462 | R15: =P15-Z15 -> 382.322 | S15: =R15-U15*B15 -> 381.2111 | T15: =U15*100 -> 1.4 | U15: 0.014 | V15: =71.43*POWER((N15*I15),(2/3))*POWER(U15,0.5) -> 3.8236603 | W15: =B15/V15/60 -> 0.34587277 | X15: =P15-R15 -> 2.2 | Y15: =Q15-S15 -> 2.2509 | Z15: =1+I15*1.2 -> 2.2 | AA15: =POWER((H15/K15/1000*0.014/0.335/POWER(I15,2.667)),2) -> 0.01211093 | AB15: =B15*K15 -> 79.35 | AE15: =P15-AD15 -> 384.522 | AF15: =AD15-R15 -> -382.322
A16: TR-33 | B16: 76.27 | C16: 0.45 | D16: =C16 -> 0.45 | E16: 10 | F16: 5 | G16: =$C$7*POWER(F16,$E$9)/(POWER((E16+$E$8),($C$8))) -> 132.81062 | H16: =0.1195*D16*POWER(G16,(4/3))*POWER(E16,(1/3))*D16^-0.15 -> 88.493009 | I16: 0.6 | J16: =I16*1000 -> 600 | K16: 1 | L16: =(H16/(1000*K16))*0.014/((POWER(I16,2.667)*POWER(U16,0.5))) -> 0.033388581 | M16: =LOOKUP(ROUND(L16,3),[1]HD!$A$1:$A$91,[1]HD!$B$1:$B$91) -> 0.21 | N16: =LOOKUP(ROUND(L16,3),[1]HD!$A$1:$A$91,[1]HD!$C$1:$C$91) -> 0.1259 | O16: =M16*I16 -> 0.126 | P16: 396.229 | Q16: =394.636 -> 394.636 | R16: =P16-Z16 -> 394.509 | S16: =R16-U16*B16 -> 392.90733 | T16: =U16*100 -> 2.1 | U16: 0.021 | V16: =71.43*POWER((N16*I16),(2/3))*POWER(U16,0.5) -> 1.8497298 | W16: =B16/V16/60 -> 0.6872175 | X16: =P16-R16 -> 1.72 | Y16: =Q16-S16 -> 1.72867 | Z16: =1+I16*1.2 -> 1.72 | AA16: =POWER((H16/K16/1000*0.014/0.335/POWER(I16,2.667)),2) -> 0.00020860543 | AB16: =B16*K16 -> 76.27 | AE16: =P16-AD16 -> 396.229 | AF16: =AD16-R16 -> -394.509
A17: TR-34 | B17: 75.03 | C17: 0.96 | D17: =C17+D16 -> 1.41 | E17: =E16+W16 -> 10.687218 | F17: 5 | G17: =$C$7*POWER(F17,$E$9)/(POWER((E17+$E$8),($C$8))) -> 129.71526 | H17: =0.1195*D17*POWER(G17,(4/3))*POWER(E17,(1/3))*D17^-0.15 -> 231.4624 | I17: 0.6 | J17: =I17*1000 -> 600 | K17: 1 | L17: =(H17/(1000*K17))*0.014/((POWER(I17,2.667)*POWER(U17,0.5))) -> 0.085323322 | M17: =LOOKUP(ROUND(L17,3),[1]HD!$A$1:$A$91,[1]HD!$B$1:$B$91) -> 0.35 | N17: =LOOKUP(ROUND(L17,3),[1]HD!$A$1:$A$91,[1]HD!$C$1:$C$91) -> 0.1935 | O17: =M17*I17 -> 0.21 | P17: =Q16 -> 394.636 | Q17: =392.889 -> 392.889 | R17: =S16-0.1 -> 392.80733 | S17: =R17-U17*B17 -> 391.15667 | T17: =U17*100 -> 2.2 | U17: 0.022 | V17: =71.43*POWER((N17*I17),(2/3))*POWER(U17,0.5) -> 2.5214293 | W17: =B17/V17/60 -> 0.49594886 | X17: =P17-R17 -> 1.82867 | Y17: =Q17-S17 -> 1.73233 | Z17: =1+I17*1.2 -> 1.72 | AA17: =POWER((H17/K17/1000*0.014/0.335/POWER(I17,2.667)),2) -> 0.0014271466 | AB17: =B17*K17 -> 75.03 | AE17: =P17-AD17 -> 394.636 | AF17: =AD17-R17 -> -392.80733
A18: TR-35 | B18: 76.28 | C18: =0.68+0.31 -> 0.99 | D18: =C18+D17 -> 2.4 | E18: =E17+W17 -> 11.183166 | F18: 5 | G18: =$C$7*POWER(F18,$E$9)/(POWER((E18+$E$8),($C$8))) -> 127.58005 | H18: =0.1195*D18*POWER(G18,(4/3))*POWER(E18,(1/3))*D18^-0.15 -> 361.22634 | I18: 0.6 | J18: =I18*1000 -> 600 | K18: 1 | L18: =(H18/(1000*K18))*0.014/((POWER(I18,2.667)*POWER(U18,0.5))) -> 0.13315783 | M18: =LOOKUP(ROUND(L18,3),[1]HD!$A$1:$A$91,[1]HD!$B$1:$B$91) -> 0.45 | N18: =LOOKUP(ROUND(L18,3),[1]HD!$A$1:$A$91,[1]HD!$C$1:$C$91) -> 0.2331 | O18: =M18*I18 -> 0.27 | P18: =Q17 -> 392.889 | Q18: =391.113 -> 391.113 | R18: =S17-0.1 -> 391.05667 | S18: =R18-U18*B18 -> 389.37851 | T18: =U18*100 -> 2.2 | U18: 0.022 | V18: =71.43*POWER((N18*I18),(2/3))*POWER(U18,0.5) -> 2.8546597 | W18: =B18/V18/60 -> 0.44535373 | X18: =P18-R18 -> 1.83233 | Y18: =Q18-S18 -> 1.73449 | Z18: =1+I18*1.2 -> 1.72 | AA18: =POWER((H18/K18/1000*0.014/0.335/POWER(I18,2.667)),2) -> 0.0034758939 | AB18: =B18*K18 -> 76.28 | AE18: =P18-AD18 -> 392.889 | AF18: =AD18-R18 -> -391.05667
A19: TR-36 | B19: 73.36 | C19: 0.98 | D19: =C19+D18 -> 3.38 | E19: =E18+W18 -> 11.62852 | F19: 5 | G19: =$C$7*POWER(F19,$E$9)/(POWER((E19+$E$8),($C$8))) -> 125.72879 | H19: =0.1195*D19*POWER(G19,(4/3))*POWER(E19,(1/3))*D19^-0.15 -> 480.14035 | I19: 0.6 | J19: =I19*1000 -> 600 | K19: 1 | L19: =(H19/(1000*K19))*0.014/((POWER(I19,2.667)*POWER(U19,0.5))) -> 0.17699277 | M19: =LOOKUP(ROUND(L19,3),[1]HD!$A$1:$A$91,[1]HD!$B$1:$B$91) -> 0.53 | N19: =LOOKUP(ROUND(L19,3),[1]HD!$A$1:$A$91,[1]HD!$C$1:$C$91) -> 0.2592 | O19: =M19*I19 -> 0.318 | P19: =Q18 -> 391.113 | Q19: =389.405 -> 389.405 | R19: =S18-0.1 -> 389.27851 | S19: =R19-U19*B19 -> 387.66459 | T19: =U19*100 -> 2.2 | U19: 0.022 | V19: =71.43*POWER((N19*I19),(2/3))*POWER(U19,0.5) -> 3.0639581 | W19: =B19/V19/60 -> 0.3990481 | X19: =P19-R19 -> 1.83449 | Y19: =Q19-S19 -> 1.74041 | Z19: =1+I19*1.2 -> 1.72 | AA19: =POWER((H19/K19/1000*0.014/0.335/POWER(I19,2.667)),2) -> 0.0061410708 | AB19: =B19*K19 -> 73.36 | AE19: =P19-AD19 -> 391.113 | AF19: =AD19-R19 -> -389.27851
A20: TR-37 | B20: 74.73 | C20: 0.98 | D20: =C20+D19 -> 4.36 | E20: =E19+W19 -> 12.027568 | F20: 5 | G20: =$C$7*POWER(F20,$E$9)/(POWER((E20+$E$8),($C$8))) -> 124.12049 | H20: =0.1195*D20*POWER(G20,(4/3))*POWER(E20,(1/3))*D20^-0.15 -> 592.62776 | I20: 0.6 | J20: =I20*1000 -> 600 | K20: 1 | L20: =(H20/(1000*K20))*0.014/((POWER(I20,2.667)*POWER(U20,0.5))) -> 0.21845868 | M20: =LOOKUP(ROUND(L20,3),[1]HD!$A$1:$A$91,[1]HD!$B$1:$B$91) -> 0.61 | N20: =LOOKUP(ROUND(L20,3),[1]HD!$A$1:$A$91,[1]HD!$C$1:$C$91) -> 0.2799 | O20: =M20*I20 -> 0.366 | P20: =Q19 -> 389.405 | Q20: 387.666 | R20: =S19-0.1 -> 387.56459 | S20: =R20-U20*B20 -> 385.92053 | T20: =U20*100 -> 2.2 | U20: 0.022 | V20: =71.43*POWER((N20*I20),(2/3))*POWER(U20,0.5) -> 3.2249879 | W20: =B20/V20/60 -> 0.386203 | X20: =P20-R20 -> 1.84041 | Y20: =Q20-S20 -> 1.74547 | Z20: =1+I20*1.2 -> 1.72 | AA20: =POWER((H20/K20/1000*0.014/0.335/POWER(I20,2.667)),2) -> 0.0093556004 | AB20: =B20*K20 -> 74.73 | AE20: =P20-AD20 -> 389.405 | AF20: =AD20-R20 -> -387.56459
A21: TR-38 | B21: 75.64 | C21: 0.98 | D21: =C21+D20 -> 5.34 | E21: =E20+W20 -> 12.413771 | F21: 5 | G21: =$C$7*POWER(F21,$E$9)/(POWER((E21+$E$8),($C$8))) -> 122.60733 | H21: =0.1195*D21*POWER(G21,(4/3))*POWER(E21,(1/3))*D21^-0.15 -> 700.00501 | I21: 0.6 | J21: =I21*1000 -> 600 | K21: 1 | L21: =(H21/(1000*K21))*0.014/((POWER(I21,2.667)*POWER(U21,0.5))) -> 0.25804085 | M21: =LOOKUP(ROUND(L21,3),[1]HD!$A$1:$A$91,[1]HD!$B$1:$B$91) -> 0.69 | N21: =LOOKUP(ROUND(L21,3),[1]HD!$A$1:$A$91,[1]HD!$C$1:$C$91) -> 0.2948 | O21: =M21*I21 -> 0.414 | P21: =Q20 -> 387.666 | Q21: =385.905 -> 385.905 | R21: =S20-0.1 -> 385.82053 | S21: =R21-U21*B21 -> 384.15645 | T21: =U21*100 -> 2.2 | U21: 0.022 | V21: =71.43*POWER((N21*I21),(2/3))*POWER(U21,0.5) -> 3.3384469 | W21: =B21/V21/60 -> 0.3776207 | X21: =P21-R21 -> 1.84547 | Y21: =Q21-S21 -> 1.74855 | Z21: =1+I21*1.2 -> 1.72 | AA21: =POWER((H21/K21/1000*0.014/0.335/POWER(I21,2.667)),2) -> 0.01305299 | AB21: =B21*K21 -> 75.64 | AE21: =P21-AD21 -> 387.666 | AF21: =AD21-R21 -> -385.82053
A22: TR-39 | B22: 75.21 | C22: 1.02 | D22: =C22+D21 -> 6.36 | E22: =E21+W21 -> 12.791392 | F22: 5 | G22: =$C$7*POWER(F22,$E$9)/(POWER((E22+$E$8),($C$8))) -> 121.16732 | H22: =0.1195*D22*POWER(G22,(4/3))*POWER(E22,(1/3))*D22^-0.15 -> 807.47001 | I22: 0.6 | J22: =I22*1000 -> 600 | K22: 1 | L22: =(H22/(1000*K22))*0.014/((POWER(I22,2.667)*POWER(U22,0.5))) -> 0.29765536 | M22: =LOOKUP(ROUND(L22,3),[1]HD!$A$1:$A$91,[1]HD!$B$1:$B$91) -> 0.78 | N22: =LOOKUP(ROUND(L22,3),[1]HD!$A$1:$A$91,[1]HD!$C$1:$C$91) -> 0.3036 | O22: =M22*I22 -> 0.468 | P22: =Q21 -> 385.905 | Q22: 384.154 | R22: =S21-0.1 -> 384.05645 | S22: =R22-U22*B22 -> 382.40183 | T22: =U22*100 -> 2.2 | U22: 0.022 | V22: =71.43*POWER((N22*I22),(2/3))*POWER(U22,0.5) -> 3.4045575 | W22: =B22/V22/60 -> 0.36818295 | X22: =P22-R22 -> 1.84855 | Y22: =Q22-S22 -> 1.75217 | Z22: =1+I22*1.2 -> 1.72 | AA22: =POWER((H22/K22/1000*0.014/0.335/POWER(I22,2.667)),2) -> 0.017368427 | AB22: =B22*K22 -> 75.21 | AE22: =P22-AD22 -> 385.905 | AF22: =AD22-R22 -> -384.05645
A23: TR-40 | B23: 38.88 | C23: 0.72 | D23: =C23+D22 -> 7.08 | E23: =E22+W22 -> 13.159575 | F23: 5 | G23: =$C$7*POWER(F23,$E$9)/(POWER((E23+$E$8),($C$8))) -> 119.7994 | H23: =0.1195*D23*POWER(G23,(4/3))*POWER(E23,(1/3))*D23^-0.15 -> 879.52794 | I23: 0.6 | J23: =I23*1000 -> 600 | K23: 1 | L23: =(H23/(1000*K23))*0.014/((POWER(I23,2.667)*POWER(U23,0.5))) -> 0.33184757 | M23: =LOOKUP(ROUND(L23,3),[1]HD!$A$1:$A$91,[1]HD!$B$1:$B$91) -> 0.89 | N23: =LOOKUP(ROUND(L23,3),[1]HD!$A$1:$A$91,[1]HD!$C$1:$C$91) -> 0.2995 | O23: =M23*I23 -> 0.534 | P23: =Q22 -> 384.154 | Q23: 383.462 | R23: =S22-0.1 -> 382.30183 | S23: =R23-U23*B23 -> 381.48535 | T23: =U23*100 -> 2.1 | U23: 0.021 | V23: =71.43*POWER((N23*I23),(2/3))*POWER(U23,0.5) -> 3.2962667 | W23: =B23/V23/60 -> 0.19658603 | X23: =P23-R23 -> 1.85217 | Y23: =Q23-S23 -> 1.97665 | Z23: =1+I23*1.2 -> 1.72 | AA23: =POWER((H23/K23/1000*0.014/0.335/POWER(I23,2.667)),2) -> 0.02060663 | AB23: =B23*K23 -> 38.88 | AE23: =P23-AD23 -> 384.154 | AF23: =AD23-R23 -> -382.30183
A24: TR-32 | B24: 105.31 | C24: =C15 -> 24.37 | D24: =D15+D23 -> 31.45 | E24: =E23+W23 -> 13.356161 | F24: 5 | G24: =$C$7*POWER(F24,$E$9)/(POWER((E24+$E$8),($C$8))) -> 119.08312 | H24: =0.1195*D24*POWER(G24,(4/3))*POWER(E24,(1/3))*D24^-0.15 -> 3114.3897 | I24: 1.2 | J24: =I24*1000 -> 1200 | K24: 1 | L24: =(H24/(1000*K24))*0.014/((POWER(I24,2.667)*POWER(U24,0.5))) -> 0.25563968 | M24: =LOOKUP(ROUND(L24,3),[1]HD!$A$1:$A$91,[1]HD!$B$1:$B$91) -> 0.69 | N24: =LOOKUP(ROUND(L24,3),[1]HD!$A$1:$A$91,[1]HD!$C$1:$C$91) -> 0.2948 | O24: =M24*I24 -> 0.828 | P24: =Q23 -> 383.462 | Q24: =382.33 -> 382.33 | R24: =S15-0.2 -> 381.0111 | S24: =R24-U24*B24 -> 379.85269 | T24: =U24*100 -> 1.1 | U24: 0.011 | V24: =71.43*POWER((N24*I24),(2/3))*POWER(U24,0.5) -> 3.74728 | W24: =B24/V24/60 -> 0.46838418 | X24: =P24-R24 -> 2.4509 | Y24: =Q24-S24 -> 2.47731 | Z24: =1+I24*1.2 -> 2.44 | AA24: =POWER((H24/K24/1000*0.014/0.335/POWER(I24,2.667)),2) -> 0.0064055967 | AB24: =B24*K24 -> 105.31 | AE24: =P24-AD24 -> 383.462 | AF24: =AD24-R24 -> -381.0111
A25: TR-41 | B25: 76.44 | C25: 0.37 | D25: =C25 -> 0.37 | E25: 10 | F25: 5 | G25: =$C$7*POWER(F25,$E$9)/(POWER((E25+$E$8),($C$8))) -> 132.81062 | H25: =0.1195*D25*POWER(G25,(4/3))*POWER(E25,(1/3))*D25^-0.15 -> 74.928975 | I25: 0.6 | J25: =I25*1000 -> 600 | K25: 1 | L25: =(H25/(1000*K25))*0.014/((POWER(I25,2.667)*POWER(U25,0.5))) -> 0.027013728 | M25: =LOOKUP(ROUND(L25,3),[1]HD!$A$1:$A$91,[1]HD!$B$1:$B$91) -> 0.19 | N25: =LOOKUP(ROUND(L25,3),[1]HD!$A$1:$A$91,[1]HD!$C$1:$C$91) -> 0.1152 | O25: =M25*I25 -> 0.114 | P25: 395.699 | Q25: 393.969 | R25: =P25-Z25 -> 393.979 | S25: =R25-U25*B25 -> 392.22088 | T25: =U25*100 -> 2.3 | U25: 0.023 | V25: =71.43*POWER((N25*I25),(2/3))*POWER(U25,0.5) -> 1.8245134 | W25: =B25/V25/60 -> 0.69826838 | X25: =P25-R25 -> 1.72 | Y25: =Q25-S25 -> 1.74812 | Z25: =1+I25*1.2 -> 1.72 | AA25: =POWER((H25/K25/1000*0.014/0.335/POWER(I25,2.667)),2) -> 0.00014955718 | AB25: =B25*K25 -> 76.44 | AE25: =P25-AD25 -> 395.699 | AF25: =AD25-R25 -> -393.979
A26: TR-42 | B26: 75.07 | C26: 0.83 | D26: =C26+D25 -> 1.2 | E26: =E25+W25 -> 10.698268 | F26: 5 | G26: =$C$7*POWER(F26,$E$9)/(POWER((E26+$E$8),($C$8))) -> 129.6668 | H26: =0.1195*D26*POWER(G26,(4/3))*POWER(E26,(1/3))*D26^-0.15 -> 201.78159 | I26: 0.6 | J26: =I26*1000 -> 600 | K26: 1 | L26: =(H26/(1000*K26))*0.014/((POWER(I26,2.667)*POWER(U26,0.5))) -> 0.076132578 | M26: =LOOKUP(ROUND(L26,3),[1]HD!$A$1:$A$91,[1]HD!$B$1:$B$91) -> 0.33 | N26: =LOOKUP(ROUND(L26,3),[1]HD!$A$1:$A$91,[1]HD!$C$1:$C$91) -> 0.1847 | O26: =M26*I26 -> 0.198 | P26: =Q25 -> 393.969 | Q26: 392.315 | R26: =S25-0.1 -> 392.12088 | S26: =R26-U26*B26 -> 390.54441 | T26: =U26*100 -> 2.1 | U26: 0.021 | V26: =71.43*POWER((N26*I26),(2/3))*POWER(U26,0.5) -> 2.388191 | W26: =B26/V26/60 -> 0.52389723 | X26: =P26-R26 -> 1.84812 | Y26: =Q26-S26 -> 1.77059 | Z26: =1+I26*1.2 -> 1.72 | AA26: =POWER((H26/K26/1000*0.014/0.335/POWER(I26,2.667)),2) -> 0.0010846029 | AB26: =B26*K26 -> 75.07 | AE26: =P26-AD26 -> 393.969 | AF26: =AD26-R26 -> -392.12088
A27: TR-43 | B27: 76.45 | C27: 0.82 | D27: =C27+D26 -> 2.02 | E27: =E26+W26 -> 11.222166 | F27: 5 | G27: =$C$7*POWER(F27,$E$9)/(POWER((E27+$E$8),($C$8))) -> 127.41549 | H27: =0.1195*D27*POWER(G27,(4/3))*POWER(E27,(1/3))*D27^-0.15 -> 311.82081 | I27: 0.6 | J27: =I27*1000 -> 600 | K27: 1 | L27: =(H27/(1000*K27))*0.014/((POWER(I27,2.667)*POWER(U27,0.5))) -> 0.12055598 | M27: =LOOKUP(ROUND(L27,3),[1]HD!$A$1:$A$91,[1]HD!$B$1:$B$91) -> 0.43 | N27: =LOOKUP(ROUND(L27,3),[1]HD!$A$1:$A$91,[1]HD!$C$1:$C$91) -> 0.2258 | O27: =M27*I27 -> 0.258 | P27: =Q26 -> 392.315 | Q27: 390.631 | R27: =S26-0.1 -> 390.44441 | S27: =R27-U27*B27 -> 388.91541 | T27: =U27*100 -> 2 | U27: 0.02 | V27: =71.43*POWER((N27*I27),(2/3))*POWER(U27,0.5) -> 2.6646844 | W27: =B27/V27/60 -> 0.47816795 | X27: =P27-R27 -> 1.87059 | Y27: =Q27-S27 -> 1.71559 | Z27: =1+I27*1.2 -> 1.72 | AA27: =POWER((H27/K27/1000*0.014/0.335/POWER(I27,2.667)),2) -> 0.002590108 | AB27: =B27*K27 -> 76.45 | AE27: =P27-AD27 -> 392.315 | AF27: =AD27-R27 -> -390.44441
A28: TR-44 | B28: 74.23 | C28: 0.82 | D28: =C28+D27 -> 2.84 | E28: =E27+W27 -> 11.700334 | F28: 5 | G28: =$C$7*POWER(F28,$E$9)/(POWER((E28+$E$8),($C$8))) -> 125.4359 | H28: =0.1195*D28*POWER(G28,(4/3))*POWER(E28,(1/3))*D28^-0.15 -> 413.66653 | I28: 0.6 | J28: =I28*1000 -> 600 | K28: 1 | L28: =(H28/(1000*K28))*0.014/((POWER(I28,2.667)*POWER(U28,0.5))) -> 0.15607717 | M28: =LOOKUP(ROUND(L28,3),[1]HD!$A$1:$A$91,[1]HD!$B$1:$B$91) -> 0.5 | N28: =LOOKUP(ROUND(L28,3),[1]HD!$A$1:$A$91,[1]HD!$C$1:$C$91) -> 0.25 | O28: =M28*I28 -> 0.3 | P28: =Q27 -> 390.631 | Q28: 388.995 | R28: =S27-0.1 -> 388.81541 | S28: =R28-U28*B28 -> 387.25658 | T28: =U28*100 -> 2.1 | U28: 0.021 | V28: =71.43*POWER((N28*I28),(2/3))*POWER(U28,0.5) -> 2.9222529 | W28: =B28/V28/60 -> 0.42336057 | X28: =P28-R28 -> 1.81559 | Y28: =Q28-S28 -> 1.73842 | Z28: =1+I28*1.2 -> 1.72 | AA28: =POWER((H28/K28/1000*0.014/0.335/POWER(I28,2.667)),2) -> 0.0045583582 | AB28: =B28*K28 -> 74.23 | AE28: =P28-AD28 -> 390.631 | AF28: =AD28-R28 -> -388.81541
A29: TR-45 | B29: 74.75 | C29: 0.82 | D29: =C29+D28 -> 3.66 | E29: =E28+W28 -> 12.123694 | F29: 5 | G29: =$C$7*POWER(F29,$E$9)/(POWER((E29+$E$8),($C$8))) -> 123.73995 | H29: =0.1195*D29*POWER(G29,(4/3))*POWER(E29,(1/3))*D29^-0.15 -> 509.97833 | I29: 0.6 | J29: =I29*1000 -> 600 | K29: 1 | L29: =(H29/(1000*K29))*0.014/((POWER(I29,2.667)*POWER(U29,0.5))) -> 0.1924158 | M29: =LOOKUP(ROUND(L29,3),[1]HD!$A$1:$A$91,[1]HD!$B$1:$B$91) -> 0.56 | N29: =LOOKUP(ROUND(L29,3),[1]HD!$A$1:$A$91,[1]HD!$C$1:$C$91) -> 0.2676 | O29: =M29*I29 -> 0.336 | P29: =Q28 -> 388.995 | Q29: 387.348 | R29: =S28-0.1 -> 387.15658 | S29: =R29-U29*B29 -> 385.58683 | T29: =U29*100 -> 2.1 | U29: 0.021 | V29: =71.43*POWER((N29*I29),(2/3))*POWER(U29,0.5) -> 3.0578431 | W29: =B29/V29/60 -> 0.40742225 | X29: =P29-R29 -> 1.83842 | Y29: =Q29-S29 -> 1.76117 | Z29: =1+I29*1.2 -> 1.72 | AA29: =POWER((H29/K29/1000*0.014/0.335/POWER(I29,2.667)),2) -> 0.0069280519 | AB29: =B29*K29 -> 74.75 | AE29: =P29-AD29 -> 388.995 | AF29: =AD29-R29 -> -387.15658
A30: TR-46 | B30: 74.36 | C30: 0.82 | D30: =C30+D29 -> 4.48 | E30: =E29+W29 -> 12.531116 | F30: 5 | G30: =$C$7*POWER(F30,$E$9)/(POWER((E30+$E$8),($C$8))) -> 122.15574 | H30: =0.1195*D30*POWER(G30,(4/3))*POWER(E30,(1/3))*D30^-0.15 -> 601.86996 | I30: 0.6 | J30: =I30*1000 -> 600 | K30: 1 | L30: =(H30/(1000*K30))*0.014/((POWER(I30,2.667)*POWER(U30,0.5))) -> 0.22708668 | M30: =LOOKUP(ROUND(L30,3),[1]HD!$A$1:$A$91,[1]HD!$B$1:$B$91) -> 0.63 | N30: =LOOKUP(ROUND(L30,3),[1]HD!$A$1:$A$91,[1]HD!$C$1:$C$91) -> 0.2842 | O30: =M30*I30 -> 0.378 | P30: =Q29 -> 387.348 | Q30: 385.71 | R30: =S29-0.1 -> 385.48683 | S30: =R30-U30*B30 -> 383.92527 | T30: =U30*100 -> 2.1 | U30: 0.021 | V30: =71.43*POWER((N30*I30),(2/3))*POWER(U30,0.5) -> 3.1830284 | W30: =B30/V30/60 -> 0.38935667 | X30: =P30-R30 -> 1.86117 | Y30: =Q30-S30 -> 1.78473 | Z30: =1+I30*1.2 -> 1.72 | AA30: =POWER((H30/K30/1000*0.014/0.335/POWER(I30,2.667)),2) -> 0.0096496824 | AB30: =B30*K30 -> 74.36 | AE30: =P30-AD30 -> 387.348 | AF30: =AD30-R30 -> -385.48683
A31: TR-47 | B31: 74.95 | C31: 0.81 | D31: =C31+D30 -> 5.29 | E31: =E30+W30 -> 12.920473 | F31: 5 | G31: =$C$7*POWER(F31,$E$9)/(POWER((E31+$E$8),($C$8))) -> 120.68376 | H31: =0.1195*D31*POWER(G31,(4/3))*POWER(E31,(1/3))*D31^-0.15 -> 689.06967 | I31: 0.6 | J31: =I31*1000 -> 600 | K31: 1 | L31: =(H31/(1000*K31))*0.014/((POWER(I31,2.667)*POWER(U31,0.5))) -> 0.26640771 | M31: =LOOKUP(ROUND(L31,3),[1]HD!$A$1:$A$91,[1]HD!$B$1:$B$91) -> 0.71 | N31: =LOOKUP(ROUND(L31,3),[1]HD!$A$1:$A$91,[1]HD!$C$1:$C$91) -> 0.2975 | O31: =M31*I31 -> 0.426 | P31: =Q30 -> 385.71 | Q31: 384.059 | R31: =S30-0.1 -> 383.82527 | S31: =R31-U31*B31 -> 382.32627 | T31: =U31*100 -> 2 | U31: 0.02 | V31: =71.43*POWER((N31*I31),(2/3))*POWER(U31,0.5) -> 3.2024901 | W31: =B31/V31/60 -> 0.39006106 | X31: =P31-R31 -> 1.88473 | Y31: =Q31-S31 -> 1.73273 | Z31: =1+I31*1.2 -> 1.72 | AA31: =POWER((H31/K31/1000*0.014/0.335/POWER(I31,2.667)),2) -> 0.012648353 | AB31: =B31*K31 -> 74.95 | AE31: =P31-AD31 -> 385.71 | AF31: =AD31-R31 -> -383.82527
A32: TR-48 | B32: 74.16 | C32: 0.79 | D32: =C32+D31 -> 6.08 | E32: =E31+W31 -> 13.310534 | F32: 5 | G32: =$C$7*POWER(F32,$E$9)/(POWER((E32+$E$8),($C$8))) -> 119.24851 | H32: =0.1195*D32*POWER(G32,(4/3))*POWER(E32,(1/3))*D32^-0.15 -> 770.942 | I32: 0.8 | J32: =I32*1000 -> 800 | K32: 1 | L32: =(H32/(1000*K32))*0.014/((POWER(I32,2.667)*POWER(U32,0.5))) -> 0.12904608 | M32: =LOOKUP(ROUND(L32,3),[1]HD!$A$1:$A$91,[1]HD!$B$1:$B$91) -> 0.44 | N32: =LOOKUP(ROUND(L32,3),[1]HD!$A$1:$A$91,[1]HD!$C$1:$C$91) -> 0.2295 | O32: =M32*I32 -> 0.352 | P32: =Q31 -> 384.059 | Q32: =382.4 -> 382.4 | R32: =S31-0.2 -> 382.12627 | S32: =R32-U32*B32 -> 380.42059 | T32: =U32*100 -> 2.3 | U32: 0.023 | V32: =71.43*POWER((N32*I32),(2/3))*POWER(U32,0.5) -> 3.4993954 | W32: =B32/V32/60 -> 0.35320387 | X32: =P32-R32 -> 1.93273 | Y32: =Q32-S32 -> 1.97941 | Z32: =1+I32*1.2 -> 1.96 | AA32: =POWER((H32/K32/1000*0.014/0.335/POWER(I32,2.667)),2) -> 0.0034129339 | AB32: =B32*K32 -> 74.16 | AE32: =P32-AD32 -> 384.059 | AF32: =AD32-R32 -> -382.12627
C33: LÁZARO BARBOSA MACHADO
C34: ENG. CIVIL CREA 22039/D-MG VISTO MS 1634

Sheet MEMO PAV 
B1: VIAS | D1: RUA MARINGÁ | E1: AV. NOVA ANDRADINA | F1: RUA ESPIRITO SANTO | G1: RUA MINAS GERAIS | H1: RUA RIO DE JANEIRO | I1: RUA PERNAMBUCO | J1: RUA RONDÔNIA | K1: RUA ACRE | L1: RUA AMAPÁ | M1: RUA PEDRO CASSIMIRO MOTTA | N1: RUA PEDRO CASSIMIRO X TRAVESSA DA CUNHA | O1: TOTAL- MEMÓRIA/PROJETO
B2: EXTENSÃO (m) | D2: =27*20+13.56 -> 553.56 | E2: =29*20+2.7 -> 582.7 | F2: =7*20+13.87 -> 153.87 | G2: =7*20+13.92 -> 153.92 | H2: =7*20+14.78 -> 154.78 | I2: =7*20+14.03 -> 154.03 | J2: =7*20+14.1 -> 154.1 | K2: =7*20+14.28 -> 154.28 | L2: =7*20+14.36 -> 154.36 | M2: =7*20+1.34 -> 141.34 | N2: 7.86 | O2: =SUM(D2:N2) -> 2364.8
B3: DECLIVIDADE TRANSVERSAL DA PISTA (SIMPLES ou DUPLA) | D3: DUPLA | E3: DUPLA | F3: DUPLA | G3: DUPLA | H3: DUPLA | I3: DUPLA | J3: DUPLA | K3: DUPLA | L3: DUPLA | M3: DUPLA | N3: DUPLA | O3: =SUM(D3:N3) -> 0
B4: LARGURA DO PAVIMENTO (m) | D4: 8.4 | E4: 8.4 | F4: 8.4 | G4: 8.4 | H4: 8.4 | I4: 8.4 | J4: 8.4 | K4: 8.4 | L4: 8.4 | M4: 8.4 | N4: 8.4 | O4: =SUM(D4:N4) -> 92.4
B5: Nº DE RAIOS NO CRUZAMENTO (und) | D5: 30 | E5: 14 | N5: 2 | O5: =SUM(D5:N5) -> 46
B6: Nº DE RAIOS NO CANTEIRO(und) | O6: =SUM(D6:N6) -> 0
B7: EXTENSÃO DO RAIO NO CRUZAMENTO (M) | D7: 5.3 | E7: 5.3 | F7: 5 | G7: 5 | H7: 5 | I7: 5 | J7: 5 | K7: 5 | L7: 5 | N7: 5.3 | O7: =SUM(D7:N7) -> 50.9
B8: EXTENSÃO DO RAIO DO CANTEIRO (M) | O8: =SUM(D8:N8) -> 0
B9: ÁREA MÉDIA CADA RAIO DO CRUZAMENTO (m²) | D9: =0.05375*2*D7*2*D7 -> 6.03935 | E9: =0.05375*2*E7*2*E7 -> 6.03935 | F9: =0.05375*2*F7*2*F7 -> 5.375 | G9: =0.05375*2*G7*2*G7 -> 5.375 | H9: =0.05375*2*H7*2*H7 -> 5.375 | I9: =0.05375*2*I7*2*I7 -> 5.375 | J9: =0.05375*2*J7*2*J7 -> 5.375 | K9: =0.05375*2*K7*2*K7 -> 5.375 | ... N9: =0.05375*2*N7*2*N7 -> 6.03935 | O9: =SUM(D9:N9) -> 55.74305
B10: ÁREA MÉDIA CADA RAIO DO CANTEIRO (m²) | O10: =SUM(D10:N10) -> 0
B11: ÁREA TOTAL DE RAIOS (m²) | D11: =D5*D9+D10*D8 -> 181.1805 | E11: =E5*E9+E10*E8 -> 84.5509 | F11: =F5*F9+F10*F8 -> 0 | G11: =G5*G9+G10*G8 -> 0 | H11: =H5*H9+H10*H8 -> 0 | I11: =I5*I9+I10*I8 -> 0 | J11: =J5*J9+J10*J8 -> 0 | K11: =K5*K9+K10*K8 -> 0 | ... N11: =N5*N9+N10*N8 -> 12.0787 | O11: =SUM(D11:N11) -> 277.8101
B12: REGULARIZAÇÃO | C12: LARGURA (m) | D12: =IF(D3="SIMPLES",D4+0.52+0.22,D4+0.52*2) -> 9.44 | E12: =IF(E3="SIMPLES",E4+0.52+0.22,E4+0.52*2) -> 9.44 | F12: =IF(F3="SIMPLES",F4+0.52+0.22,F4+0.52*2) -> 9.44 | G12: =IF(G3="SIMPLES",G4+0.52+0.22,G4+0.52*2) -> 9.44 | H12: =IF(H3="SIMPLES",H4+0.52+0.22,H4+0.52*2) -> 9.44 | I12: =IF(I3="SIMPLES",I4+0.52+0.22,I4+0.52*2) -> 9.44 | J12: =IF(J3="SIMPLES",J4+0.52+0.22,J4+0.52*2) -> 9.44 | K12: =IF(K3="SIMPLES",K4+0.52+0.22,K4+0.52*2) -> 9.44 | ... N12: =IF(N3="SIMPLES",N4+0.52+0.22,N4+0.52*2) -> 9.44 | O12: =SUM(D12:N12) -> 103.84
C13: ÁREA TOTAL (m²) | D13: =D12*D2+D11 -> 5406.7869 | E13: =E12*E2+E11 -> 5585.2389 | F13: =F12*F2+F11 -> 1452.5328 | G13: =G12*G2+G11 -> 1453.0048 | H13: =H12*H2+H11 -> 1461.1232 | I13: =I12*I2+I11 -> 1454.0432 | J13: =J12*J2+J11 -> 1454.704 | K13: =K12*K2+K11 -> 1456.4032 | ... N13: =N12*N2+N11 -> 86.2771 | O13: =SUM(D13:N13) -> 22601.522
B14: TROCA DE SOLO DE MATERIAL INSERVÍVEL H=0,40m | C14: MATERIAL | D14: SOLO LOCAL | E14: SOLO LOCAL | F14: SOLO LOCAL | G14: SOLO LOCAL | H14: SOLO LOCAL | I14: SOLO LOCAL | J14: SOLO LOCAL | K14: SOLO LOCAL | L14: SOLO LOCAL | M14: SOLO LOCAL | N14: SOLO LOCAL | O14: =SUM(D14:N14) -> 0
C15: ÁREA TOTAL (m²) | O15: =SUM(D15:N15) -> 0
C16: VOLUME GEOMÉTRICO (m³) | O16: =SUM(D16:N16) -> 0
B17: TERRAPLENAGEM CORTE | C17: SUB LEITO CORTE (M) | D17: 0 | E17: 0 | F17: 0 | G17: 0 | H17: 0 | I17: 0 | J17: 0 | K17: 0 | L17: 0 | M17: 0 | N17: 0.3 | O17: =SUM(D17:N17) -> 0.3
C18: SUB LEITO CORTE VOL.(M3) | D18: 1132.67 | E18: 733.49 | F18: 588.51 | G18: 665.39 | H18: 439.26 | I18: 406.13 | J18: 470.35 | K18: 480.22 | L18: 546.87 | M18: 266.7 | N18: =N13*N17 -> 25.88313 | O18: =SUM(D18:N18) -> 5755.4731
C19: TRANSPORTE VOL. EMPOLADO (30%) | D19: =D18*1.3 -> 1472.471 | E19: =E18*1.3 -> 953.537 | F19: =F18*1.3 -> 765.063 | G19: =G18*1.3 -> 865.007 | H19: =H18*1.3 -> 571.038 | I19: =I18*1.3 -> 527.969 | J19: =J18*1.3 -> 611.455 | K19: =K18*1.3 -> 624.286 | ... N19: =N18*1.3 -> 33.648069 | O19: =SUM(D19:N19) -> 7482.1151
B20: TERRAPLENAGEM ATERRO | C20: VOLUME GEOMÉTICO DE ATERRO (m³) | D20: 103.64 | E20: 360.48 | F20: 0 | G20: 0 | H20: 0.33 | I20: 3.74 | J20: 16.62 | K20: 9.89 | L20: 3.03 | M20: 9.06 | N20: 0 | O20: =SUM(D20:N20) -> 506.79
C21: FATOR DE EMPOL - MAT. ATERRO (%) | D21: 0.3 | E21: 0 | F21: 0.3 | G21: 0.3 | H21: 0.3 | I21: 0.3 | J21: 0.3 | K21: 0.3 | L21: 0.3 | M21: 0.3 | N21: 0.3 | O21: =SUM(D21:N21) -> 3
C22: MATERIAL PARA ATERRO - EMPOLADO (m³) | D22: =D20*(1+D21) -> 134.732 | E22: =E20*(1+E21) -> 360.48 | F22: =F20*(1+F21) -> 0 | G22: =G20*(1+G21) -> 0 | H22: =H20*(1+H21) -> 0.429 | I22: =I20*(1+I21) -> 4.862 | J22: =J20*(1+J21) -> 21.606 | K22: =K20*(1+K21) -> 12.857 | ... N22: =N20*(1+N21) -> 0 | O22: =SUM(D22:N22) -> 550.683
B23: SUBBASE ESTABILIZADA | C23: MATERIAL | D23: CASCALHO | E23: CASCALHO | F23: CASCALHO | G23: CASCALHO | H23: CASCALHO | I23: CASCALHO | J23: CASCALHO | K23: CASCALHO | L23: CASCALHO | M23: CASCALHO | N23: CASCALHO | O23: =SUM(D23:N23) -> 0
C24: ESPESSURA (cm) | D24: 0 | E24: 0 | F24: 0 | G24: 0 | H24: 0 | I24: 0 | J24: 0 | K24: 0 | L24: 0 | M24: 0 | N24: 0 | O24: =SUM(D24:N24) -> 0
C25: FATOR DE EMPOLAMENTO (%) | D25: 0 | E25: 0 | F25: 0 | G25: 0 | H25: 0 | I25: 0 | J25: 0 | K25: 0 | L25: 0 | M25: 0 | N25: 0 | O25: =SUM(D25:N25) -> 0
C26: LARGURA (m) | D26: 0 | E26: 0 | F26: 0 | G26: 0 | H26: 0 | I26: 0 | J26: 0 | K26: 0 | L26: 0 | M26: 0 | N26: 0 | O26: =SUM(D26:N26) -> 0
C27: VOLUME GEOMÉTRICO (m³) | D27: 0 | E27: 0 | F27: 0 | G27: 0 | H27: 0 | I27: 0 | J27: 0 | K27: 0 | L27: 0 | M27: 0 | N27: 0 | O27: =SUM(D27:N27) -> 0
C28: VOLUME EMPOLADO (m³) | D28: 0 | E28: 0 | F28: 0 | G28: 0 | H28: 0 | I28: 0 | J28: 0 | K28: 0 | L28: 0 | M28: 0 | N28: =N27*(1+N25) -> 0 | O28: =SUM(D28:N28) -> 0
B29: BASE ESTABILIZADA | C29: MATERIAL | D29: CASCALHO | E29: CASCALHO | F29: CASCALHO | G29: CASCALHO | H29: CASCALHO | I29: CASCALHO | J29: CASCALHO | K29: CASCALHO | L29: CASCALHO | M29: CASCALHO | N29: CASCALHO | O29: =SUM(D29:N29) -> 0
C30: ESPESSURA (cm) | D30: 15 | E30: 15 | F30: 15 | G30: 15 | H30: 15 | I30: 15 | J30: 15 | K30: 15 | L30: 15 | M30: 15 | N30: 15 | O30: =SUM(D30:N30) -> 165
C31: FATOR DE EMPOLAMENTO (%) | D31: 0.3 | E31: 0.3 | F31: 0.3 | G31: 0.3 | H31: 0.3 | I31: 0.3 | J31: 0.3 | K31: 0.3 | L31: 0.3 | M31: 0.3 | N31: 0.3 | O31: =SUM(D31:N31) -> 3.3
C32: LARGURA (m) | D32: =D12 -> 9.44 | E32: =E12 -> 9.44 | F32: =F12 -> 9.44 | G32: =G12 -> 9.44 | H32: =H12 -> 9.44 | I32: =I12 -> 9.44 | J32: =J12 -> 9.44 | K32: =K12 -> 9.44 | ... N32: =N12 -> 9.44 | O32: =SUM(D32:N32) -> 103.84
C33: VOLUME GEOMÉTRICO (m³) | D33: =D2*D32*D30/100+D11*D30/100 -> 811.01803 | E33: =E2*E32*E30/100+E11*E30/100 -> 837.78584 | F33: =F2*F32*F30/100+F11*F30/100 -> 217.87992 | G33: =G2*G32*G30/100+G11*G30/100 -> 217.95072 | H33: =H2*H32*H30/100+H11*H30/100 -> 219.16848 | I33: =I2*I32*I30/100+I11*I30/100 -> 218.10648 | J33: =J2*J32*J30/100+J11*J30/100 -> 218.2056 | K33: =K2*K32*K30/100+K11*K30/100 -> 218.46048 | ... M33: =M2*M32*M30/100+M11*M30/100 -> 200.13744 | N33: =N13*N30/100 -> 12.941565 | O33: =SUM(D33:N33) -> 3390.2283
C34: VOLUME EMPOLADO (m³) | D34: =D33*(1+D31) -> 1054.3234 | E34: =E33*(1+E31) -> 1089.1216 | F34: =F33*(1+F31) -> 283.2439 | G34: =G33*(1+G31) -> 283.33594 | H34: =H33*(1+H31) -> 284.91902 | I34: =I33*(1+I31) -> 283.53842 | J34: =J33*(1+J31) -> 283.66728 | K34: =K33*(1+K31) -> 283.99862 | ... N34: =N33*(1+N31) -> 16.824034 | O34: =SUM(D34:N34) -> 4407.2968
B35: TSD | C35: LARGURA (m) | D35: 0 | E35: 0 | F35: 0 | G35: 0 | H35: 0 | I35: 0 | J35: 0 | K35: 0 | L35: 0 | M35: 0 | N35: =N4 -> 8.4 | O35: =SUM(D35:N35) -> 8.4
C36: ÁREA (m²) | D36: 0 | E36: 0 | F36: 0 | G36: 0 | H36: 0 | I36: 0 | J36: 0 | K36: 0 | L36: 0 | M36: 0 | N36: 0 | O36: =SUM(D36:N36) -> 0
C37: RR-2C(T) | D37: =D36*0.0012 -> 0 | E37: =E36*0.0012 -> 0 | F37: =F36*0.0012 -> 0 | G37: =G36*0.0012 -> 0 | H37: =H36*0.0012 -> 0 | I37: =I36*0.0012 -> 0 | J37: =J36*0.0012 -> 0 | K37: =K36*0.0012 -> 0 | ... N37: =N36*0.0012 -> 0 | O37: =SUM(D37:N37) -> 0
C38: BRITA(transporte) / m³ | D38: =0.0225*D36 -> 0 | E38: =0.0225*E36 -> 0 | F38: =0.0225*F36 -> 0 | G38: =0.0225*G36 -> 0 | H38: =0.0225*H36 -> 0 | I38: =0.0225*I36 -> 0 | J38: =0.0225*J36 -> 0 | K38: =0.0225*K36 -> 0 | ... N38: =0.0225*N36 -> 0 | O38: =SUM(D38:N38) -> 0
B39: CAPA SELANTE | C39: LARGURA (m) | D39: =D35 -> 0 | E39: =E35 -> 0 | F39: =F35 -> 0 | G39: =G35 -> 0 | H39: =H35 -> 0 | I39: =I35 -> 0 | J39: =J35 -> 0 | K39: =K35 -> 0 | ... N39: =N35 -> 8.4 | O39: =SUM(D39:N39) -> 8.4
C40: ÁREA (m²) | D40: =D36 -> 0 | E40: =E36 -> 0 | F40: =F36 -> 0 | G40: =G36 -> 0 | H40: =H36 -> 0 | I40: =I36 -> 0 | J40: =J36 -> 0 | K40: =K36 -> 0 | ... N40: =N36 -> 0 | O40: =SUM(D40:N40) -> 0
...

Sheet DIMENS.PAV
B2: DIMENSIONAMENTO ESTRUTURAL DO PAVIMENTO
B5: Bases ou revestimentos Betuminosos | C5: 6 | D5: FURO | E5: CBR (%) | F5: CBRi - CBRmédio (%)
C6: 1.7 | D6: F-01 | E6: 28.8 | F6: =(E6-$E$16)^2 -> 1
C7: 1.4 | D7: F-02 | E7: 29.3 | F7: =(E7-$E$16)^2 -> 0.25
C8: 1.2 | D8: F-03 | E8: 31.3 | F8: =(E8-$E$16)^2 -> 2.25
B9: Camadas Granulares | C9: 0.77
C10: 0.88
C11: 1
B12: Bases de solo cimento | C12: 1.7
C13: 1.4
C14: 1.2
D16: CBRmédio | E16: =AVERAGE(E6:E11) -> 29.8 | F16: =SUM(F6:F15) -> 3.5
D17: Desvio Padrão ( S ) | E17: =_xlfn.STDEV.S(E6:E11) -> 1.3228757 | F17: n (número de ensaios): | G17: 3 | H17: unidades
D18: CBRp | E18: =ROUND(E16-((E17*G18/SQRT(G17-1))),2) -> 28.03 | F18: t0,90: | G18: 1.89 | H18: (n-1)
D19: N - Via Local: | E19: 500000 | F19: Hn: | G19: =77.67*$E$19^(0.0482)*E18^(-0.598) -> 19.918886 | H19: cm
F20: H20: | G20: =77.67*$E$19^(0.0482)*E18^(-0.598) -> 19.918886 | H20: cm
D21: Ht:
B24: VIA LOCAL | D24: CÁLCULO DE BASE: R x KR + B x KB ≥ H20
D25: R: | E25: 3 | F25: cm
D26: KR: | E26: 2
D27: B: | E27: =((E29)-(E25*E26))/E28 -> 13.918886 | F27: → Adotado | G27: 15
D28: KB: | E28: 1
D29: H20: | E29: =G20 -> 19.918886 | F29: cm
D31: CÁLCULO DE SUB BASE: R x KR + B x KB + SB x KSB ≥ Hn
D32: R: | E32: 3 | F32: cm
D33: KR: | E33: =E26 -> 2
D34: B: | E34: =E27 -> 13.918886 | F34: cm
D35: KB: | E35: =E28 -> 1
D36: SB: | E36: =(E38-(E32*E33)-(E34*E35))/E37 -> 0 | F36: → Adotado | G36: =ROUND(E36,0) -> 0
D37: KSB: | E37: 1
D38: Hn: | E38: =G19 -> 19.918886 | F38: cm

Sheet BACIA DE DETENÇÃO
A13: BACIA DE DETENÇÃO-BACIA 1
A14: TRECHO | B14: COMPR. | C14: AREA | E14: TC | F14: TR | G14: i | H14: VAZÃO | I14: DIAM. | J14: VOLUME DA CAIXA | R14: DIMENSIONAMENTO DO ORIFÍCIO | Y14: DIMENSIONAMENTO DO BUEIRO(RETANGULAR)-EXISTENTE | AI14: DIMENSIONAMENTO DO ORIFÍCIO-TUBO
C15: UNIT. | D15: ACUMUL. | J15: TUCCI | K15: EXPEDITO | L15: MÉDIA | Q15: VOLUME DA BACIA(m³) | R15: ORIFÍCIO
B16: m | C16: ha | D16: ha | E16: min | F16: ano | G16: l/s/ha | H16: l/s | I16: m | J16: m³ | K16: m³ | L16: m³ | M16: m³ | N16: m³ | O16: m³ | P16: m³ | Q16: m³ | Y16: COEF DE FORMA | Z16: LARGURA DO CANAL | AA16: ALTURA DO CANAL | AB16: ALTURA DA LÂMINA D´AGUA
R17: Cq | S17: b | T17: h | U17: g | V17: H | W17: Q | X17: Q média | Y17: C | Z17: B(m) | AA17: D(m) | AB17: Hw(m) | AC17: h2(m) | AD17: h1(m) | AE17: Q(m³/s) | AI17: C | AJ17: B(m) | AK17: D(m) | AL17: Hw(m) | AM17: h2(m) | AN17: h1(m) | AO17: Q(m³/s)
A18: vazão que chega | D18: 58 | E18: 30 | F18: 25 | G18: =1244.95*POWER(F18,0.17)/(POWER((E18+13),(0.801))) -> 105.77754 | H18: =0.1195*D18*POWER(G18,(4/3))*POWER(E18,(1/3))*D18^-0.15 -> 5859.3138 | J18: =(1-H20/H18)*E18*60*H18/1000 -> 8124.8856 | K18: =((H18-H20)*2.67*E18*60/2)/1000 -> 10846.722 | L18: =(J18+K18)/2 -> 9485.804 | M18: 1 | N18: =(H18/(1000*M18))*0.014/((POWER(I18,2.667)*POWER(W18,0.5))) -> #DIV/0! | O18: #DIV/0! | P18: #DIV/0! | R18: 0.6 | S18: 1.4 | T18: 0.5 | U18: 9.8 | V18: 1.3 | W18: =R18*S18*T18*((2*U18*(V18-R18*T18))^0.5)*1000 -> 1859.4193 | X18: =W18/2 -> 929.70963 | Y18: 0.6 | Z18: 0.6 | AA18: 0.6 | AB18: 1 | AC18: 1 | AD18: =AC18-AA18 -> 0.4 | AE18: =2/3*Y18*Z18*AA18*4.427*((AC18^1.5-AD18^1.5)/(AC18-AD18)) -> 0.79369146 | AF18: COMO ORIFÍCIO | AI18: 0.6 | AK18: 1.2 | AL18: 1.3 | AM18: 1.3 | AN18: =AM18-AK18 -> 0.1 | AO18: =2/3*AI18*3.14*AK18^2/4*4.427*((AM18^1.5-AN18^1.5)/(AM18-AN18)) -> 2.4197454
H19: =23*D18 -> 1334 | M19: 2 | N19: =(H19/(1000*M19))*0.014/((POWER(I19,2.667)*POWER(W19,0.5))) -> #DIV/0! | O19: #DIV/0! | P19: #DIV/0! | R19: 0.6 | S19: 1.4 | T19: 0.5 | U19: 9.8 | V19: 0.5 | W19: =R19*S19*T19*((2*U19*(V19-R19*T19))^0.5)*1000 -> 831.55757 | X19: =W19/2 -> 415.77879
H20: =X20 -> 1345.4884 | R20: MÉDIA | X20: =SUM(X18:X19) -> 1345.4884
W21: ,
D23: LÁZARO BARBOSA MACHADO
D24: ENG. CIVIL CREA 22039/D-MG VISTO MS 1634

Sheet CALÇADA E ACESSIBILIDADE 
B2: QUANTIFICAÇÃO DAS CALÇADAS
B3: Serviços | F3: Avenida Getúlio Vargas - LE | I3: TOTAL
B4: Recorte com disco (m) | I4: =+SUM(F4:H4) -> 0 | J4: m
B5: OCULTAR - Para Planilhar (LD + LE) / Recorte com disco (m) | F5: =+F4 -> 0
B6: Demolição da Calçada (m³) | I6: =+SUM(F6:H6) -> 0 | J6: m³
B7: OCULTAR - Para Planilhar (LD + LE) / Demolição da Calçada (m³) | F7: =+F6 -> 0
B8: Piso Rústico (m²) | F8: ÁREA | I8: TOTAL
B9: Cruzamento - 01 | F9: 11.77
B10: Cruzamento - 02 | F10: 10.25 | O10: VOLUME DE CONCRETO
B11: Cruzamento - 03 | F11: 11.14 | O11: ÁREA TOTAL A SER CONCRETADA: | S11: =I59 -> 665.28 | T11: m²
B12: Cruzamento - 04 | F12: 12.5 | O12: ESPESSURA DAS CALÇADAS: | S12: 0.07 | T12: m
B13: Cruzamento - 05 | F13: 12.17 | P13: VOLUME DE CONCRETO: | S13: =S12*S11 -> 46.5696 | T13: m³
B14: Cruzamento - 06 | F14: 10.25 | O14: ÁREA A SER CONCRETADA SOB PISO TÁTIL: | S14: =I63*0.2 -> 95.4 | T14: m²
B15: Cruzamento - 07 | F15: 11.08 | O15: ESP. DAS CALÇADAS SOB O PISO TÁTIL: | S15: 0.035 | T15: m
B16: Cruzamento - 08 | F16: 12.9 | O16: VOLUME DE CONCRETO SOB O PISO TÁTIL: | S16: =S15*S14 -> 3.339 | T16: m³
B17: Cruzamento - 09 | F17: 11.64 | O17: ÁREA A SER CONCRETADA SOB RAMPAS: | S17: =F61*6.9 -> 731.4 | T17: m²
B18: Cruzamento - 10 | F18: 10.25 | O18: ESP. DAS CALÇADAS SOB O RAMPAS: | S18: 0.07 | T18: m
B19: Cruzamento - 11 | F19: 9.88 | O19: VOLUME DE CONCRETO SOB O RAMPAS: | S19: =S18*S17 -> 51.198 | T19: m³
B20: Cruzamento - 12 | F20: 11.92 | O20: VOLUME TOTAL DE CONCRETO: | S20: =S13+S16+S19 -> 101.1066 | T20: m³
B21: Cruzamento - 13 | F21: 11.66
B22: Cruzamento - 14 | F22: 10.25
B23: Cruzamento - 15 | F23: 10.18
B24: Cruzamento - 16 | F24: 11.45
B25: Cruzamento - 17 | F25: 11.17
B26: Cruzamento - 18 | F26: 10.15
B27: Cruzamento - 19 | F27: 10.15
B28: Cruzamento - 20 | F28: 11.44
B29: Cruzamento - 21 | F29: 12.11
B30: Cruzamento - 22 | F30: 10.25
B31: Cruzamento - 23 | F31: 10.25
B32: Cruzamento - 24 | F32: 11.86
... B58: Cruzamento - 50 | F58: 28.52
B59: Total - Piso Rústico (m²) | F59: =SUM(F9:H58) -> 665.28 | I59: =F59 -> 665.28 | J59: m2
B60: OCULTAR - Para Planilhar (LD + LE) / Piso Rústico (m²) | F60: =+#REF!+#REF! -> #REF!
B61: Quantidades das Rampas (Unidades) - Tipo 01 | F61: 106 | I61: TOTAL
B62: Piso Podotátil - Tipo 01 (por Rampas) (m) | F62: 4.5
B63: Piso Podotátil (m) | F63: =(F61*F62) -> 477 | I63: =SUM(F63:H63) -> 477 | J63: m

Sheet MEIO FIO
B2: RUAS | F2: COMPRIMENTO (m)
B3: PEDRO CASSIMIRO DA MOTTA | F3: 243.6
B4: AMAPÁ | F4: 298.81
B5: ACRE | F5: 298.63
B6: RONDÔNIA | F6: 298.3
B7: PERNAMBUCO | F7: 298.13
B8: RIO DE JANEIRO | F8: 299.66
B9: MINAS GERAIS | F9: 297.87
B10: ESPIRITO SANTO | F10: 297.84
B11: MARINGÁ | F11: 820.07
B12: AV. NOVA ANDRADINA | F12: 1032.9
B13: ÁREAS | F13: 21.49

Sheet SINALIZAÇÃO
A1: PLANILHA DE QUANTIDADES DE SERVIÇOS DE SINALIZAÇÃO VIÁRIA | B1: VIAS | F1: Rua Maringá | G1: Av. Nova Andradina | H1: Rua Pedro Cassimiro Da Motta | I1: Rua Amapá | J1: Rua Acre | K1: Rua Rondônia | L1: Rua Pernambuco | M1: Rua Rio de Janeiro | N1: Rua Minas Gerais | O1: Rua Espírito Santo | P1: TOTAL
B2: SINALIZAÇÃO VERTICAL | C2: Área da placa (m²) | E2: Parada obrigatória (R-1) | F2: 2 | G2: 1 | H2: 0 | I2: 3 | J2: 3 | K2: 3 | L2: 3 | M2: 3 | N2: 3 | O2: 3 | P2: =SUM(F2:O3) -> 24 | R2: 1) PREENCHER SOMENTE CAMPOS EM LARANJA;
C3: 0.28
C4: Área da placa (m²) | E4: Veloc. máx. permitida 40km/h (R-19) | F4: 16 | G4: 16 | H4: 2 | I4: 2 | J4: 2 | K4: 2 | L4: 2 | M4: 2 | N4: 2 | O4: 2 | P4: =SUM(F4:O5) -> 48
C5: 0.28
C6: Área da placa (m²) | E6: Proibido virar à direita (R-4b) | F6: 0 | G6: 0 | H6: 0 | I6: 0 | J6: 0 | K6: 0 | L6: 0 | M6: 0 | N6: 0 | O6: 0 | P6: =SUM(F6:O7) -> 0
C7: 0.28
