Workbook
Name MO_2: OFFSET('[1]Lista MO'!$A$2,0,0,COUNTA('[1]Lista MO'!$A:$A)-1,5)
Name MO_Matriz: OFFSET('Lista MO'!$A$2,0,0,COUNTA('Lista MO'!$A:$A)-1,5)
Name Veiculo_Equip_Matriz: OFFSET('Lista veiculo+equip+mat'!$B$2,0,0,COUNTA('Lista veiculo+equip+mat'!$B:$B)-1,10)

Sheet Sumario
B5: Objeto: | C5: Contratação de Projeto Executivo de Engenharia para Implantação do Aeródromo no município de Nova Andradina
B6: Município: | C6: Nova Andradina/MS
B7: Local: | C7: Nova Andradina/MS
B8: Extensão: | C8: 1.7 | D8: km (aproximadamente) | G8: Largura: 23 m | I8: Processo: | J8: 79.010.182-2025
B9: Prazo: | C9: 365 | D9: dias | I9: Data-base: | J9: 45748
F11: Orçamento referencial - Sumário
F13: ITEM | G13: DESCRIÇÃO
F14: 1 | G14: Quadro de abrangência do projeto
F15: 2 | G15: Planilha sintética do orçamento
F16: 3 | G16: Cronograma de medições
F17: 4 | G17: Custo do projeto
F18: 5 | G18: Custo da mão de obra
F19: 6 | G19: Custo dos veículos
F20: 7 | G20: Custo de equipamentos e materiais
F21: 8 | G21: Custo de diárias e passagens
F22: 9 | G22: Custo de mobilização e desmobilização da mão de obra
F23: 10 | G23: Custo de mobilização e desmobilização de equipamentos rodantes
F24: 11 | G24: Custo das instalações físicas e diversos
F25: 12 | G25: Custo com serviços gráficos
... F35: 22 | G35: Sondagens

Sheet Qd abrang
B4: Objeto: | C4: =Sumario!C5 -> Contratação de Projeto Executivo de Engenharia para Implantação do Aeródromo no município de Nova Andradina
B5: Município: | C5: =Sumario!C6 -> Nova Andradina/MS
B6: Local: | C6: Nova Andradina/MS
B7: Extensão: | C7: =Sumario!C8 -> 1.7 | D7: =Sumario!D8 -> km (aproximadamente) | E7: Largura: | F7: 23 | G7: m | M7: Processo: | N7: =Sumario!J8 -> 79.010.182-2025
B8: Prazo: | C8: =Sumario!C9 -> 365 | D8: dias | M8: Data-base: | N8: =Sumario!J9 -> 45748
B10: Quadro demonstrativo da abrangência do projeto
B12: LOCAL | E12: LOTE | F12: km | H12: EXTENSÃO (km) | L12: MUNICÍPIO | M12: JURISDIÇÃO
F13: INICIAL | G13: FINAL | H13: TRECHO | I13: ACUM. | J13: LOTE | K13: %
B14: =C6 -> Nova Andradina/MS | E14: ÚNICO | F14: 0 | G14: =C7 -> 1.7 | H14: =G14-F14 -> 1.7 | I14: =H14 -> 1.7 | J14: =I14 -> 1.7 | K14: =J14/$I$15 -> 1 | L14: =C5 -> Nova Andradina/MS | M14: 11ª RR - Amambai
H15: TOTAL DE EXTENSÃO ACUMULADA: | I15: =I14 -> 1.7 | J15: km

Sheet Orcamento
B5: Objeto: | C5: =Sumario!C5 -> Contratação de Projeto Executivo de Engenharia para Implantação do Aeródromo no município de Nova Andradina
B6: Município: | C6: =Sumario!C6 -> Nova Andradina/MS
B7: Local: | C7: =Sumario!C7 -> Nova Andradina/MS
B8: Extensão: | C8: =Sumario!C8 -> 1.7 | D8: km (aproximadamente) Largura: 23 m | F8: Processo: | G8: =Sumario!J8 -> 79.010.182-2025
B9: Prazo: | C9: =Sumario!C9 -> 365 | D9: dias | F9: Data-base: | G9: =Sumario!J9 -> 45748
B10: BDI: | C10: =TRUNC(BDI!D17/100,4) -> 0.4511
B12: Planilha sintética do orçamento
B14: ITEM | C14: DESCRIÇÃO | E14: CUSTO DIRETO (R$) | F14: PREÇO DE VENDA (R$) | G14: %
E15: a | F15: b=a*(1+BDI)
B16: 1.0 | C16: FASE PRELIMINAR | E16: =E17 -> 52098.65 | F16: =F17 -> 75600.32 | G16: =F16/$F$61 -> 0.19287336
B17: 1.1 | C17: RELATÓRIO PRELIMINAR | E17: =SUM(E18:E24) -> 52098.65 | F17: =SUM(F18:F24) -> 75600.32 | G17: =F17/$F$61 -> 0.19287336
B18: 1.1.1 | C18: Coleta e análise dos dados existentes | E18: ='Custos proj'!Q14 -> 2282.88 | F18: =TRUNC(E18*(1+$C$10),2) -> 3312.68 | G18: =F18/$F$61 -> 0.0084513893
B19: 1.1.2 | C19: Componente Ambiental do Projeto - Fase Preliminar | E19: =TRUNC('Custos proj'!Q15*'Memo calc'!K189,2) -> 7985.33 | F19: =TRUNC(E19*(1+$C$10),2) -> 11587.51 | G19: =F19/$F$61 -> 0.029562336
B20: 1.1.3 | C20: Estudos Geológicos | E20: ='Custos proj'!Q16 -> 4185.32 | F20: =TRUNC(E20*(1+$C$10),2) -> 6073.31 | G20: =F20/$F$61 -> 0.015494375
B21: 1.1.4 | C21: Estudos Hidrológicos | E21: ='Custos proj'!Q17 -> 2235.25 | F21: =TRUNC(E21*(1+$C$10),2) -> 3243.57 | G21: =F21/$F$61 -> 0.0082750742
B22: 1.1.5 | C22: ='Custos proj'!C18:D18 -> Estudos de Traçado | E22: ='Custos proj'!Q18 -> 2339.51 | F22: =TRUNC(E22*(1+$C$10),2) -> 3394.86 | G22: =F22/$F$61 -> 0.0086610489
B23: 1.1.6 | C23: Estudos Topográficos | E23: ='Custos proj'!Q19 -> 12904.87 | F23: =TRUNC(E23*(1+$C$10),2) -> 18726.25 | G23: =F23/$F$61 -> 0.047774862
B24: 1.1.7 | C24: Avaliação estrutural do pavimento existente | E24: ='Custos proj'!Q21 -> 20165.49 | F24: =TRUNC(E24*(1+$C$10),2) -> 29262.14 | G24: =F24/$F$61 -> 0.074654279
B25: 2.0 | C25: FASE DE PROJETO BÁSICO | E25: =E26 -> 75883.95 | F25: =F26 -> 110115.15 | G25: =F25/$F$61 -> 0.28092843
B26: 2.1 | C26: RELATÓRIO BÁSICO | E26: =SUM(E27:E37) -> 75883.95 | F26: =SUM(F27:F37) -> 110115.15 | G26: =F26/$F$61 -> 0.28092843
B27: 2.1.1 | C27: Estudos Geotécnicos - Fase de Projeto Básico | E27: =TRUNC('Custos proj'!Q20*'Memo calc'!K1069,2) -> 21455.69 | F27: =TRUNC(E27*(1+$C$10),2) -> 31134.35 | G27: =F27/$F$61 -> 0.079430707
B28: 2.1.2 | C28: Componente Ambiental do Projeto - Fase de Projeto Básico | E28: =TRUNC('Custos proj'!Q15*'Memo calc'!K190,2) -> 3194.13 | F28: =TRUNC(E28*(1+$C$10),2) -> 4635 | G28: =F28/$F$61 -> 0.011824924
B29: 2.1.3 | C29: Projeto Geométrico Básico | E29: =TRUNC('Custos proj'!Q22*0.5,2) -> 5263.92 | F29: =TRUNC(E29*(1+$C$10),2) -> 7638.47 | G29: =F29/$F$61 -> 0.019487449
B30: 2.1.4 | C30: Projeto Básico de Terraplenagem | E30: =TRUNC('Custos proj'!Q23*0.6,2) -> 10227.07 | F30: =TRUNC(E30*(1+$C$10),2) -> 14840.5 | G30: =F30/$F$61 -> 0.037861443
B31: 2.1.5 | C31: Projeto Básico de Drenagem e Obras de Arte Correntes | E31: =TRUNC('Custos proj'!Q24*0.6,2) -> 10227.07 | F31: =TRUNC(E31*(1+$C$10),2) -> 14840.5 | G31: =F31/$F$61 -> 0.037861443
B32: 2.1.6 | C32: Projeto Básico de Pavimentação | E32: =TRUNC('Custos proj'!Q25*0.6,2) -> 6316.71 | F32: =TRUNC(E32*(1+$C$10),2) -> 9166.17 | G32: =F32/$F$61 -> 0.023384955
B33: 2.1.7 | C33: Projeto Básico de Sinalização | E33: =TRUNC('Custos proj'!Q26*0.6,2) -> 4912.99 | F33: =TRUNC(E33*(1+$C$10),2) -> 7129.23 | G33: =F33/$F$61 -> 0.018188264
B34: 2.1.8 | C34: Projeto Básico de Obras Complementares | E34: =TRUNC('Custos proj'!Q27*0.6,2) -> 5545.53 | F34: =TRUNC(E34*(1+$C$10),2) -> 8047.11 | G34: =F34/$F$61 -> 0.020529982
B35: 2.1.9 | C35: Projeto Básico do Canteiro de Obras e Acampamento do Pessoal | E35: =TRUNC('Custos proj'!Q28*0.6,2) -> 2807.41 | F35: =TRUNC(E35*(1+$C$10),2) -> 4073.83 | G35: =F35/$F$61 -> 0.010393254
B36: 2.1.10 | C36: Projeto Básico de Regulazição de Jazidas | E36: =TRUNC('Custos proj'!Q29*0.6,2) -> 1413.94 | F36: =TRUNC(E36*(1+$C$10),2) -> 2051.76 | G36: =F36/$F$61 -> 0.0052344997
B37: 2.1.11 | C37: Orçamento Básico da Obra | E37: =TRUNC('Custos proj'!Q30*0.6,2) -> 4519.49 | F37: =TRUNC(E37*(1+$C$10),2) -> 6558.23 | G37: =F37/$F$61 -> 0.016731515
B38: 3.0 | C38: FASE DE PROJETO EXECUTIVO | E38: =E39 -> 66105.96 | F38: =F39 -> 95926.31 | G38: =F38/$F$61 -> 0.24472952
B39: 3.1 | C39: RELATÓRIO FINAL DO PROJETO EXECUTIVO | E39: =SUM(E40:E51) -> 66105.96 | F39: =SUM(F40:F51) -> 95926.31 | G39: =F39/$F$61 -> 0.24472952
B40: 3.1.1 | C40: Estudos Geotécnicos - Fase de Projeto Executivo | E40: ='Custos proj'!Q20-E27 -> 15588.14 | F40: =TRUNC(E40*(1+$C$10),2) -> 22619.94 | G40: =F40/$F$61 -> 0.057708538
B41: 3.1.2 | C41: Componente Ambiental do Projeto - Fase de Projeto Executivo | E41: ='Custos proj'!Q15-E19-E28 -> 3194.15 | F41: =TRUNC(E41*(1+$C$10),2) -> 4635.03 | G41: =F41/$F$61 -> 0.011825001
B42: 3.1.3 | C42: Projeto Geométrico | E42: ='Custos proj'!Q22-E29 -> 5263.93 | F42: =TRUNC(E42*(1+$C$10),2) -> 7638.48 | G42: =F42/$F$61 -> 0.019487475
B43: 3.1.4 | C43: Projeto de Terraplenagem | E43: ='Custos proj'!Q23-E30 -> 6818.05 | F43: =TRUNC(E43*(1+$C$10),2) -> 9893.67 | G43: =F43/$F$61 -> 0.02524097
B44: 3.1.5 | C44: Projeto de Drenagem e Obras de Arte Correntes | E44: ='Custos proj'!Q24-E31 -> 6818.05 | F44: =TRUNC(E44*(1+$C$10),2) -> 9893.67 | G44: =F44/$F$61 -> 0.02524097
B45: 3.1.6 | C45: Projeto de Pavimentação | E45: ='Custos proj'!Q25-E32 -> 4211.14 | F45: =TRUNC(E45*(1+$C$10),2) -> 6110.78 | G45: =F45/$F$61 -> 0.01558997
B46: 3.1.7 | C46: Projeto de Sinalização | E46: ='Custos proj'!Q26-E33 -> 3275.33 | F46: =TRUNC(E46*(1+$C$10),2) -> 4752.83 | G46: =F46/$F$61 -> 0.012125535
...

Sheet Crono medicoes
B5: Objeto: | C5: ='Qd abrang'!C4 -> Contratação de Projeto Executivo de Engenharia para Implantação do Aeródromo no município de Nova Andradina
B6: Município: | C6: ='Qd abrang'!C5 -> Nova Andradina/MS
B7: Local: | C7: ='Qd abrang'!C6 -> Nova Andradina/MS
B8: Extensão: | C8: 1,70 km (aproximadamente) | D8: Largura: 23 m | Q8: Processo: | R8: ='Qd abrang'!N7 -> 79.010.182-2025
B9: Prazo: | C9: 365 dias | Q9: Data-base: | R9: ='Qd abrang'!N8 -> 45748
B11: Cronograma de medições
B13: ITEM | C13: DESCRIÇÃO | D13: VALORES | F13: MEDIÇÃO | G13: 1 | H13: 2 | I13: 3 | J13: 4 | K13: 5 | L13: 6 | M13: 7 | N13: 8 | O13: 9 | P13: 10 | Q13: 11 | R13: 12
D14: % | E14: R$ | F14: DIAS CONSECUTIVOS | G14: 30 | H14: 60 | I14: 90 | J14: 120 | K14: 150 | L14: 180 | M14: 210 | N14: 240 | O14: 270 | P14: 300 | Q14: 330 | R14: 365
B15: 1.0 | C15: FASE PRELIMINAR | D15: =D16 -> 0.19287336 | E15: =E16 -> 75600.32 | F15: =F16 -> 57 | G15: 0.5 | H15: 0.5 | S15: =SUM(G15:R15) -> 1
B16: 1.1 | C16: Relatório Preliminar | D16: =Orcamento!G17 -> 0.19287336 | E16: =Orcamento!F17 -> 75600.32 | F16: ='Crono fisico'!F14 -> 57 | G16: =TRUNC(E15*G15,2) -> 37800.16 | H16: =TRUNC(E16*H15,2) -> 37800.16 | S16: =SUM(G16:R16) -> 75600.32
B17: 2.0 | C17: FASE DE PROJETO BÁSICO | D17: =D18 -> 0.28092843 | E17: =E18 -> 110115.15 | F17: =F18 -> 116 | G17: 0.2 | I17: 0.3 | J17: 0.5 | S17: =SUM(G17:R17) -> 1
B18: 2.1 | C18: Relatório Básico | D18: =Orcamento!G26 -> 0.28092843 | E18: =Orcamento!F26 -> 110115.15 | F18: ='Crono fisico'!F29 -> 116 | G18: 22415.99 | H18: 0 | I18: =TRUNC($E$18*I17,2) -> 33034.54 | J18: 56039.97 | S18: =SUM(G18:R18) -> 111490.5
B19: 3.0 | C19: FASE DE PROJETO EXECUTIVO | D19: =SUM(D20:D20) -> 0.24472952 | E19: =SUM(E20:E20) -> 95926.31 | F19: =F20 -> 195 | K19: 0.5 | L19: 0.5 | S19: =SUM(G19:R19) -> 1
B20: 3.1 | C20: Relatório Final do Projeto Executivo | D20: =Orcamento!G39 -> 0.24472952 | E20: =Orcamento!F39 -> 95926.31 | F20: ='Crono fisico'!F48 -> 195 | K20: =TRUNC($E$20*K19,2) -> 47963.15 | L20: 48761.73 | S20: =SUM(G20:R20) -> 96724.88
B21: 4.0 | C21: LICENCIAMENTO AMBIENTAL (AERÓDROMO E/OU HELIPORTO CIVIL/MILITAR/PÚBLICO, COM PISTA ATÉ 1.800 METROS) | D21: =SUM(D22:D22) -> 0.11983225 | E21: =SUM(E22:E22) -> 46970.49 | F21: =F22 -> 202 | M21: 0.5 | R21: 0.5 | S21: =SUM(G21:R21) -> 1
B22: 4.1 | C22: DOCUMENTAÇÃO PARA O LICENCIAMENTO AMBIENTAL JUNTO AO IMASUL | D22: =Orcamento!G53 -> 0.11983225 | E22: =Orcamento!F53 -> 46970.49 | F22: ='Crono fisico'!F65 -> 202 | M22: =TRUNC($E$22*M21,2) -> 23485.24 | R22: 23734.65 | S22: =SUM(G22:R22) -> 47219.89
B23: 5.0 | C23: PLANO BÁSICO DE ZONA DE PROTEÇÃO AERÓDROMO - PBZPA | D23: =Orcamento!G59 -> 0.16163643 | E23: =Orcamento!F59 -> 63356.419 | F23: =F24 -> 365 | J23: 0.2 | K23: 0.3 | R23: 0.5 | S23: =SUM(G23:R23) -> 1
B24: 5.1 | C24: RELATÓRIO FINAL DO PBZPA | D24: =Orcamento!G58 -> 0.16163643 | E24: =Orcamento!F58 -> 63356.419 | F24: ='Crono fisico'!F70 -> 365 | J24: =TRUNC($E$24*J23,2) -> 12671.28 | K24: =TRUNC($E$24*K23,2) -> 19006.92 | R24: 32014.64 | S24: =SUM(G24:R24) -> 63692.84
C25: TOTAL | D25: =D15+D17+D19+D23 -> 0.88016775 | E25: =E15+E17+E19+E21+E23 -> 391968.69 | F25: =F23 -> 365 | G25: =G16+G18+G20+G22+G24 -> 60216.15 | H25: =H16+H18+H20+H22+H24 -> 37800.16 | I25: =I16+I18+I20+I22+I24 -> 33034.54 | J25: =J16+J18+J20+J22+J24 -> 68711.25 | K25: =K16+K18+K20+K22+K24 -> 66970.07 | L25: =L16+L18+L20+L22+L24 -> 48761.73 | M25: =M16+M18+M20+M22+M24 -> 23485.24 | N25: =N16+N18+N20+N22+N24 -> 0 | ... R25: =R16+R18+R20+R22+R24 -> 55749.29 | S25: =SUM(G25:R25) -> 394728.43

Sheet Custos proj
B4: Objeto: | C4: ='Qd abrang'!C4 -> Contratação de Projeto Executivo de Engenharia para Implantação do Aeródromo no município de Nova Andradina
B5: Município: | C5: ='Qd abrang'!C5 -> Nova Andradina/MS
B6: Local: | C6: ='Qd abrang'!C6 -> Nova Andradina/MS
B7: Extensão: | C7: ='Qd abrang'!C7 -> 1.7 | D7: km (aproximadamente) | E7: Largura: 23 m | N7: Processo: | O7: ='Qd abrang'!N7 -> 79.010.182-2025
B8: Prazo: | C8: ='Qd abrang'!C8 -> 365 | D8: dias | N8: Data-base: | O8: ='Qd abrang'!N8 -> 45748
B10: Custo do projeto
B12: ITEM | C12: DESCRIÇÃO | E12: MÃO DE OBRA (R$) | F12: VEÍCULOS (R$) | G12: EQUIP. E MATERIAIS (R$) | H12: DIÁRIAS E PASSAGENS (R$) | I12: MOB. E DESMOB. DE M.O. (R$) | J12: MOB. E DESMOB. DE EQUIP. RODANTES (R$) | K12: SUBTOTAL 1 | M12: % INST. FÍSICAS E DIVERSOS (R$) | N12: % COORD. DO PROJETO (R$) | O12: % ADM. DE CAMPO (R$) | P12: % SERVIÇOS GRÁFICOS (R$) | Q12: CUSTO TOTAL | S12: IMPRESSÃO DEFINITIVA (10%) | T12: SUBTOTAL 2
K13: R$ | L13: % | Q13: R$ | R13: % | S13: R$ | T13: R$ | U13: %
B14: 1 | C14: Coleta e análise dos dados existentes | E14: =MO!M19 -> 1044.29 | F14: 0 | G14: 0 | H14: 0 | I14: 0 | J14: 0 | K14: =SUM(E14:J14) -> 1044.29 | L14: =K14/$K$37 -> 0.0084502479 | M14: =M37-SUM(M15:M36) -> 450.17 | N14: =N37-SUM(N15:N36) -> 648.64 | O14: =O37-SUM(O15:O36) -> 139.78 | P14: 0 | Q14: =K14+SUM(M14:P14) -> 2282.88 | R14: =R37-(SUM(R15:R36)) -> 0.0084 | S14: 0 | T14: =Q14-S14 -> 2282.88 | U14: =TRUNC(T14/$Q$37, 4) -> 0.0084
B15: 2 | C15: Componente Ambiental do Projeto | E15: =MO!M22+MO!M25 -> 5291.77 | F15: =Veículos!I17 -> 212.45 | G15: 0 | H15: ='Diárias + passagens'!L20 -> 625 | I15: 0 | J15: ='Mob desmob equip rod'!Q18 -> 446.81 | K15: =SUM(E15:J15) -> 6576.03 | L15: =K15/$K$37 -> 0.05321231 | M15: =TRUNC(L15*$M$37,2) -> 2834.12 | N15: =TRUNC(L15*$N$37,2) -> 4083.96 | O15: =TRUNC(L15*$O$37, 2) -> 879.5 | P15: 0 | Q15: =K15+SUM(M15:P15) -> 14373.61 | R15: =ROUND(Q15/$Q$37, 4) -> 0.0532 | S15: 0 | T15: =Q15-S15 -> 14373.61 | U15: =ROUND(T15/$Q$37, 4) -> 0.0532
B16: 3 | C16: Estudos Geológicos | E16: =MO!M28 -> 1914.82 | F16: 0 | G16: 0 | H16: 0 | I16: 0 | J16: 0 | K16: =SUM(E16:J16) -> 1914.82 | L16: =K16/$K$37 -> 0.015494454 | M16: =TRUNC(L16*$M$37,2) -> 825.24 | N16: =TRUNC(L16*$N$37,2) -> 1189.17 | O16: =TRUNC(L16*$O$37, 2) -> 256.09 | P16: 0 | Q16: =K16+SUM(M16:P16) -> 4185.32 | R16: =ROUND(Q16/$Q$37, 4) -> 0.0155 | S16: 0 | T16: =Q16-S16 -> 4185.32 | U16: =ROUND(T16/$Q$37, 4) -> 0.0155
B17: 4 | C17: Estudos Hidrológicos | E17: =MO!M32 -> 1022.65 | F17: 0 | G17: 0 | H17: 0 | I17: 0 | J17: 0 | K17: =SUM(E17:J17) -> 1022.65 | L17: =K17/$K$37 -> 0.0082751401 | M17: =TRUNC(L17*$M$37,2) -> 440.73 | N17: =TRUNC(L17*$N$37,2) -> 635.1 | O17: =TRUNC(L17*$O$37, 2) -> 136.77 | P17: 0 | Q17: =K17+SUM(M17:P17) -> 2235.25 | R17: =ROUND(Q17/$Q$37, 4) -> 0.0083 | S17: 0 | T17: =Q17-S17 -> 2235.25 | U17: =ROUND(T17/$Q$37, 4) -> 0.0083
B18: 5 | C18: Estudos de Traçado | E18: =MO!M35 -> 1070.35 | F18: 0 | G18: 0 | H18: 0 | I18: 0 | J18: 0 | K18: =SUM(E18:J18) -> 1070.35 | L18: =K18/$K$37 -> 0.0086611217 | M18: =TRUNC(L18*$M$37,2) -> 461.29 | N18: =TRUNC(L18*$N$37,2) -> 664.72 | O18: =TRUNC(L18*$O$37, 2) -> 143.15 | P18: 0 | Q18: =K18+SUM(M18:P18) -> 2339.51 | R18: =ROUND(Q18/$Q$37, 4) -> 0.0087 | S18: 0 | T18: =Q18-S18 -> 2339.51 | U18: =ROUND(T18/$Q$37, 4) -> 0.0087
B19: 6 | C19: Estudos Topográficos | E19: =MO!M38+MO!M41 -> 3960.34 | F19: =Veículos!I19 -> 264 | G19: ='Equip + materiais'!J14 -> 171.67 | H19: ='Diárias + passagens'!L22 -> 625 | I19: 0 | J19: ='Mob desmob equip rod'!Q20 -> 883.06 | K19: =SUM(E19:J19) -> 5904.07 | L19: =K19/$K$37 -> 0.047774905 | M19: =TRUNC(L19*$M$37,2) -> 2544.52 | N19: =TRUNC(L19*$N$37,2) -> 3666.65 | O19: =TRUNC(L19*$O$37, 2) -> 789.63 | P19: 0 | Q19: =K19+SUM(M19:P19) -> 12904.87 | R19: =ROUND(Q19/$Q$37, 4) -> 0.0478 | S19: 0 | T19: =Q19-S19 -> 12904.87 | U19: =ROUND(T19/$Q$37, 4) -> 0.0478
B20: 7 | C20: Estudos Geotécnicos | E20: =MO!M45+MO!M48+MO!M51 -> 8088.85 | F20: =Veículos!I21 -> 528 | G20: ='Equip + materiais'!J16+'Equip + materiais'!J20 -> 6322.9 | H20: ='Diárias + passagens'!L24 -> 1125 | I20: 0 | J20: ='Mob desmob equip rod'!Q22 -> 883.06 | K20: =SUM(E20:J20) -> 16947.81 | L20: =K20/$K$37 -> 0.1371393 | M20: =TRUNC(L20*$M$37,2) -> 7304.13 | N20: =TRUNC(L20*$N$37,2) -> 10525.22 | O20: =TRUNC(L20*$O$37, 2) -> 2266.67 | P20: 0 | Q20: =K20+SUM(M20:P20) -> 37043.83 | R20: =ROUND(Q20/$Q$37, 4) -> 0.1371 | S20: 0 | T20: =Q20-S20 -> 37043.83 | U20: =ROUND(T20/$Q$37, 4) -> 0.1371
B21: 8 | C21: Avaliação estrutural do pavimento existente | E21: =MO!M54+MO!M57+MO!M60+MO!M63+MO!M67 -> 4822.97 | F21: =Veículos!I23+Veículos!I25+Veículos!I27 -> 527.19 | G21: ='Equip + materiais'!J22+'Equip + materiais'!J24+'Equip + materiais'!J26+'Equip + materiais'!J29 -> 773.36 | H21: ='Diárias + passagens'!L26+'Diárias + passagens'!L28+'Diárias + passagens'!L30+'Diárias + passagens'!L32 -> 625 | I21: ='Mob desmob MO'!O15 -> 844.12 | J21: ='Mob desmob equip rod'!Q24+'Mob desmob equip rod'!Q26+'Mob desmob equip rod'!Q28 -> 1633.21 | K21: =SUM(E21:J21) -> 9225.85 | L21: =K21/$K$37 -> 0.074654281 | M21: =TRUNC(L21*$M$37,2) -> 3976.14 | N21: =TRUNC(L21*$N$37,2) -> 5729.6 | O21: =TRUNC(L21*$O$37, 2) -> 1233.9 | Q21: =K21+SUM(M21:P21) -> 20165.49 | R21: =ROUND(Q21/$Q$37, 4) -> 0.0747
B22: 9 | C22: Projeto Geométrico | E22: =MO!M73 -> 4816.57 | F22: 0 | G22: 0 | H22: 0 | I22: 0 | J22: 0 | K22: =SUM(E22:J22) -> 4816.57 | L22: =K22/$K$37 -> 0.038975007 | M22: =TRUNC(L22*$M$37,2) -> 2075.83 | N22: =TRUNC(L22*$N$37,2) -> 2991.27 | O22: =TRUNC(L22*$O$37, 2) -> 644.18 | P22: 0 | Q22: =K22+SUM(M22:P22) -> 10527.85 | R22: =ROUND(Q22/$Q$37, 4) -> 0.039 | S22: 0 | T22: =Q22-S22 -> 10527.85 | U22: =ROUND(T22/$Q$37, 4) -> 0.039
B23: 10 | C23: Projeto de Terraplenagem | E23: =MO!M76 -> 7798.26 | F23: 0 | G23: 0 | H23: 0 | I23: 0 | J23: 0 | K23: =SUM(E23:J23) -> 7798.26 | L23: =K23/$K$37 -> 0.063102424 | M23: =TRUNC(L23*$M$37,2) -> 3360.88 | N23: =TRUNC(L23*$N$37,2) -> 4843.01 | O23: =TRUNC(L23*$O$37, 2) -> 1042.97 | P23: 0 | Q23: =K23+SUM(M23:P23) -> 17045.12 | R23: =ROUND(Q23/$Q$37, 4) -> 0.0631 | S23: 0 | T23: =Q23-S23 -> 17045.12 | U23: =ROUND(T23/$Q$37, 4) -> 0.0631
B24: 11 | C24: Projeto de Drenagem e Obras de Arte Correntes | E24: =MO!M79 -> 7798.26 | F24: 0 | G24: 0 | H24: 0 | I24: 0 | J24: 0 | K24: =SUM(E24:J24) -> 7798.26 | L24: =K24/$K$37 -> 0.063102424 | M24: =TRUNC(L24*$M$37,2) -> 3360.88 | N24: =TRUNC(L24*$N$37,2) -> 4843.01 | O24: =TRUNC(L24*$O$37, 2) -> 1042.97 | P24: 0 | Q24: =K24+SUM(M24:P24) -> 17045.12 | R24: =ROUND(Q24/$Q$37, 4) -> 0.0631 | S24: 0 | T24: =Q24-S24 -> 17045.12 | U24: =ROUND(T24/$Q$37, 4) -> 0.0631
B25: 12 | C25: Projeto de Pavimentação | E25: =MO!M82 -> 4816.57 | F25: 0 | G25: 0 | H25: 0 | I25: 0 | J25: 0 | K25: =SUM(E25:J25) -> 4816.57 | L25: =K25/$K$37 -> 0.038975007 | M25: =TRUNC(L25*$M$37,2) -> 2075.83 | N25: =TRUNC(L25*$N$37,2) -> 2991.27 | O25: =TRUNC(L25*$O$37, 2) -> 644.18 | P25: 0 | Q25: =K25+SUM(M25:P25) -> 10527.85 | R25: =ROUND(Q25/$Q$37, 4) -> 0.039 | S25: 0 | T25: =Q25-S25 -> 10527.85 | U25: =ROUND(T25/$Q$37, 4) -> 0.039
B26: 13 | C26: Projeto de Sinalização | E26: =MO!M85 -> 3746.22 | F26: 0 | G26: 0 | H26: 0 | I26: 0 | J26: 0 | K26: =SUM(E26:J26) -> 3746.22 | L26: =K26/$K$37 -> 0.030313886 | M26: =TRUNC(L26*$M$37,2) -> 1614.53 | N26: =TRUNC(L26*$N$37,2) -> 2326.54 | O26: =TRUNC(L26*$O$37, 2) -> 501.03 | P26: 0 | Q26: =K26+SUM(M26:P26) -> 8188.32 | R26: =ROUND(Q26/$Q$37, 4) -> 0.0303 | S26: 0 | T26: =Q26-S26 -> 8188.32 | U26: =ROUND(T26/$Q$37, 4) -> 0.0303
B27: 14 | C27: Projeto de Obras Complementares | E27: =MO!M88 -> 4228.54 | F27: 0 | G27: 0 | H27: 0 | I27: 0 | J27: 0 | K27: =SUM(E27:J27) -> 4228.54 | L27: =K27/$K$37 -> 0.034216751 | M27: =TRUNC(L27*$M$37,2) -> 1822.4 | N27: =TRUNC(L27*$N$37,2) -> 2626.08 | O27: =TRUNC(L27*$O$37, 2) -> 565.54 | P27: 0 | Q27: =K27+SUM(M27:P27) -> 9242.56 | R27: =ROUND(Q27/$Q$37, 4) -> 0.0342 | S27: 0 | T27: =Q27-S27 -> 9242.56 | U27: =ROUND(T27/$Q$37, 4) -> 0.0342
B28: 15 | C28: Projeto de Canteiro de Obras e Acampamento de Pessoal | E28: =MO!M91 -> 2140.69 | F28: 0 | G28: 0 | H28: 0 | I28: 0 | J28: 0 | K28: =SUM(E28:J28) -> 2140.69 | L28: =K28/$K$37 -> 0.017322163 | M28: =TRUNC(L28*$M$37,2) -> 922.59 | N28: =TRUNC(L28*$N$37,2) -> 1329.44 | O28: =TRUNC(L28*$O$37, 2) -> 286.3 | P28: 0 | Q28: =K28+SUM(M28:P28) -> 4679.02 | R28: =ROUND(Q28/$Q$37, 4) -> 0.0173 | S28: 0 | T28: =Q28-S28 -> 4679.02 | U28: =ROUND(T28/$Q$37, 4) -> 0.0173
B29: 16 | C29: Projeto de Regularização de Jazidas | E29: =MO!M94 -> 1078.16 | F29: 0 | G29: 0 | H29: 0 | I29: 0 | J29: 0 | K29: =SUM(E29:J29) -> 1078.16 | L29: =K29/$K$37 -> 0.0087243192 | M29: =TRUNC(L29*$M$37,2) -> 464.66 | N29: =TRUNC(L29*$N$37,2) -> 669.57 | O29: =TRUNC(L29*$O$37, 2) -> 144.19 | P29: 0 | Q29: =K29+SUM(M29:P29) -> 2356.58 | R29: =ROUND(Q29/$Q$37, 4) -> 0.0087 | S29: 0 | T29: =Q29-S29 -> 2356.58 | U29: =ROUND(T29/$Q$37, 4) -> 0.0087
B30: 17 | C30: Orçamento da Obra | E30: =MO!M97 -> 3446.17 | F30: 0 | G30: 0 | H30: 0 | I30: 0 | J30: 0 | K30: =SUM(E30:J30) -> 3446.17 | L30: =K30/$K$37 -> 0.027885923 | M30: =TRUNC(L30*$M$37,2) -> 1485.22 | N30: =TRUNC(L30*$N$37,2) -> 2140.2 | O30: =TRUNC(L30*$O$37, 2) -> 460.9 | P30: 0 | Q30: =K30+SUM(M30:P30) -> 7532.49 | R30: =ROUND(Q30/$Q$37, 4) -> 0.0279 | S30: 0 | T30: =Q30-S30 -> 7532.49 | U30: =ROUND(T30/$Q$37, 4) -> 0.0279
B31: 18 | C31: Plano de Execução da Obra | E31: =MO!M100 -> 5221.48 | F31: 0 | G31: 0 | H31: 0 | I31: 0 | J31: 0 | K31: =SUM(E31:J31) -> 5221.48 | L31: =K31/$K$37 -> 0.042251482 | M31: =TRUNC(L31*$M$37,2) -> 2250.34 | N31: =TRUNC(L31*$N$37,2) -> 3242.73 | O31: =TRUNC(L31*$O$37, 2) -> 698.34 | P31: 0 | Q31: =K31+SUM(M31:P31) -> 11412.89 | R31: =ROUND(Q31/$Q$37, 4) -> 0.0423 | S31: 0 | T31: =Q31-S31 -> 11412.89 | U31: =ROUND(T31/$Q$37, 4) -> 0.0423
B32: 19 | C32: Proposta Técnica Ambiental (PTA) | E32: =MO!M103 -> 3638.99 | F32: 0 | G32: 0 | H32: 0 | I32: 0 | J32: 0 | K32: =SUM(E32:J32) -> 3638.99 | L32: =K32/$K$37 -> 0.029446196 | M32: =TRUNC(L32*$M$37,2) -> 1568.32 | N32: =TRUNC(L32*$N$37,2) -> 2259.95 | O32: =TRUNC(L32*$O$37, 2) -> 486.69 | Q32: =K32+SUM(M32:P32) -> 7953.95 | R32: =ROUND(Q32/$Q$37, 4) -> 0.0294
B33: 20 | C33: Estudo de Sondagem do Solo (ESS) | E33: =MO!M108 -> 1027.83 | F33: 0 | G33: 0 | H33: 0 | I33: 0 | J33: 0 | K33: =SUM(E33:J33) -> 1027.83 | L33: =K33/$K$37 -> 0.0083170559 | M33: =TRUNC(L33*$M$37,2) -> 442.97 | N33: =TRUNC(L33*$N$37,2) -> 638.32 | O33: =TRUNC(L33*$O$37, 2) -> 137.46 | Q33: =K33+SUM(M33:P33) -> 2246.58 | R33: =ROUND(Q33/$Q$37, 4) -> 0.0083
B34: 21 | C34: Plano Básico Ambiental (PBA) | E34: =MO!M111 -> 9256.9 | F34: 0 | G34: 0 | H34: 0 | I34: 0 | J34: 0 | K34: =SUM(E34:J34) -> 9256.9 | L34: =K34/$K$37 -> 0.074905534 | M34: =TRUNC(L34*$M$37,2) -> 3989.52 | N34: =TRUNC(L34*$N$37,2) -> 5748.88 | O34: =TRUNC(L34*$O$37, 2) -> 1238.05 | Q34: =K34+SUM(M34:P34) -> 20233.35 | R34: =ROUND(Q34/$Q$37, 4) -> 0.0749
B35: 22 | C35: Formulário de Atividades de Infraestrutura (IMASUL) | E35: =MO!M116 -> 885.29 | F35: 0 | G35: 0 | H35: 0 | I35: 0 | J35: 0 | K35: =SUM(E35:J35) -> 885.29 | L35: =K35/$K$37 -> 0.0071636422 | M35: =TRUNC(L35*$M$37,2) -> 381.54 | N35: =TRUNC(L35*$N$37,2) -> 549.79 | O35: =TRUNC(L35*$O$37, 2) -> 118.4 | Q35: =K35+SUM(M35:P35) -> 1935.02 | R35: =ROUND(Q35/$Q$37, 4) -> 0.0072
B36: 23 | C36: Plano Básico de Zona de Proteção de Aeródromo - PBZPA | E36: =MO!M118 -> 19975.19 | F36: 0 | G36: 0 | H36: 0 | I36: 0 | J36: 0 | K36: =SUM(E36:J36) -> 19975.19 | L36: =K36/$K$37 -> 0.16163643 | M36: =TRUNC(L36*$M$37,2) -> 8608.87 | N36: =TRUNC(L36*$N$37,2) -> 12405.34 | O36: =TRUNC(L36*$O$37, 2) -> 2671.56 | Q36: =K36+SUM(M36:P36) -> 43660.96 | R36: =ROUND(Q36/$Q$37, 4) -> 0.1616
D37: TOTAL | E37: =SUM(E14:E36) -> 107091.16 | F37: =SUM(F14:F36) -> 1531.64 | G37: =SUM(G14:G36) -> 7267.93 | H37: =SUM(H14:H36) -> 3000 | I37: =SUM(I14:I36) -> 844.12 | J37: =SUM(J14:J36) -> 3846.14 | K37: =SUM(K14:K36) -> 123580.99 | L37: =SUM(L14:L36) -> 1 | M37: ='Inst + diversos'!M30 -> 53260.72 | N37: =MO!M14+'Diárias + passagens'!L15 -> 76748.46 | O37: =MO!M16+Veículos!I15+'Diárias + passagens'!L17+'Mob desmob equip rod'!Q16 -> 16528.25 | P37: 0 | Q37: =SUM(Q14:Q36) -> 270118.42 | R37: 1 | S37: =ROUND(Q37*0,2) -> 0 | T37: =SUM(T14:T31) -> 173923.07 | U37: =SUM(U14:U31) -> 0.6439

Sheet MO
B4: Objeto: | C4: ='Qd abrang'!C4 -> Contratação de Projeto Executivo de Engenharia para Implantação do Aeródromo no município de Nova Andradina
B5: Município: | C5: ='Qd abrang'!C5 -> Nova Andradina/MS
B6: Local: | C6: ='Qd abrang'!C6 -> Nova Andradina/MS
B7: Extensão: | C7: ='Qd abrang'!C7 -> 1.7 | D7: km (aproximadamente) | E7: Largura: 23 m | L7: Processo: | M7: ='Qd abrang'!N7 -> 79.010.182-2025
B8: Prazo: | C8: ='Qd abrang'!C8 -> 365 | D8: dias | L8: Data-base: | M8: ='Qd abrang'!N8 -> 45748
B10: Custo da mão de obra
B12: CÓDIGO | C12: DESCRIÇÃO | E12: TIPO DE M.O. | F12: QUANT. EQUIPE | G12: PESSOAS/ EQUIPE | H12: HORAS/ DIA | I12: DIAS TRABALHADOS | J12: TOTAL DE HORAS | K12: PESSOAS/ MÊS | L12: CUSTO MENSAL (R$) | M12: TOTAL (R$)
F13: b | G13: c | H13: d | I13: e | J13: f=b*c*d*e | K13: g=f/220 | L13: h | M13: i=g*h
B14: COORDENAÇÃO DO PROJETO | M14: =M15 -> 75873.46
B15: ='Memo calc'!B1635 -> P8061 | C15: =IFERROR(VLOOKUP(B15,MO_Matriz,2,0),"") -> Engenheiro coordenador | D15: =IFERROR(VLOOKUP(C15,MO_Matriz,2,0),"") | E15: =IFERROR(VLOOKUP(B15,MO_Matriz,3,0),"") -> S | F15: ='Memo calc'!H1635 -> 1 | G15: ='Memo calc'!I1635 -> 1 | H15: ='Memo calc'!K1635 -> 3.6666667 | I15: ='Memo calc'!M1635 -> 129.42857 | J15: =F15*G15*H15*I15 -> 474.57143 | K15: =J15/220 -> 2.1571429 | L15: =IFERROR(VLOOKUP(B15,MO_Matriz,5,0),"") -> 35173.13 | M15: =TRUNC(K15*L15,2) -> 75873.46
B16: ADMINISTRAÇÃO DE CAMPO | M16: =SUM(M17:M18) -> 9849.75
B17: ='Memo calc'!B1081 -> P8061 | C17: =IFERROR(VLOOKUP(B17,MO_Matriz,2,0),"") -> Engenheiro coordenador | D17: =IFERROR(VLOOKUP(C17,MO_Matriz,2,0),"") | E17: =IFERROR(VLOOKUP(B17,MO_Matriz,3,0),"") -> S | F17: ='Memo calc'!H1081 -> 1 | G17: ='Memo calc'!I1081 -> 1 | H17: ='Memo calc'!K1081 -> 7.3333333 | I17: ='Memo calc'!M1081 -> 7 | J17: =F17*G17*H17*I17 -> 51.333333 | K17: =J17/220 -> 0.23333333 | L17: =IFERROR(VLOOKUP(B17,MO_Matriz,5,0),"") -> 35173.13 | M17: =TRUNC(K17*L17,2) -> 8207.06
B18: ='Memo calc'!B1082 -> P8147 | C18: =IFERROR(VLOOKUP(B18,MO_Matriz,2,0),"") -> Técnico de obras | D18: =IFERROR(VLOOKUP(C18,MO_Matriz,2,0),"") | E18: =IFERROR(VLOOKUP(B18,MO_Matriz,3,0),"") -> T | F18: ='Memo calc'!H1082 -> 1 | G18: ='Memo calc'!I1082 -> 1 | H18: ='Memo calc'!K1082 -> 7.3333333 | I18: ='Memo calc'!M1082 -> 7 | J18: =F18*G18*H18*I18 -> 51.333333 | K18: =J18/220 -> 0.23333333 | L18: =IFERROR(VLOOKUP(B18,MO_Matriz,5,0),"") -> 7040.14 | M18: =TRUNC(K18*L18,2) -> 1642.69
B19: COLETA E ANÁLISE DE DADOS EXISTENTES | M19: =SUM(M20:M21) -> 1044.29
B20: ='Memo calc'!B29 -> P8065 | C20: =IFERROR(VLOOKUP(B20,MO_Matriz,2,0),"") -> Engenheiro de projetos júnior | D20: =IFERROR(VLOOKUP(C20,MO_Matriz,2,0),"") | E20: =IFERROR(VLOOKUP(B20,MO_Matriz,3,0),"") -> S | F20: ='Memo calc'!I29 -> 1 | G20: ='Memo calc'!K29 -> 1 | H20: ='Memo calc'!N29 -> 7.3333333 | I20: ='Memo calc'!Q29 -> 1 | J20: =F20*G20*H20*I20 -> 7.3333333 | K20: =J20/220 -> 0.033333333 | L20: =IFERROR(VLOOKUP(B20,MO_Matriz,5,0),"") -> 24288.81 | M20: =TRUNC(K20*L20,2) -> 809.62
B21: ='Memo calc'!B30 -> P8147 | C21: =IFERROR(VLOOKUP(B21,MO_Matriz,2,0),"") -> Técnico de obras | D21: =IFERROR(VLOOKUP(C21,MO_Matriz,2,0),"") | E21: =IFERROR(VLOOKUP(B21,MO_Matriz,3,0),"") -> T | F21: ='Memo calc'!I30 -> 1 | G21: ='Memo calc'!K30 -> 1 | H21: ='Memo calc'!N30 -> 7.3333333 | I21: ='Memo calc'!Q30 -> 1 | J21: =F21*G21*H21*I21 -> 7.3333333 | K21: =J21/220 -> 0.033333333 | L21: =IFERROR(VLOOKUP(B21,MO_Matriz,5,0),"") -> 7040.14 | M21: =TRUNC(K21*L21,2) -> 234.67
B22: COMPONENTE AMBIENTAL DO PROJETO: INVESTIGAÇÃO DE CAMPO | M22: =SUM(M23:M24) -> 3083.52
B23: ='Memo calc'!B80 -> P8058 | C23: =IFERROR(VLOOKUP(B23,MO_Matriz,2,0),"") -> Engenheiro ambiental pleno | D23: =IFERROR(VLOOKUP(C23,MO_Matriz,2,0),"") | E23: =IFERROR(VLOOKUP(B23,MO_Matriz,3,0),"") -> S | F23: ='Memo calc'!H80 -> 1 | G23: ='Memo calc'!J80 -> 1 | H23: ='Memo calc'!M80 -> 7.3333333 | I23: ='Memo calc'!O80 -> 3 | J23: =F23*G23*H23*I23 -> 22 | K23: =J23/220 -> 0.1 | L23: =IFERROR(VLOOKUP(B23,MO_Matriz,5,0),"") -> 26558.86 | M23: =TRUNC(K23*L23,2) -> 2655.88
B24: ='Memo calc'!B81 -> P8025 | C24: =IFERROR(VLOOKUP(B24,MO_Matriz,2,0),"") -> Auxiliar | D24: =IFERROR(VLOOKUP(C24,MO_Matriz,2,0),"") | E24: =IFERROR(VLOOKUP(B24,MO_Matriz,3,0),"") -> A | F24: ='Memo calc'!H81 -> 1 | G24: ='Memo calc'!J81 -> 1 | H24: ='Memo calc'!M81 -> 7.3333333 | I24: ='Memo calc'!O81 -> 3 | J24: =F24*G24*H24*I24 -> 22 | K24: =J24/220 -> 0.1 | L24: =IFERROR(VLOOKUP(B24,MO_Matriz,5,0),"") -> 4276.41 | M24: =TRUNC(K24*L24,2) -> 427.64
B25: COMPONENTE AMBIENTAL DO PROJETO: TRABALHO DE ESCRITÓRIO (ANÁLISES E FORMULAÇÕES) | M25: =SUM(M26:M27) -> 2208.25
B26: ='Memo calc'!B159 -> P8058 | C26: =IFERROR(VLOOKUP(B26,MO_Matriz,2,0),"") -> Engenheiro ambiental pleno | D26: =IFERROR(VLOOKUP(C26,MO_Matriz,2,0),"") | E26: =IFERROR(VLOOKUP(B26,MO_Matriz,3,0),"") -> S | F26: ='Memo calc'!H159 -> 1 | G26: ='Memo calc'!J159 -> 1 | H26: ='Memo calc'!L159 -> 7.3333333 | I26: ='Memo calc'!O159 -> 2 | J26: =F26*G26*H26*I26 -> 14.666667 | K26: =J26/220 -> 0.066666667 | L26: =IFERROR(VLOOKUP(B26,MO_Matriz,5,0),"") -> 26558.86 | M26: =TRUNC(K26*L26,2) -> 1770.59
B27: ='Memo calc'!B160 -> P8143 | C27: =IFERROR(VLOOKUP(B27,MO_Matriz,2,0),"") -> Técnico ambiental | D27: =IFERROR(VLOOKUP(C27,MO_Matriz,2,0),"") | E27: =IFERROR(VLOOKUP(B27,MO_Matriz,3,0),"") -> T | F27: ='Memo calc'!H160 -> 1 | G27: ='Memo calc'!J160 -> 1 | H27: ='Memo calc'!L160 -> 7.3333333 | I27: ='Memo calc'!O160 -> 2 | J27: =F27*G27*H27*I27 -> 14.666667 | K27: =J27/220 -> 0.066666667 | L27: =IFERROR(VLOOKUP(B27,MO_Matriz,5,0),"") -> 6565.04 | M27: =TRUNC(K27*L27,2) -> 437.66
B28: ESTUDOS GEOLÓGICOS | M28: =SUM(M29:M31) -> 1914.82
B29: ='Memo calc'!B201 -> P8058 | C29: =IFERROR(VLOOKUP(B29,MO_Matriz,2,0),"") -> Engenheiro ambiental pleno | D29: =IFERROR(VLOOKUP(C29,MO_Matriz,2,0),"") | E29: =IFERROR(VLOOKUP(B29,MO_Matriz,3,0),"") -> S | F29: ='Memo calc'!H201 -> 1 | G29: ='Memo calc'!J201 -> 1 | H29: ='Memo calc'!M201 -> 7.3333333 | I29: ='Memo calc'!P201 -> 1 | J29: =F29*G29*H29*I29 -> 7.3333333 | K29: =J29/220 -> 0.033333333 | L29: =IFERROR(VLOOKUP(B29,MO_Matriz,5,0),"") -> 26558.86 | M29: =TRUNC(K29*L29,2) -> 885.29
B30: ='Memo calc'!B202 -> P8080 | C30: =IFERROR(VLOOKUP(B30,MO_Matriz,2,0),"") -> Geólogo júnior | D30: =IFERROR(VLOOKUP(C30,MO_Matriz,2,0),"") | E30: =IFERROR(VLOOKUP(B30,MO_Matriz,3,0),"") -> S | F30: ='Memo calc'!H202 -> 1 | G30: ='Memo calc'!J202 -> 1 | H30: ='Memo calc'!M202 -> 7.3333333 | I30: ='Memo calc'!P202 -> 1 | J30: =F30*G30*H30*I30 -> 7.3333333 | K30: =J30/220 -> 0.033333333 | L30: =IFERROR(VLOOKUP(B30,MO_Matriz,5,0),"") -> 24321.09 | M30: =TRUNC(K30*L30,2) -> 810.7
B31: ='Memo calc'!B203 -> P8143 | C31: =IFERROR(VLOOKUP(B31,MO_Matriz,2,0),"") -> Técnico ambiental | D31: =IFERROR(VLOOKUP(C31,MO_Matriz,2,0),"") | E31: =IFERROR(VLOOKUP(B31,MO_Matriz,3,0),"") -> T | F31: ='Memo calc'!H203 -> 1 | G31: ='Memo calc'!J203 -> 1 | H31: ='Memo calc'!M203 -> 7.3333333 | I31: ='Memo calc'!P203 -> 1 | J31: =F31*G31*H31*I31 -> 7.3333333 | K31: =J31/220 -> 0.033333333 | L31: =IFERROR(VLOOKUP(B31,MO_Matriz,5,0),"") -> 6565.04 | M31: =TRUNC(K31*L31,2) -> 218.83
B32: ESTUDOS HIDROLÓGICOS | M32: =SUM(M33:M34) -> 1022.65
B33: ='Memo calc'!B245 -> P8065 | C33: =IFERROR(VLOOKUP(B33,MO_Matriz,2,0),"") -> Engenheiro de projetos júnior | D33: =IFERROR(VLOOKUP(C33,MO_Matriz,2,0),"") | E33: =IFERROR(VLOOKUP(B33,MO_Matriz,3,0),"") -> S | F33: ='Memo calc'!H245 -> 1 | G33: ='Memo calc'!J245 -> 1 | H33: ='Memo calc'!M245 -> 7.3333333 | I33: ='Memo calc'!P245 -> 1 | J33: =F33*G33*H33*I33 -> 7.3333333 | K33: =J33/220 -> 0.033333333 | L33: =IFERROR(VLOOKUP(B33,MO_Matriz,5,0),"") -> 24288.81 | M33: =ROUND(K33*L33,2) -> 809.63
B34: ='Memo calc'!B246 -> P8155 | C34: =IFERROR(VLOOKUP(B34,MO_Matriz,2,0),"") -> Técnico em geoprocessamento | D34: =IFERROR(VLOOKUP(C34,MO_Matriz,2,0),"") | E34: =IFERROR(VLOOKUP(B34,MO_Matriz,3,0),"") -> T | F34: ='Memo calc'!H246 -> 1 | G34: ='Memo calc'!J246 -> 1 | H34: ='Memo calc'!M246 -> 7.3333333 | I34: ='Memo calc'!P246 -> 1 | J34: =F34*G34*H34*I34 -> 7.3333333 | K34: =J34/220 -> 0.033333333 | L34: =IFERROR(VLOOKUP(B34,MO_Matriz,5,0),"") -> 6390.65 | M34: =ROUND(K34*L34,2) -> 213.02
B35: ESTUDOS DE TRAÇADO | M35: =SUM(M36:M37) -> 1070.35
B36: ='Memo calc'!B287 -> P8065 | C36: =IFERROR(VLOOKUP(B36,MO_Matriz,2,0),"") -> Engenheiro de projetos júnior | D36: =IFERROR(VLOOKUP(C36,MO_Matriz,2,0),"") | E36: =IFERROR(VLOOKUP(B36,MO_Matriz,3,0),"") -> S | F36: ='Memo calc'!H287 -> 1 | G36: ='Memo calc'!J287 -> 1 | H36: ='Memo calc'!M287 -> 7.3333333 | I36: ='Memo calc'!P287 -> 1 | J36: =F36*G36*H36*I36 -> 7.3333333 | K36: =J36/220 -> 0.033333333 | L36: =IFERROR(VLOOKUP(B36,MO_Matriz,5,0),"") -> 24288.81 | M36: =ROUND(K36*L36,2) -> 809.63
B37: ='Memo calc'!B288 -> P9848 | C37: =IFERROR(VLOOKUP(B37,MO_Matriz,2,0),"") -> Desenhista | D37: =IFERROR(VLOOKUP(C37,MO_Matriz,2,0),"") | E37: =IFERROR(VLOOKUP(B37,MO_Matriz,3,0),"") -> T | F37: ='Memo calc'!H288 -> 1 | G37: ='Memo calc'!J288 -> 1 | H37: ='Memo calc'!M288 -> 7.3333333 | I37: ='Memo calc'!P288 -> 1 | J37: =F37*G37*H37*I37 -> 7.3333333 | K37: =J37/220 -> 0.033333333 | L37: =IFERROR(VLOOKUP(B37,MO_Matriz,5,0),"") -> 7821.6816 | M37: =ROUND(K37*L37,2) -> 260.72
B38: ESTUDOS TOPOGRÁFICOS: SERVIÇOS DE CAMPO | M38: =SUM(M39:M40) -> 1432.26
B39: ='Memo calc'!B332 -> P8163 | C39: =IFERROR(VLOOKUP(B39,MO_Matriz,2,0),"") -> Topógrafo | D39: =IFERROR(VLOOKUP(C39,MO_Matriz,2,0),"") | E39: =IFERROR(VLOOKUP(B39,MO_Matriz,3,0),"") -> T | F39: ='Memo calc'!H332 -> 1 | G39: ='Memo calc'!J332 -> 1 | H39: ='Memo calc'!L332 -> 7.3333333 | I39: ='Memo calc'!N332 -> 3 | J39: =F39*G39*H39*I39 -> 22 | K39: =J39/220 -> 0.1 | L39: =IFERROR(VLOOKUP(B39,MO_Matriz,5,0),"") -> 5810.76 | M39: =TRUNC(K39*L39,2) -> 581.07
B40: ='Memo calc'!B333 -> P8028 | C40: =IFERROR(VLOOKUP(B40,MO_Matriz,2,0),"") -> Auxiliar de topografia | D40: =IFERROR(VLOOKUP(C40,MO_Matriz,2,0),"") | E40: =IFERROR(VLOOKUP(B40,MO_Matriz,3,0),"") -> A | F40: ='Memo calc'!H333 -> 1 | G40: ='Memo calc'!J333 -> 2 | H40: ='Memo calc'!L333 -> 7.3333333 | I40: ='Memo calc'!N333 -> 3 | J40: =F40*G40*H40*I40 -> 44 | K40: =J40/220 -> 0.2 | L40: =IFERROR(VLOOKUP(B40,MO_Matriz,5,0),"") -> 4255.96 | M40: =TRUNC(K40*L40,2) -> 851.19
B41: ESTUDOS TOPOGRÁFICOS: TRABALHO DE ESCRITÓRIO | M41: =SUM(M42:M44) -> 2528.08
B42: ='Memo calc'!B410 -> P8065 | C42: =IFERROR(VLOOKUP(B42,MO_Matriz,2,0),"") -> Engenheiro de projetos júnior | E42: =IFERROR(VLOOKUP(B42,MO_Matriz,3,0),"") -> S | F42: ='Memo calc'!H410 -> 1 | G42: ='Memo calc'!J410 -> 1 | H42: ='Memo calc'!L410 -> 7.3333333 | I42: ='Memo calc'!N410 -> 2 | J42: =F42*G42*H42*I42 -> 14.666667 | K42: =J42/220 -> 0.066666667 | L42: =IFERROR(VLOOKUP(B42,MO_Matriz,5,0),"") -> 24288.81 | M42: =ROUND(K42*L42,2) -> 1619.25
B43: ='Memo calc'!B411 -> P8163 | C43: =IFERROR(VLOOKUP(B43,MO_Matriz,2,0),"") -> Topógrafo | D43: =IFERROR(VLOOKUP(C43,MO_Matriz,2,0),"") | E43: =IFERROR(VLOOKUP(B43,MO_Matriz,3,0),"") -> T | F43: ='Memo calc'!H411 -> 1 | G43: ='Memo calc'!J411 -> 1 | H43: ='Memo calc'!L411 -> 7.3333333 | I43: ='Memo calc'!N411 -> 2 | J43: =F43*G43*H43*I43 -> 14.666667 | K43: =J43/220 -> 0.066666667 | L43: =IFERROR(VLOOKUP(B43,MO_Matriz,5,0),"") -> 5810.76 | M43: =ROUND(K43*L43,2) -> 387.38
B44: ='Memo calc'!B412 -> P9848 | C44: =IFERROR(VLOOKUP(B44,MO_Matriz,2,0),"") -> Desenhista | D44: =IFERROR(VLOOKUP(C44,MO_Matriz,2,0),"") | E44: =IFERROR(VLOOKUP(B44,MO_Matriz,3,0),"") -> T | F44: ='Memo calc'!H412 -> 1 | G44: ='Memo calc'!J412 -> 1 | H44: ='Memo calc'!L412 -> 7.3333333 | I44: ='Memo calc'!N412 -> 2 | J44: =F44*G44*H44*I44 -> 14.666667 | K44: =J44/220 -> 0.066666667 | L44: =IFERROR(VLOOKUP(B44,MO_Matriz,5,0),"") -> 7821.6816 | M44: =ROUND(K44*L44,2) -> 521.45
B45: ESTUDOS GEOTÉCNICOS: SONDAGENS SUBLEITO, CORTES, CAIXAS DE EMPRÉSTIMO, JAZIDAS DE SOLO, LICENCIAMENTO AMBIENTAL | M45: =SUM(M46:M47) -> 2273.43
...

Sheet Veículos
B5: Objeto: | C5: ='Qd abrang'!C4 -> Contratação de Projeto Executivo de Engenharia para Implantação do Aeródromo no município de Nova Andradina
B6: Município: | C6: ='Qd abrang'!C5 -> Nova Andradina/MS
B7: Local: | C7: ='Qd abrang'!C6 -> Nova Andradina/MS
B8: Extensão: | C8: ='Qd abrang'!C7 -> 1.7 | D8: km (aproximadamente) Largura: 23 m | H8: Processo: | I8: ='Qd abrang'!N7 -> 79.010.182-2025
B9: Prazo: | C9: ='Qd abrang'!C8 -> 365 | D9: dias | H9: Data-base: | I9: ='Qd abrang'!N8 -> 45748
B11: Custo dos veículos
B13: CÓDIGO | C13: DESCRIÇÃO | E13: QUANT. | F13: DIAS | G13: MESES | H13: CUSTO MENSAL (R$) | I13: TOTAL (R$)
E14: a | F14: b | G14: c=b/30 | H14: d | I14: e=a*c*d
B15: ADMINISTRAÇÃO DE CAMPO | I15: =SUM(I16:I16) -> 743.6
B16: ='Memo calc'!B1088 -> E8889 | C16: =IFERROR(VLOOKUP(B16,Veiculo_Equip_Matriz,2,0),"") -> Veículo leve - 53 kW (sem motorista) | D16: =IFERROR(VLOOKUP(C16,MO_Matriz,2,0),"") | E16: 1 | F16: ='Memo calc'!J1076 -> 7 | G16: =F16/30 -> 0.23333333 | H16: =IFERROR(VLOOKUP(B16,Veiculo_Equip_Matriz,10,0),"") -> 3186.8793 | I16: =TRUNC(E16*G16*H16,2) -> 743.6
B17: COMPONENTE AMBIENTAL DO PROJETO: INVESTIGAÇÃO DE CAMPO | I17: =SUM(I18:I18) -> 212.45
B18: ='Memo calc'!B86 -> E8889 | C18: =IFERROR(VLOOKUP(B18,Veiculo_Equip_Matriz,2,0),"") -> Veículo leve - 53 kW (sem motorista) | D18: =IFERROR(VLOOKUP(C18,MO_Matriz,2,0),"") | E18: ='Memo calc'!G86 -> 1 | F18: ='Memo calc'!H86 -> 2 | G18: =F18/30 -> 0.066666667 | H18: =IFERROR(VLOOKUP(B18,Veiculo_Equip_Matriz,10,0),"") -> 3186.8793 | I18: =TRUNC(E18*G18*H18,2) -> 212.45
B19: ESTUDOS TOPOGRÁFICOS: SERVIÇOS DE CAMPO | I19: =SUM(I20:I20) -> 264
B20: ='Memo calc'!B338 -> E8891 | C20: =IFERROR(VLOOKUP(B20,Veiculo_Equip_Matriz,2,0),"") -> Veículo leve picape 4 x 4 com capacidade de 1,10 t - 147 kW (sem motorista) | D20: =IFERROR(VLOOKUP(C20,MO_Matriz,2,0),"") | E20: ='Memo calc'!G338 -> 1 | F20: ='Memo calc'!H338 -> 1 | G20: =F20/30 -> 0.033333333 | H20: =IFERROR(VLOOKUP(B20,Veiculo_Equip_Matriz,10,0),"") -> 7920.0561 | I20: =TRUNC(E20*G20*H20,2) -> 264
B21: ESTUDOS GEOTÉCNICOS: SONDAGENS SUBLEITO, CORTES, CAIXAS DE EMPRÉSTIMO E JAZIDAS DE SOLO | I21: =SUM(I22:I22) -> 528
B22: ='Memo calc'!B893 -> E8891 | C22: =IFERROR(VLOOKUP(B22,Veiculo_Equip_Matriz,2,0),"") -> Veículo leve picape 4 x 4 com capacidade de 1,10 t - 147 kW (sem motorista) | D22: =IFERROR(VLOOKUP(C22,MO_Matriz,2,0),"") | E22: ='Memo calc'!H893 -> 1 | F22: ='Memo calc'!I893 -> 2 | G22: =F22/30 -> 0.066666667 | H22: =IFERROR(VLOOKUP(B22,Veiculo_Equip_Matriz,10,0),"") -> 7920.0561 | I22: =TRUNC(E22*G22*H22,2) -> 528
B23: AVALIAÇÃO ESTRUTURAL DO PAVIMENTO EXISTENTE: DETERMINAÇÃO DAS DEFLEXÕES | I23: =I24 -> 55.44
B24: E8891 | C24: =IFERROR(VLOOKUP(B24,Veiculo_Equip_Matriz,2,0),"") -> Veículo leve picape 4 x 4 com capacidade de 1,10 t - 147 kW (sem motorista) | D24: =IFERROR(VLOOKUP(C24,MO_Matriz,2,0),"") | E24: ='Memo calc'!G465 -> 1 | F24: ='Memo calc'!H465 -> 0.21 | G24: =F24/30 -> 0.007 | H24: =IFERROR(VLOOKUP(B24,Veiculo_Equip_Matriz,10,0),"") -> 7920.0561 | I24: =ROUND(E24*G24*H24,2) -> 55.44
B25: AVALIAÇÃO ESTRUTURAL DO PAVIMENTO EXISTENTE: INVESTIGAÇÃO DAS CONDIÇÕES DE SUPERFÍCIE E MEDIDA DA IRREGULARIDADE LONGITUDINAL DO PAVIMENTO | I25: =I26 -> 8.37
B26: E8887 | C26: =IFERROR(VLOOKUP(B26,Veiculo_Equip_Matriz,2,0),"") -> Veículo tipo van furgão com capacidade de 1,38 t - 100 kW (com motorista) | D26: =IFERROR(VLOOKUP(C26,MO_Matriz,2,0),"") | E26: ='Memo calc'!F553 -> 1 | F26: ='Memo calc'!G553 -> 0.023333333 | G26: =F26/30 -> 0.00077777778 | H26: =IFERROR(VLOOKUP(B26,Veiculo_Equip_Matriz,10,0),"") -> 10762.442 | I26: =ROUND(E26*G26*H26,2) -> 8.37
B27: AVALIAÇÃO ESTRUTURAL DO PAVIMENTO EXISTENTE: SONDAGENS | I27: =I28 -> 463.38
B28: E8887 | C28: =IFERROR(VLOOKUP(B28,Veiculo_Equip_Matriz,2,0),"") -> Veículo tipo van furgão com capacidade de 1,38 t - 100 kW (com motorista) | D28: =IFERROR(VLOOKUP(C28,MO_Matriz,2,0),"") | E28: ='Memo calc'!F660 -> 1 | F28: ='Memo calc'!G660 -> 1.2916667 | G28: ='Memo calc'!H660 -> 0.043055556 | H28: =IFERROR(VLOOKUP(B28,Veiculo_Equip_Matriz,10,0),"") -> 10762.442 | I28: =ROUND(E28*G28*H28,2) -> 463.38
H29: TOTAL DOS CUSTOS DOS VEÍCULOS | I29: =I15+I17+I19+I21+I25+I27 -> 2219.8

Sheet Equip + materiais
B4: Objeto: | C4: ='Qd abrang'!C4 -> Contratação de Projeto Executivo de Engenharia para Implantação do Aeródromo no município de Nova Andradina
B5: Município: | C5: ='Qd abrang'!C5 -> Nova Andradina/MS
B6: Local: | C6: ='Qd abrang'!C6 -> Nova Andradina/MS
B7: Extensão: | C7: ='Qd abrang'!C7 -> 1.7 | D7: km (aproximadamente) Largura: 23 m | I7: Processo: | J7: ='Qd abrang'!N7 -> 79.010.182-2025
B8: Prazo: | C8: ='Qd abrang'!C8 -> 365 | D8: dias | I8: Data-base: | J8: ='Qd abrang'!N8 -> 45748
B10: Custo de equipamentos e materiais
B12: CÓDIGO | C12: DESCRIÇÃO | E12: UNIDADE | F12: CUSTO UNITÁRIO (R$/und) | G12: QUANT. | H12: DIAS | I12: MESES | J12: TOTAL (R$)
F13: a | G13: b | H13: c | I13: d=c/30
B14: ESTUDOS TOPOGRÁFICOS: SERVIÇOS DE CAMPO | J14: =J15 -> 171.67
B15: ='Memo calc'!B353 -> B8958 | C15: =VLOOKUP(B15,'Imóveis-Mobiliários-Cestas-Dive'!B3:F13,3,0) -> Topografia | E15: mês | F15: =VLOOKUP(B15,'Imóveis-Mobiliários-Cestas-Dive'!B3:F13,5,0) -> 5150.27 | G15: ='Memo calc'!E353 -> 1 | H15: ='Memo calc'!F353 -> 1 | I15: =H15/30 -> 0.033333333 | J15: =TRUNC(F15*G15*I15,2) -> 171.67
B16: ESTUDOS GEOTÉCNICOS: SONDAGENS SUBLEITO, CORTES, CAIXAS DE EMPRÉSTIMO E JAZIDAS DE SOLO | J16: =SUM(J17:J19) -> 5442.78
B17: ='Memo calc'!B910 -> 65.02.02 | C17: =IFERROR(VLOOKUP(B17,Sudecap!$A$1:$K$55,3,0),"") -> Perfuração de solo sondagem a trado (NBR 9603:2015) DN 20CM | D17: =IFERROR(VLOOKUP(C17,MO_Matriz,2,0),"") | E17: =Sudecap!D9 -> m | F17: =IFERROR(VLOOKUP(B17,Sudecap!$A$1:$K$55,11,0),"") -> 74.97 | G17: ='Memo calc'!J910 -> 15 | H17: ='Memo calc'!K910 -> 0 | I17: =H17/30 -> 0 | J17: =TRUNC(F17*G17,2) -> 1124.55
B18: ='Memo calc'!B911 -> 65.01.02 | C18: =IFERROR(VLOOKUP(B18,Sudecap!$A$1:$K$55,3,0),"") -> PERFURAÇÃO DE SOLO SONDAGEM À PERCUSSÃO (NBR 6484:2020) | D18: =IFERROR(VLOOKUP(C18,MO_Matriz,2,0),"") | E18: m | F18: =IFERROR(VLOOKUP(B18,Sudecap!$A$1:$K$55,11,0),"") -> 94.96 | G18: ='Memo calc'!J911 -> 36 | H18: ='Memo calc'!K911 -> 0 | I18: =H18/30 -> 0 | J18: =TRUNC(F18*G18,2) -> 3418.56
B19: ='Memo calc'!B912 -> 65.01.03 | C19: =IFERROR(VLOOKUP(B19,Sudecap!$A$1:$K$55,3,0),"") -> DESMONTAGEM, TRANSPORTE E MONTAGEM DE EQUIPAMENTOS DE SONDAGEM A PERCUSSÃO POR FURO | D19: =IFERROR(VLOOKUP(C19,MO_Matriz,2,0),"") | E19: UNIDADE | F19: =IFERROR(VLOOKUP(B19,Sudecap!$A$1:$K$55,11,0),"") -> 299.89 | G19: ='Memo calc'!J912 -> 3 | H19: ='Memo calc'!K912 -> 0 | I19: =H19/30 -> 0 | J19: =TRUNC(F19*G19,2) -> 899.67
B20: ESTUDOS GEOTÉCNICOS: ENSAIOS DE LABORATÓRIO | J20: =J21 -> 880.12
B21: ='Memo calc'!B996 -> B8957 | C21: =VLOOKUP(B21,'Imóveis-Mobiliários-Cestas-Dive'!$B$2:$F$13,3,0) -> Laboratório de solos | E21: mês | F21: =VLOOKUP(B21,'Imóveis-Mobiliários-Cestas-Dive'!$B$2:$F$13,5,0) -> 3520.5 | G21: ='Memo calc'!E996 -> 1 | H21: ='Memo calc'!F996 -> 7.5 | I21: =H21/30 -> 0.25 | J21: =TRUNC(F21*G21*I21,2) -> 880.12
B22: AVALIAÇÃO ESTRUTURAL DO PAVIMENTO EXISTENTE: DETERMINAÇÃO DAS DEFLEXÕES | J22: =J23 -> 383.41
B23: E9014 | C23: =IFERROR(VLOOKUP(B23,Veiculo_Equip_Matriz,2,0),"") -> Deflectômetro de impacto (FWD) instalado em picape com reboque e faixa de carga de 7 a 120 kN - 147 kW | D23: =IFERROR(VLOOKUP(C23,MO_Matriz,2,0),"") | E23: mês | F23: =IFERROR(VLOOKUP(B23,Veiculo_Equip_Matriz,10,0),"") -> 54773.408 | G23: ='Memo calc'!O487 -> 1 | H23: ='Memo calc'!P487 -> 0.21 | I23: =H23/30 -> 0.007 | J23: =TRUNC(F23*G23*I23,2) -> 383.41
B24: AVALIAÇÃO ESTRUTURAL DO PAVIMENTO EXISTENTE: INVESTIGAÇÃO DAS CONDIÇÕES DE SUPERFÍCIE E MEDIDA DA IRREGULARIDADE LONGITUDINAL DO PAVIMENTO | J24: =J25 -> 26.84
B25: - | C25: ='Memo calc'!C582 -> Equipamento do VDR | E25: mês | F25: ='Memo calc'!G582 -> 34514.51 | G25: ='Memo calc'!I582 -> 1 | H25: ='Memo calc'!J582 -> 0.023333333 | I25: =H25/30 -> 0.00077777778 | J25: =ROUND(F25*G25*I25,2) -> 26.84
B26: AVALIAÇÃO ESTRUTURAL DO PAVIMENTO EXISTENTE: SONDAGENS | J26: =SUM(J27:J28) -> 174.13
B27: ='Memo calc'!B682 -> 65.02.02 | C27: ='Memo calc'!C682 -> Mobilização de equipamentos de sondagem a trado (NBR 9603:2015) DN 20CM | D27: =IFERROR(VLOOKUP(C27,MO_Matriz,2,0),"") | E27: mês | F27: ='Memo calc'!J682 -> 75 | G27: ='Memo calc'!K682 -> 2 | H27: ='Memo calc'!L682 -> 0 | I27: =H27/30 -> 0 | J27: =ROUND(F27*G27,2) -> 150
B28: ='Memo calc'!B683 -> M0047 | C28: ='Memo calc'!C683 -> Cone de sinalização em polietileno - H = 75 cm e base quadrada de 40 x 40 cm | E28: mês | F28: ='Memo calc'!J683 -> 93.3995 | G28: ='Memo calc'!K683 -> 6 | H28: ='Memo calc'!L683 -> 1.2916667 | I28: =H28/30 -> 0.043055556 | J28: =ROUND(F28*G28*I28,2) -> 24.13
B29: AVALIAÇÃO ESTRUTURAL DO PAVIMENTO EXISTENTE: ENSAIOS DE LABORATÓRIO | J29: =SUM(J30:J31) -> 188.98
B30: ='Memo calc'!B777 -> B8955 | C30: ='Memo calc'!C777 -> Laboratório de asfalto | E30: mês | F30: ='Memo calc'!G777 -> 5592.36 | G30: ='Memo calc'!I777 -> 1 | H30: ='Memo calc'!J777 -> 0.58333333 | I30: =H30/30 -> 0.019444444 | J30: =ROUND(F30*G30*I30,2) -> 108.74
B31: ='Memo calc'!B778 -> B8957 | C31: ='Memo calc'!C778 -> Laboratório de solos | E31: mês | F31: ='Memo calc'!G778 -> 4126.54 | G31: ='Memo calc'!I778 -> 1 | H31: ='Memo calc'!J778 -> 0.58333333 | I31: =H31/30 -> 0.019444444 | J31: =ROUND(F31*G31*I31,2) -> 80.24
I32: TOTAL DOS CUSTOS DE EQUIPAMENTOS E MATERIAIS | J32: =J14+J16+J20+J22+J24+J26+J29 -> 7267.93
B34: i) Conforme memorando circular nº 687/2018/DIREX/DNIT SEDE, em função da pouca relevância na formação dos custos totais dos contratos de engenharia consultiva, os serviços gráficos não são detalhados como itens de planilha nos orçamentos. Este fato não exime a CONTRATADA de realizar os serviços gráficos necessarios ao andamento dos trabalhos.

Sheet Diárias + passagens
B5: Objeto: | C5: ='Qd abrang'!C4 -> Contratação de Projeto Executivo de Engenharia para Implantação do Aeródromo no município de Nova Andradina
B6: Município: | C6: ='Qd abrang'!C5 -> Nova Andradina/MS
B7: Local: | C7: ='Qd abrang'!C6 -> Nova Andradina/MS
B8: Extensão: | C8: ='Qd abrang'!C7 -> 1.7 | D8: km (aproximadamente) | E8: Largura: | F8: 23 m | K8: Processo: | L8: ='Qd abrang'!N7 -> 79.010.182-2025
B9: Prazo: | C9: ='Qd abrang'!C8 -> 365 | D9: dias | K9: Data-base: | L9: ='Qd abrang'!N8 -> 45748
B11: Custo de diárias e passagens
B13: CÓDIGO | C13: DESCRIÇÃO | E13: TIPO DE M.O. | F13: ALIMENTAÇÃO (R$) | G13: HOSPEDAGEM (R$) | H13: DIÁRIAS (R$) | I13: PASSAGENS DE ÔNIBUS (R$) | J13: PASSAGENS AÉREAS (R$) | K13: TOTAL DE PASSAGENS (R$) | L13: TOTAL (R$)
F14: b | G14: c | H14: d=b+c | I14: e | J14: f | K14: g=e+f | L14: h=d+g
B15: COORDENAÇÃO DO PROJETO | L15: =L16 -> 875
B16: ='Memo calc'!B1662 -> P8061 | C16: =IFERROR(VLOOKUP(B16,MO_Matriz,2,0),"") -> Engenheiro coordenador | D16: =IFERROR(VLOOKUP(C16,MO_Matriz,2,0),"") | E16: =IFERROR(VLOOKUP(B16,MO_Matriz,3,0),"") -> S | F16: ='Memo calc'!H1662 -> 500 | G16: ='Memo calc'!I1662 -> 375 | H16: =F16+G16 -> 875 | I16: 0 | J16: 0 | K16: =I16+J16 -> 0 | L16: =TRUNC(H16+K16,2) -> 875
B17: ADMINISTRAÇÃO DE CAMPO | L17: =SUM(L18:L19) -> 3250
B18: ='Memo calc'!B1120 -> P8061 | C18: =IFERROR(VLOOKUP(B18,MO_Matriz,2,0),"") -> Engenheiro coordenador | D18: =IFERROR(VLOOKUP(C18,MO_Matriz,2,0),"") | E18: =IFERROR(VLOOKUP(B18,MO_Matriz,3,0),"") -> S | F18: ='Memo calc'!H1120 -> 875 | G18: ='Memo calc'!I1120 -> 750 | H18: =F18+G18 -> 1625 | I18: 0 | J18: 0 | K18: =I18+J18 -> 0 | L18: =TRUNC(H18+K18,2) -> 1625
B19: ='Memo calc'!B1121 -> P8147 | C19: =IFERROR(VLOOKUP(B19,MO_Matriz,2,0),"") -> Técnico de obras | D19: =IFERROR(VLOOKUP(C19,MO_Matriz,2,0),"") | E19: =IFERROR(VLOOKUP(B19,MO_Matriz,3,0),"") -> T | F19: ='Memo calc'!H1121 -> 875 | G19: ='Memo calc'!I1121 -> 750 | H19: =F19+G19 -> 1625 | I19: 0 | J19: 0 | K19: =I19+J19 -> 0 | L19: =TRUNC(H19+K19,2) -> 1625
B20: COMPONENTE AMBIENTAL DO PROJETO: INVESTIGAÇÃO DE CAMPO | L20: =SUM(L21:L21) -> 625
B21: ='Memo calc'!B112 -> P8058 | C21: =IFERROR(VLOOKUP(B21,MO_Matriz,2,0),"") -> Engenheiro ambiental pleno | D21: =IFERROR(VLOOKUP(C21,MO_Matriz,2,0),"") | E21: =IFERROR(VLOOKUP(B21,MO_Matriz,3,0),"") -> S | F21: ='Memo calc'!H112 -> 375 | G21: ='Memo calc'!J112 -> 250 | H21: =F21+G21 -> 625 | I21: 0 | J21: 0 | K21: =I21+J21 -> 0 | L21: =TRUNC(H21+K21,2) -> 625
B22: ESTUDOS TOPOGRÁFICOS: SERVIÇOS DE CAMPO | L22: =SUM(L23:L23) -> 625
B23: ='Memo calc'!B366 -> P8163 | C23: =IFERROR(VLOOKUP(B23,MO_Matriz,2,0),"") -> Topógrafo | D23: =IFERROR(VLOOKUP(C23,MO_Matriz,2,0),"") | E23: =IFERROR(VLOOKUP(B23,MO_Matriz,3,0),"") -> T | F23: ='Memo calc'!H366 -> 375 | G23: ='Memo calc'!J366 -> 250 | H23: =F23+G23 -> 625 | I23: 0 | J23: 0 | K23: =I23+J23 -> 0 | L23: =TRUNC(H23+K23,2) -> 625
B24: ESTUDOS GEOTÉCNICOS: SONDAGENS SUBLEITO, CORTES, CAIXAS DE EMPRÉSTIMO E JAZIDAS DE SOLO | L24: =SUM(L25:L25) -> 1125
B25: ='Memo calc'!B926 -> P8139 | C25: =IFERROR(VLOOKUP(B25,MO_Matriz,2,0),"") -> Sondador | D25: =IFERROR(VLOOKUP(C25,MO_Matriz,2,0),"") | E25: =IFERROR(VLOOKUP(B25,MO_Matriz,3,0),"") -> T | F25: ='Memo calc'!H926 -> 625 | G25: ='Memo calc'!J926 -> 500 | H25: =F25+G25 -> 1125 | I25: 0 | J25: 0 | K25: =I25+J25 -> 0 | L25: =TRUNC(H25+K25,2) -> 1125
B26: AVALIAÇÃO ESTRUTURAL DO PAVIMENTO EXISTENTE: DETERMINAÇÃO DAS DEFLEXÕES | L26: =L27 -> 125
B27: ='Memo calc'!B499 -> - | C27: ='Memo calc'!C499 -> Motorista de veículo especializado (FWD) | D27: =IFERROR(VLOOKUP(C27,MO_Matriz,2,0),"") | E27: ='Memo calc'!G499 -> A | F27: ='Memo calc'!I499 -> 125 | G27: ='Memo calc'!J499 -> 0 | H27: =F27+G27 -> 125 | I27: 0 | J27: 0 | K27: =I27+J27 -> 0 | L27: =TRUNC(H27+K27,2) -> 125
B28: AVALIAÇÃO ESTRUTURAL DO PAVIMENTO EXISTENTE: INVESTIGAÇÃO DAS CONDIÇÕES DE SUPERFÍCIE E MEDIDA DA IRREGULARIDADE LONGITUDINAL DO PAVIMENTO | L28: =L29 -> 125
B29: ='Memo calc'!B594 -> - | C29: ='Memo calc'!C594 -> Motorista da van furgão | D29: =IFERROR(VLOOKUP(C29,MO_Matriz,2,0),"") | E29: ='Memo calc'!F594 -> A | F29: ='Memo calc'!H594 -> 125 | G29: ='Memo calc'!I594 -> 0 | H29: =F29+G29 -> 125 | I29: 0 | J29: 0 | K29: =I29+J29 -> 0 | L29: =TRUNC(H29+K29,2) -> 125
B30: AVALIAÇÃO ESTRUTURAL DO PAVIMENTO EXISTENTE: SONDAGENS | L30: =L31 -> 250
B31: ='Memo calc'!B696 -> P8139 | C31: ='Memo calc'!C696 -> Sondador | E31: ='Memo calc'!F696 -> T | F31: ='Memo calc'!H696 -> 250 | G31: ='Memo calc'!J696 -> 0 | H31: =F31+G31 -> 250 | I31: 0 | J31: 0 | K31: =I31+J31 -> 0 | L31: =TRUNC(H31+K31,2) -> 250
B32: AVALIAÇÃO ESTRUTURAL DO PAVIMENTO EXISTENTE: ENSAIOS DE LABORATÓRIO | L32: =L33 -> 125
B33: ='Memo calc'!B791 -> P8098 | C33: ='Memo calc'!C791 -> Laboratorista | E33: ='Memo calc'!F791 -> T | F33: ='Memo calc'!H791 -> 125 | G33: ='Memo calc'!I791 -> 0 | H33: =F33+G33 -> 125 | I33: 0 | J33: 0 | K33: =I33+J33 -> 0 | L33: =TRUNC(H33+K33,2) -> 125
K34: TOTAL DOS CUSTOS DE DIÁRIAS E PASSAGENS PARA A MÃO DE OBRA DE NÍVEL SUPERIOR | L34: =SUMIF($E$15:$E$33,"S",$L$15:$L$33) -> 3125
K35: TOTAL DOS CUSTOS DE DIÁRIAS E PASSAGENS PARA A MÃO DE OBRA DE DE NÍVEL TÉCNICO | L35: =SUMIF($E$15:$E$33,"T",$L$15:$L$33) -> 3750
K36: TOTAL DOS CUSTOS DE DIÁRIAS E PASSAGENS PARA A MÃO DE OBRA DE DE NÍVEL AUXILIAR | L36: =SUMIF($E$15:$E$33,"A",$L$15:$L$33) -> 250
K37: TOTAL DOS CUSTOS DE DIÁRIAS E PASSAGENS | L37: =SUM(L34:L36) -> 7125
B38: Observações:
B39: Tipos de mão de obra: (S) nível superior e (T) nível técnico.
B40: ="Passagem de ônibus de Campo Grande para "&Listas!$D$17&", em 27/03/23: R$ 56,52" -> Passagem de ônibus de Campo Grande para Nova Andradina, em 27/03/23: R$ 56,52
B42: ="Segundo Decreto nº 16.536, de 26 de dezembro de 2024, os valores de diárias para "&Listas!$D$17&" são:" -> Segundo Decreto nº 16.536, de 26 de dezembro de 2024, os valores de diárias para Nova Andradina são:
B43: ="Diária completa: R$ "&Listas!$D$19&",00" -> Diária completa: R$ 250,00
B44: ="Diária de alimentação: R$ "&Listas!$D$19/2&",00" -> Diária de alimentação: R$ 125,00
B45: ="Diária de hospedagem: R$ "&Listas!$D$19/2&",00" -> Diária de hospedagem: R$ 125,00
E84: DECRETO Nº 16.536, DE 26 DE DEZEMBRO DE 2024

Sheet Mob desmob MO
B5: Objeto: | C5: ='Qd abrang'!C4 -> Contratação de Projeto Executivo de Engenharia para Implantação do Aeródromo no município de Nova Andradina
B6: Município: | C6: ='Qd abrang'!C5 -> Nova Andradina/MS
B7: Local: | C7: ='Qd abrang'!C6 -> Nova Andradina/MS
B8: Extensão: | C8: ='Qd abrang'!C7 -> 1.7 | D8: km (aproximadamente) | F8: Largura: | G8: 23 m | N8: Processo: | O8: ='Qd abrang'!N7 -> 79.010.182-2025
B9: Prazo: | C9: ='Qd abrang'!C8 -> 365 | D9: dias | N9: Data-base: | O9: ='Qd abrang'!N8 -> 45748
B11: Custo de mobilização e desmobilização da mão de obra
B13: CÓDIGO | C13: DESCRIÇÃO | E13: TIPO DE M.O. | F13: QUANT. | G13: CUSTO DA PASSAGEM (R$) | H13: CUSTO DA ALIMENTAÇÃO (R$) | I13: CUSTO DA VIAGEM (R$) | J13: MOB. E DESMOB. | K13: CUSTO DE MOB. E DESMOB. (R$) | L13: DIAS | M13: DEBANDAS | N13: CUSTO DA DEBANDA (R$) | O13: TOTAL (R$)
F14: a | G14: b | H14: c | I14: d=b+c | J14: e | K14: f=a*d*e | L14: g | M14: h=g/30 | N14: i=2*a*d*h | O14: j=f+i
B15: AVALIAÇÃO ESTRUTURAL DO PAVIMENTO EXISTENTE: ENSAIOS DE LABORATÓRIO | O15: =O16 -> 844.12
B16: ='Memo calc'!B809 -> P8098 | C16: =IFERROR(VLOOKUP(B16,MO_Matriz,2,0),"") -> Laboratorista | D16: =IFERROR(VLOOKUP(C16,MO_Matriz,2,0),"") | E16: =IFERROR(VLOOKUP(B16,MO_Matriz,3,0),"") -> T | F16: ='Memo calc'!H809 -> 2 | G16: ='Memo calc'!J809 -> 86.032419 | H16: ='Memo calc'!L809 -> 125 | I16: =G16+H16 -> 211.03242 | J16: 1 | K16: =2*F16*I16*J16 -> 844.12967 | L16: ='Memo calc'!U809 -> 0.5 | M16: =INT(L16/30) -> 0 | N16: =2*F16*I16*M16 -> 0 | O16: =TRUNC(K16+N16,2) -> 844.12
N17: TOTAL DOS CUSTOS DE MOBILIZAÇÃO E DESMOBILIZAÇÃO DA MÃO DE OBRA | O17: =O16 -> 844.12
B18: Observações:
B19: Tipos de mão de obra: (S) nível superior e (T) nível técnico.
B20: ="Passagem de ônibus de Campo Grande para "&Listas!$D$17&", em 04/25: R$ 86,03" -> Passagem de ônibus de Campo Grande para Nova Andradina, em 04/25: R$ 86,03
B22: ="Segundo Decreto nº 16.536, de 26 de dezembro de 2024, os valores de diárias para "&Listas!$D$17&" são:" -> Segundo Decreto nº 16.536, de 26 de dezembro de 2024, os valores de diárias para Nova Andradina são:
B23: ="Diária completa: R$ "&Listas!$D$19&",00" -> Diária completa: R$ 250,00
B24: ="Diária de alimentação: R$ "&Listas!$D$19/2&",00" -> Diária de alimentação: R$ 125,00
B25: ="Diária de hospedagem: R$ "&Listas!$D$19/2&",00" -> Diária de hospedagem: R$ 125,00

Sheet Mob desmob equip rod
B5: Objeto: | C5: ='Qd abrang'!C4 -> Contratação de Projeto Executivo de Engenharia para Implantação do Aeródromo no município de Nova Andradina
B6: Município: | C6: ='Qd abrang'!C5 -> Nova Andradina/MS
B7: Local: | C7: ='Qd abrang'!C6 -> Nova Andradina/MS
B8: Extensão: | C8: ='Qd abrang'!C7 -> 1.7 | D8: km (aproximadamente) | E8: Largura: | F8: 23 m | P8: Processo: | Q8: ='Qd abrang'!N7 -> 79.010.182-2025
B9: Prazo: | C9: ='Qd abrang'!C8 -> 365 | D9: dias | P9: Data-base: | Q9: ='Qd abrang'!N8 -> 45748
B11: Custo de mobilização e desmobilização de equipamentos rodantes
B13: CÓDIGO | C13: DESCRIÇÃO | E13: QUANT. | F13: DISTÂNCIA (km) | G13: VELOCIDADE MÉDIA (km/h) | H13: TEMPO DE VIAGEM (h) | I13: k | J13: FU | K13: CUSTO DO TRANSPORTE | M13: TEMPO DE DESCANSO (h) | N13: TEMPO TOTAL (h) | O13: DIÁRIAS (R$) | P13: PEDÁGIO (R$) | Q13: TOTAL (R$)
K14: R$/h | L14: R$
E15: a | F15: b | G15: c | H15: d=b/c | J15: e | K15: f | L15: g=a*d*k*e*f | M15: i | N15: j=d+i | O15: l | P15: m | Q15: n=g+l+m
B16: ADMINISTRAÇÃO DE CAMPO | Q16: =Q17 -> 2684.9
B17: ='Memo calc'!B1146 -> E8889 | C17: =IFERROR(VLOOKUP(B17,Veiculo_Equip_Matriz,2,0),"") -> Veículo leve - 53 kW (sem motorista) | D17: =IFERROR(VLOOKUP(C17,MO_Matriz,2,0),"") | E17: ='Memo calc'!G1146 -> 7 | F17: ='Memo calc'!I1146 -> 305 | G17: ='Memo calc'!K1146 -> 60 | H17: =F17/G17 -> 5.0833333 | I17: ='Memo calc'!O1146 -> 2 | J17: ='Memo calc'!P1146 -> 1 | K17: ='Memo calc'!S1146 -> 36.69 | L17: =E17*H17*I17*J17*K17 -> 2611.105 | M17: =((INT(H17/4))*30)/60 -> 0.5 | N17: =H17+M17 -> 5.5833333 | O17: ='Memo calc'!AA1146 -> 0 | P17: ='Memo calc'!AB1146 -> 73.8 | Q17: =TRUNC(L17+O17+P17,2) -> 2684.9
B18: COMPONENTE AMBIENTAL DO PROJETO: INVESTIGAÇÃO DE CAMPO | Q18: =Q19 -> 446.81
B19: ='Memo calc'!B135 -> E8889 | C19: =IFERROR(VLOOKUP(B19,Veiculo_Equip_Matriz,2,0),"") -> Veículo leve - 53 kW (sem motorista) | D19: =IFERROR(VLOOKUP(C19,MO_Matriz,2,0),"") | E19: ='Memo calc'!F135 -> 1 | F19: ='Memo calc'!H135 -> 305 | G19: ='Memo calc'!J135 -> 60 | H19: =F19/G19 -> 5.0833333 | I19: ='Memo calc'!N135 -> 2 | J19: ='Memo calc'!O135 -> 1 | K19: ='Memo calc'!R135 -> 36.69 | L19: =E19*H19*I19*J19*K19 -> 373.015 | M19: =((INT(H19/4))*30)/60 -> 0.5 | N19: =H19+M19 -> 5.5833333 | O19: 0 | P19: ='Memo calc'!AA135 -> 73.8 | Q19: =TRUNC(L19+O19+P19,2) -> 446.81
B20: ESTUDOS TOPOGRÁFICOS: SERVIÇOS DE CAMPO | Q20: =Q21 -> 883.06
B21: ='Memo calc'!B389 -> E8891 | C21: =IFERROR(VLOOKUP(B21,Veiculo_Equip_Matriz,2,0),"") -> Veículo leve picape 4 x 4 com capacidade de 1,10 t - 147 kW (sem motorista) | D21: =IFERROR(VLOOKUP(C21,MO_Matriz,2,0),"") | E21: ='Memo calc'!G389 -> 1 | F21: ='Memo calc'!I389 -> 305 | G21: ='Memo calc'!K389 -> 60 | H21: =F21/G21 -> 5.0833333 | I21: ='Memo calc'!O389 -> 2 | J21: ='Memo calc'!P389 -> 1 | K21: ='Memo calc'!S389 -> 79.6 | L21: =E21*H21*I21*J21*K21 -> 809.26667 | M21: =((INT(H21/4))*30)/60 -> 0.5 | N21: =H21+M21 -> 5.5833333 | O21: 0 | P21: ='Memo calc'!AB389 -> 73.8 | Q21: =TRUNC(L21+O21+P21,2) -> 883.06
B22: ESTUDOS GEOTÉCNICOS: SONDAGENS SUBLEITO, CORTES, CAIXAS DE EMPRÉSTIMO E JAZIDAS DE SOLO | Q22: =Q23 -> 883.06
B23: ='Memo calc'!B949 -> E8891 | C23: =IFERROR(VLOOKUP(B23,Veiculo_Equip_Matriz,2,0),"") -> Veículo leve picape 4 x 4 com capacidade de 1,10 t - 147 kW (sem motorista) | D23: =IFERROR(VLOOKUP(C23,MO_Matriz,2,0),"") | E23: ='Memo calc'!G949 -> 1 | F23: ='Memo calc'!I949 -> 305 | G23: ='Memo calc'!K949 -> 60 | H23: =F23/G23 -> 5.0833333 | I23: ='Memo calc'!O949 -> 2 | J23: ='Memo calc'!P949 -> 1 | K23: ='Memo calc'!S949 -> 79.6 | L23: =E23*H23*I23*J23*K23 -> 809.26667 | M23: =((INT(H23/4))*30)/60 -> 0.5 | N23: =H23+M23 -> 5.5833333 | O23: 0 | P23: ='Memo calc'!AB949 -> 73.8 | Q23: =TRUNC(L23+O23+P23,2) -> 883.06
B24: AVALIAÇÃO ESTRUTURAL DO PAVIMENTO EXISTENTE: DETERMINAÇÃO DAS DEFLEXÕES | Q24: =Q25 -> 529.63
B25: ='Memo calc'!B525 -> E8891 | C25: =IFERROR(VLOOKUP(B25,Veiculo_Equip_Matriz,2,0),"") -> Veículo leve picape 4 x 4 com capacidade de 1,10 t - 147 kW (sem motorista) | D25: =IFERROR(VLOOKUP(C25,MO_Matriz,2,0),"") | E25: ='Memo calc'!G525 -> 1 | F25: ='Memo calc'!I525 -> 305 | G25: ='Memo calc'!K525 -> 60 | H25: =F25/G25 -> 5.0833333 | I25: ='Memo calc'!P525 -> 1 | J25: ='Memo calc'!Q525 -> 1 | K25: ='Memo calc'!T525 -> 79.6 | L25: =E25*H25*I25*J25*K25 -> 404.63333 | M25: =((INT(H25/4))*30)/60 -> 0.5 | N25: =H25+M25 -> 5.5833333 | O25: ='Memo calc'!AB525 -> 125 | P25: ='Memo calc'!AC525 -> 0 | Q25: =TRUNC(L25+O25+P25,2) -> 529.63
B26: AVALIAÇÃO ESTRUTURAL DO PAVIMENTO EXISTENTE: INVESTIGAÇÃO DAS CONDIÇÕES DE SUPERFÍCIE E MEDIDA DA IRREGULARIDADE LONGITUDINAL DO PAVIMENTO | Q26: =Q27 -> 551.79
B27: ='Memo calc'!B620 -> E8887 | C27: =IFERROR(VLOOKUP(B27,Veiculo_Equip_Matriz,2,0),"") -> Veículo tipo van furgão com capacidade de 1,38 t - 100 kW (com motorista) | D27: =IFERROR(VLOOKUP(C27,MO_Matriz,2,0),"") | E27: ='Memo calc'!G620 -> 1 | F27: ='Memo calc'!I620 -> 305 | G27: ='Memo calc'!K620 -> 60 | H27: =F27/G27 -> 5.0833333 | I27: ='Memo calc'!P620 -> 1 | J27: ='Memo calc'!Q620 -> 1 | K27: ='Memo calc'!T620 -> 83.96 | L27: =E27*H27*I27*J27*K27 -> 426.79667 | M27: =((INT(H27/4))*30)/60 -> 0.5 | N27: =H27+M27 -> 5.5833333 | O27: ='Memo calc'!AB620 -> 125 | P27: ='Memo calc'!AB953 -> 0 | Q27: =TRUNC(L27+O27+P27,2) -> 551.79
B28: AVALIAÇÃO ESTRUTURAL DO PAVIMENTO EXISTENTE: SONDAGENS | Q28: =Q29 -> 551.79
