Workbook
Name B.A_AGESUL: IF(CAPA!$C$20<>"",RIGHT(LEFT(RIGHT(CAPA!$C$20,LEN(CAPA!$C$20)-1),LEN(CAPA!$C$20)-2),4),"")
Name B.A_SICRO: IF(CAPA!$C$21<>"",RIGHT(LEFT(RIGHT(CAPA!$C$21,LEN(CAPA!$C$21)-1),LEN(CAPA!$C$21)-2),4),"")
Name B.A_SINAPI: IF(CAPA!$C$19<>"",RIGHT(LEFT(RIGHT(CAPA!$C$19,LEN(CAPA!$C$19)-1),LEN(CAPA!$C$19)-2),4),"")
Name B.AGESUL: IF(CAPA!$C$20<>"","AGESUL","")
Name B.M_AGESUL: IF(CAPA!$C$20<>"",LEFT(LEFT(RIGHT(CAPA!$C$20,LEN(CAPA!$C$20)-1),LEN(CAPA!$C$20)-2),LEN(CAPA!$C$20)-7),"")
Name B.M_SICRO: IF(CAPA!$C$21<>"",LEFT(LEFT(RIGHT(CAPA!$C$21,LEN(CAPA!$C$21)-1),LEN(CAPA!$C$21)-2),LEN(CAPA!$C$21)-7),"")
Name B.M_SINAPI: IF(CAPA!$C$19<>"",LEFT(LEFT(RIGHT(CAPA!$C$19,LEN(CAPA!$C$19)-1),LEN(CAPA!$C$19)-2),LEN(CAPA!$C$19)-7),"")
Name B.SICRO: IF(CAPA!$C$21<>"","SICRO","")
Name B.SINAPI: IF(CAPA!$C$19<>"","SINAPI","")
Name B_API: "AIzaSyC6VcyO1g3sDbbUj-Cgrp2CBaMc1_kxiq8"
Name B_LAT: ConverterParaDecimal(CAPA!$C$10)
Name B_LAT: ConverterParaDecimal(CAPA!$C$10)
Name B_LAT: ConverterParaDecimal(CAPA!$C$10)
Name B_LAT: ConverterParaDecimal(CAPA!$C$10)
Name B_LON: ConverterParaDecimal(CAPA!$C$11)
Name B_LON: ConverterParaDecimal(CAPA!$C$11)
Name B_LON: ConverterParaDecimal(CAPA!$C$11)
Name B_LON: ConverterParaDecimal(CAPA!$C$11)
Name Caminho3: #REF!
Name IMAGENS: OFFSET(DADOS!$J$2,DADOS!$A$7,0,1,1)
Name LOGO_PREFEITURA: INDEX(DADOS!$J$2:$J$26,MATCH(#REF!,DADOS!$I$2:$I$26,1))
Name N.BDIM: #REF!
Name N.BDIS: #REF!
Name N.CREA: CAPA!$C$25
Name N.DESCRICAO: CAPA!$C$15
Name N.ENCARGOS: CAPA!$C$18
Name N.Engenheiro: CAPA!$C$24
Name N.GOV: "GOVERNO DO ESTADO DE MATO GROSSO DO SUL"
Name N.LOCAL: IF(CAPA!$C$8="","",CAPA!$C$8)
Name N.MUNICIPIO: CAPA!$C$9
Name N.PREFEITURA: OFFSET(DADOS!$I$2,DADOS!$A$7,0,1,1)
Name N.SECRETARIA: IF(CAPA!$C$9="NAVIRAÍ","SECRETARIA DE PLANEJAMENTO","SECRETARIA DE OBRAS")

Sheet CAPA
B6: DADOS DA OBRA
B7: PREFEITURA:
B8: LOCAL: | C8: AVENIDA JOÃO RIGONATO
B9: MUNÍCIPIO: | C9: =RIGHT(OFFSET(DADOS!$I$2,DADOS!$A$7,0,1,1),LEN(OFFSET(DADOS!$I$2,DADOS!$A$7,0,1,1))-24) -> NAVIRAÍ
B10: LATITUDE | C10: 23° 2'28.11"S
B11: LONGITUDE | C11: 54°12'46.67"O
B12: DURAÇÃO DA OBRA | C12: 360
B14: DADOS DO EMPREENDIMENTO E OBRA
B15: DESCRIÇÃO DA OBRA: | C15: INFRAESTRUTURA URBANA – PAVIMENTAÇÃO ASFÁLTICA, DRENAGEM, E SINALIZAÇÃO VIÁRIA NO ACESSO AO CEMITERIO MUNICIPAL DE NAVIRAÍ/ MS
B16: BDI-SERVIÇO: | C16: =N.BDIS -> #REF!
B17: BDI-MATERIAL: | C17: =N.BDIM -> #REF!
B18: ENCARGOS | C18: SEM DESONERAÇÃO 106,76%(HORA) 64,39%(MÊS)
B19: SINAPI: | C19: (SETEMBRO/2025)
B20: AGESUL: | C20: (SETEMBRO/2025)
B21: SICRO | D21: {=B.A_SICRO} | E21: {=B.A_SICRO}
B23: DADOS DO ORÇAMENTISTA
B24: ENGENHEIRO CIVIL | C24: FÁBIO MARQUES RIBEIRO
B25: CREA | C25: ENGENHEIRO CIVIL - 15.276 D/MS

Sheet RELEVÂNCIA
D2: =N.GOV -> GOVERNO DO ESTADO DE MATO GROSSO DO SUL
D3: {=N.PREFEITURA} -> PREFEITURA MUNICIPAL DE NAVIRAÍ
D4: {=N.SECRETARIA} -> SECRETARIA DE PLANEJAMENTO
B5: SUGESTÃO DE ITENS DE RELEVÂNCIA
B6: Objeto: | C6: =N.DESCRICAO -> INFRAESTRUTURA URBANA – PAVIMENTAÇÃO ASFÁLTICA, DRENAGEM, E SINALIZAÇÃO VIÁRIA NO ACESSO AO CEMITERIO MUNICIPAL DE NAVIRAÍ/ MS
B7: Município: | C7: =N.MUNICIPIO -> NAVIRAÍ
B8: Local: | C8: {=N.LOCAL} -> AVENIDA JOÃO RIGONATO
B9: BDI S/DES: | C9: =N.BDIS -> #REF! | D9: MATERIAL | E9: =N.BDIM -> #REF!
B10: SIST./REF.: | C10: {=N.BASE} -> AGESUL(SETEMBRO/2025)/SINAPI(SETEMBRO/2025)
B11: ITENS DE RELEVÂNCIA (SUPERIORES A 4%)
B12: ITEM | C12: DESCRIÇÃO | I12: % | J12: UNIDADE | K12: QUANTIDADE
B13: 3.1.1 | C13: =VLOOKUP(B13,#REF!,5,0) -> #REF! | I13: =VLOOKUP(B13,#REF!,12,0) -> #REF! | J13: =VLOOKUP(B13,#REF!,7,0) -> #REF! | K13: =VLOOKUP(B13,#REF!,8,0) -> #REF!
B14: Apesar de não representarem 4% ou mais do orçamento, os itens abaixo foram incluídos como relevantes devido à sua importância técnica. Embora o valor individual não ultrapasse esse percentual, a quantidade expressiva desses itens na planilha e a complexidade de sua execução tornam fundamental a experiência prévia na realização desse volume de serviço, garantindo a qualidade e a segurança da edificação. Sendo necessário a apresentação de atestado de capacidade técnica conforme previsto na Lei 14.133/21 Artigo 6º, inciso XLIV e Artigo 67, §1º.
B15: ITENS DE RELEVÂNCIA (INFERIOR A 4%)
B16: ITEM | C16: DESCRIÇÃO | I16: % | J16: UNIDADE | K16: QUANTIDADE
B17: 6.2.1 | C17: =VLOOKUP(B17,#REF!,5,0) -> #REF! | I17: =VLOOKUP(B17,#REF!,12,0) -> #REF! | J17: =VLOOKUP(B17,#REF!,7,0) -> #REF! | K17: =VLOOKUP(B17,#REF!,8,0) -> #REF!
B18: 6.3.1 | C18: =VLOOKUP(B18,#REF!,5,0) -> #REF! | I18: =VLOOKUP(B18,#REF!,12,0) -> #REF! | J18: =VLOOKUP(B18,#REF!,7,0) -> #REF! | K18: =VLOOKUP(B18,#REF!,8,0) -> #REF!

Sheet MOBIL-DESMOB
D1: =N.GOV -> GOVERNO DO ESTADO DE MATO GROSSO DO SUL
D2: {=N.PREFEITURA} -> PREFEITURA MUNICIPAL DE NAVIRAÍ
D3: {=N.SECRETARIA} -> SECRETARIA DE PLANEJAMENTO
B4: MOBILIZAÇÃO E DESMOBILIZAÇÃO
B5: Objeto: | C5: =N.DESCRICAO -> INFRAESTRUTURA URBANA – PAVIMENTAÇÃO ASFÁLTICA, DRENAGEM, E SINALIZAÇÃO VIÁRIA NO ACESSO AO CEMITERIO MUNICIPAL DE NAVIRAÍ/ MS | O5: RESPONSÁVEL ORÇAMENTO
B6: Município: | C6: =N.MUNICIPIO -> NAVIRAÍ | O6: __________________________________________
B7: Local: | C7: {=N.LOCAL} -> AVENIDA JOÃO RIGONATO | O7: =N.Engenheiro -> FÁBIO MARQUES RIBEIRO
B8: SIST./REF.: | C8: {=N.BASE} -> AGESUL(SETEMBRO/2025)/SINAPI(SETEMBRO/2025) | O8: =N.CREA -> ENGENHEIRO CIVIL - 15.276 D/MS
B10: CPU-CAT 06 | C10: MOBILIZAÇÃO E DESMOBILIZAÇÃO | Q10: UN
B11: CÓDIGO | C11: FONTE | D11: TIPO | E11: DESCRIÇÃO | F11: TRANSP RODOV | H11: DMT | J11: VELOCIDADE PAVIMENTADA | K11: VELOCIDADE NÃO PAVIMENTADA | L11: FATOR RETORNO (K) | M11: TEMPO DE VIAGEM | N11: QUANTIDADE | O11: S/DESONERAÇÃO | W11: MODELO COMPOSIÇÃO OU CAIXA
F12: CÓD | G12: FU | H12: PAVIMENTADA | I12: NÃO PAVIMENTADA | O12: CUSTO HORÁRIO EQUIPAMENTO | P12: CUSTO HORÁRIO MOTORISTA | Q12: VALOR TOTAL | W12: COD. TRANSPORT. RODOV. | X12: SOMATORIA TOTAL | Y12: CUSTO UNITARIO | Z12: REPRESENTATIVIDADE NA SOMATORIA TOTAL
B13: 3363 | C13: SINAPI | D13: COMPOSIÇÃO AUXILIAR | E13: GUINDAUTO HIDRAULICO, CAPACIDADE MAXIMA DE CARGA 6200 KG, MOMENTO MAXIMO DE CARGA 11,7 TM, ALCANCE MAXIMO HORIZONTAL 9,70 M, PARA MONTAGEM SOBRE CHASSI DE CAMINHAO PBT MINIMO 13000 KG (INCLUI MONTAGEM, NAO INCLUI CAMINHAO) | F13: E9665 | G13: 1 | H13: =$F$39 -> 366.4 | I13: 0 | J13: 80 | K13: 30 | L13: 2 | M13: =(H13/J13+I13/K13)*L13 -> 9.16 | N13: 1 | O13: =S13 -> 397.7997 | P13: 0 | Q13: =((H13*L13*'MOBIL-DESMOB'!G13)/J13)*O13 -> 3643.8453 | S13: 397.7997 | T13: #REF! | W13: E9665 | X13: =SUMIFS($Q$13:$Q$36,$F$13:$F$36,W13) -> 61945.369 | Y13: =VLOOKUP(W13,$F$13:$T$36,15,0) -> #REF! | Z13: =X13/Y13 -> #REF!
B14: 4090 | C14: SINAPI | D14: COMPOSIÇÃO AUXILIAR | E14: MOTONIVELADORA POTENCIA BASICA LIQUIDA (PRIMEIRA MARCHA) 125 HP, PESO BRUTO 13843 KG, LARGURA DA LAMINA DE 3,7 M | F14: E9665 | G14: 1 | H14: =$F$39 -> 366.4 | I14: 0 | J14: 80 | K14: 30 | L14: 2 | M14: =(H14/J14+I14/K14)*L14 -> 9.16 | N14: 1 | O14: =S14 -> 397.7997 | P14: 0 | Q14: =((H14*L14*G14)/J14)*O14 -> 3643.8453 | S14: 397.7997 | T14: #REF! | W14: 83362 | X14: =SUMIFS($Q$13:$Q$36,$F$13:$F$36,W14) -> 2371.4324 | Y14: =VLOOKUP(W14,$F$13:$T$36,15,0) -> #REF! | Z14: =X14/Y14 -> #REF!
B15: 4262 | C15: SINAPI | D15: COMPOSIÇÃO AUXILIAR | E15: PA CARREGADEIRA SOBRE RODAS, POTENCIA LIQUIDA 128 HP, CAPACIDADE DA CACAMBA DE 1,7 A 2,8 M3, PESO OPERACIONAL MAXIMO DE 11632 KG | F15: E9665 | G15: 1 | H15: =$F$39 -> 366.4 | I15: 0 | J15: 80 | K15: 30 | L15: 2 | M15: =(H15/J15+I15/K15)*L15 -> 9.16 | N15: 1 | O15: =S15 -> 397.7997 | P15: 0 | Q15: =((H15*L15*G15)/J15)*O15 -> 3643.8453 | S15: 397.7997 | T15: #REF! | W15: E9571 | X15: =SUMIFS($Q$13:$Q$36,$F$13:$F$36,W15) -> 2937.1393 | Y15: =VLOOKUP(W15,$F$13:$T$36,15,0) -> #REF! | Z15: =X15/Y15 -> #REF!
B16: 7622 | C16: SINAPI | D16: COMPOSIÇÃO AUXILIAR | E16: TRATOR DE ESTEIRAS, POTENCIA DE 100 HP, PESO OPERACIONAL DE 9,4 T, COM LAMINA COM CAPACIDADE DE 2,19 M3 | F16: E9665 | G16: 1 | H16: =$F$39 -> 366.4 | I16: 0 | J16: 80 | K16: 30 | L16: 2 | M16: =(H16/J16+I16/K16)*L16 -> 9.16 | N16: 1 | O16: =S16 -> 397.7997 | P16: 0 | Q16: =((H16*L16*G16)/J16)*O16 -> 3643.8453 | S16: 397.7997 | T16: #REF! | W16: E9687 | X16: =SUMIFS($Q$13:$Q$36,$F$13:$F$36,W16) -> 1319.5575 | Y16: =VLOOKUP(W16,$F$13:$T$36,15,0) -> #REF! | Z16: =X16/Y16 -> #REF!
B17: 7640 | C17: SINAPI | D17: COMPOSIÇÃO AUXILIAR | E17: TRATOR DE PNEUS COM POTENCIA DE 85 CV, TRACAO 4 X 4, PESO COM LASTRO DE 4675 KG | F17: E9665 | G17: 0.5 | H17: =$F$39 -> 366.4 | I17: 0 | J17: 80 | K17: 30 | L17: 2 | M17: =(H17/J17+I17/K17)*L17 -> 9.16 | N17: 1 | O17: =S17 -> 397.7997 | P17: 0 | Q17: =((H17*L17*G17)/J17)*O17 -> 1821.9226 | S17: 397.7997 | T17: #REF! | W17: E9667 | X17: =SUMIFS($Q$13:$Q$36,$F$13:$F$36,W17) -> 2788.0585 | Y17: =VLOOKUP(W17,$F$13:$T$36,15,0) -> #REF! | Z17: =X17/Y17 -> #REF!
B18: 10535 | C18: SINAPI | D18: COMPOSIÇÃO AUXILIAR | E18: BETONEIRA CAPACIDADE NOMINAL 400 L, CAPACIDADE DE MISTURA 280 L, MOTOR ELETRICO TRIFASICO 220/380 V POTENCIA 2 CV, SEM CARREGADOR | F18: E9665 | G18: 0.5 | H18: =$F$39 -> 366.4 | I18: 0 | J18: 80 | K18: 30 | L18: 2 | M18: =(H18/J18+I18/K18)*L18 -> 9.16 | N18: 1 | O18: =S18 -> 397.7997 | P18: 0 | Q18: =((H18*L18*G18)/J18)*O18 -> 1821.9226 | S18: 397.7997 | T18: #REF!
B19: 10646 | C19: SINAPI | D19: COMPOSIÇÃO AUXILIAR | E19: ROLO COMPACTADOR VIBRATORIO DE UM CILINDRO, ACO LISO, POTENCIA 80 HP, PESO OPERACIONAL MAXIMO 8,1 T, IMPACTO DINAMICO 16,15/9,5 T, LARGURA TRABALHO 1,68 M | F19: E9665 | G19: 0.5 | H19: =$F$39 -> 366.4 | I19: 0 | J19: 80 | K19: 30 | L19: 2 | M19: =(H19/J19+I19/K19)*L19 -> 9.16 | N19: 1 | O19: =S19 -> 397.7997 | P19: 0 | Q19: =((H19*L19*G19)/J19)*O19 -> 1821.9226 | S19: 397.7997 | T19: #REF!
B20: 10685 | C20: SINAPI | D20: COMPOSIÇÃO AUXILIAR | E20: ESCAVADEIRA HIDRAULICA SOBRE ESTEIRAS, CACAMBA 0,80M3, PESO OPERACIONAL 17T, POTENCIA BRUTA 111HP | F20: E9665 | G20: 1 | H20: =$F$39 -> 366.4 | I20: 0 | J20: 80 | K20: 30 | L20: 2 | M20: =(H20/J20+I20/K20)*L20 -> 9.16 | N20: 1 | O20: =S20 -> 397.7997 | P20: 0 | Q20: =((H20*L20*G20)/J20)*O20 -> 3643.8453 | S20: 397.7997 | T20: #REF!
B21: 13458 | C21: SINAPI | D21: COMPOSIÇÃO AUXILIAR | E21: COMPACTADOR DE SOLOS DE PERCURSAO (SOQUETE) COM MOTOR A GASOLINA 4 TEMPOS DE 4 HP (4 CV) | F21: E9665 | G21: 1 | H21: =$F$39 -> 366.4 | I21: 0 | J21: 80 | K21: 30 | L21: 2 | M21: =(H21/J21+I21/K21)*L21 -> 9.16 | N21: 1 | O21: =S21 -> 397.7997 | P21: 0 | Q21: =((H21*L21*G21)/J21)*O21 -> 3643.8453 | S21: 397.7997 | T21: #REF!
B22: 13726 | C22: SINAPI | D22: COMPOSIÇÃO AUXILIAR | E22: VASSOURA MECANICA REBOCAVEL COM ESCOVA CILINDRICA LARGURA UTIL DE VARRIMENTO = 2,44M | F22: E9665 | G22: 1 | H22: =$F$39 -> 366.4 | I22: 0 | J22: 80 | K22: 30 | L22: 2 | M22: =(H22/J22+I22/K22)*L22 -> 9.16 | N22: 1 | O22: =S22 -> 397.7997 | P22: 0 | Q22: =((H22*L22*G22)/J22)*O22 -> 3643.8453 | S22: 397.7997 | T22: #REF!
B23: 13836 | C23: SINAPI | D23: COMPOSIÇÃO AUXILIAR | E23: MAQUINA EXTRUSORA DE CONCRETO PARA GUIAS E SARJETAS, COM MOTOR A DIESEL E POTENCIA DE 14 CV | F23: E9665 | G23: 1 | H23: =$F$39 -> 366.4 | I23: 0 | J23: 80 | K23: 30 | L23: 2 | M23: =(H23/J23+I23/K23)*L23 -> 9.16 | N23: 1 | O23: =S23 -> 397.7997 | P23: 0 | Q23: =((H23*L23*G23)/J23)*O23 -> 3643.8453 | S23: 397.7997 | T23: #REF!
B24: 14511 | C24: SINAPI | D24: COMPOSIÇÃO AUXILIAR | E24: ROLO COMPACTADOR DE PNEUS, ESTATICO, PRESSAO VARIAVEL, POTENCIA 110 HP, PESO SEM/COM LASTRO 10,8/27 T, LARGURA DE ROLAGEM 2,30 M | F24: E9665 | G24: 1 | H24: =$F$39 -> 366.4 | I24: 0 | J24: 80 | K24: 30 | L24: 2 | M24: =(H24/J24+I24/K24)*L24 -> 9.16 | N24: 1 | O24: =S24 -> 397.7997 | P24: 0 | Q24: =((H24*L24*G24)/J24)*O24 -> 3643.8453 | S24: 397.7997 | T24: #REF!
B25: 14525 | C25: SINAPI | D25: COMPOSIÇÃO AUXILIAR | E25: ESCAVADEIRA HIDRAULICA SOBRE ESTEIRAS COM CACAMBA DE 1,20 M3, PESO OPERACIONAL 21 T, POTENCIA BRUTA 155 HP | F25: E9665 | G25: 1 | H25: =$F$39 -> 366.4 | I25: 0 | J25: 80 | K25: 30 | L25: 2 | M25: =(H25/J25+I25/K25)*L25 -> 9.16 | N25: 1 | O25: =S25 -> 397.7997 | P25: 0 | Q25: =((H25*L25*G25)/J25)*O25 -> 3643.8453 | S25: 397.7997 | T25: #REF!
B26: 14626 | C26: SINAPI | D26: COMPOSIÇÃO AUXILIAR | E26: ROLO COMPACTADOR VIBRATORIO TANDEM, ACO LISO, POTENCIA 125 HP, PESO SEM/COM LASTRO 10,20/11,65 T, LARGURA DE TRABALHO 1,73 M | F26: E9665 | G26: 1 | H26: =$F$39 -> 366.4 | I26: 0 | J26: 80 | K26: 30 | L26: 2 | M26: =(H26/J26+I26/K26)*L26 -> 9.16 | N26: 1 | O26: =S26 -> 397.7997 | P26: 0 | Q26: =((H26*L26*G26)/J26)*O26 -> 3643.8453 | S26: 397.7997 | T26: #REF!
B27: 36531 | C27: SINAPI | D27: COMPOSIÇÃO AUXILIAR | E27: RETROESCAVADEIRA SOBRE RODAS COM CARREGADEIRA, TRACAO 4 X 4, POTENCIA LIQUIDA 88 HP, PESO OPERACIONAL MINIMO DE 6674 KG, CAPACIDADE DA CARREGADEIRA DE 1,00 M3 E DA RETROESCAVADEIRA MINIMA DE 0,26 M3, PROFUNDIDADE DE ESCAVACAO MAXIMA DE 4,37 M | F27: E9665 | G27: 1 | H27: =$F$39 -> 366.4 | I27: 0 | J27: 80 | K27: 30 | L27: 2 | M27: =(H27/J27+I27/K27)*L27 -> 9.16 | N27: 1 | O27: =S27 -> 397.7997 | P27: 0 | Q27: =((H27*L27*G27)/J27)*O27 -> 3643.8453 | S27: 397.7997 | T27: #REF!
B28: 10488 | C28: SINAPI | D28: COMPOSIÇÃO AUXILIAR | E28: VIBROACABADORA DE ASFALTO SOBRE ESTEIRAS, LARG. PAVIMENT. 1,90 A 5,3 M, POT. 78 KW/105 HP, CAP. 450 T/H | F28: E9665 | G28: 1 | H28: =$F$39 -> 366.4 | I28: 0 | J28: 80 | K28: 30 | L28: 2 | M28: =(H28/J28+I28/K28)*L28 -> 9.16 | N28: 1 | O28: =S28 -> 397.7997 | P28: 0 | Q28: =((H28*L28*G28)/J28)*O28 -> 3643.8453 | S28: 397.7997 | T28: #REF!
B29: 36484 | C29: SINAPI | D29: COMPOSIÇÃO AUXILIAR | E29: ESPARGIDOR DE ASFALTO PRESSURIZADO, TANQUE 6 M3 COM ISOLACAO TERMICA, AQUECIDO COM 2 MACARICOS, COM BARRA ESPARGIDORA 3,60 M, A SER MONTADO SOBRE CAMINHAO | F29: 83362 | G29: 1 | H29: =$F$39 -> 366.4 | I29: 0 | J29: 80 | K29: 30 | L29: 2 | M29: =(H29/J29+I29/K29)*L29 -> 9.16 | N29: 1 | O29: =S29 -> 258,89 | P29: 0 | Q29: =((H29*L29*G29)/J29)*O29 -> 2371.4324 | S29: 258,89 | T29: #REF!
B30: E9665 | C30: SINAPI | D30: COMPOSIÇÃO AUXILIAR | E30: CAVALO MECÂNICO COM SEMIRREBOQUE COM CAPACIDADE DE 22 T - 240 KW | F30: E9665 | G30: 1 | H30: =$F$39 -> 366.4 | I30: 0 | J30: 80 | K30: 30 | L30: 2 | M30: =(H30/J30+I30/K30)*L30 -> 9.16 | N30: 1 | O30: =S30 -> 397.7997 | P30: 0 | Q30: =((H30*L30*G30)/J30)*O30 -> 3643.8453 | S30: 397.7997 | T30: #REF!
B31: E9571 | C31: SINAPI | D31: COMPOSIÇÃO AUXILIAR | E31: CAMINHÃO TANQUE COM CAPACIDADE DE 10.000 L - 188 KW | F31: E9571 | G31: 1 | H31: =$F$39 -> 366.4 | I31: 0 | J31: 80 | K31: 30 | L31: 2 | M31: =(H31/J31+I31/K31)*L31 -> 9.16 | N31: 1 | O31: =S31 -> 320.6484 | P31: 0 | Q31: =((H31*L31*G31)/J31)*O31 -> 2937.1393 | S31: 320.6484 | T31: #REF!
B32: E9687 | C32: SINAPI | D32: COMPOSIÇÃO AUXILIAR | E32: CAMINHÃO CARROCERIA COM CAPACIDADE DE 5 T - 115 KW | F32: E9687 | G32: 1 | H32: =$F$39 -> 366.4 | I32: 0 | J32: 80 | K32: 30 | L32: 2 | M32: =(H32/J32+I32/K32)*L32 -> 9.16 | N32: 1 | O32: =S32 -> 144.0565 | P32: 0 | Q32: =((H32*L32*G32)/J32)*O32 -> 1319.5575 | S32: 144.0565 | T32: #REF!
B33: E9667 | C33: SINAPI | D33: COMPOSIÇÃO AUXILIAR | E33: CAMINHÃO BASCULANTE COM CAPACIDADE DE 14 M³ - 210 KW | F33: E9667 | G33: 1 | H33: =$F$39 -> 366.4 | I33: 0 | J33: 80 | K33: 30 | L33: 2 | M33: =(H33/J33+I33/K33)*L33 -> 9.16 | N33: 5 | O33: =S33 -> 304.3732 | P33: 0 | Q33: =((H33*L33*G33)/J33)*O33 -> 2788.0585 | S33: 304.3732 | T33: #REF!
B34: 10775 | C34: SINAPI | D34: COMPOSIÇÃO AUXILIAR | E34: LOCACAO DE CONTAINER 2,30 X 6,00 M, ALT. 2,50 M, COM 1 SANITARIO, PARA ESCRITORIO, COMPLETO, SEM DIVISORIAS INTERNAS (NAO INCLUI MOBILIZACAO/DESMOBILIZACAO) | F34: E9665 | G34: 0.5 | H34: =$F$39 -> 366.4 | I34: 0 | J34: 80 | K34: 30 | L34: 2 | M34: =(H34/J34+I34/K34)*L34 -> 9.16 | N34: 1 | O34: =S34 -> 397.7997 | P34: 0 | Q34: =((H34*L34*G34)/J34)*O34 -> 1821.9226 | S34: 397.7997 | T34: #REF!
B35: 10776 | C35: SINAPI | D35: COMPOSIÇÃO AUXILIAR | E35: LOCACAO DE CONTAINER 2,30 X 6,00 M, ALT. 2,50 M, PARA ESCRITORIO, SEM DIVISORIAS INTERNAS E SEM SANITARIO (NAO INCLUI MOBILIZACAO/DESMOBILIZACAO) | F35: E9665 | G35: 0.5 | H35: =$F$39 -> 366.4 | I35: 0 | J35: 80 | K35: 30 | L35: 2 | M35: =(H35/J35+I35/K35)*L35 -> 9.16 | N35: 1 | O35: =S35 -> 397.7997 | P35: 0 | Q35: =((H35*L35*G35)/J35)*O35 -> 1821.9226 | S35: 397.7997 | T35: #REF!
B36: 10779 | C36: SINAPI | D36: COMPOSIÇÃO AUXILIAR | E36: LOCACAO DE CONTAINER 2,30 X 4,30 M, ALT. 2,50 M, P/ SANITARIO, C/ 5 BACIAS, 1 LAVATORIO E 4 MICTORIOS (NAO INCLUI MOBILIZACAO/DESMOBILIZACAO) | F36: E9665 | G36: 0.5 | H36: =$F$39 -> 366.4 | I36: 0 | J36: 80 | K36: 30 | L36: 2 | M36: =(H36/J36+I36/K36)*L36 -> 9.16 | N36: 1 | O36: =S36 -> 397.7997 | P36: 0 | Q36: =((H36*L36*G36)/J36)*O36 -> 1821.9226 | S36: 397.7997 | T36: #REF!
Q37: =SUM(Q13:Q36) -> 71361.557
C38: OBS: | E38: TRECHO | F38: DMT
E39: CAMPO GRANDE - NAVIRAI | F39: 366.4 | G39: KM

Sheet COMPOSIÇÕES
D1: =N.GOV -> GOVERNO DO ESTADO DE MATO GROSSO DO SUL
D2: {=N.PREFEITURA} -> PREFEITURA MUNICIPAL DE NAVIRAÍ
D3: {=N.SECRETARIA} -> SECRETARIA DE PLANEJAMENTO
B4: COMPOSIÇÃO DE CUSTO UNITÁRIO
B5: Objeto: | C5: =N.DESCRICAO -> INFRAESTRUTURA URBANA – PAVIMENTAÇÃO ASFÁLTICA, DRENAGEM, E SINALIZAÇÃO VIÁRIA NO ACESSO AO CEMITERIO MUNICIPAL DE NAVIRAÍ/ MS | G5: RESPONSÁVEL ORÇAMENTO
B6: Município: | C6: =N.MUNICIPIO -> NAVIRAÍ | G6: __________________________________________
B7: Local: | C7: {=N.LOCAL} -> AVENIDA JOÃO RIGONATO | G7: =N.Engenheiro -> FÁBIO MARQUES RIBEIRO
B8: SIST./REF.: | C8: {=N.BASE} -> AGESUL(SETEMBRO/2025)/SINAPI(SETEMBRO/2025) | G8: =N.CREA -> ENGENHEIRO CIVIL - 15.276 D/MS
B9: CODIGO | C9: FONTE | D9: TIPO | E9: DESCRIÇÃO | F9: UNIDADE | G9: COEFICIENTE | H9: PREÇO UNITARIO | I9: PREÇO TOTAL | L9: Linha composição | M9: Filtro Geral
A10: =IF(AND(D10="",E10<>""),B10,"") -> CPU-CAT 01 | B10: CPU-CAT 01 | E10: PLACA DE OBRA EM CHAPA DE ACO GALVANIZADO (REFER. SINAPI CÓD. 74209/001) | F10: M2 | I10: =SUM(I11:I17) -> #VALUE! | K10: =IF(A10=B10,IFERROR(VLOOKUP(B10,#REF!,1,0),"-"),"-") -> - | L10: =IF(ISBLANK(B10)=FALSE,1,0) -> 1 | M10: =K10 -> -
B11: 4417 | C11: SINAPI | D11: COMPOSIÇÃO AUXILIAR | E11: {=UPPER(IF(C11="COMPOSIÇÃO",_xlfn.XLOOKUP($B11,A:A,E:E,),IF(C11="COTAÇÃO",VLOOKUP($B11,COTAÇÕES!$A$11:$E$37,2,0),IF(C11="SINAPI",BuscarCampoAccess("Descricao",B11,B.A_SINAPI,B.M_SINAPI,C11),IF(C11="AGESUL",BuscarCampoAccess("Descricao",B11,B.A_AGESUL,B.M_AGESUL,C11),IF(C11="SICRO",BuscarCampoAccess("Descricao",B11,B.A_SICRO,B.M_SICRO,C11),"NÃO ENCONTRADO"))))))} -> ERRO: CONEXÃO NÃO ESTABELECIDA. CLIQUE EM CONECTAR. | F11: {=UPPER(IF(C11="COMPOSIÇÃO",_xlfn.XLOOKUP($B11,A:A,F:F,),IF(C11="COTAÇÃO",VLOOKUP($B11,COTAÇÕES!$A$11:$E$37,3,0),IF(C11="SINAPI",BuscarCampoAccess("Unidade",B11,B.A_SINAPI,B.M_SINAPI,C11),IF(C11="AGESUL",BuscarCampoAccess("Unidade",B11,B.A_AGESUL,B.M_AGESUL,C11),IF(C11="SICRO",BuscarCampoAccess("Unidade",B11,B.A_SICRO,B.M_SICRO,C11)))))))} -> ERRO: CONEXÃO NÃO ESTABELECIDA. CLIQUE EM CONECTAR. | G11: 1 | H11: {=UPPER(IF(C11="COMPOSIÇÃO",_xlfn.XLOOKUP($B11,A:A,I:I,),IF(C11="COTAÇÃO",VLOOKUP($B11,COTAÇÕES!$A$11:$E$37,5,0),IF(C11="SINAPI",BuscarCampoAccess("Custo",B11,B.A_SINAPI,B.M_SINAPI,C11),IF(C11="AGESUL",BuscarCampoAccess("Custo",B11,B.A_AGESUL,B.M_AGESUL,C11),IF(C11="SICRO",BuscarCampoAccess("Custo",B11,B.A_SICRO,B.M_SICRO,C11)))))))} -> ERRO: CONEXÃO NÃO ESTABELECIDA. CLIQUE EM CONECTAR. | I11: =TRUNC(G11*H11,2) -> #VALUE! | K11: =IF(A11=B11,IFERROR(VLOOKUP(B11,#REF!,1,0),"-"),"-") -> - | L11: =IF(ISBLANK(B11)=FALSE,1,0) -> 1 | M11: =IF(M10=FALSE,K11,IF(L11=1,M10)) -> -
B12: 4491 | C12: SINAPI | D12: COMPOSIÇÃO AUXILIAR | E12: {=UPPER(IF(C12="COMPOSIÇÃO",_xlfn.XLOOKUP($B12,A:A,E:E,),IF(C12="COTAÇÃO",VLOOKUP($B12,COTAÇÕES!$A$11:$E$37,2,0),BuscarCampoAccess("Descricao",B12,B.A_SINAPI,B.M_SINAPI,C12))))} -> ERRO: CONEXÃO NÃO ESTABELECIDA. CLIQUE EM CONECTAR. | F12: {=UPPER(IF(C12="COMPOSIÇÃO",_xlfn.XLOOKUP($B12,A:A,F:F,),IF(C12="COTAÇÃO",VLOOKUP($B12,COTAÇÕES!$A$11:$E$37,3,0),BuscarCampoAccess("Unidade",B12,B.A_SINAPI,B.M_SINAPI,C12))))} -> ERRO: CONEXÃO NÃO ESTABELECIDA. CLIQUE EM CONECTAR. | G12: 4 | H12: {=UPPER(IF(C12="COMPOSIÇÃO",_xlfn.XLOOKUP($B12,A:A,I:I,),IF(C12="COTAÇÃO",VLOOKUP($B12,COTAÇÕES!$A$11:$E$37,5,0),BuscarCampoAccess("Custo",B12,B.A_SINAPI,B.M_SINAPI,C12))))} -> ERRO: CONEXÃO NÃO ESTABELECIDA. CLIQUE EM CONECTAR. | I12: =TRUNC(G12*H12,2) -> #VALUE! | K12: =IF(A12=B12,IFERROR(VLOOKUP(B12,#REF!,1,0),"-"),"-") -> - | L12: =IF(ISBLANK(B12)=FALSE,1,0) -> 1 | M12: =IF(M11=FALSE,K12,IF(L12=1,M11)) -> -
B13: 4813 | C13: SINAPI | D13: COMPOSIÇÃO AUXILIAR | E13: {=UPPER(IF(C13="COMPOSIÇÃO",_xlfn.XLOOKUP($B13,A:A,E:E,),IF(C13="COTAÇÃO",VLOOKUP($B13,COTAÇÕES!$A$11:$E$37,2,0),BuscarCampoAccess("Descricao",B13,B.A_SINAPI,B.M_SINAPI,C13))))} -> ERRO: CONEXÃO NÃO ESTABELECIDA. CLIQUE EM CONECTAR. | F13: {=UPPER(IF(C13="COMPOSIÇÃO",_xlfn.XLOOKUP($B13,A:A,F:F,),IF(C13="COTAÇÃO",VLOOKUP($B13,COTAÇÕES!$A$11:$E$37,3,0),BuscarCampoAccess("Unidade",B13,B.A_SINAPI,B.M_SINAPI,C13))))} -> ERRO: CONEXÃO NÃO ESTABELECIDA. CLIQUE EM CONECTAR. | G13: 1 | H13: {=UPPER(IF(C13="COMPOSIÇÃO",_xlfn.XLOOKUP($B13,A:A,I:I,),IF(C13="COTAÇÃO",VLOOKUP($B13,COTAÇÕES!$A$11:$E$37,5,0),BuscarCampoAccess("Custo",B13,B.A_SINAPI,B.M_SINAPI,C13))))} -> ERRO: CONEXÃO NÃO ESTABELECIDA. CLIQUE EM CONECTAR. | I13: =TRUNC(G13*H13,2) -> #VALUE! | K13: =IF(A13=B13,IFERROR(VLOOKUP(B13,#REF!,1,0),"-"),"-") -> - | L13: =IF(ISBLANK(B13)=FALSE,1,0) -> 1 | M13: =IF(M12=FALSE,K13,IF(L13=1,M12)) -> -
B14: 5075 | C14: SINAPI | D14: COMPOSIÇÃO AUXILIAR | E14: {=UPPER(IF(C14="COMPOSIÇÃO",_xlfn.XLOOKUP($B14,A:A,E:E,),IF(C14="COTAÇÃO",VLOOKUP($B14,COTAÇÕES!$A$11:$E$37,2,0),BuscarCampoAccess("Descricao",B14,B.A_SINAPI,B.M_SINAPI,C14))))} -> ERRO: CONEXÃO NÃO ESTABELECIDA. CLIQUE EM CONECTAR. | F14: {=UPPER(IF(C14="COMPOSIÇÃO",_xlfn.XLOOKUP($B14,A:A,F:F,),IF(C14="COTAÇÃO",VLOOKUP($B14,COTAÇÕES!$A$11:$E$37,3,0),BuscarCampoAccess("Unidade",B14,B.A_SINAPI,B.M_SINAPI,C14))))} -> ERRO: CONEXÃO NÃO ESTABELECIDA. CLIQUE EM CONECTAR. | G14: 0.11 | H14: {=UPPER(IF(C14="COMPOSIÇÃO",_xlfn.XLOOKUP($B14,A:A,I:I,),IF(C14="COTAÇÃO",VLOOKUP($B14,COTAÇÕES!$A$11:$E$37,5,0),BuscarCampoAccess("Custo",B14,B.A_SINAPI,B.M_SINAPI,C14))))} -> ERRO: CONEXÃO NÃO ESTABELECIDA. CLIQUE EM CONECTAR. | I14: =TRUNC(G14*H14,2) -> #VALUE! | K14: =IF(A14=B14,IFERROR(VLOOKUP(B14,#REF!,1,0),"-"),"-") -> - | L14: =IF(ISBLANK(B14)=FALSE,1,0) -> 1 | M14: =IF(M13=FALSE,K14,IF(L14=1,M13)) -> -
B15: 88262 | C15: SINAPI | D15: COMPOSIÇÃO AUXILIAR | E15: {=UPPER(IF(C15="COMPOSIÇÃO",_xlfn.XLOOKUP($B15,A:A,E:E,),IF(C15="COTAÇÃO",VLOOKUP($B15,COTAÇÕES!$A$11:$E$37,2,0),BuscarCampoAccess("Descricao",B15,B.A_SINAPI,B.M_SINAPI,C15))))} -> ERRO: CONEXÃO NÃO ESTABELECIDA. CLIQUE EM CONECTAR. | F15: {=UPPER(IF(C15="COMPOSIÇÃO",_xlfn.XLOOKUP($B15,A:A,F:F,),IF(C15="COTAÇÃO",VLOOKUP($B15,COTAÇÕES!$A$11:$E$37,3,0),BuscarCampoAccess("Unidade",B15,B.A_SINAPI,B.M_SINAPI,C15))))} -> ERRO: CONEXÃO NÃO ESTABELECIDA. CLIQUE EM CONECTAR. | G15: 1 | H15: {=UPPER(IF(C15="COMPOSIÇÃO",_xlfn.XLOOKUP($B15,A:A,I:I,),IF(C15="COTAÇÃO",VLOOKUP($B15,COTAÇÕES!$A$11:$E$37,5,0),BuscarCampoAccess("Custo",B15,B.A_SINAPI,B.M_SINAPI,C15))))} -> ERRO: CONEXÃO NÃO ESTABELECIDA. CLIQUE EM CONECTAR. | I15: =TRUNC(G15*H15,2) -> #VALUE! | K15: =IF(A15=B15,IFERROR(VLOOKUP(B15,#REF!,1,0),"-"),"-") -> - | L15: =IF(ISBLANK(B15)=FALSE,1,0) -> 1 | M15: =IF(M14=FALSE,K15,IF(L15=1,M14)) -> -
B16: 88316 | C16: SINAPI | D16: COMPOSIÇÃO AUXILIAR | E16: {=UPPER(IF(C16="COMPOSIÇÃO",_xlfn.XLOOKUP($B16,A:A,E:E,),IF(C16="COTAÇÃO",VLOOKUP($B16,COTAÇÕES!$A$11:$E$37,2,0),BuscarCampoAccess("Descricao",B16,B.A_SINAPI,B.M_SINAPI,C16))))} -> ERRO: CONEXÃO NÃO ESTABELECIDA. CLIQUE EM CONECTAR. | F16: {=UPPER(IF(C16="COMPOSIÇÃO",_xlfn.XLOOKUP($B16,A:A,F:F,),IF(C16="COTAÇÃO",VLOOKUP($B16,COTAÇÕES!$A$11:$E$37,3,0),BuscarCampoAccess("Unidade",B16,B.A_SINAPI,B.M_SINAPI,C16))))} -> ERRO: CONEXÃO NÃO ESTABELECIDA. CLIQUE EM CONECTAR. | G16: 2 | H16: {=UPPER(IF(C16="COMPOSIÇÃO",_xlfn.XLOOKUP($B16,A:A,I:I,),IF(C16="COTAÇÃO",VLOOKUP($B16,COTAÇÕES!$A$11:$E$37,5,0),BuscarCampoAccess("Custo",B16,B.A_SINAPI,B.M_SINAPI,C16))))} -> ERRO: CONEXÃO NÃO ESTABELECIDA. CLIQUE EM CONECTAR. | I16: =TRUNC(G16*H16,2) -> #VALUE! | K16: =IF(A16=B16,IFERROR(VLOOKUP(B16,#REF!,1,0),"-"),"-") -> - | L16: =IF(ISBLANK(B16)=FALSE,1,0) -> 1 | M16: =IF(M15=FALSE,K16,IF(L16=1,M15)) -> -
B17: 94962 | C17: SINAPI | D17: COMPOSIÇÃO AUXILIAR | E17: {=UPPER(IF(C17="COMPOSIÇÃO",_xlfn.XLOOKUP($B17,A:A,E:E,),IF(C17="COTAÇÃO",VLOOKUP($B17,COTAÇÕES!$A$11:$E$37,2,0),BuscarCampoAccess("Descricao",B17,B.A_SINAPI,B.M_SINAPI,C17))))} -> ERRO: CONEXÃO NÃO ESTABELECIDA. CLIQUE EM CONECTAR. | F17: {=UPPER(IF(C17="COMPOSIÇÃO",_xlfn.XLOOKUP($B17,A:A,F:F,),IF(C17="COTAÇÃO",VLOOKUP($B17,COTAÇÕES!$A$11:$E$37,3,0),BuscarCampoAccess("Unidade",B17,B.A_SINAPI,B.M_SINAPI,C17))))} -> ERRO: CONEXÃO NÃO ESTABELECIDA. CLIQUE EM CONECTAR. | G17: 0.01 | H17: {=UPPER(IF(C17="COMPOSIÇÃO",_xlfn.XLOOKUP($B17,A:A,I:I,),IF(C17="COTAÇÃO",VLOOKUP($B17,COTAÇÕES!$A$11:$E$37,5,0),BuscarCampoAccess("Custo",B17,B.A_SINAPI,B.M_SINAPI,C17))))} -> ERRO: CONEXÃO NÃO ESTABELECIDA. CLIQUE EM CONECTAR. | I17: =TRUNC(G17*H17,2) -> #VALUE! | K17: =IF(A17=B17,IFERROR(VLOOKUP(B17,#REF!,1,0),"-"),"-") -> - | L17: =IF(ISBLANK(B17)=FALSE,1,0) -> 1 | M17: =IF(M16=FALSE,K17,IF(L17=1,M16)) -> -
K18: =IF(A18=B18,IFERROR(VLOOKUP(B18,#REF!,1,0),"-"),"-") -> - | L18: =IF(ISBLANK(B18)=FALSE,1,0) -> 0 | M18: =IF(M17=FALSE,K18,IF(L18=1,M17)) -> FALSE
A19: =IF(AND(D19="",E19<>""),B19,"") -> CPU-CAT 02 | B19: CPU-CAT 02 | E19: SERVIÇOS TOPOGRAFICOS PARA PAVIMENTAÇÃO, INCLUSIVE NOTA DE SERVIÇOS, ACOMPANHAMENTO E GREIDE (REFER. SINAPI CÓD. 78472) | F19: M2 | I19: =SUM(I20:I25) -> #VALUE! | K19: =IF(A19=B19,IFERROR(VLOOKUP(B19,#REF!,1,0),"-"),"-") -> - | L19: =IF(ISBLANK(B19)=FALSE,1,0) -> 1 | M19: =IF(M18=FALSE,K19,IF(L19=1,M18)) -> -
B20: 4460 | C20: SINAPI | D20: COMPOSIÇÃO AUXILIAR | E20: {=UPPER(IF(C20="COMPOSIÇÃO",_xlfn.XLOOKUP($B20,A:A,E:E,),IF(C20="COTAÇÃO",VLOOKUP($B20,COTAÇÕES!$A$11:$E$37,2,0),BuscarCampoAccess("Descricao",B20,B.A_SINAPI,B.M_SINAPI,C20))))} -> ERRO: CONEXÃO NÃO ESTABELECIDA. CLIQUE EM CONECTAR. | F20: {=UPPER(IF(C20="COMPOSIÇÃO",_xlfn.XLOOKUP($B20,A:A,F:F,),IF(C20="COTAÇÃO",VLOOKUP($B20,COTAÇÕES!$A$11:$E$37,3,0),BuscarCampoAccess("Unidade",B20,B.A_SINAPI,B.M_SINAPI,C20))))} -> ERRO: CONEXÃO NÃO ESTABELECIDA. CLIQUE EM CONECTAR. | G20: 0.002886 | H20: {=UPPER(IF(C20="COMPOSIÇÃO",_xlfn.XLOOKUP($B20,A:A,I:I,),IF(C20="COTAÇÃO",VLOOKUP($B20,COTAÇÕES!$A$11:$E$37,5,0),BuscarCampoAccess("Custo",B20,B.A_SINAPI,B.M_SINAPI,C20))))} -> ERRO: CONEXÃO NÃO ESTABELECIDA. CLIQUE EM CONECTAR. | I20: =TRUNC(G20*H20,2) -> #VALUE! | K20: =IF(A20=B20,IFERROR(VLOOKUP(B20,#REF!,1,0),"-"),"-") -> - | L20: =IF(ISBLANK(B20)=FALSE,1,0) -> 1 | M20: =IF(M19=FALSE,K20,IF(L20=1,M19)) -> -
B21: 88253 | C21: SINAPI | D21: COMPOSIÇÃO AUXILIAR | E21: {=UPPER(IF(C21="COMPOSIÇÃO",_xlfn.XLOOKUP($B21,A:A,E:E,),IF(C21="COTAÇÃO",VLOOKUP($B21,COTAÇÕES!$A$11:$E$37,2,0),BuscarCampoAccess("Descricao",B21,B.A_SINAPI,B.M_SINAPI,C21))))} -> ERRO: CONEXÃO NÃO ESTABELECIDA. CLIQUE EM CONECTAR. | F21: {=UPPER(IF(C21="COMPOSIÇÃO",_xlfn.XLOOKUP($B21,A:A,F:F,),IF(C21="COTAÇÃO",VLOOKUP($B21,COTAÇÕES!$A$11:$E$37,3,0),BuscarCampoAccess("Unidade",B21,B.A_SINAPI,B.M_SINAPI,C21))))} -> ERRO: CONEXÃO NÃO ESTABELECIDA. CLIQUE EM CONECTAR. | G21: 0.0025 | H21: {=UPPER(IF(C21="COMPOSIÇÃO",_xlfn.XLOOKUP($B21,A:A,I:I,),IF(C21="COTAÇÃO",VLOOKUP($B21,COTAÇÕES!$A$11:$E$37,5,0),BuscarCampoAccess("Custo",B21,B.A_SINAPI,B.M_SINAPI,C21))))} -> ERRO: CONEXÃO NÃO ESTABELECIDA. CLIQUE EM CONECTAR. | I21: =TRUNC(G21*H21,2) -> #VALUE! | K21: =IF(A21=B21,IFERROR(VLOOKUP(B21,#REF!,1,0),"-"),"-") -> - | L21: =IF(ISBLANK(B21)=FALSE,1,0) -> 1 | M21: =IF(M20=FALSE,K21,IF(L21=1,M20)) -> -
B22: 88288 | C22: SINAPI | D22: COMPOSIÇÃO AUXILIAR | E22: {=UPPER(IF(C22="COMPOSIÇÃO",_xlfn.XLOOKUP($B22,A:A,E:E,),IF(C22="COTAÇÃO",VLOOKUP($B22,COTAÇÕES!$A$11:$E$37,2,0),BuscarCampoAccess("Descricao",B22,B.A_SINAPI,B.M_SINAPI,C22))))} -> ERRO: CONEXÃO NÃO ESTABELECIDA. CLIQUE EM CONECTAR. | F22: {=UPPER(IF(C22="COMPOSIÇÃO",_xlfn.XLOOKUP($B22,A:A,F:F,),IF(C22="COTAÇÃO",VLOOKUP($B22,COTAÇÕES!$A$11:$E$37,3,0),BuscarCampoAccess("Unidade",B22,B.A_SINAPI,B.M_SINAPI,C22))))} -> ERRO: CONEXÃO NÃO ESTABELECIDA. CLIQUE EM CONECTAR. | G22: 0.0025 | H22: {=UPPER(IF(C22="COMPOSIÇÃO",_xlfn.XLOOKUP($B22,A:A,I:I,),IF(C22="COTAÇÃO",VLOOKUP($B22,COTAÇÕES!$A$11:$E$37,5,0),BuscarCampoAccess("Custo",B22,B.A_SINAPI,B.M_SINAPI,C22))))} -> ERRO: CONEXÃO NÃO ESTABELECIDA. CLIQUE EM CONECTAR. | I22: =TRUNC(G22*H22,2) -> #VALUE! | K22: =IF(A22=B22,IFERROR(VLOOKUP(B22,#REF!,1,0),"-"),"-") -> - | L22: =IF(ISBLANK(B22)=FALSE,1,0) -> 1 | M22: =IF(M21=FALSE,K22,IF(L22=1,M21)) -> -
B23: 88316 | C23: SINAPI | D23: COMPOSIÇÃO AUXILIAR | E23: {=UPPER(IF(C23="COMPOSIÇÃO",_xlfn.XLOOKUP($B23,A:A,E:E,),IF(C23="COTAÇÃO",VLOOKUP($B23,COTAÇÕES!$A$11:$E$37,2,0),BuscarCampoAccess("Descricao",B23,B.A_SINAPI,B.M_SINAPI,C23))))} -> ERRO: CONEXÃO NÃO ESTABELECIDA. CLIQUE EM CONECTAR. | F23: {=UPPER(IF(C23="COMPOSIÇÃO",_xlfn.XLOOKUP($B23,A:A,F:F,),IF(C23="COTAÇÃO",VLOOKUP($B23,COTAÇÕES!$A$11:$E$37,3,0),BuscarCampoAccess("Unidade",B23,B.A_SINAPI,B.M_SINAPI,C23))))} -> ERRO: CONEXÃO NÃO ESTABELECIDA. CLIQUE EM CONECTAR. | G23: 0.0075 | H23: {=UPPER(IF(C23="COMPOSIÇÃO",_xlfn.XLOOKUP($B23,A:A,I:I,),IF(C23="COTAÇÃO",VLOOKUP($B23,COTAÇÕES!$A$11:$E$37,5,0),BuscarCampoAccess("Custo",B23,B.A_SINAPI,B.M_SINAPI,C23))))} -> ERRO: CONEXÃO NÃO ESTABELECIDA. CLIQUE EM CONECTAR. | I23: =TRUNC(G23*H23,2) -> #VALUE! | K23: =IF(A23=B23,IFERROR(VLOOKUP(B23,#REF!,1,0),"-"),"-") -> - | L23: =IF(ISBLANK(B23)=FALSE,1,0) -> 1 | M23: =IF(M22=FALSE,K23,IF(L23=1,M22)) -> -
B24: 90775 | C24: SINAPI | D24: COMPOSIÇÃO AUXILIAR | E24: {=UPPER(IF(C24="COMPOSIÇÃO",_xlfn.XLOOKUP($B24,A:A,E:E,),IF(C24="COTAÇÃO",VLOOKUP($B24,COTAÇÕES!$A$11:$E$37,2,0),BuscarCampoAccess("Descricao",B24,B.A_SINAPI,B.M_SINAPI,C24))))} -> ERRO: CONEXÃO NÃO ESTABELECIDA. CLIQUE EM CONECTAR. | F24: {=UPPER(IF(C24="COMPOSIÇÃO",_xlfn.XLOOKUP($B24,A:A,F:F,),IF(C24="COTAÇÃO",VLOOKUP($B24,COTAÇÕES!$A$11:$E$37,3,0),BuscarCampoAccess("Unidade",B24,B.A_SINAPI,B.M_SINAPI,C24))))} -> ERRO: CONEXÃO NÃO ESTABELECIDA. CLIQUE EM CONECTAR. | G24: 0.002 | H24: {=UPPER(IF(C24="COMPOSIÇÃO",_xlfn.XLOOKUP($B24,A:A,I:I,),IF(C24="COTAÇÃO",VLOOKUP($B24,COTAÇÕES!$A$11:$E$37,5,0),BuscarCampoAccess("Custo",B24,B.A_SINAPI,B.M_SINAPI,C24))))} -> ERRO: CONEXÃO NÃO ESTABELECIDA. CLIQUE EM CONECTAR. | I24: =TRUNC(G24*H24,2) -> #VALUE! | K24: =IF(A24=B24,IFERROR(VLOOKUP(B24,#REF!,1,0),"-"),"-") -> - | L24: =IF(ISBLANK(B24)=FALSE,1,0) -> 1 | M24: =IF(M23=FALSE,K24,IF(L24=1,M23)) -> -
B25: 92145 | C25: SINAPI | D25: COMPOSIÇÃO AUXILIAR | E25: {=UPPER(IF(C25="COMPOSIÇÃO",_xlfn.XLOOKUP($B25,A:A,E:E,),IF(C25="COTAÇÃO",VLOOKUP($B25,COTAÇÕES!$A$11:$E$37,2,0),BuscarCampoAccess("Descricao",B25,B.A_SINAPI,B.M_SINAPI,C25))))} -> ERRO: CONEXÃO NÃO ESTABELECIDA. CLIQUE EM CONECTAR. | F25: {=UPPER(IF(C25="COMPOSIÇÃO",_xlfn.XLOOKUP($B25,A:A,F:F,),IF(C25="COTAÇÃO",VLOOKUP($B25,COTAÇÕES!$A$11:$E$37,3,0),BuscarCampoAccess("Unidade",B25,B.A_SINAPI,B.M_SINAPI,C25))))} -> ERRO: CONEXÃO NÃO ESTABELECIDA. CLIQUE EM CONECTAR. | G25: 0.001 | H25: {=UPPER(IF(C25="COMPOSIÇÃO",_xlfn.XLOOKUP($B25,A:A,I:I,),IF(C25="COTAÇÃO",VLOOKUP($B25,COTAÇÕES!$A$11:$E$37,5,0),BuscarCampoAccess("Custo",B25,B.A_SINAPI,B.M_SINAPI,C25))))} -> ERRO: CONEXÃO NÃO ESTABELECIDA. CLIQUE EM CONECTAR. | I25: =TRUNC(G25*H25,2) -> #VALUE! | K25: =IF(A25=B25,IFERROR(VLOOKUP(B25,#REF!,1,0),"-"),"-") -> - | L25: =IF(ISBLANK(B25)=FALSE,1,0) -> 1 | M25: =IF(M24=FALSE,K25,IF(L25=1,M24)) -> -
K26: =IF(A26=B26,IFERROR(VLOOKUP(B26,#REF!,1,0),"-"),"-") -> - | L26: =IF(ISBLANK(B26)=FALSE,1,0) -> 0 | M26: =IF(M25=FALSE,K26,IF(L26=1,M25)) -> FALSE
A27: =IF(AND(D27="",E27<>""),B27,"") -> CPU-DRED 01 | B27: CPU-DRED 01 | E27: TAMPAO FOFO ARTICULADO, CLASSE D400 CARGA MAX 40 T, REDONDO TAMPA *600 MM, REDE PLUVIAL | F27: UN | I27: =SUM(I28:I31) -> #VALUE! | K27: =IF(A27=B27,IFERROR(VLOOKUP(B27,#REF!,1,0),"-"),"-") -> - | L27: =IF(ISBLANK(B27)=FALSE,1,0) -> 1 | M27: =IF(M26=FALSE,K27,IF(L27=1,M26)) -> -
B28: 21090 | C28: SINAPI | D28: COMPOSIÇÃO AUXILIAR | E28: {=UPPER(IF(C28="COMPOSIÇÃO",_xlfn.XLOOKUP($B28,A:A,E:E,),IF(C28="COTAÇÃO",VLOOKUP($B28,COTAÇÕES!$A$11:$E$37,2,0),BuscarCampoAccess("Descricao",B28,B.A_SINAPI,B.M_SINAPI,C28))))} -> ERRO: CONEXÃO NÃO ESTABELECIDA. CLIQUE EM CONECTAR. | F28: {=UPPER(IF(C28="COMPOSIÇÃO",_xlfn.XLOOKUP($B28,A:A,F:F,),IF(C28="COTAÇÃO",VLOOKUP($B28,COTAÇÕES!$A$11:$E$37,3,0),BuscarCampoAccess("Unidade",B28,B.A_SINAPI,B.M_SINAPI,C28))))} -> ERRO: CONEXÃO NÃO ESTABELECIDA. CLIQUE EM CONECTAR. | G28: 1 | H28: {=UPPER(IF(C28="COMPOSIÇÃO",_xlfn.XLOOKUP($B28,A:A,I:I,),IF(C28="COTAÇÃO",VLOOKUP($B28,COTAÇÕES!$A$11:$E$37,5,0),BuscarCampoAccess("Custo",B28,B.A_SINAPI,B.M_SINAPI,C28))))} -> ERRO: CONEXÃO NÃO ESTABELECIDA. CLIQUE EM CONECTAR. | I28: =TRUNC(G28*H28,2) -> #VALUE! | K28: =IF(A28=B28,IFERROR(VLOOKUP(B28,#REF!,1,0),"-"),"-") -> - | L28: =IF(ISBLANK(B28)=FALSE,1,0) -> 1 | M28: =IF(M27=FALSE,K28,IF(L28=1,M27)) -> -
B29: 94964 | C29: SINAPI | D29: COMPOSIÇÃO AUXILIAR | E29: {=UPPER(IF(C29="COMPOSIÇÃO",_xlfn.XLOOKUP($B29,A:A,E:E,),IF(C29="COTAÇÃO",VLOOKUP($B29,COTAÇÕES!$A$11:$E$37,2,0),BuscarCampoAccess("Descricao",B29,B.A_SINAPI,B.M_SINAPI,C29))))} -> ERRO: CONEXÃO NÃO ESTABELECIDA. CLIQUE EM CONECTAR. | F29: {=UPPER(IF(C29="COMPOSIÇÃO",_xlfn.XLOOKUP($B29,A:A,F:F,),IF(C29="COTAÇÃO",VLOOKUP($B29,COTAÇÕES!$A$11:$E$37,3,0),BuscarCampoAccess("Unidade",B29,B.A_SINAPI,B.M_SINAPI,C29))))} -> ERRO: CONEXÃO NÃO ESTABELECIDA. CLIQUE EM CONECTAR. | G29: 0.2664 | H29: {=UPPER(IF(C29="COMPOSIÇÃO",_xlfn.XLOOKUP($B29,A:A,I:I,),IF(C29="COTAÇÃO",VLOOKUP($B29,COTAÇÕES!$A$11:$E$37,5,0),BuscarCampoAccess("Custo",B29,B.A_SINAPI,B.M_SINAPI,C29))))} -> ERRO: CONEXÃO NÃO ESTABELECIDA. CLIQUE EM CONECTAR. | I29: =TRUNC(G29*H29,2) -> #VALUE! | K29: =IF(A29=B29,IFERROR(VLOOKUP(B29,#REF!,1,0),"-"),"-") -> - | L29: =IF(ISBLANK(B29)=FALSE,1,0) -> 1 | M29: =IF(M28=FALSE,K29,IF(L29=1,M28)) -> -
B30: 88309 | C30: SINAPI | D30: COMPOSIÇÃO AUXILIAR | E30: {=UPPER(IF(C30="COMPOSIÇÃO",_xlfn.XLOOKUP($B30,A:A,E:E,),IF(C30="COTAÇÃO",VLOOKUP($B30,COTAÇÕES!$A$11:$E$37,2,0),BuscarCampoAccess("Descricao",B30,B.A_SINAPI,B.M_SINAPI,C30))))} -> ERRO: CONEXÃO NÃO ESTABELECIDA. CLIQUE EM CONECTAR. | F30: {=UPPER(IF(C30="COMPOSIÇÃO",_xlfn.XLOOKUP($B30,A:A,F:F,),IF(C30="COTAÇÃO",VLOOKUP($B30,COTAÇÕES!$A$11:$E$37,3,0),BuscarCampoAccess("Unidade",B30,B.A_SINAPI,B.M_SINAPI,C30))))} -> ERRO: CONEXÃO NÃO ESTABELECIDA. CLIQUE EM CONECTAR. | G30: 1 | H30: {=UPPER(IF(C30="COMPOSIÇÃO",_xlfn.XLOOKUP($B30,A:A,I:I,),IF(C30="COTAÇÃO",VLOOKUP($B30,COTAÇÕES!$A$11:$E$37,5,0),BuscarCampoAccess("Custo",B30,B.A_SINAPI,B.M_SINAPI,C30))))} -> ERRO: CONEXÃO NÃO ESTABELECIDA. CLIQUE EM CONECTAR. | I30: =TRUNC(G30*H30,2) -> #VALUE! | K30: =IF(A30=B30,IFERROR(VLOOKUP(B30,#REF!,1,0),"-"),"-") -> - | L30: =IF(ISBLANK(B30)=FALSE,1,0) -> 1 | M30: =IF(M29=FALSE,K30,IF(L30=1,M29)) -> -
B31: 88316 | C31: SINAPI | D31: COMPOSIÇÃO AUXILIAR | E31: {=UPPER(IF(C31="COMPOSIÇÃO",_xlfn.XLOOKUP($B31,A:A,E:E,),IF(C31="COTAÇÃO",VLOOKUP($B31,COTAÇÕES!$A$11:$E$37,2,0),BuscarCampoAccess("Descricao",B31,B.A_SINAPI,B.M_SINAPI,C31))))} -> ERRO: CONEXÃO NÃO ESTABELECIDA. CLIQUE EM CONECTAR. | F31: {=UPPER(IF(C31="COMPOSIÇÃO",_xlfn.XLOOKUP($B31,A:A,F:F,),IF(C31="COTAÇÃO",VLOOKUP($B31,COTAÇÕES!$A$11:$E$37,3,0),BuscarCampoAccess("Unidade",B31,B.A_SINAPI,B.M_SINAPI,C31))))} -> ERRO: CONEXÃO NÃO ESTABELECIDA. CLIQUE EM CONECTAR. | G31: 1 | H31: {=UPPER(IF(C31="COMPOSIÇÃO",_xlfn.XLOOKUP($B31,A:A,I:I,),IF(C31="COTAÇÃO",VLOOKUP($B31,COTAÇÕES!$A$11:$E$37,5,0),BuscarCampoAccess("Custo",B31,B.A_SINAPI,B.M_SINAPI,C31))))} -> ERRO: CONEXÃO NÃO ESTABELECIDA. CLIQUE EM CONECTAR. | I31: =TRUNC(G31*H31,2) -> #VALUE! | K31: =IF(A31=B31,IFERROR(VLOOKUP(B31,#REF!,1,0),"-"),"-") -> - | L31: =IF(ISBLANK(B31)=FALSE,1,0) -> 1 | M31: =IF(M30=FALSE,K31,IF(L31=1,M30)) -> -
K32: =IF(A32=B32,IFERROR(VLOOKUP(B32,#REF!,1,0),"-"),"-") -> - | L32: =IF(ISBLANK(B32)=FALSE,1,0) -> 0 | M32: =IF(M31=FALSE,K32,IF(L32=1,M31)) -> FALSE
A33: =IF(AND(D33="",E33<>""),B33,"") -> CPU-PAVT 01 | B33: CPU-PAVT 01 | E33: CARGA, MANOBRA E DESCARGA DE AREIA, BRITA, PEDRA DE MÃO E SOLOS COM CAMINHÃO BASCULANTE 6M3 (DESCARGA LIVRE) (REFER. SINAPI CÓD. 72844) | F33: UN | I33: =SUM(I34) -> #VALUE! | K33: =IF(A33=B33,IFERROR(VLOOKUP(B33,#REF!,1,0),"-"),"-") -> - | L33: =IF(ISBLANK(B33)=FALSE,1,0) -> 1 | M33: =IF(M32=FALSE,K33,IF(L33=1,M32)) -> -
B34: 5811 | C34: SINAPI | D34: COMPOSIÇÃO AUXILIAR | E34: {=UPPER(IF(C34="COMPOSIÇÃO",_xlfn.XLOOKUP($B34,A:A,E:E,),IF(C34="COTAÇÃO",VLOOKUP($B34,COTAÇÕES!$A$11:$E$37,2,0),BuscarCampoAccess("Descricao",B34,B.A_SINAPI,B.M_SINAPI,C34))))} -> ERRO: CONEXÃO NÃO ESTABELECIDA. CLIQUE EM CONECTAR. | F34: {=UPPER(IF(C34="COMPOSIÇÃO",_xlfn.XLOOKUP($B34,A:A,F:F,),IF(C34="COTAÇÃO",VLOOKUP($B34,COTAÇÕES!$A$11:$E$37,3,0),BuscarCampoAccess("Unidade",B34,B.A_SINAPI,B.M_SINAPI,C34))))} -> ERRO: CONEXÃO NÃO ESTABELECIDA. CLIQUE EM CONECTAR. | G34: 0.0047 | H34: {=UPPER(IF(C34="COMPOSIÇÃO",_xlfn.XLOOKUP($B34,A:A,I:I,),IF(C34="COTAÇÃO",VLOOKUP($B34,COTAÇÕES!$A$11:$E$37,5,0),BuscarCampoAccess("Custo",B34,B.A_SINAPI,B.M_SINAPI,C34))))} -> ERRO: CONEXÃO NÃO ESTABELECIDA. CLIQUE EM CONECTAR. | I34: =TRUNC(G34*H34,2) -> #VALUE! | K34: =IF(A34=B34,IFERROR(VLOOKUP(B34,#REF!,1,0),"-"),"-") -> - | L34: =IF(ISBLANK(B34)=FALSE,1,0) -> 1 | M34: =IF(M33=FALSE,K34,IF(L34=1,M33)) -> -
K35: =IF(A35=B35,IFERROR(VLOOKUP(B35,#REF!,1,0),"-"),"-") -> - | L35: =IF(ISBLANK(B35)=FALSE,1,0) -> 0 | M35: =IF(M34=FALSE,K35,IF(L35=1,M34)) -> FALSE
A36: =IF(AND(D36="",E36<>""),B36,"") -> CPU-PAVT 02 | B36: CPU-PAVT 02 | E36: TRANSPORTE COMERCIAL COM CAMINHÃO CARROCERIA 9T, RODOVIA PAVIMENTADA (REFER. SINAPI CÓD. 72840)844) | F36: TXKM | I36: =SUM(I37) -> #VALUE! | K36: =IF(A36=B36,IFERROR(VLOOKUP(B36,#REF!,1,0),"-"),"-") -> - | L36: =IF(ISBLANK(B36)=FALSE,1,0) -> 1 | M36: =IF(M35=FALSE,K36,IF(L36=1,M35)) -> -
B37: 5811 | C37: SINAPI | D37: COMPOSIÇÃO AUXILIAR | E37: {=UPPER(IF(C37="COMPOSIÇÃO",_xlfn.XLOOKUP($B37,A:A,E:E,),IF(C37="COTAÇÃO",VLOOKUP($B37,COTAÇÕES!$A$11:$E$37,2,0),BuscarCampoAccess("Descricao",B37,B.A_SINAPI,B.M_SINAPI,C37))))} -> ERRO: CONEXÃO NÃO ESTABELECIDA. CLIQUE EM CONECTAR. | F37: {=UPPER(IF(C37="COMPOSIÇÃO",_xlfn.XLOOKUP($B37,A:A,F:F,),IF(C37="COTAÇÃO",VLOOKUP($B37,COTAÇÕES!$A$11:$E$37,3,0),BuscarCampoAccess("Unidade",B37,B.A_SINAPI,B.M_SINAPI,C37))))} -> ERRO: CONEXÃO NÃO ESTABELECIDA. CLIQUE EM CONECTAR. | G37: 0.0045 | H37: {=UPPER(IF(C37="COMPOSIÇÃO",_xlfn.XLOOKUP($B37,A:A,I:I,),IF(C37="COTAÇÃO",VLOOKUP($B37,COTAÇÕES!$A$11:$E$37,5,0),BuscarCampoAccess("Custo",B37,B.A_SINAPI,B.M_SINAPI,C37))))} -> ERRO: CONEXÃO NÃO ESTABELECIDA. CLIQUE EM CONECTAR. | I37: =TRUNC(G37*H37,2) -> #VALUE! | K37: =IF(A37=B37,IFERROR(VLOOKUP(B37,#REF!,1,0),"-"),"-") -> - | L37: =IF(ISBLANK(B37)=FALSE,1,0) -> 1 | M37: =IF(M36=FALSE,K37,IF(L37=1,M36)) -> -
K38: =IF(A38=B38,IFERROR(VLOOKUP(B38,#REF!,1,0),"-"),"-") -> - | L38: =IF(ISBLANK(B38)=FALSE,1,0) -> 0 | M38: =IF(M37=FALSE,K38,IF(L38=1,M37)) -> FALSE
A39: =IF(AND(D39="",E39<>""),B39,"") -> CPU-PAVT 03 | B39: CPU-PAVT 03 | E39: ESCAVAÇÃO MECANICA, A CEU ABERTO, EM MATERIAL DE 1A CATEGORIA, COM ESCAVADEIRA HIDRAULICA, CAPACIDADE DE 0,78 M3 (REFER. SINAPI CÓD. 83338) | F39: M3 | I39: =SUM(I40:I42) -> #VALUE! | K39: =IF(A39=B39,IFERROR(VLOOKUP(B39,#REF!,1,0),"-"),"-") -> - | L39: =IF(ISBLANK(B39)=FALSE,1,0) -> 1 | M39: =IF(M38=FALSE,K39,IF(L39=1,M38)) -> -
B40: 5632 | C40: AGESUL | D40: COMPOSIÇÃO AUXILIAR | E40: {=UPPER(IF(C40="COMPOSIÇÃO",_xlfn.XLOOKUP($B40,A:A,E:E,),IF(C40="COTAÇÃO",VLOOKUP($B40,COTAÇÕES!$A$11:$E$37,2,0),BuscarCampoAccess("Descricao",B40,B.A_SINAPI,B.M_SINAPI,C40))))} -> ERRO: CONEXÃO NÃO ESTABELECIDA. CLIQUE EM CONECTAR. | F40: {=UPPER(IF(C40="COMPOSIÇÃO",_xlfn.XLOOKUP($B40,A:A,F:F,),IF(C40="COTAÇÃO",VLOOKUP($B40,COTAÇÕES!$A$11:$E$37,3,0),BuscarCampoAccess("Unidade",B40,B.A_SINAPI,B.M_SINAPI,C40))))} -> ERRO: CONEXÃO NÃO ESTABELECIDA. CLIQUE EM CONECTAR. | G40: 0.0058 | H40: {=UPPER(IF(C40="COMPOSIÇÃO",_xlfn.XLOOKUP($B40,A:A,I:I,),IF(C40="COTAÇÃO",VLOOKUP($B40,COTAÇÕES!$A$11:$E$37,5,0),BuscarCampoAccess("Custo",B40,B.A_SINAPI,B.M_SINAPI,C40))))} -> ERRO: CONEXÃO NÃO ESTABELECIDA. CLIQUE EM CONECTAR. | I40: =TRUNC(G40*H40,2) -> #VALUE! | K40: =IF(A40=B40,IFERROR(VLOOKUP(B40,#REF!,1,0),"-"),"-") -> - | L40: =IF(ISBLANK(B40)=FALSE,1,0) -> 1 | M40: =IF(M39=FALSE,K40,IF(L40=1,M39)) -> -
...

Sheet 3-COMPOSIÇÃO
D1: GOVERNO DO ESTADO DE MATO GROSSO DO SUL
D2: PREFEITURA MUNICIPAL DE NAVIRAÍ
D3: SECRETARIA DE PLANEJAMENTO
B4: COMPOSIÇÃO DE CUSTO UNITÁRIO
B5: Objeto: | C5: INFRAESTRUTURA URBANA – PAVIMENTAÇÃO ASFÁLTICA, DRENAGEM, E SINALIZAÇÃO VIÁRIA NO ACESSO AO CEMITERIO MUNICIPAL DE NAVIRAÍ/ MS | G5: RESPONSÁVEL ORÇAMENTO
B6: Município: | C6: NAVIRAÍ | G6: __________________________________________
B7: Local: | C7: AVENIDA JOÃO RIGONATO | G7: FÁBIO MARQUES RIBEIRO
B8: SIST./REF.: | C8: AGESUL(SETEMBRO/2025)/SINAPI(SETEMBRO/2025) | G8: ENGENHEIRO CIVIL - 15.276 D/MS
B9: CODIGO | C9: FONTE | D9: TIPO | E9: DESCRIÇÃO | F9: UNIDADE | G9: COEFICIENTE | H9: PREÇO UNITARIO | I9: PREÇO TOTAL
B10: 0.36 | F10: #N/A | G10: #N/A | H10: #N/A | I10: #N/A | J10: #N/A | K10: #N/A | L10: #N/A
A11: 9,7 | B11: 0.02 | F11: #N/A | G11: #N/A | H11: #N/A | I11: #N/A | J11: #N/A | K11: #N/A | L11: #N/A
A12: 14,74 | B12: 0.03 | F12: #N/A | G12: #N/A | H12: #N/A | I12: #N/A | J12: #N/A | K12: #N/A | L12: #N/A
A13: 18,28 | B13: 0.04 | F13: #N/A | G13: #N/A | H13: #N/A | I13: #N/A | J13: #N/A | K13: #N/A | L13: #N/A
A14: 21,72 | B14: 0.16 | F14: #N/A | G14: #N/A | H14: #N/A | I14: #N/A | J14: #N/A | K14: #N/A | L14: #N/A
A15: 20,27 | B15: 0.04 | F15: #N/A | G15: #N/A | H15: #N/A | I15: #N/A | J15: #N/A | K15: #N/A | L15: #N/A
A16: 77,74 | B16: 0.07 | F16: #N/A | G16: #N/A | H16: #N/A | I16: #N/A | J16: #N/A | K16: #N/A | L16: #N/A
F17: #N/A | G17: #N/A | H17: #N/A | I17: #N/A | J17: #N/A | K17: #N/A | L17: #N/A
B18: 864.13 | F18: #N/A | G18: #N/A | H18: #N/A | I18: #N/A | J18: #N/A | K18: #N/A | L18: #N/A
A19: 683,86 | B19: 683.86 | F19: #N/A | G19: #N/A | H19: #N/A | I19: #N/A | J19: #N/A | K19: #N/A | L19: #N/A
B20: 94964 | C20: SINAPI | D20: COMPOSIÇÃO AUXILIAR | E20: CONCRETO FCK = 20MPA, TRAÇO 1:2,7:3 (EM MASSA SECA DE CIMENTO/ AREIA MÉDIA/ BRITA 1) - PREPARO MECÂNICO COM BETONEIRA 400 L. AF_05/2021 | F20: M3 | G20: 0.2664 | H20: 493,42 | I20: 131.44
B21: 88309 | C21: SINAPI | D21: COMPOSIÇÃO AUXILIAR | E21: PEDREIRO COM ENCARGOS COMPLEMENTARES | F21: H | G21: 1 | H21: 27,11 | I21: 27.11
B22: 88316 | C22: SINAPI | D22: COMPOSIÇÃO AUXILIAR | E22: SERVENTE COM ENCARGOS COMPLEMENTARES | F22: H | G22: 1 | H22: 21,72 | I22: 21.72
B24: CPU-PAVT 03 | E24: ESCAVAÇÃO MECANICA, A CEU ABERTO, EM MATERIAL DE 1A CATEGORIA, COM ESCAVADEIRA HIDRAULICA, CAPACIDADE DE 0,78 M3 (REFER. SINAPI CÓD. 83338) | F24: M3 | I24: 3.79
B25: 5632 | C25: AGESUL | D25: COMPOSIÇÃO AUXILIAR | E25: ESCAVADEIRA HIDRÁULICA SOBRE ESTEIRAS, CAÇAMBA 0,80 M3, PESO OPERACIONAL 17 T, POTENCIA BRUTA 111 HP - CHI DIURNO. AF_06/2014 | F25: CHI | G25: 0.0058 | H25: 90,5 | I25: 0.52
B26: 88316 | C26: SINAPI | D26: COMPOSIÇÃO AUXILIAR | E26: SERVENTE COM ENCARGOS COMPLEMENTARES | F26: H | G26: 0.0192 | H26: 21,72 | I26: 0.41
B27: 5631 | C27: SINAPI | D27: COMPOSIÇÃO AUXILIAR | E27: ESCAVADEIRA HIDRÁULICA SOBRE ESTEIRAS, CAÇAMBA 0,80 M3, PESO OPERACIONAL 17 T, POTENCIA BRUTA 111 HP - CHP DIURNO. AF_06/2014 | F27: CHP | G27: 0.0134 | H27: 213,54 | I27: 2.86
B29: CPU-DRED 03 | E29: BLD - BOCA DE LOBO DUPLA, EM CONCRETO SIMPLES FCK 20 MPA, INCLUINDO FORMA, ESCAVAÇÃO, CALÇAMENTO AO REDOR E GRELHAS EM FOFO TIPO PESADA, CONFORME PROJETO | F29: UN | I29: 3287.06
B30: 97636 | C30: SINAPI | D30: COMPOSIÇÃO AUXILIAR | E30: DEMOLIÇÃO PARCIAL DE PAVIMENTO ASFÁLTICO, DE FORMA MECANIZADA, SEM REAPROVEITAMENTO. AF_09/2023 | F30: M2 | G30: 4.387 | H30: 22,21 | I30: 97.43
B31: 93358 | C31: SINAPI | D31: COMPOSIÇÃO AUXILIAR | E31: ESCAVAÇÃO MANUAL DE VALA. AF_09/2024 | F31: M3 | G31: 2.0496 | H31: 85,91 | I31: 176.08
B32: 101616 | C32: SINAPI | D32: COMPOSIÇÃO AUXILIAR | E32: PREPARO DE FUNDO DE VALA COM LARGURA MENOR QUE 1,5 M (ACERTO DO SOLO NATURAL). AF_08/2020 | F32: M2 | G32: 2.0496 | H32: 6,31 | I32: 12.93
B33: 92475 | C33: SINAPI | D33: COMPOSIÇÃO AUXILIAR | E33: MONTAGEM E DESMONTAGEM DE FÔRMA DE VIGA, ESCORAMENTO COM GARFO DE MADEIRA, PÉ-DIREITO SIMPLES, EM CHAPA DE MADEIRA PLASTIFICADA, 14 UTILIZAÇÕES. AF_09/2020 | F33: M2 | G33: 6.4 | H33: 79,62 | I33: 509.56
B34: 92917 | C34: SINAPI | D34: COMPOSIÇÃO AUXILIAR | E34: ARMAÇÃO DE ESTRUTURAS DIVERSAS DE CONCRETO ARMADO, EXCETO VIGAS, PILARES, LAJES E FUNDAÇÕES, UTILIZANDO AÇO CA-50 DE 8,0 MM - MONTAGEM. AF_06/2022 | F34: KG | G34: 7.05 | H34: 13,62 | I34: 96.02
B35: 92915 | C35: SINAPI | D35: COMPOSIÇÃO AUXILIAR | E35: ARMAÇÃO DE ESTRUTURAS DIVERSAS DE CONCRETO ARMADO, EXCETO VIGAS, PILARES, LAJES E FUNDAÇÕES, UTILIZANDO AÇO CA-60 DE 5,0 MM - MONTAGEM. AF_06/2022 | F35: KG | G35: 1.85 | H35: 16,5 | I35: 30.52
B36: 94964 | C36: SINAPI | D36: COMPOSIÇÃO AUXILIAR | E36: CONCRETO FCK = 20MPA, TRAÇO 1:2,7:3 (EM MASSA SECA DE CIMENTO/ AREIA MÉDIA/ BRITA 1) - PREPARO MECÂNICO COM BETONEIRA 400 L. AF_05/2021 | F36: M3 | G36: 1.1691 | H36: 493,42 | I36: 576.85
B37: 103670 | C37: SINAPI | D37: COMPOSIÇÃO AUXILIAR | E37: LANÇAMENTO COM USO DE BALDES, ADENSAMENTO E ACABAMENTO DE CONCRETO EM ESTRUTURAS. AF_02/2022 | F37: M3 | G37: 1.1691 | H37: 294,84 | I37: 344.69
B38: 5928 | C38: SINAPI | D38: COMPOSIÇÃO AUXILIAR | E38: GUINDAUTO HIDRÁULICO, CAPACIDADE MÁXIMA DE CARGA 6200 KG, MOMENTO MÁXIMO DE CARGA 11,7 TM, ALCANCE MÁXIMO HORIZONTAL 9,70 M, INCLUSIVE CAMINHÃO TOCO PBT 16.000 KG, POTÊNCIA DE 189 CV - CHP DIURNO. AF_06/2014 | F38: CHP | G38: 0.1 | H38: 274,89 | I38: 27.48
B39: CT02 | C39: COTAÇÃO | D39: COTAÇÃO | E39: GRELHA FOFO ARTICULADA, CLASSE D400, CARGA MÁXIMA 40T, 50 X 100 CM, PARA BOCA DE LOBO | F39: UN | G39: 2 | H39: 707,75 | I39: 1415.5
B41: CPU-SERC 01 | E41: TENTO (ACABAMENTO DE LIMPA-RODAS), CONCRETO FCK = 15 MPA, SEÇÃO 330 CM2, MOLDADO NO LOCAL, INCLUSIVE ESCAVAÇÃO. | F41: M | I41: 27.29
B42: 93358 | C42: SINAPI | D42: COMPOSIÇÃO AUXILIAR | E42: ESCAVAÇÃO MANUAL DE VALA. AF_09/2024 | F42: M3 | G42: 0.033 | H42: 85,91 | I42: 2.83
B43: 94963 | C43: SINAPI | D43: COMPOSIÇÃO AUXILIAR | E43: CONCRETO FCK = 15MPA, TRAÇO 1:3,4:3,5 (EM MASSA SECA DE CIMENTO/ AREIA MÉDIA/ BRITA 1) - PREPARO MECÂNICO COM BETONEIRA 400 L. AF_05/2021 | F43: M3 | G43: 0.033 | H43: 446,84 | I43: 14.74
...

Sheet Planilha4

Sheet CRONOGRAMA_DES
C1: ESTADO DO MATO GROSSO DO SUL | L1: ____________________________________________
C2: =OFFSET(DADOS!$I$2,DADOS!$A$7,0,1,1) -> PREFEITURA MUNICIPAL DE NAVIRAÍ | L2: FABIO MARQUES RIBEIRO ENGENHEIRO CIVIL CREA: 15.276/MS
C3: =#REF! -> #REF!
A4: CRONOGRAMA FÍSICO FINANCEIRO - DESONERADO
A5: ='12-DRENAGEM - IMPLANTAÇÃO'!A5 -> OBJETO: | B5: ='12-DRENAGEM - IMPLANTAÇÃO'!B5 -> INFRAESTRUTURA URBANA – PAVIMENTAÇÃO ASFÁLTICA, DRENAGEM, E SINALIZAÇÃO VIÁRIA NO ACESSO AO CEMITERIO MUNICIPAL DE NAVIRAÍ/ MS
A6: Município: | B6: ='12-DRENAGEM - IMPLANTAÇÃO'!B6 -> NAVIRAÍ
A7: Local: | B7: ='12-DRENAGEM - IMPLANTAÇÃO'!B7 -> AVENIDA JOÃO RIGONATO
A8: IT EM | B8: DESCRIÇÃO DOS SERVIÇOS | D8: % | E8: VALOR ÍTEM | F8: MÊS 1 | I8: MÊS 2 | L8: MÊS 3
A9: IT EM | F9: PROPONENTE | G9: % | H9: % ACUMULADA | I9: PROPONENTE | J9: % | K9: % ACUMULADA | L9: PROPONENTE | M9: % | N9: % ACUMULADA
A10: 1 | B10: SERVIÇOS PRELIMINARES | D10: =E10/(E$19-$E$18) -> #REF! | E10: =#REF! -> #REF! | F10: =G10*E10 -> #REF! | G10: 1 | H10: =G10 -> 1 | J10: 0 | K10: =H10+J10 -> 1 | M10: 0 | N10: =K10+M10 -> 1 | V10: =G10+J10+M10+G25+J25+M25 -> 1 | X10: =G10+J10+M10+G25 -> 1
A11: 2 | B11: MICRO E MACRO DRENAGEM - TERRAPLENAGEM | D11: =E11/(E$19-$E$18) -> #REF! | E11: =#REF! -> #REF! | F11: =G11*E11 -> #REF! | G11: 0.15 | H11: =G11 -> 0.15 | I11: =E11*J11 -> #REF! | J11: 0.25 | K11: =H11+J11 -> 0.4 | L11: =E11*M11 -> #REF! | M11: 0.25 | N11: =K11+M11 -> 0.65 | V11: =G11+J11+M11+G26+J26+M26 -> 1 | X11: =G11+J11+M11+G26 -> 1
A12: 3 | B12: MICRO E MACRO DRENAGEM - DISPOSITIVOS AUXILIARES | D12: =E12/(E$19-$E$18) -> #REF! | E12: =#REF! -> #REF! | F12: =G12*E12 -> #REF! | G12: 0.3 | H12: =G12 -> 0.3 | I12: =E12*J12 -> #REF! | J12: 0.3 | K12: =H12+J12 -> 0.6 | L12: =E12*M12 -> #REF! | M12: 0.3 | N12: =K12+M12 -> 0.9 | V12: =G12+J12+M12+G27+J27+M27 -> 1 | X12: =G12+J12+M12+G27 -> 1
A13: 4 | B13: IMPLANTAÇÃO ASFÁLTICA - TERRAPLENAGEM | D13: =E13/(E$19-$E$18) -> #REF! | E13: =#REF! -> #REF! | F13: =G13*E13 -> #REF! | G13: 0 | H13: =G13 -> 0 | I13: =E13*J13+0.01 -> #REF! | J13: 0.3 | K13: =H13+J13 -> 0.3 | L13: =E13*M13 -> #REF! | M13: 0.4 | N13: =K13+M13 -> 0.7 | V13: =G13+J13+M13+G28+J28+M28 -> 1 | X13: =G13+J13+M13+G28 -> 1
A14: 5 | B14: IMPLANTAÇÃO ASFÁLTICA - PAVIMENTAÇÃO | D14: =E14/(E$19-$E$18) -> #REF! | E14: =#REF! -> #REF! | F14: =G14*E14 -> #REF! | G14: 0 | H14: =G14 -> 0 | J14: 0 | K14: =H14+J14 -> 0 | L14: =E14*M14 -> #REF! | M14: 0 | N14: =K14+M14 -> 0 | V14: =G14+J14+M14+G29+J29+M29 -> 1 | X14: =G14+J14+M14+G29 -> 0.3
A15: 6 | B15: SERVIÇOS COMPLEMENTARES | D15: =E15/(E$19-$E$18) -> #REF! | E15: =#REF! -> #REF! | F15: =G15*E15 -> #REF! | G15: 0 | H15: =G15 -> 0 | J15: 0 | K15: =H15+J15 -> 0 | L15: =E15*M15 -> #REF! | M15: 0.5 | N15: =K15+M15 -> 0.5 | V15: =G15+J15+M15+G30+J30+M30 -> 1 | X15: =G15+J15+M15+G30 -> 0.9
A16: 7 | B16: PASSEIO COM ACESSIBILIDADE | D16: =E16/(E$19-$E$18) -> #REF! | E16: =#REF! -> #REF! | F16: =G16*E16 -> #REF! | G16: 0 | H16: =G16 -> 0 | I16: =E16*J16 -> #REF! | J16: 0 | K16: =H16+J16 -> 0 | L16: =E16*M16 -> #REF! | M16: 0 | N16: =K16+M16 -> 0 | V16: =G16+J16+M16+G31+J31+M31 -> 1 | X16: =G16+J16+M16+G31 -> 0
A17: 8 | B17: SINALIZAÇÃO VIÁRIA PERMANENTE | D17: =E17/(E$19-$E$18) -> #REF! | E17: =#REF! -> #REF! | F17: =G17*E17 -> #REF! | G17: 0 | H17: =G17 -> 0 | I17: =E17*J17 -> #REF! | J17: 0 | K17: =H17+J17 -> 0 | L17: =E17*M17 -> #REF! | M17: 0 | N17: =K17+M17 -> 0 | V17: =G17+J17+M17+G32+J32+M32 -> 1 | X17: =G17+J17+M17+G32 -> 0
A18: 9 | B18: ADMINISTRAÇÃO LOCAL | D18: =E18/(E$19-$E$18) -> #REF! | E18: =#REF! -> #REF! | F18: =G18*E18 -> #REF! | G18: 0.2 | H18: =G18 -> 0.2 | I18: =E18*J18 -> #REF! | J18: 0.2 | K18: =H18+J18 -> 0.4 | L18: =E18*M18 -> #REF! | M18: 0.2 | N18: =K18+M18 -> 0.6 | V18: =G18+J18+M18+G33+J33+M33 -> 1 | X18: =G18+J18+M18+G33 -> 0.8
E19: =SUM(E10:E18) -> #REF!
C20: T OT AL MENSAL= | F20: =SUM(F10:F18) -> #REF! | I20: =SUM(I10:I18) -> #REF! | L20: =SUM(L10:L18) -> #REF!
C21: T OT AL ACUMULADO= | F21: =F20 -> #REF! | G21: =F21/E19 -> #REF! | H21: =G21 -> #REF! | I21: =F21+I20 -> #REF! | J21: =I20/E19 -> #REF! | K21: =J21+H21 -> #REF! | L21: =I21+L20 -> #REF! | M21: =L20/E19 -> #REF! | N21: =M21+K21 -> #REF!
A23: IT EM | B23: DESCRIÇÃO DOS SERVIÇOS | D23: % | E23: VALOR ÍTEM | F23: MÊS 4 | I23: MÊS 5 | L23: MÊS 6
A24: IT EM | F24: PROPONENT E | G24: % | H24: % ACUMULADA | I24: PROPONENT E | J24: % | K24: % ACUMULADA | L24: PROPONENT E | M24: % | N24: % ACUMULADA
A25: 1 | B25: SERVIÇOS PRELIMINARES | D25: =D10 -> #REF! | E25: =E10 -> #REF! | G25: 0 | H25: =N10+G25 -> 1 | K25: =H25+J25 -> 1 | N25: =K25+M25 -> 1 | O25: =(F10+I10+L10+F25+I25+L25)/E10 -> #REF!
A26: 2 | B26: MICRO E MACRO DRENAGEM - TERRAPLENAGEM | D26: =D11 -> #REF! | E26: =E11 -> #REF! | F26: =G26*E26 -> #REF! | G26: 0.35 | H26: =N11+G26 -> 1 | I26: =J26*E26 -> #REF! | K26: =H26+J26 -> 1 | L26: =M26*E26 -> #REF! | N26: =K26+M26 -> 1 | O26: =(F11+I11+L11+F26+I26+L26)/E11 -> #REF!
A27: 3 | B27: MICRO E MACRO DRENAGEM - DISPOSITIVOS AUXILIARES | D27: =D12 -> #REF! | E27: =E12 -> #REF! | F27: =G27*E27 -> #REF! | G27: 0.1 | H27: =N12+G27 -> 1 | I27: =J27*E27 -> #REF! | K27: =H27+J27 -> 1 | L27: =M27*E27 -> #REF! | N27: =K27+M27 -> 1 | O27: =(F12+I12+L12+F27+I27+L27)/E12 -> #REF!
A28: 4 | B28: IMPLANTAÇÃO ASFÁLTICA - TERRAPLENAGEM | D28: =D13 -> #REF! | E28: =E13 -> #REF! | F28: =G28*E28 -> #REF! | G28: 0.3 | H28: =N13+G28 -> 1 | I28: =J28*E28 -> #REF! | K28: =H28+J28 -> 1 | L28: =M28*E28 -> #REF! | N28: =K28+M28 -> 1 | O28: =(F13+I13+L13+F28+I28+L28)/E13 -> #REF!
A29: 5 | B29: IMPLANTAÇÃO ASFÁLTICA - PAVIMENTAÇÃO | D29: =D14 -> #REF! | E29: =E14 -> #REF! | F29: =G29*E29 -> #REF! | G29: 0.3 | H29: =N14+G29 -> 0.3 | I29: =J29*E29 -> #REF! | J29: 0.4 | K29: =H29+J29 -> 0.7 | L29: =M29*E29 -> #REF! | M29: 0.3 | N29: =K29+M29 -> 1 | O29: =(F14+I14+L14+F29+I29+L29)/E14 -> #REF!
A30: 6 | B30: SERVIÇOS COMPLEMENTARES | D30: =D15 -> #REF! | E30: =E15 -> #REF! | F30: =G30*E30 -> #REF! | G30: 0.4 | H30: =N15+G30 -> 0.9 | I30: =J30*E30 -> #REF! | J30: 0.1 | K30: =H30+J30 -> 1 | L30: =M30*E30 -> #REF! | N30: =K30+M30 -> 1 | O30: =(F15+I15+L15+F30+I30+L30)/E15 -> #REF!
A31: 7 | B31: PASSEIO COM ACESSIBILIDADE | D31: =D16 -> #REF! | E31: =E16 -> #REF! | F31: =G31*E31 -> #REF! | G31: 0 | H31: =N16+G31 -> 0 | I31: =J31*E31 -> #REF! | J31: 0.5 | K31: =H31+J31 -> 0.5 | L31: =M31*E31 -> #REF! | M31: 0.5 | N31: =K31+M31 -> 1 | O31: =(F16+I16+L16+F31+I31+L31)/E16 -> #REF!
A32: 8 | B32: SINALIZAÇÃO VIÁRIA PERMANENTE | D32: =D17 -> #REF! | E32: =E17 -> #REF! | F32: =G32*E32 -> #REF! | G32: 0 | H32: =N17+G32 -> 0 | I32: =J32*E32 -> #REF! | J32: 0.5 | K32: =H32+J32 -> 0.5 | L32: =M32*E32 -> #REF! | M32: 0.5 | N32: =K32+M32 -> 1 | O32: =(F17+I17+L17+F32+I32+L32)/E17 -> #REF!
A33: 9 | B33: ADMINISTRAÇÃO LOCAL | D33: =D18 -> #REF! | E33: =E18 -> #REF! | F33: =G33*E33 -> #REF! | G33: 0.2 | H33: =N18+G33 -> 0.8 | I33: =J33*E33 -> #REF! | J33: 0.1 | K33: =H33+J33 -> 0.9 | L33: =M33*E33 -> #REF! | M33: 0.1 | N33: =K33+M33 -> 1 | O33: =(F18+I18+L18+F33+I33+L33)/E18 -> #REF!
E34: =SUM(E25:E33) -> #REF!
D35: T OT AL MENSAL= | F35: =SUM(F25:F33) -> #REF! | I35: =SUM(I25:I33) -> #REF! | L35: =SUM(L25:L33) -> #REF!
D36: T OT AL ACUMULADO= | F36: =L21+F35 -> #REF! | G36: =F35/E34 -> #REF! | H36: =G36+N21 -> #REF! | I36: =F36+I35 -> #REF! | J36: =I35/E34 -> #REF! | K36: =J36+H36 -> #REF! | L36: =I36+L35 -> #REF! | M36: =L35/E34 -> #REF! | N36: =M36+K36 -> #REF!

Sheet BDI DESONERADO
B1: ESTADO DO MATO GROSSO DO SUL | D1: ____________________________________________
B2: =OFFSET(DADOS!$I$2,DADOS!$A$7,0,1,1) -> PREFEITURA MUNICIPAL DE NAVIRAÍ | D2: FABIO MARQUES RIBEIRO ENGENHEIRO CIVIL CREA: 15.276/MS
B3: =#REF! -> #REF!
A4: DEMONSTRAÇÃO DE BDI - DESONERADO - Acórdão 2622/2013
A5: ='12-DRENAGEM - IMPLANTAÇÃO'!A5 -> OBJETO: | B5: ='12-DRENAGEM - IMPLANTAÇÃO'!B5 -> INFRAESTRUTURA URBANA – PAVIMENTAÇÃO ASFÁLTICA, DRENAGEM, E SINALIZAÇÃO VIÁRIA NO ACESSO AO CEMITERIO MUNICIPAL DE NAVIRAÍ/ MS
A6: Município: | B6: ='12-DRENAGEM - IMPLANTAÇÃO'!B6 -> NAVIRAÍ
A7: Local: | B7: ='12-DRENAGEM - IMPLANTAÇÃO'!B7 -> AVENIDA JOÃO RIGONATO
A9: TIPO DE OBRA: | B9: CONSTRUÇÃO DE RODOVIAS - SERVIÇOS
A11: IMPOSTOS:
B12: TRIBUTOS: | C12: 3.65 | D12: %
B13: ISS BRUTO: | C13: 5 | D13: %
B14: INCIDENCIA SOBRE MO: | C14: 100 | D14: %
B15: CPRB | C15: 4.5 | D15: %
B16: TOTAL TRIBUSTOS: | C16: =((C14*C13/100)+C12+C15) -> 13.15 | D16: %
E17: ADOTADO
E19: 3.8
E20: 0.32
E21: 0.5
E22: 1.02
E23: 6.64
A26: BDI DESONERADO ADOTADO | E26: =((((1+(E19+E20+E21)/100))*(1+E22/100)*(1+E23/100))/(1-C16/100))-1 -> 0.29769429
A28: TIPO DE OBRA: | B28: FORNECIMENTO DE MATERIAIS E EQUIPAMENTOS
A30: IMPOSTOS:
B31: TRIBUTOS: | C31: 3.65 | D31: %
B32: ISS BRUTO: | D32: %
B33: INCIDENCIA SOBRE MO: | C33: 100 | D33: %
B34: CPRB | C34: 4.5 | D34: %
B35: TOTAL TRIBUSTOS: | C35: =C31+C32+C34*(C33/100) -> 8.15 | D35: %
E36: ADOTADO
E38: 1.5
E39: 0.3
E40: 0.56
E41: 0.85
E42: 3.5
A45: BDI DESONERADO ADOTADO | E45: =((((1+(E38+E39+E40)/100))*(1+E41/100)*(1+E42/100))/(1-C35/100))-1 -> 0.16323475

Sheet COTAÇÕES
B2: =N.GOV -> GOVERNO DO ESTADO DE MATO GROSSO DO SUL
B3: {=N.PREFEITURA} -> PREFEITURA MUNICIPAL DE NAVIRAÍ
B4: {=N.SECRETARIA} -> SECRETARIA DE PLANEJAMENTO
A5: COTAÇÕES
A6: Objeto: | B6: =N.DESCRICAO -> INFRAESTRUTURA URBANA – PAVIMENTAÇÃO ASFÁLTICA, DRENAGEM, E SINALIZAÇÃO VIÁRIA NO ACESSO AO CEMITERIO MUNICIPAL DE NAVIRAÍ/ MS | D6: RESPONSÁVEL ORÇAMENTO
A7: Município: | B7: =N.MUNICIPIO -> NAVIRAÍ | D7: ______________________________
A8: Local: | B8: {=N.LOCAL} -> AVENIDA JOÃO RIGONATO | D8: =N.Engenheiro -> FÁBIO MARQUES RIBEIRO
A9: SIST./REF.: | B9: {=N.BASE} -> AGESUL(SETEMBRO/2025)/SINAPI(SETEMBRO/2025) | D9: =N.CREA -> ENGENHEIRO CIVIL - 15.276 D/MS
A11: EMPRESA | B11: CNPJ | C11: NOME | D11: FONE | E11: CONTATO
A12: E01 | B12: 28.026.481/0001-23 | C12: GRECA DISTRIBUIDORA DE ASFALTOS LTDA | D12: (67)3391-1932 | E12: BENEDITO SILVA
A13: E02 | B13: 01.438.784/0048-60 | C13: BETUNEL INDUSTRIA E CMÉRCIO LTDA | D13: (67)3363-2552 | E13: ALEXANDRE SILVA
A14: E03 | B14: 03.037.291/0001-80 | C14: NOVAS TECNICAS DE ASFALTO LTDA | D14: (11) 97624-6832 | E14: JORGE
A15: E04 | B15: 29.712.461/0001-79 | C15: FUNDIÇÃO SOUZA | D15: (67) 3424-1794 | E15: CASSIANO
A16: E05 | B16: 43.247.526/0001-83 | C16: ATN METAIS LTDA | D16: (67) 98112-8773 | E16: CÁUCIA
A17: E06 | B17: 55.331.847/0001-40 | C17: FUNDICÃO OLIVETTI EM FERRO INDUSTRIA E COMERCIO LTDA | D17: (67) 98112-8774 | E17: CLÁUCIA
A18: E07 | B18: 03.992.516/0001-58 | C18: AFER INDUSTRIAL LTDA TAMPÕES E GRELHAS | D18: (11) 3646-5190 | E18: BARBARA
A24: CÓDIGO | B24: DESCRIÇÃO | C24: UNIDADE | D24: DATA COTAÇÃO | E24: MEDIANA
A25: CT01 | B25: EMULSÃO ASFÁLTICA PARA IMPRIMAÇÃO | C25: KG | D25: 45499 | E25: =IF(SUM(D27:E29)<>0,MEDIAN(D27:E29),"") -> 4150
A26: EMPRESA | D26: COTAÇÕES
A27: E01 | B27: =VLOOKUP(A27,$A$12:$C$16,3,0) -> GRECA DISTRIBUIDORA DE ASFALTOS LTDA | D27: 4200
A28: E02 | B28: =VLOOKUP(A28,$A$12:$C$16,3,0) -> BETUNEL INDUSTRIA E CMÉRCIO LTDA | D28: 4000
A29: E03 | B29: =VLOOKUP(A29,$A$12:$C$16,3,0) -> NOVAS TECNICAS DE ASFALTO LTDA | D29: 4150
A31: CÓDIGO | B31: DESCRIÇÃO | C31: UNIDADE | D31: DATA COTAÇÃO | E31: MEDIANA
A32: CT02 | B32: GRELHA FOFO ARTICULADA, CLASSE D400, CARGA MÁXIMA 40T, 50 x 100 CM, PARA BOCA DE LOBO | C32: UN | D32: 45902 | E32: =AVERAGE(D34:D37) -> 707.75
A33: EMPRESA | D33: COTAÇÕES
A34: E04 | B34: =VLOOKUP(A34,$A$12:$C$16,3,0) -> FUNDIÇÃO SOUZA | D34: 500
A35: E05 | B35: =VLOOKUP(A35,$A$12:$C$19,3,0) -> ATN METAIS LTDA | D35: 836
A36: E06 | B36: =VLOOKUP(A36,$A$12:$C$18,3,0) -> FUNDICÃO OLIVETTI EM FERRO INDUSTRIA E COMERCIO LTDA | D36: 550
A37: E07 | B37: =VLOOKUP(A37,$A$12:$C$18,3,0) -> AFER INDUSTRIAL LTDA TAMPÕES E GRELHAS | D37: 945

Sheet 6-CAMADAS
B2: =N.GOV -> GOVERNO DO ESTADO DE MATO GROSSO DO SUL
B3: {=N.PREFEITURA} -> PREFEITURA MUNICIPAL DE NAVIRAÍ
B4: {=N.SECRETARIA} -> SECRETARIA DE PLANEJAMENTO
A5: MEMÓRIA DE CALCULO CAMADAS PAVIMENTAÇÃO
A6: OBJETO: | B6: =N.DESCRICAO -> INFRAESTRUTURA URBANA – PAVIMENTAÇÃO ASFÁLTICA, DRENAGEM, E SINALIZAÇÃO VIÁRIA NO ACESSO AO CEMITERIO MUNICIPAL DE NAVIRAÍ/ MS | N6: RESPONSÁVEL ORÇAMENTO
A7: MUNÍCIPIO: | B7: =N.MUNICIPIO -> NAVIRAÍ | M7: =" _______________________________ "&N.Engenheiro&" "&N.CREA -> _______________________________ FÁBIO MARQUES RIBEIRO ENGENHEIRO CIVIL - 15.276 D/MS
A8: LOCAL: | B8: {=N.LOCAL} -> AVENIDA JOÃO RIGONATO
A9: SIST./REF.: | B9: {=N.BASE} -> AGESUL(SETEMBRO/2025)/SINAPI(SETEMBRO/2025)
A11: COEFICIENTE DE EQUIVALÊNCIA ESTRUTURAL | B11: CBUQ | D11: 2 | F11: NUMERO N | L11: ESPESSURA EQUIVALENTE | N11: CBRp | O11: =K17 -> 3
B12: BRITA GRADUADA | D12: 1 | N12: CBRB | O12: 15
B13: SUBLEITO | D13: 1 | F13: N= | G13: 2,5X104 | N13: CBRS | O13: 0
N14: CBRR | O14: 0
A16: REVESTIMENTO | B16: N | D16: TRAFEGO | F16: TIPO DE REVESTIMENTO | K16: ESPESSURA ADOTADA
B17: N≥X104 | D17: LEVE | F17: CONCRETO ASFÁLTICO USINADO A QUENTE | K17: 3 | M17: cm
A19: DIMENSIONAMENTO DA BASE | B19: CBR | C19: ESP.EQ | D19: CBUQ | E19: E MIN | F19: E ADOTADO | G19: PARÂMETRO DE TRÁFEGO | I19: TRAFEGO | J19: VMD 1ºANO | K19: VT | L19: TAXA % | M19: FV | N19: V1 | O19: PERIODO ANOS
B20: 0.8 | C20: =O12 -> 15 | D20: =K17 -> 3 | E20: =SUM(C20-D20*D11)/D12 -> 9 | F20: 15 | G20: =K20*M20 -> 1889605 | I20: LEVE | J20: =(N20*(2+(O20+1)*L20/100))/2 -> 310 | K20: =365*O20*J20 -> 1131500 | L20: 10 | M20: 1.67 | N20: 200 | O20: 10
