Workbook

Sheet Planilha L1
A1: PLANILHA DE QUANTIDADE E CUSTOS DE SERVIÇOS
A2: Reparo de vazamentos e corte na via (até 3 equipes conforme demanda da SAE)
A3: ITEM | B3: SINAPI | C3: DESCRIÇÃO DOS SERVIÇOS | D3: UNIDADE | E3: QUANTIDADE | F3: UNITÁRIO (R$) | G3: TOTAL (R$)
A4: 1 | C4: EQUIPAMENTOS DE ESCAVAÇÃO, REATERRO, COMPACTAÇÃO E TRANSPORTE
A5: 1.1 | B5: COMP.1 | C5: ='COMPOSIÇÕES-'!C4 -> RETROESCAVADEIRA SOBRE RODAS COM CARREGADEIRA, TRAÇÃO 4X4, POTÊNCIA LÍQ. 88 HP, CAÇAMBA CARREG. CAP. MÍN. 1 M3, CAÇAMBA RETRO CAP. 0,26 M3, PESO OPERACIONAL MÍN. 6.674 KG, PROFUNDIDADE ESCAVAÇÃO MÁX. 4,37 M, INCLUSIVE OPERADOR | D5: ='COMPOSIÇÕES-'!D4 -> DIÁRIO | E5: =12*22*3 -> 792 | F5: ='COMPOSIÇÕES-'!G5+'COMPOSIÇÕES-'!G6 -> 1274.97 | G5: =F5*E5 -> 1009776.2
A6: 1.2 | B6: COMP.2 | C6: ='COMPOSIÇÕES-'!C7 -> ROLO COMPACTADOR VIBRATÓRIO PÉ DE CARNEIRO, OPERADO POR CONTROLE REMOTO, POTÊNCIA 12,5 KW, PESO OPERACIONAL 1,675 T, LARGURA DE TRABALHO 0,85 M - INCLUSIVE OPERADOR | D6: DIÁRIO | E6: =12*22*3 -> 792 | F6: ='COMPOSIÇÕES-'!G8+'COMPOSIÇÕES-'!G9 -> 458.4 | G6: =F6*E6 -> 363052.8
A7: 1.3 | B7: COMP.3 | C7: ='COMPOSIÇÕES-'!C10 -> COMPOSIÇÃO 3 - CAMINHÃO BASCULANTE 14 M3, COM CAVALO MECÂNICO DE CAPACIDADE MÁXIMA DE TRAÇÃO COMBINADO DE 36000 KG, POTÊNCIA 286 CV, INCLUSIVE SEMIREBOQUE COM CAÇAMBA METÁLICA E MOTORISTA | D7: DIÁRIO | E7: =264*3 -> 792 | F7: ='COMPOSIÇÕES-'!G11+'COMPOSIÇÕES-'!G12 -> 1568.37 | G7: =F7*E7 -> 1242149
A8: 1.4 | B8: COMP.5 | C8: ='COMPOSIÇÕES-'!C18 -> COMPOSIÇÃO 5 - REPARO NA REDE PREDIAL DE ÁGUA DE 85MM A 300MM (ADUTORAS) | D8: UNIDADE | E8: 1200 | F8: ='COMPOSIÇÕES-'!G23 -> 285.28566 | G8: =F8*E8 -> 342342.8
A9: 1.5 | B9: COMP.6 | C9: ='COMPOSIÇÕES-'!C24 -> COMPOSIÇÃO 6 - REPARO NA REDE PREDIAL DE ÁGUA DE 20MM (RAMAL) | D9: UNIDADE | E9: 1200 | F9: ='COMPOSIÇÕES-'!G29 -> 187.08976 | G9: =F9*E9 -> 224507.71
A10: 1.6 | B10: COMP.7 | C10: CORTE OU RELIGAÇÃO NA VIA | D10: UNIDADE | E10: 3000 | F10: ='COMPOSIÇÕES-'!G35 -> 187.08976 | G10: =F10*E10 -> 561269.28
A11: 1.7 | B11: COMP.8 | C11: SERVIÇOS DE REPARO DE CALÇADA EXCLUSIVE MATERIAL | D11: M2 | E11: 500 | F11: ='COMPOSIÇÕES-'!G39 -> 42.284 | G11: =F11*E11 -> 21142
A12: 1.8 | B12: COMP.9 | C12: CORTE OU RELIGAÇÃO NO CAVALETE | D12: UNIDADE | E12: 2000 | F12: ='COMPOSIÇÕES-'!G44 -> 41.17 | G12: =F12*E12 -> 82340
A13: 1.9 | B13: COMP.10 | C13: REVISITA | D13: UNIDADE | E13: 2000 | F13: ='COMPOSIÇÕES-'!G48 -> 29.996 | G13: =F13*E13 -> 59992
A14: TOTAL | G14: =SUM(G5:G13) -> 3906571.9
A15: TOTAL com BDI (23,15%) | G15: =G14*1.2315 -> 4810943.3

Sheet COMPOSIÇÕES-
A1: PLANILHA DE COMPOSIÇÕES
A2: SINAPI 03/2026
A3: ITEM | B3: SINAPI | C3: DESCRIÇÃO DOS SERVIÇOS | D3: UNIDADE | E3: QUANTIDADE | F3: UNITÁRIO (R$) | G3: TOTAL (R$)
A4: 1 | C4: RETROESCAVADEIRA SOBRE RODAS COM CARREGADEIRA, TRAÇÃO 4X4, POTÊNCIA LÍQ. 88 HP, CAÇAMBA CARREG. CAP. MÍN. 1 M3, CAÇAMBA RETRO CAP. 0,26 M3, PESO OPERACIONAL MÍN. 6.674 KG, PROFUNDIDADE ESCAVAÇÃO MÁX. 4,37 M, INCLUSIVE OPERADOR | D4: DIÁRIO | E4: =G5+G6 -> 1274.97
A5: 1.11 | B5: 5678 | C5: RETROESCAVADEIRA SOBRE RODAS COM CARREGADEIRA, TRAÇÃO 4X4, POTÊNCIA LÍQ. 88 HP, CAÇAMBA CARREG. CAP. MÍN. 1 M3, CAÇAMBA RETRO CAP. 0,26 M3, PESO OPERACIONAL MÍN. 6.674 KG, PROFUNDIDADE ESCAVAÇÃO MÁX. 4,37 M - CHP DIURNO. | D5: CHP | E5: =8*0.75 -> 6 | F5: =173.5 -> 173.5 | G5: =F5*E5 -> 1041
A6: 1.12 | B6: 5679 | C6: RETROESCAVADEIRA SOBRE RODAS COM CARREGADEIRA, TRAÇÃO 4X4, POTÊNCIA LÍQ. 88 HP, CAÇAMBA CARREG. CAP. MÍN. 1 M3, CAÇAMBA RETRO CAP. 0,26 M3, PESO OPERACIONAL MÍN. 6.674 KG, PROFUNDIDADE ESCAVAÇÃO MÁX. 4,37 M - CHI DIURNO. | D6: CHI | E6: =8*0.25+1 -> 3 | F6: 77.99 | G6: =F6*E6 -> 233.97
A7: 2 | C7: ROLO COMPACTADOR VIBRATÓRIO PÉ DE CARNEIRO, OPERADO POR CONTROLE REMOTO, POTÊNCIA 12,5 KW, PESO OPERACIONAL 1,675 T, LARGURA DE TRABALHO 0,85 M - INCLUSIVE OPERADOR | D7: DIARIO | E7: =G8+G9 -> 458.4
A8: 2.1 | B8: 5879 | C8: ROLO COMPACTADOR VIBRATÓRIO PÉ DE CARNEIRO, OPERADO POR CONTROLE REMOTO, POTÊNCIA 12,5 KW, PESO OPERACIONAL 1,675 T, LARGURA DE TRABALHO 0,85 M | D8: CHP | E8: =8*0.35 -> 2.8 | F8: =139.8 -> 139.8 | G8: =F8*E8 -> 391.44
A9: 2.2 | B9: 5865 | C9: ROLO COMPACTADOR VIBRATÓRIO REBOCÁVEL, CILINDRO DE AÇO LISO, POTÊNCIA DE TRAÇÃO DE 65 CV, PESO 4,7 T, IMPACTO DINÂMICO 18,3 T, LARGURA DE TRABALHO 1,67 M - CHI DIURNO. | D9: CHI | E9: =8*0.65+1 -> 6.2 | F9: =10.8 -> 10.8 | G9: =F9*E9 -> 66.96
A10: 3 | C10: COMPOSIÇÃO 3 - CAMINHÃO BASCULANTE 14 M3, COM CAVALO MECÂNICO DE CAPACIDADE MÁXIMA DE TRAÇÃO COMBINADO DE 36000 KG, POTÊNCIA 286 CV, INCLUSIVE SEMIREBOQUE COM CAÇAMBA METÁLICA E MOTORISTA | D10: DIARIO | E10: =G11+G12 -> 1568.37
A11: 3.1 | B11: 89876 | C11: CAMINHÃO BASCULANTE 14 M3, COM CAVALO MECÂNICO DE CAPACIDADE MÁXIMA DE TRAÇÃO COMBINADO DE 36000 KG, POTÊNCIA 286 CV, INCLUSIVE SEMIREBOQUE COM CAÇAMBA METÁLICA - CHP DIURNO. | D11: CHP | E11: =8*0.3 -> 2.4 | F11: 381.76 | G11: =F11*E11 -> 916.224
A12: 3.2 | B12: 89877 | C12: CAMINHÃO BASCULANTE 14 M3, COM CAVALO MECÂNICO DE CAPACIDADE MÁXIMA DE TRAÇÃO COMBINADO DE 36000 KG, POTÊNCIA 286 CV, INCLUSIVE SEMIREBOQUE COM CAÇAMBA METÁLICA - CHI DIURNO. | D12: CHI | E12: =8*0.7+1 -> 6.6 | F12: 98.81 | G12: =F12*E12 -> 652.146
A13: 4 | C13: COMPOSIÇÃO 4 - REATERRO MANUAL | D13: M3
A14: 4.1 | B14: 5901 | C14: CAMINHÃO PIPA 10.000 L TRUCADO, PESO BRUTO TOTAL 23.000 KG, CARGA ÚTIL MÁXIMA 15.935 KG, DISTÂNCIA ENTRE EIXOS 4,8 M, POTÊNCIA 230 CV, INCLUSIVE TANQUE DE AÇO PARA TRANSPORTE DE ÁGUA - CHP DIURNO. | D14: CHP | E14: 0.0054 | F14: 311.85 | G14: =F14*E14 -> 1.68399
A15: 4.2 | B15: 5903 | C15: CAMINHÃO PIPA 10.000 L TRUCADO, PESO BRUTO TOTAL 23.000 KG, CARGA ÚTIL MÁXIMA 15.935 KG, DISTÂNCIA ENTRE EIXOS 4,8 M, POTÊNCIA 230 CV, INCLUSIVE TANQUE DE AÇO PARA TRANSPORTE DE ÁGUA - CHI DIURNO. | D15: CHI | E15: 0.0006 | F15: 71.63 | G15: =F15*E15 -> 0.042978
A16: 4.3 | B16: 88316 | C16: SERVENTE COM ENCARGOS COMPLEMENTARES | D16: H | E16: 0.78 | F16: 18.75 | G16: =F16*E16 -> 14.625
A17: TOTAL COMP.04 | G17: =SUM(G14:G16) -> 16.351968
A18: 5 | C18: COMPOSIÇÃO 5 - REPARO NA REDE PREDIAL DE ÁGUA DE 85MM A 300MM (ADUTORAS) | D18: UNIDADE
A19: 5.1 | B19: COMP.13 | C19: REATERRO MANUAL | D19: m3 | E19: =7*1*1.5 -> 10.5 | F19: =G17 -> 16.351968 | G19: =E19*F19 -> 171.69566
A20: 5.2 | B20: 88246 | C20: ASSENTADOR DE TUBOS COM ENCARGOS COMPLEMENTARES | D20: h | E20: 2.5 | F20: 20.26 | G20: =E20*F20 -> 50.65
A21: 5.3 | B21: 88316 | C21: SERVENTE COM ENCARGOS COMPLEMENTARES | D21: h | E21: =0.12*2+2 -> 2.24 | F21: 18.75 | G21: =E21*F21 -> 42
A22: 5.4 | B22: ED-51131 | C22: CARGA MANUAL DE MATERIAL DE QUALQUER NATUREZA SOBRE CAMINHÃO, EXCLUSIVE TRANSPORTE | D22: m3 | E22: =5*1*0.1 -> 0.5 | F22: 41.88 | G22: =E22*F22 -> 20.94
A23: TOTAL COMP.05 | G23: =SUM(G19:G22) -> 285.28566
A24: 6 | C24: COMPOSIÇÃO 6 - REPARO NA REDE PREDIAL DE ÁGUA DE 20MM (RAMAL) | D24: UNIDADE
A25: 6.1 | B25: COMP.13 | C25: REATERRO MANUAL | D25: m3 | E25: =5*1*1.5 -> 7.5 | F25: =G17 -> 16.351968 | G25: =E25*F25 -> 122.63976
A26: 6.2 | B26: 88246 | C26: ASSENTADOR DE TUBOS COM ENCARGOS COMPLEMENTARES | D26: h | E26: 1 | F26: 20.26 | G26: =E26*F26 -> 20.26
A27: 6.3 | B27: 88316 | C27: SERVENTE COM ENCARGOS COMPLEMENTARES | D27: h | E27: =0.12*2+1 -> 1.24 | F27: 18.75 | G27: =E27*F27 -> 23.25
A28: 6.4 | B28: ED-51131 | C28: CARGA MANUAL DE MATERIAL DE QUALQUER NATUREZA SOBRE CAMINHÃO, EXCLUSIVE TRANSPORTE | D28: m3 | E28: =5*1*0.1 -> 0.5 | F28: 41.88 | G28: =E28*F28 -> 20.94
A29: TOTAL COMP.06 | G29: =SUM(G25:G28) -> 187.08976
A30: 7 | C30: COMPOSIÇÃO 7 - CORTE OU RELIGAÇÃO DE ÁGUA NA VIA | D30: UNIDADE
A31: 7.1 | B31: COMP.13 | C31: REATERRO MANUAL | D31: m3 | E31: =5*1*1.5 -> 7.5 | F31: =G17 -> 16.351968 | G31: =E31*F31 -> 122.63976
A32: 7.2 | B32: 88246 | C32: ASSENTADOR DE TUBOS COM ENCARGOS COMPLEMENTARES | D32: h | E32: 1 | F32: 20.26 | G32: =E32*F32 -> 20.26
A33: 7.3 | B33: 88316 | C33: SERVENTE COM ENCARGOS COMPLEMENTARES | D33: h | E33: =0.12*2+1 -> 1.24 | F33: 18.75 | G33: =E33*F33 -> 23.25
A34: 7.4 | B34: ED-51131 | C34: CARGA MANUAL DE MATERIAL DE QUALQUER NATUREZA SOBRE CAMINHÃO, EXCLUSIVE TRANSPORTE | D34: m3 | E34: =5*1*0.1 -> 0.5 | F34: 41.88 | G34: =E34*F34 -> 20.94
A35: TOTAL COMP.07 | G35: =SUM(G31:G34) -> 187.08976
A36: 8 | C36: COMPOSIÇÃO 8 - REPARO DE CALÇADA EXCLUSIVE MATERIAL | D36: UNIDADE
A37: 8.1 | B37: 88309 | C37: PEDREIRO COM ENCARGOS COMPLEMENTARES | D37: H | E37: 0.7 | F37: 33.62 | G37: =F37*E37 -> 23.534
A38: 8.2 | B38: 88316 | C38: SERVENTE COM ENCARGOS COMPLEMENTARES | D38: H | E38: 1 | F38: 18.75 | G38: =F38*E38 -> 18.75
A39: TOTAL COMP.08 | G39: =SUM(G37:G38) -> 42.284
A40: 9 | C40: COMPOSIÇÃO 9 - CORTE OU RELIGAÇÃO NO CAVALETE | D40: UNID
...

Sheet BDI DES.
A1: COMPOSIÇÃO DO B.D.I
A3: SEM DESONERAÇÃO
A7: Administração Central | B7: 0.038
A8: Seguro e Garantia | B8: 0.0049
A9: Risco | B9: 0.008
A10: Despesas Financeiras | B10: 0.0099 | E10: ONDE:
A11: Lucro | B11: 0.06 | E11: AC: | F11: taxa de administração central
A12: Tributos - PIS - CONFINS E CPRB | B12: 0.0365 | E12: S: | F12: taxa de seguros
A13: Tributos - ISS | B13: 0.05 | E13: R: | F13: taxa de riscos
A14: BDI | B14: =(((1+B7+B8+B9)*(1+B10)*(1+B11))/((1-(B12+B13))))-1 -> 0.23150755 | E14: G: | F14: taxa de garantias
E15: DF: | F15: taxa de despesas financeiras
E16: L: | F16: taxa de lucro/remuneração
E17: I: | F17: taxa de incidência de imposto (PIS,COFINS,ISS)
E19: CPRB: | F19: contribuição Previdenciária sobre a Receita Bruta
A21: *CALCULADO CONFORME ACORDÃO Nº 2622/2013 - TCU
A22: **PIS - 0,65%; COFINS - 3,00%; CPRB - 0%
A23: ***ISS DE 3% - BASE DE CALCULO DE 100%
