Workbook

Sheet PLANILHA
B1: SECRETARIA DE ESTADO DE EDUCAÇÃO - SUPERINTENDÊNCIA DE INFRAESTRUTURA E LOGÍSTICA - DIRETORIA DE GESTÃO DE PARCERIAS E FISCALIZAÇÃO - PLANILHA DE SERVIÇOS - SEM DESONERAÇÃO
A2: ESCOLA: ESCOLA MUNICIPAL HENRIQUETA MEDEIROS PIMENTEL | C2: COD ESCOLA: | F2: S.R.E.:
A3: MUNICÍPIO: FRANCISCO DUMONT/MG | C3: ISS | D3: 0.05 | E3: SERVIÇOS: | F3: CONSTRUÇÃO / AMPLIAÇÃO / REFORMA
A4: ITEM | B4: DESCRIÇÃO | C4: UN | D4: ANALISADO | G4: =G2032 -> 432007.06 | H4: LOCAL DE INTERVENÇÃO
D5: QUANT. | E5: P. UNIT. (S/BDI) | F5: P. UNIT. (C/BDI) | G5: P. TOTAL (C/BDI) | H5: MEMÓRIA DE CALCULO
A6: 010000 | B6: INSTALAÇÃO DOS SERVIÇOS DE ENGENHARIA | H6: COMFORME MEMÓRIA DE CÁLCULO AUXILIAR
A7: 010001 | B7: Locação dos serviços de engenharia: execução de gabarito | C7: M | D7: =(118.2+48.27)/2 -> 83.235 | E7: 48.53 | F7: =E7*(1+C$2031) -> 60.385879 | G7: =D7*F7 -> 5026.2186
B8: Será medido pela área de obra locada, aferida entre os eixos de fundação e acrescentando-se 0,50 m, a partir do eixo, para o lado externo (m). O item remunera o fornecimento de pontaletes em Pinus ou Cedrinho de 3" x 3"; tábuas em Pinus de 1" x 12"; arame galvanizado; inclusive materiais acessórios e a mão-de-obra necessária para os serviços de locação completa em obras de edificação compreendendo: locação de estacas, eixos principais, paredes, etc.
A10: 010002 | B10: Locação para muros, cercas e alambrados | C10: M | E10: 1.12 | F10: =E10*(1+C$2031) -> 1.393616 | G10: =D10*F10 -> 0
B11: Será medido por comprimento de muros, cercas ou alambrados locados (m). O item remunera o fornecimento de veículo para locomoção, materiais, mão-de-obra qualificada e equipamentos necessários para execução de serviços de locação de muros, cercas ou alambrados.
A13: 010003 | B13: Fornecimento e colocação de placa dos serviços de engenharia em chapa galvanizada (3,00 X 1,50m) - Governo do Estado - (Ampliação e / ou Reforma acima de R$ 30.000,00) | C13: UN | D13: 1 | E13: 1230.21 | F13: =E13*(1+C$2031) -> 1530.7503 | G13: =D13*F13 -> 1530.7503
B14: Será medido por unidade de placa instalada (UN). O item remunera as placas de obras que deverão ser confeccionadas em chapa galvanizada 0,26. As chapas serão afixadas com rebites 540 e parafusos 3/8, em uma estrutura metálica com viga U 2” enrijecida e Metalon 20x20. O suporte para a instalação deverá ser em Eucalipto Autoclavado. As placas serão pintadas na frente e no verso com fundo anticorrosivo e tinta automotiva. FORMATO: 3,00 x 1,50m. O tamanho da placa é definido em função do local da sua instalação e/ou do valor dos serviços acima de R$ 30.000,00, obedecendo à proporção de 6,00 x 3,00m e o manual de identidade visual do Governo de Minas.
A16: 010004 | B16: Limpeza do terreno, raspagem, capina e queima manual | C16: M2 | D16: 1197.49 | E16: 1.36 | F16: =E16*(1+C$2031) -> 1.692248 | G16: =D16*F16 -> 2026.4501
B17: Será medido pela área real do terreno, onde ocorrer a limpeza manual de vegetação (m²). O item remunera o fornecimento de caminhão basculante, a mão-de-obra necessária e ferramentas auxiliares para a execução dos serviços executados manualmente com auxílio de ferramental apropriado para a roçada, derrubada de árvores e arbustos, destocamento, fragmentação de galhos e troncos, empilhamento e transporte, abrangendo: a remoção de vegetação, árvores e arbustos com diâmetro do tronco até 5 cm, medidos na altura de 1,00 m do solo, capim. etc.; arrancamento e remoção de tocos, raízes e troncos; raspagem manual da camada de solo vegetal na espessura mínima de 15 cm; carga manual; e o transporte, interno na obra, num raio de 500m.
A19: 010005 | B19: Desmatamento, raspagem e limpeza mecanizada de terreno com árvores com diâmetro do tronco até 30cm com raspagem de no mínimo 15cm. | C19: M² | E19: 0.53 | F19: =E19*(1+C$2031) -> 0.659479 | G19: =D19*F19 -> 0
B20: Será medido pela área real de terreno, onde ocorrer a limpeza mecanizada de vegetação (m²). O item remunera o fornecimento de caminhão basculante e trator, equipamentos, a mão-de-obra necessária e ferramentas auxiliares para a execução dos serviços executados mecanicamente e manualmente com auxílio de ferramental apropriado para a roçada, derrubada de árvores e arbustos, destocamento, fragmentação de galhos, troncos e raízes, empilhamento e transporte, abrangendo: a remoção de vegetação, árvores e arbustos, com diâmetro de até 30 cm, medidos na altura de 1,00 m do solo, capim, etc.; arrancamento e remoção de tocos, raízes e troncos; raspagem mecanizada da camada de solo vegetal na espessura mínima de 15 cm; carga mecanizada; e o transporte, interno na obra, num raio de 500m.
A22: 010006 | B22: Barracão em madeira, piso cimentado e cobertura em telhas de fibrocimento ondulada | C22: M² | E22: 565.51 | F22: =E22*(1+C$2031) -> 703.66409 | G22: =D22*F22 -> 0 | H22: 30
B23: Será medido pela área de projeção da cobertura de construção provisória executada, com croqui analisado e aprovado previamente pela fiscalização. (M²) O item remunera o fornecimento de materiais e mão-de-obra necessários para a execução de construção provisória em madeira destinada a escritório e/ou depósito de obra, constituída por: piso interno e calçada externa em concreto usinado, Fck 20 MPa; paredes, portas e janelas em chapa compensada plastificada de no mínimo 6 mm de espessura, e / ou compensado resinado com seladora impermeabilizante e aplicação de textura na pintura; janelas com vidro fantasia de 3 ou 4mm; porta com dobradiças de latão cromado e fechadura de embutir cromada e com miolo tipo Georges; estrutura, apoio para cobertura e contraventamentos em pontaletes e tábuas de Pinus ou Cedrinho e engradamento da cobertura de eucalipto imunizado, cobertura com telha em fibrocimento, perfil ondulado de no mínimo 5 mm de espessura; instalação elétrica e pintura acrílica, materiais acessórios para execução total da construção provisória, conforme norma regulamentadora. Devem obedecer a NR 18 (Áreas de vivência). Remunera também a manutenção durante todo o período da obra e a desmobilização completa deste barracão.
A25: 010007 | B25: Barracão em madeira, piso cimentado e cobertura em telhas de fibrocimento ondulada para instalação sanitária. | C25: M² | E25: 625.48 | F25: =E25*(1+C$2031) -> 778.28476 | G25: =D25*F25 -> 0
B26: Será medido pela área de projeção da cobertura de construção provisória executada, com croqui analisado e aprovado previamente pela fiscalização. (M²). O item remunera o fornecimento de croqui, materiais e mão-de-obra necessários para a execução de sanitário/vestiário provisório constituído por; Piso interno e calçada externa em concreto usinado, Fck 20 MPa; Paredes duplas em madeirite plastificado ou resinado de 6mm com pontaletes e sarrafos para sustentação entre elas; portas em chapa compensada de mesmo material das paredes, com dobradiça em latão cromado e fechadura cromada para uso interno com miolo tipo Gorges; 4 Janelas em caixilho fixo de madeira, com vidro fantasia de 4 mm; Estrutura apoio para cobertura e contraventamentos em pontaletes e tábuas de Pinus ou Cedrinho e engradamento da cobertura de eucalipto imunizado, cobertura com telha em fibrocimento, perfil ondulado de no mínimo 5 mm de espessura; Instalação hidráulica incluindo mictório, bacia sifonada com caixa de descarga plástica de sobrepor, chuveiro elétrico simples de PVC, lavatório em polipropileno, inclusive torneira e conexões; Reservatórios de fibra de vidro e torneira boia em cobre de 1’; Instalação elétrica; Pintura acrílica; Materiais acessórios para execução total da construção do sanitário/vestiário provisório, conforme norma regulamentadora. Remunera também manutenção do sanitário/vestiário durante a obra. Devem obedecer a NR 18 (Áreas de vivência). Remunera também a desmobilização completa deste barracão. A configuração de 10,89m², 1 vaso, 1 lavatório, 1 mictório e 2 chuveiros é a configuração mínima para até 20 funcionários.
A28: 010008 | B28: Tapume em chapa compensado de 12mm e pontaletes h= 2,20m com portão. | C28: M² | E28: 157.76 | F28: =E28*(1+C$2031) -> 196.30077 | G28: =D28*F28 -> 0
B29: Será medido por área, aferida na projeção vertical de tapume executado, previamente aprovado pela fiscalização (M²). O item remunera o fornecimento de chapa compensada resinada de 12mm, pontalete de Pinus ou Cedrinho, de 3" x 3", materiais acessórios e a mão-de-obra necessária para a execução do tapume com portão completo com dobradiças, ferragens e cadeado. Remunera também a desmontagem completa do tapume de fechamento e remoção do material utilizado.
A31: 010009 | B31: Portão para tapume fixo de proteção com fechamento de obra em chapa de compensado, espessura de 12mm | C31: M² | E31: 136.58 | F31: =E31*(1+C$2031) -> 169.94649 | G31: =D31*F31 -> 0
B32: Será medido por área, aferida na projeção vertical de portão executado, em local previamente aprovado pela fiscalização (M²). O item remunera o fornecimento de chapa compensada resinada de 12mm, pontalete de Pinus ou Cedrinho, de 3" x 3", materiais acessórios e a mão-de-obra necessária para a construção do portão. Remunera também os acessórios necessários inclusive dobradiças e manutenção e posterior desmontagem completa e remoção do material utilizado.
A34: 010010 | B34: Tapume fixo de proteção para fechamento de obra em telha metálica galvanizada, tipo trapezoidal, esp. 0,5mm, com módulo na dimensão de (300x220)cm, com reaproveitamento, inclusive pontalete e fixação | C34: M² | E34: 54.94 | F34: =E34*(1+C$2031) -> 68.361842 | G34: =D34*F34 -> 0
B35: Será medido por área de tapume executado, previamente aprovado pela fiscalização (m²). O item remunera o fornecimento de materiais, acessórios para fixação e a mão-de-obra necessária para execução de tapume fixo em telhas de aço galvanizado tipo trapezoidal com espessura de 0,50mm, pontalete e sarrafo de Cedrinho, de 3 x 3. Remunera também a manutenção e posteriormente a desmontagem completa do tapume de fechamento e remoção do material utilizado.
A37: 010011 | B37: Portão para tapume fixo de proteção com fechamento de obra em telha metálica galvanizada, tipo trapezoidal esp. 0,5mm, com módulo na dimensão de (300x220)cm | C37: M² | E37: 121.83 | F37: =E37*(1+C$2031) -> 151.59307 | G37: =D37*F37 -> 0
B38: Será medido por área, aferida na projeção vertical de portão executado, em local previamente aprovado pela fiscalização (M²). O item remunera o fornecimento de telha de aço galvanizado tipo trapezoidal com espessura de 0,50mm, pontalete de Pinus ou Cedrinho, de 3" x 3", materiais acessórios e a mão-de-obra necessária para a construção do portão. Remunera também os acessórios necessários inclusive dobradiças e manutenção e posterior desmontagem completa e remoção do material utilizado.
A40: 010012 | B40: Remanejamento de tapume fixo de proteção para fechamento de obra (madeira ou metálico), inclusive escavação manual e reaterro compactado | C40: M² | E40: 10.75 | F40: =E40*(1+C$2031) -> 13.376225 | G40: =D40*F40 -> 0
B41: Será medido por área, aferida na projeção vertical de tapume remanejado, previamente aprovado pela fiscalização (M²). O item remunera a mão de obra e materiais adicionais para remoção do tapume existente e a montagem do mesmo em outra posição. Remunera também a desmontagem completa do tapume de fechamento e remoção do material utilizado quando da conclusão das atividades.
A43: 010013 | B43: Ligação provisória de luz e força - instalação mínima | C43: UN | D43: 1 | E43: 1106.16 | F43: =E43*(1+C$2031) -> 1376.3949 | G43: =D43*F43 -> 1376.3949
B44: Será medido pela unidade do ponto de entrada instalado, aprovado pela concessionária de energia e energizado (UN). O item remunera o fornecimento de materiais, equipamentos, mão de obra e a utilização de ferramentas necessárias para construção de padrão de entrada provisório devidamente aprovado pela concessionária de energia para atender as necessidades iniciais e no decorrer da obra. Remunera também o desligamento e remoção deste quando da instalação definitiva.
A46: 010014 | B46: Ligação provisória de água e esgoto a rede pública para obra - instalação mínima | C46: UN | D46: 1 | E46: 461.42 | F46: =E46*(1+C$2031) -> 574.14491 | G46: =D46*F46 -> 574.14491
B47: Será medido pela unidade do ponto de entrada instalado, aprovado pela concessionária de água e funcionando (UN). O item remunera o fornecimento de materiais, equipamentos, mão de obra e a utilização de ferramentas necessárias para construção de ligação provisória devidamente aprovada pela concessionária de água e esgoto para atender as necessidades iniciais e no decorrer da obra. Remunera também o desligamento e remoção deste quando da instalação definitiva.
A49: 010100 | B49: Padrão CEMIG aéreo TRIFÁSICO:
B50: Será medido pela unidade do padrão de entrada instalado, aprovado pela concessionária de energia e funcionando (UN) O item remunera o fornecimento de materiais, equipamentos, mão de obra e a utilização de ferramentas necessárias para construção de padrão de entrada de energia definitivo devidamente aprovado pela concessionária de energia para atender a demanda do prédio escolar.
A51: 010102 | B51: Padrão CEMIG aéreo tipo B1 demanda de até 10 KVA, bifásico | C51: UN | D51: 1 | E51: 2726.26 | F51: =E51*(1+C$2031) -> 3392.2853 | G51: =D51*F51 -> 3392.2853
A53: 010103 | B53: Padrão CEMIG aéreo tipo C1, demanda até 15 KVA, trifásico (serve como base, aproximadamente uma escola Tipo Escola Rural - escolas pequenas até 4 salas de aula) | C53: UN | E53: 3135.14 | F53: =E53*(1+C$2031) -> 3901.0547 | G53: =D53*F53 -> 0
A55: 010104 | B55: Padrão CEMIG aéreo tipo C4, demanda de 27,1 até 38 KVA, trifásico (serve como base, aproximadamente escolas entre 5 e 9 salas de aula) | C55: UN | E55: 3954.48 | F55: =E55*(1+C$2031) -> 4920.5595 | G55: =D55*F55 -> 0
A57: 010105 | B57: Padrão CEMIG aéreo tipo C8, demanda de 66,1 até 75 KVA, trifásico (serve como base, aproximadamente escolas a partir de 10 salas) | C57: UN | E57: 6801.53 | F57: =E57*(1+C$2031) -> 8463.1438 | G57: =D57*F57 -> 0
...

Sheet CRONOGRAMA
A1: CRONOGRAMA FÍSICO-FINANCEIRO
B2: ESCOLA : ESCOLA MUNICIPAL HENRIQUETA MEDEIROS PIMENTEL | I2: SRE:
B3: MUNICÍPIO / DISTRITO: FRANCISCO DUMONT | I3: ENDEREÇO: AV ODILON LOURDES, Nº 378
B4: SERVIÇOS: REFORMA
A5: ITEM | B5: DESCRIÇÃO | C5: TOTAL GERAL (C/ BDI) | D5: % INC. | E5: 1º MÊS | G5: 2º MÊS | I5: 3º MÊS | K5: 4º MÊS | M5: 5º MÊS | O5: 6º MÊS | Q5: TOTAL
E6: % | F6: VALOR | G6: % | H6: VALOR | I6: % | J6: VALOR | K6: % | L6: VALOR | M6: % | N6: VALOR | O6: % | P6: VALOR
A7: 1 | B7: =PLANILHA!B6 -> INSTALAÇÃO DOS SERVIÇOS DE ENGENHARIA | C7: =PLANILHA!G68 -> 13926.244 | D7: =C7/$C$33 -> 0.032236149 | E7: 1 | F7: =C7*E7 -> 13926.244 | H7: =C7*G7 -> 0 | J7: =C7*I7 -> 0 | L7: =C7*K7 -> 0 | N7: =C7*M7 -> 0 | P7: =C7*O7 -> 0 | Q7: =F7+H7+J7+L7+N7+P7 -> 13926.244 | S7: =E7+G7+I7+K7+M7 -> 1
A8: 2 | B8: =PLANILHA!B69 -> DEMOLIÇÕES E REMOÇÕES | C8: =PLANILHA!G195 -> 679.67822 | D8: =C8/$C$33 -> 0.0015733035 | E8: 1 | F8: =C8*E8 -> 679.67822 | H8: =C8*G8 -> 0 | J8: =C8*I8 -> 0 | L8: =C8*K8 -> 0 | N8: =C8*M8 -> 0 | P8: =C8*O8 -> 0 | Q8: =F8+H8+J8+L8+N8+P8 -> 679.67822 | S8: =E8+G8+I8+K8+M8 -> 1
A9: 3 | B9: =PLANILHA!B196 -> TRABALHOS EM TERRA | C9: =PLANILHA!G226 -> 4458.1075 | D9: =C9/$C$33 -> 0.010319525 | E9: 1 | F9: =C9*E9 -> 4458.1075 | H9: =C9*G9 -> 0 | J9: =C9*I9 -> 0 | L9: =C9*K9 -> 0 | N9: =C9*M9 -> 0 | P9: =C9*O9 -> 0 | Q9: =F9+H9+J9+L9+N9+P9 -> 4458.1075 | S9: =E9+G9+I9+K9+M9 -> 1
A10: 4 | B10: =PLANILHA!B227 -> SONDAGEM, FUNDAÇÕES, MUROS E CONTENÇÕES | C10: =PLANILHA!G290 -> 107342.4 | D10: =C10/$C$33 -> 0.24847372 | E10: 0.25 | F10: =C10*E10 -> 26835.6 | G10: 0.35 | H10: =C10*G10 -> 37569.84 | I10: 0.35 | J10: =C10*I10 -> 37569.84 | K10: 0.05 | L10: =C10*K10 -> 5367.12 | N10: =C10*M10 -> 0 | P10: =C10*O10 -> 0 | Q10: =F10+H10+J10+L10+N10+P10 -> 107342.4 | S10: =E10+G10+I10+K10+M10 -> 1
A11: 5 | B11: =PLANILHA!B291 -> SUPERESTRUTURA | C11: =PLANILHA!G327 -> 24018.193 | D11: =C11/$C$33 -> 0.05559676 | F11: =C11*E11 -> 0 | G11: 0.25 | H11: =C11*G11 -> 6004.5481 | I11: 0.5 | J11: =C11*I11 -> 12009.096 | K11: 0.25 | L11: =C11*K11 -> 6004.5481 | N11: =C11*M11 -> 0 | P11: =C11*O11 -> 0 | Q11: =F11+H11+J11+L11+N11+P11 -> 24018.193 | S11: =E11+G11+I11+K11+M11 -> 1
A12: 6 | B12: =PLANILHA!B328 -> ALVENARIA | C12: =PLANILHA!G356 -> 39384.695 | D12: =C12/$C$33 -> 0.091166785 | F12: =C12*E12 -> 0 | G12: 0.25 | H12: =C12*G12 -> 9846.1737 | I12: 0.25 | J12: =C12*I12 -> 9846.1737 | K12: 0.25 | L12: =C12*K12 -> 9846.1737 | M12: 0.25 | N12: =C12*M12 -> 9846.1737 | P12: =C12*O12 -> 0 | Q12: =F12+H12+J12+L12+N12+P12 -> 39384.695 | S12: =E12+G12+I12+K12+M12 -> 1
A13: 7 | B13: =PLANILHA!B357 -> COBERTURA E FORRO | C13: =PLANILHA!G513 -> 1709.161 | D13: =C13/$C$33 -> 0.0039563266 | F13: =C13*E13 -> 0 | H13: =C13*G13 -> 0 | J13: =C13*I13 -> 0 | K13: 0.5 | L13: =C13*K13 -> 854.58051 | M13: 0.5 | N13: =C13*M13 -> 854.58051 | P13: =C13*O13 -> 0 | Q13: =F13+H13+J13+L13+N13+P13 -> 1709.161 | S13: =E13+G13+I13+K13+M13 -> 1
A14: 8 | B14: =PLANILHA!B514 -> INSTALAÇÕES HIDRÁULICAS | C14: =PLANILHA!G709 -> 0 | D14: =C14/$C$33 -> 0 | F14: =C14*E14 -> 0 | H14: =C14*G14 -> 0 | J14: =C14*I14 -> 0 | L14: =C14*K14 -> 0 | N14: =C14*M14 -> 0 | P14: =C14*O14 -> 0 | Q14: =F14+H14+J14+L14+N14+P14 -> 0 | S14: =E14+G14+I14+K14+M14 -> 0
A15: 9 | B15: =PLANILHA!B710 -> INSTALAÇÕES SANITÁRIAS | C15: =PLANILHA!G771 -> 0 | D15: =C15/$C$33 -> 0 | F15: =C15*E15 -> 0 | H15: =C15*G15 -> 0 | J15: =C15*I15 -> 0 | L15: =C15*K15 -> 0 | N15: =C15*M15 -> 0 | P15: =C15*O15 -> 0 | Q15: =F15+H15+J15+L15+N15+P15 -> 0 | S15: =E15+G15+I15+K15+M15 -> 0
A16: 10 | B16: =PLANILHA!B772 -> INSTALAÇÃO ELÉTRICA | C16: =PLANILHA!G1135 -> 3671.0473 | D16: =C16/$C$33 -> 0.0084976559 | F16: =C16*E16 -> 0 | H16: =C16*G16 -> 0 | I16: 0.3 | J16: =C16*I16 -> 1101.3142 | K16: 0.2 | L16: =C16*K16 -> 734.20947 | M16: 0.5 | N16: =C16*M16 -> 1835.5237 | P16: =C16*O16 -> 0 | Q16: =F16+H16+J16+L16+N16+P16 -> 3671.0473 | S16: =E16+G16+I16+K16+M16 -> 1
A17: 11 | B17: =PLANILHA!B1136 -> ESQUADRIAS DE MADEIRA | C17: =PLANILHA!G1202 -> 0 | D17: =C17/$C$33 -> 0 | F17: =C17*E17 -> 0 | H17: =C17*G17 -> 0 | J17: =C17*I17 -> 0 | L17: =C17*K17 -> 0 | N17: =C17*M17 -> 0 | P17: =C17*O17 -> 0 | Q17: =F17+H17+J17+L17+N17+P17 -> 0 | S17: =E17+G17+I17+K17+M17 -> 0
A18: 12 | B18: =PLANILHA!B1203 -> ESQUADRIAS METÁLICAS | C18: =PLANILHA!G1254 -> 15926.522 | D18: =C18/$C$33 -> 0.036866347 | F18: =C18*E18 -> 0 | H18: =C18*G18 -> 0 | J18: =C18*I18 -> 0 | K18: 0.5 | L18: =C18*K18 -> 7963.2611 | M18: 0.5 | N18: =C18*M18 -> 7963.2611 | P18: =C18*O18 -> 0 | Q18: =F18+H18+J18+L18+N18+P18 -> 15926.522 | S18: =E18+G18+I18+K18+M18 -> 1
A19: 13 | B19: =PLANILHA!B1255 -> FERRAGENS | C19: =PLANILHA!G1311 -> 122907.73 | D19: =C19/$C$33 -> 0.28450399 | F19: =C19*E19 -> 0 | H19: =C19*G19 -> 0 | J19: =C19*I19 -> 0 | K19: 0.5 | L19: =C19*K19 -> 61453.865 | M19: 0.5 | N19: =C19*M19 -> 61453.865 | P19: =C19*O19 -> 0 | Q19: =F19+H19+J19+L19+N19+P19 -> 122907.73 | S19: =E19+G19+I19+K19+M19 -> 1
A20: 14 | B20: =PLANILHA!B1312 -> REVESTIMENTO | C20: =PLANILHA!G1347 -> 9794.9122 | D20: =C20/$C$33 -> 0.022673037 | F20: =C20*E20 -> 0 | H20: =C20*G20 -> 0 | J20: =C20*I20 -> 0 | L20: =C20*K20 -> 0 | M20: 1 | N20: =C20*M20 -> 9794.9122 | P20: =C20*O20 -> 0 | Q20: =F20+H20+J20+L20+N20+P20 -> 9794.9122 | S20: =E20+G20+I20+K20+M20 -> 1
A21: 15 | B21: =PLANILHA!B1348 -> PISOS E RODAPÉS | C21: =PLANILHA!G1448 -> 64677.969 | D21: =C21/$C$33 -> 0.14971507 | F21: =C21*E21 -> 0 | H21: =C21*G21 -> 0 | I21: 0.25 | J21: =C21*I21 -> 16169.492 | K21: 0.75 | L21: =C21*K21 -> 48508.477 | N21: =C21*M21 -> 0 | P21: =C21*O21 -> 0 | Q21: =F21+H21+J21+L21+N21+P21 -> 64677.969 | S21: =E21+G21+I21+K21+M21 -> 1
A22: 16 | B22: =PLANILHA!B1449 -> VIDROS | C22: =PLANILHA!G1462 -> 0 | D22: =C22/$C$33 -> 0 | F22: =C22*E22 -> 0 | H22: =C22*G22 -> 0 | J22: =C22*I22 -> 0 | L22: =C22*K22 -> 0 | N22: =C22*M22 -> 0 | P22: =C22*O22 -> 0 | Q22: =F22+H22+J22+L22+N22+P22 -> 0 | S22: =E22+G22+I22+K22+M22 -> 0
A23: 17 | B23: =PLANILHA!B1463 -> PINTURA | C23: =PLANILHA!G1510 -> 6302.0124 | D23: =C23/$C$33 -> 0.014587753 | F23: =C23*E23 -> 0 | H23: =C23*G23 -> 0 | J23: =C23*I23 -> 0 | L23: =C23*K23 -> 0 | M23: 1 | N23: =C23*M23 -> 6302.0124 | P23: =C23*O23 -> 0 | Q23: =F23+H23+J23+L23+N23+P23 -> 6302.0124 | S23: =E23+G23+I23+K23+M23 -> 1
A24: 18 | B24: =PLANILHA!B1511 -> BANCADAS, PRATELEIRAS E DIVISÓRIAS | C24: =PLANILHA!G1558 -> 50.383698 | D24: =C24/$C$33 -> 0.00011662702 | F24: =C24*E24 -> 0 | H24: =C24*G24 -> 0 | I24: 1 | J24: =C24*I24 -> 50.383698 | L24: =C24*K24 -> 0 | N24: =C24*M24 -> 0 | P24: =C24*O24 -> 0 | Q24: =F24+H24+J24+L24+N24+P24 -> 50.383698 | S24: =E24+G24+I24+K24+M24 -> 1
A25: 19 | B25: =PLANILHA!B1559 -> DIVERSOS | C25: =PLANILHA!G1644 -> 0 | D25: =C25/$C$33 -> 0 | F25: =C25*E25 -> 0 | H25: =C25*G25 -> 0 | J25: =C25*I25 -> 0 | L25: =C25*K25 -> 0 | N25: =C25*M25 -> 0 | P25: =C25*O25 -> 0 | Q25: =F25+H25+J25+L25+N25+P25 -> 0 | S25: =E25+G25+I25+K25+M25 -> 0
A26: 20 | B26: =PLANILHA!B1645 -> QUADRA | C26: =PLANILHA!G1715 -> 429.26732 | D26: =C26/$C$33 -> 0.00099365813 | F26: =C26*E26 -> 0 | H26: =C26*G26 -> 0 | J26: =C26*I26 -> 0 | K26: 1 | L26: =C26*K26 -> 429.26732 | N26: =C26*M26 -> 0 | P26: =C26*O26 -> 0 | Q26: =F26+H26+J26+L26+N26+P26 -> 429.26732 | S26: =E26+G26+I26+K26+M26 -> 1
A27: 21 | B27: =PLANILHA!B1716 -> FOSSAS, FILTROS, CAIXAS E SUMIDOUROS | C27: =PLANILHA!G1748 -> 0 | D27: =C27/$C$33 -> 0 | F27: =C27*E27 -> 0 | H27: =C27*G27 -> 0 | J27: =C27*I27 -> 0 | L27: =C27*K27 -> 0 | N27: =C27*M27 -> 0 | P27: =C27*O27 -> 0 | Q27: =F27+H27+J27+L27+N27+P27 -> 0 | S27: =E27+G27+I27+K27+M27 -> 0
A28: 23 | B28: =PLANILHA!B1749 -> LIMPEZA | C28: =PLANILHA!G1766 -> 0 | D28: =C28/$C$33 -> 0 | F28: =C28*E28 -> 0 | H28: =C28*G28 -> 0 | J28: =C28*I28 -> 0 | L28: =C28*K28 -> 0 | N28: =C28*M28 -> 0 | P28: =C28*O28 -> 0 | Q28: =F28+H28+J28+L28+N28+P28 -> 0 | S28: =E28+G28+I28+K28+M28 -> 0
A29: 24 | B29: =PLANILHA!B1767 -> LEVANTAMENTOS, E PROJETOS | C29: =PLANILHA!G1839 -> 0 | D29: =C29/$C$33 -> 0 | F29: =C29*E29 -> 0 | H29: =C29*G29 -> 0 | J29: =C29*I29 -> 0 | L29: =C29*K29 -> 0 | N29: =C29*M29 -> 0 | P29: =C29*O29 -> 0 | Q29: =F29+H29+J29+L29+N29+P29 -> 0 | S29: =E29+G29+I29+K29+M29 -> 0
A30: 25 | B30: =PLANILHA!B1840 -> DETECÇÃO, COMBATE E PREVENÇÃO A INCÊNDIO | C30: =PLANILHA!G2014 -> 0 | D30: =C30/$C$33 -> 0 | F30: =C30*E30 -> 0 | H30: =C30*G30 -> 0 | J30: =C30*I30 -> 0 | L30: =C30*K30 -> 0 | N30: =C30*M30 -> 0 | P30: =C30*O30 -> 0 | Q30: =F30+H30+J30+L30+N30+P30 -> 0 | S30: =E30+G30+I30+K30+M30 -> 0
A31: 26 | B31: =PLANILHA!B2015 -> OUTROS | C31: =PLANILHA!G2028 -> 16728.736 | D31: =C31/$C$33 -> 0.038723293 | F31: =C31*E31 -> 0 | H31: =C31*G31 -> 0 | I31: 0.35 | J31: =C31*I31 -> 5855.0576 | K31: 0.3 | L31: =C31*K31 -> 5018.6208 | M31: 0.35 | N31: =C31*M31 -> 5855.0576 | P31: =C31*O31 -> 0 | Q31: =F31+H31+J31+L31+N31+P31 -> 16728.736 | S31: =E31+G31+I31+K31+M31 -> 1
A32: TOTAL MENSAL | E32: =F32/C33 -> 0.10624741 | F32: =SUM(F7:F31) -> 45899.63 | G32: =H32/C33 -> 0.12365669 | H32: =SUM(H7:H31) -> 53420.562 | I32: =J32/C33 -> 0.19120372 | J32: =SUM(J7:J31) -> 82601.358 | K32: =L32/C33 -> 0.33837438 | L32: =SUM(L7:L31) -> 146180.12 | M32: =N32/C33 -> 0.2405178 | N32: =SUM(N7:N31) -> 103905.39 | O32: =P32/C33 -> 0 | P32: =SUM(P7:P29) -> 0 | Q32: =SUM(Q7:Q31) -> 432007.06 | S32: =E32+G32+I32+K32+M32 -> 1
A33: TOTAL ACUMULADO | C33: =SUM(C7:C31) -> 432007.06 | D33: =SUM(D7:D32) -> 1 | E33: =F33/C33 -> 0.10624741 | F33: =F32 -> 45899.63 | G33: =H33/C33 -> 0.2299041 | H33: =F33+H32 -> 99320.192 | I33: =J33/C33 -> 0.42110782 | J33: =H33+J32 -> 181921.55 | K33: =L33/C33 -> 0.7594822 | L33: =J33+L32 -> 328101.67 | M33: =N33/C33 -> 1 | N33: =L33+N32 -> 432007.06 | O33: =P33/C33 -> 1 | P33: =N33+P32 -> 432007.06 | Q33: =Q32 -> 432007.06
A34: LOCAL / DATA: Francisco Dumont, 24 de outubro de 2025
A35: RESPONSÁVEL TÉCNICO: Lwan Matheus Costa Souza
A36: REPRESENTANTE LEGAL: Nilson José de Azevedo

Sheet PLANO APLICAÇÃO
A1: ITEM | B1: MACROETAPA | C1: VALOR | D1: DURAÇÃO EM DIAS | E1: DESEMBOLSO DA ATIVIDADE
A3: 1 | B3: =CRONOGRAMA!B7 -> INSTALAÇÃO DOS SERVIÇOS DE ENGENHARIA | C3: ='[1]PLANILHA QUADRA MODELO 3'!G17 -> 0 | D3: 30 | E3: =CRONOGRAMA!C7 -> 13926.244
A4: 2 | B4: =CRONOGRAMA!B8 -> DEMOLIÇÕES E REMOÇÕES | C4: ='[1]PLANILHA QUADRA MODELO 3'!G36 -> 0 | D4: 30 | E4: =CRONOGRAMA!C8 -> 679.67822
A5: 3 | B5: =CRONOGRAMA!B9 -> TRABALHOS EM TERRA | C5: ='[1]PLANILHA QUADRA MODELO 3'!G60 -> 0 | D5: 30 | E5: =CRONOGRAMA!C9 -> 4458.1075
A6: 4 | B6: =CRONOGRAMA!B10 -> SONDAGEM, FUNDAÇÕES, MUROS E CONTENÇÕES | C6: ='[1]PLANILHA QUADRA MODELO 3'!G70 -> 0 | D6: 120 | E6: =CRONOGRAMA!C10 -> 107342.4
A7: 5 | B7: =CRONOGRAMA!B11 -> SUPERESTRUTURA | C7: ='[1]PLANILHA QUADRA MODELO 3'!G77 -> 0 | D7: 90 | E7: =CRONOGRAMA!C11 -> 24018.193
A8: 6 | B8: =CRONOGRAMA!B12 -> ALVENARIA | C8: ='[1]PLANILHA QUADRA MODELO 3'!G92 -> 0 | D8: 120 | E8: =CRONOGRAMA!C12 -> 39384.695
A9: 7 | B9: =CRONOGRAMA!B13 -> COBERTURA E FORRO | C9: ='[1]PLANILHA QUADRA MODELO 3'!G180 -> 0 | D9: 60 | E9: =CRONOGRAMA!C13 -> 1709.161
A10: 10 | B10: =CRONOGRAMA!B16 -> INSTALAÇÃO ELÉTRICA | C10: ='[1]PLANILHA QUADRA MODELO 3'!G202 -> 905.19092 | D10: 90 | E10: =CRONOGRAMA!C16 -> 3671.0473
A11: 12 | B11: =CRONOGRAMA!B18 -> ESQUADRIAS METÁLICAS | C11: ='[1]PLANILHA QUADRA MODELO 3'!G298 -> 0 | D11: 60 | E11: =CRONOGRAMA!C18 -> 15926.522
A12: 13 | B12: =CRONOGRAMA!B19 -> FERRAGENS | C12: ='[1]PLANILHA QUADRA MODELO 3'!G308 -> 0 | D12: 60 | E12: =CRONOGRAMA!C19 -> 122907.73
A13: 14 | B13: =CRONOGRAMA!B20 -> REVESTIMENTO | C13: ='[1]PLANILHA QUADRA MODELO 3'!G326 -> 0 | D13: 30 | E13: =CRONOGRAMA!C20 -> 9794.9122
A14: 15 | B14: =CRONOGRAMA!B21 -> PISOS E RODAPÉS | C14: ='[1]PLANILHA QUADRA MODELO 3'!G343 -> 0 | D14: 60 | E14: =CRONOGRAMA!C21 -> 64677.969
A15: 17 | B15: =CRONOGRAMA!B23 -> PINTURA | C15: ='[1]PLANILHA QUADRA MODELO 3'!G362 -> 0 | D15: 30 | E15: =CRONOGRAMA!C23 -> 6302.0124
A16: 18 | B16: =CRONOGRAMA!B24 -> BANCADAS, PRATELEIRAS E DIVISÓRIAS | C16: ='[1]PLANILHA QUADRA MODELO 3'!G373 -> 0 | D16: 30 | E16: =CRONOGRAMA!C24 -> 50.383698
A17: 20 | B17: =CRONOGRAMA!B26 -> QUADRA | C17: ='[1]PLANILHA QUADRA MODELO 3'!G389 -> 0 | D17: 30 | E17: =CRONOGRAMA!C26 -> 429.26732
A18: 26 | B18: =CRONOGRAMA!B31 -> OUTROS | C18: ='[1]PLANILHA QUADRA MODELO 3'!G432 -> 0 | D18: 90 | E18: =CRONOGRAMA!C31 -> 16728.736
A19: TOTAL ACUMULADO | C19: =SUM(C3:C18) -> 905.19092 | E19: =SUM(E3:E18) -> 432007.06
A25: __________________________________________
A26: LWAN MATHEUS COSTA SOUZA
A27: ENGENHEIRO CIVIL
A28: CREA MG Nº: 255.542/D
A33: ____________________________________
A34: NILSON JOSÉ DE AZEVEDO
A35: PREFEITO MUNICIPAL DE FRANCISCO DUMONT
