Workbook
Name JR_PAGE_ANCHOR_0_1: #REF!

Sheet Planilha Licitação Válida
A2: PREFEITURA MUNICIPAL DE ITAMARANDIBA
A3: ESTADO DE MINAS GERAIS – BRASIL
A4: - SETOR ENGENHARIA
A5: - CNPJ – 16.886.871/0001-94 Rua Tabelião Andrade, 205 Centro
A6: - Itamarandiba/MG - CEP 39.670-000.
A8: PLANILHA ORÇAMENTÁRIA DE CUSTOS
A9: PREFEITURA: PREFEITURA MUNICIPAL DE ITAMARANDIBA,MG. | G9: FOLHA Nº:
A10: OBRA: CONSTRUÇÃO DE CRECHE PRO INFÂNCIA BAIRRO NOVA ITAMARANDIBA | G10: DATA:09/05/2025
A11: LOCAL: LOTEAMENTO NOVA ITAMARANDIBA, BAIRRO NOVA ITAMARANDIBA, ITAMARANDIBA MG | G11: FORMA DE EXECUÇÃO: INDIRETA
A12: PRAZO DE EXECUÇÃO: 10 MESES
A14: Obra: Creche Tipo 1 - BIM - opção 110V | G14: BDI : | H14: 0.25
A15: Unidade federativa: MINAS GERAIS
F16: Fonte
F17: SINAPI | G17: 2024/03 | H17: SEM DESONERAÇÃO
F18: SICRO | G18: 2024/04 | H18: SEM DESONERAÇÃO
F19: PRÓPRIA | G19: PRÓPRIA
D21: Edificação principal da Creche Tipo 1 - BIM
A23: ITEM | B23: CÓDIGO | C23: DESCRIÇÃO | D23: FONTE | E23: UND | F23: QUANTIDADE | G23: PREÇO UNITÁRIO COM BDI R$ | H23: PREÇO TOTAL R$
A24: 1 | B24: SERVIÇOS PRELIMINARES | H24: 626254.79
A25: 1.1 | B25: 103689 | C25: FORNECIMENTO E INSTALAÇÃO DE PLACA DE OBRA COM CHAPA GALVANIZADA E ESTRUTURA DE MADEIRA. AF_03/2022_PS | D25: SINAPI | E25: M2 | F25: 6.48 | G25: 383.74 | H25: 2486.64
A26: 1.2 | B26: 98459 | C26: TAPUME COM TELHA METÁLICA. AF_03/2024 | D26: SINAPI | E26: M2 | F26: 501.6 | G26: 96.56 | H26: 48434.5
A27: 1.3 | B27: 101509 | C27: ENTRADA DE ENERGIA ELÉTRICA, AÉREA, TRIFÁSICA, COM CAIXA DE EMBUTIR, CABO DE 10 MM2 E DISJUNTOR DIN 50A (NÃO INCLUSO O POSTE DE CONCRETO). AF_07/2020_PS | D27: SINAPI | E27: UN | F27: 1 | G27: 2259.44 | H27: 2259.44
A28: 1.4 | B28: FNDE 03 | C28: LIGAÇÃO PROVISÓRIA DE ÁGUA E ESGOTO | D28: PRÓPRIA | E28: UN | F28: 1 | G28: 3599.88 | H28: 3599.88
A29: 1.5 | B29: 99059 | C29: LOCAÇÃO CONVENCIONAL DE OBRA, UTILIZANDO GABARITO DE TÁBUAS CORRIDAS PONTALETADAS A CADA 2,00M - 2 UTILIZAÇÕES. AF_03/2024 | D29: SINAPI | E29: M | F29: 254 | G29: 86.83 | H29: 22054.82
A30: 1.6 | B30: FNDE 244 | C30: ADMINISTRAÇÃO LOCAL TIPO 1 | D30: PRÓPRIA | E30: UN | F30: 1 | G30: 509718.31 | H30: 509718.31
A31: 1.7 | B31: FNDE 231 | C31: LOCACAO DE CONTAINER 2,30 X 6,00 M, ALT. 2,50 M, COM 1 SANITARIO, PARA ESCRITORIO, COMPLETO, SEM DIVISORIAS INTERNAS (NAO INCLUI MOBILIZACAO/DESMOBILIZACAO) | D31: PRÓPRIA | E31: MÊS | F31: 10 | G31: 1243.75 | H31: 12437.5
A32: 1.8 | B32: FNDE 230 | C32: LOCACAO DE CONTAINER 2,30 X 6,00 M, ALT. 2,50 M, PARA ESCRITORIO, SEM DIVISORIAS INTERNAS E SEM SANITARIO (NAO INCLUI MOBILIZACAO/DESMOBILIZACAO) | D32: PRÓPRIA | E32: MÊS | F32: 10 | G32: 971.68 | H32: 9716.8
A33: 1.9 | B33: FNDE 232 | C33: LOCACAO DE CONTAINER 2,30 X 6,00 M, ALT. 2,50 M, PARA SANITARIO, COM 4 BACIAS, 8 CHUVEIROS,1 LAVATORIO E 1 MICTORIO (NAO INCLUI MOBILIZACAO/DESMOBILIZACAO) | D33: PRÓPRIA | E33: MÊS | F33: 10 | G33: 1554.69 | H33: 15546.9
A34: 2 | B34: MOVIMENTO DE TERRA PARA FUNDAÇÕES | G34: 0 | H34: 83612.55
A35: 2.1 | B35: 98525 | C35: LIMPEZA MECANIZADA DE CAMADA VEGETAL, VEGETAÇÃO E PEQUENAS ÁRVORES (DIÂMETRO DE TRONCO MENOR QUE 0,20 M), COM TRATOR DE ESTEIRAS. AF_03/2024 | D35: SINAPI | E35: M2 | F35: 2925 | G35: 0.8 | H35: 2340
A36: 2.2 | B36: 94306 | C36: ATERRO MECANIZADO DE VALA COM ESCAVADEIRA HIDRÁULICA (CAPACIDADE DA CAÇAMBA: 0,8 M³ / POTÊNCIA: 111 HP), LARGURA ATÉ 2,5 M, PROFUNDIDADE DE 1,5 A 3,0 M, COM SOLO ARGILO-ARENOSO. AF_08/2023 | D36: SINAPI | E36: M3 | F36: 585 | G36: 85.11 | H36: 49789.35
A37: 2.3 | B37: 96521 | C37: ESCAVAÇÃO MECANIZADA PARA BLOCO DE COROAMENTO OU SAPATA COM RETROESCAVADEIRA (INCLUINDO ESCAVAÇÃO PARA COLOCAÇÃO DE FÔRMAS). AF_01/2024 | D37: SINAPI | E37: M3 | F37: 107.36 | G37: 51.26 | H37: 5503.27
A38: 2.4 | B38: 96525 | C38: ESCAVAÇÃO MECANIZADA PARA VIGA BALDRAME OU SAPATA CORRIDA COM MINI-ESCAVADEIRA (INCLUINDO ESCAVAÇÃO PARA COLOCAÇÃO DE FÔRMAS). AF_01/2024 | D38: SINAPI | E38: M3 | F38: 41.4 | G38: 71.75 | H38: 2970.45
A39: 2.5 | B39: 101617 | C39: PREPARO DE FUNDO DE VALA COM LARGURA MAIOR OU IGUAL A 1,5 M E MENOR QUE 2,5 M (ACERTO DO SOLO NATURAL). AF_08/2020 | D39: SINAPI | E39: M2 | F39: 47.9 | G39: 3.74 | H39: 179.15
A40: 2.6 | B40: 93381 | C40: REATERRO MECANIZADO DE VALA COM RETROESCAVADEIRA (CAPACIDADE DA CAÇAMBA DA RETRO: 0,26 M³/POTÊNCIA: 88 HP), LARGURA 0,8 A 1,5 M, PROFUNDIDADE 1,5 A 3,0 M, COM SOLO (SEM SUBSTITUIÇÃO) DE 1ª CATEGORIA E COMPACTADOR DE SOLOS DE PERCUSSÃO. AF_08/2023 | D40: SINAPI | E40: M3 | F40: 84.02 | G40: 16.21 | H40: 1361.96
A41: 2.7 | B41: 94316 | C41: ATERRO MECANIZADO DE VALA COM RETROESCAVADEIRA (CAPACIDADE DA CAÇAMBA DA RETRO: 0,26 M³ / POTÊNCIA: 88 HP), LARGURA ATÉ 1,5 M, PROFUNDIDADE ATÉ 1,5 M, COM SOLO ARGILO-ARENOSO. AF_08/2023 | D41: SINAPI | E41: M3 | F41: 247.36 | G41: 86.79 | H41: 21468.37
A42: 3 | B42: FUNDAÇÕES | G42: 0 | H42: 370342.67
A43: 3.1 | B43: FUNDAÇÃO PROFUNDA - ESTACAS | G43: 0 | H43: 296974.98
A44: 3.1.1 | B44: 100656 | C44: ESTACA PRÉ-MOLDADA DE CONCRETO, SEÇÃO QUADRADA, CAPACIDADE DE 25 TONELADAS, INCLUSO EMENDA (EXCLUSIVE MOBILIZAÇÃO E DESMOBILIZAÇÃO). AF_12/2019 | D44: SINAPI | E44: M | F44: 1620 | G44: 141.46 | H44: 229165.2
A45: 3.1.2 | B45: 95601 | C45: ARRASAMENTO MECANICO DE ESTACA DE CONCRETO ARMADO, DIAMETROS DE ATÉ 40 CM. AF_05/2021 | D45: SINAPI | E45: UN | F45: 162 | G45: 20.98 | H45: 3398.76
...

Sheet Cronograma
B1: PREFEITURA MUNICIPAL DE ITAMARANDIBA
B2: ESTADO DE MINAS GERAIS – BRASIL
B3: SETOR ENGENHARIA
B4: CNPJ – 16.886.871/0001-94 Rua Tabelião Andrade, 205 Centro
A5: Itamarandiba/MG - CEP 39.670-000.
A6: CRONOGRAMA FÍSICO-FINANCEIRO
A7: PREFEITURA: Itamarandiba - MG | E7: VALOR DA OBRA: | H7: =D63 -> 6233370.5 | J7: DATA: MAIO - 2025
A8: OBRA: Creche Pro Infancia no bairro Nova Itamarandiba | E8: LOCAL: Rua Cipreste, Bairro Nova Itamarandiba, Itamarandiba - MG | J8: PRAZO DA OBRA: 10 MESES
A9: ITEM | B9: ETAPAS/DESCRIÇÃO | C9: FÍSICO/ FINANCEIRO | D9: TOTAL ETAPAS | E9: MÊS 1 | F9: MÊS 2 | G9: MÊS 3 | H9: MÊS 4 | I9: MÊS 5 | J9: MÊS 6 | K9: MÊS 7 | L9: MÊS 8 | M9: MÊS 9 | N9: MÊS 10 | O9: TOTAIS
A10: 1 | B10: SERVIÇOS PRELIMINARES | C10: Físico % | D10: =D11/$D$63 -> 0.10046808 | E10: 0.2133 | F10: 0.0874 | G10: 0.0874 | H10: 0.0874 | I10: 0.0874 | J10: 0.0874 | K10: 0.0874 | L10: 0.0874 | M10: 0.0874 | N10: 0.0875 | O10: =SUM(E10:N10) -> 1
C11: Financeiro | D11: ='Planilha Licitação Válida'!H24 -> 626254.79 | E11: =E10*$D$11 -> 133580.15 | F11: =F10*$D$11 -> 54734.669 | G11: =G10*$D$11 -> 54734.669 | H11: =H10*$D$11 -> 54734.669 | I11: =I10*$D$11 -> 54734.669 | J11: =J10*$D$11 -> 54734.669 | K11: =K10*$D$11 -> 54734.669 | L11: =L10*$D$11 -> 54734.669 | ... N11: =N10*$D$11 -> 54797.294 | O11: =SUM(E11:N11) -> 626254.79
A12: 2 | B12: MOVIMENTO DE TERRA PARA FUNDAÇÕES | C12: Físico % | D12: =D13/$D$63 -> 0.013413698 | E12: 1 | F12: 0 | G12: 0 | H12: 0 | I12: 0 | J12: 0 | K12: 0 | L12: 0 | M12: 0 | N12: 0 | O12: =SUM(E12:N12) -> 1
C13: Financeiro | D13: ='Planilha Licitação Válida'!H34 -> 83612.55 | E13: =E12*$D$13 -> 83612.55 | F13: =F12*$D$13 -> 0 | G13: =G12*$D$13 -> 0 | H13: =H12*$D$13 -> 0 | I13: =I12*$D$13 -> 0 | J13: =J12*$D$13 -> 0 | K13: =K12*$D$13 -> 0 | L13: =L12*$D$13 -> 0 | ... N13: =N12*$D$13 -> 0 | O13: =SUM(E13:N13) -> 83612.55
A14: 3 | B14: FUNDAÇÕES | C14: Físico % | D14: =D15/$D$63 -> 0.059412908 | E14: 1 | F14: 0 | G14: 0 | H14: 0 | I14: 0 | J14: 0 | K14: 0 | L14: 0 | M14: 0 | N14: 0 | O14: =SUM(E14:N14) -> 1
C15: Financeiro | D15: ='Planilha Licitação Válida'!H42 -> 370342.67 | E15: =E14*$D$15 -> 370342.67 | F15: =F14*$D$15 -> 0 | G15: =G14*$D$15 -> 0 | H15: =H14*$D$15 -> 0 | I15: =I14*$D$15 -> 0 | J15: =J14*$D$15 -> 0 | K15: =K14*$D$15 -> 0 | L15: =L14*$D$15 -> 0 | ... N15: =N14*$D$15 -> 0 | O15: =SUM(E15:N15) -> 370342.67
A16: 4 | B16: SUPERESTRUTURA | C16: Físico % | D16: =D17/$D$63 -> 0.14973841 | E16: 0 | F16: 1 | G16: 0 | H16: 0 | I16: 0 | J16: 0 | K16: 0 | L16: 0 | M16: 0 | N16: 0 | O16: =SUM(E16:N16) -> 1
C17: Financeiro | D17: ='Planilha Licitação Válida'!H66 -> 933374.99 | E17: =E16*$D$17 -> 0 | F17: =F16*$D$17 -> 933374.99 | G17: =G16*$D$17 -> 0 | H17: =H16*$D$17 -> 0 | I17: =I16*$D$17 -> 0 | J17: =J16*$D$17 -> 0 | K17: =K16*$D$17 -> 0 | L17: =L16*$D$17 -> 0 | ... N17: =N16*$D$17 -> 0 | O17: =SUM(E17:N17) -> 933374.99
A18: 5 | B18: SISTEMA DE VEDAÇÃO VERTICAL | C18: Físico % | D18: =D19/$D$63 -> 0.026714425 | E18: 0 | F18: 0 | G18: 1 | H18: 0 | I18: 0 | J18: 0 | K18: 0 | L18: 0 | M18: 0 | N18: 0 | O18: =SUM(E18:N18) -> 1
C19: Financeiro | D19: ='Planilha Licitação Válida'!H112 -> 166520.91 | E19: =E18*$D$19 -> 0 | F19: =F18*$D$19 -> 0 | G19: =G18*$D$19 -> 166520.91 | H19: =H18*$D$19 -> 0 | I19: =I18*$D$19 -> 0 | J19: =J18*$D$19 -> 0 | K19: =K18*$D$19 -> 0 | L19: =L18*$D$19 -> 0 | ... N19: =N18*$D$19 -> 0 | O19: =SUM(E19:N19) -> 166520.91
A20: 6 | B20: ESQUADRIAS | C20: Físico % | D20: =D21/$D$63 -> 0.086179397 | E20: 0 | F20: 0 | G20: 0 | H20: 0 | I20: 0 | J20: 0 | K20: 0 | L20: 1 | M20: 0 | N20: 0 | O20: =SUM(E20:N20) -> 1
C21: Financeiro | D21: ='Planilha Licitação Válida'!H126 -> 537188.11 | E21: =E20*$D$21 -> 0 | F21: =F20*$D$21 -> 0 | G21: =G20*$D$21 -> 0 | H21: =H20*$D$21 -> 0 | I21: =I20*$D$21 -> 0 | J21: =J20*$D$21 -> 0 | K21: =K20*$D$21 -> 0 | L21: =L20*$D$21 -> 537188.11 | ... N21: =N20*$D$21 -> 0 | O21: =SUM(E21:N21) -> 537188.11
A22: 7 | B22: SISTEMAS DE COBERTURA | C22: Físico % | D22: =D23/$D$63 -> 0.057755149 | E22: 0 | F22: 0 | G22: 0 | H22: 1 | I22: 0 | J22: 0 | K22: 0 | L22: 0 | M22: 0 | N22: 0 | O22: =SUM(E22:N22) -> 1
C23: Financeiro | D23: ='Planilha Licitação Válida'!H182 -> 360009.24 | E23: =E22*$D$23 -> 0 | F23: =F22*$D$23 -> 0 | G23: =G22*$D$23 -> 0 | H23: =H22*$D$23 -> 360009.24 | I23: =I22*$D$23 -> 0 | J23: =J22*$D$23 -> 0 | K23: =K22*$D$23 -> 0 | L23: =L22*$D$23 -> 0 | ... N23: =N22*$D$23 -> 0 | O23: =SUM(E23:N23) -> 360009.24
A24: 8 | B24: IMPERMEABILIZAÇÃO | C24: Físico % | D24: =D25/$D$63 -> 0.012031236 | E24: 0.8 | F24: 0 | G24: 0.2 | H24: 0 | I24: 0 | J24: 0 | K24: 0 | L24: 0 | M24: 0 | N24: 0 | O24: =SUM(E24:N24) -> 1
C25: Financeiro | D25: ='Planilha Licitação Válida'!H189 -> 74995.15 | E25: =E24*$D$25 -> 59996.12 | F25: =F24*$D$25 -> 0 | G25: =G24*$D$25 -> 14999.03 | H25: =H24*$D$25 -> 0 | I25: =I24*$D$25 -> 0 | J25: =J24*$D$25 -> 0 | K25: =K24*$D$25 -> 0 | L25: =L24*$D$25 -> 0 | ... N25: =N24*$D$25 -> 0 | O25: =SUM(E25:N25) -> 74995.15
A26: 9 | B26: REVESTIMENTOS INTERNO E EXTERNO | C26: Físico % | D26: =D27/$D$63 -> 0.085148114 | E26: 0 | F26: 0 | G26: 0 | H26: 0 | I26: 0.5 | J26: 0.5 | K26: 0 | L26: 0 | M26: 0 | N26: 0 | O26: =SUM(E26:N26) -> 1
C27: Financeiro | D27: ='Planilha Licitação Válida'!H196 -> 530759.74 | E27: =E26*$D$27 -> 0 | F27: =F26*$D$27 -> 0 | G27: =G26*$D$27 -> 0 | H27: =H26*$D$27 -> 0 | I27: =I26*$D$27 -> 265379.87 | J27: =J26*$D$27 -> 265379.87 | K27: =K26*$D$27 -> 0 | L27: =L26*$D$27 -> 0 | ... N27: =N26*$D$27 -> 0 | O27: =SUM(E27:N27) -> 530759.74
A28: 10 | B28: SISTEMAS DE PISOS | C28: Físico % | D28: =D29/$D$63 -> 0.058462846 | F28: 0 | G28: 0 | H28: 0 | I28: 0.5 | J28: 0.5 | K28: 0 | L28: 0 | M28: 0 | N28: 0 | O28: =SUM(E28:N28) -> 1
C29: Financeiro | D29: ='Planilha Licitação Válida'!H212 -> 364420.58 | E29: =E28*$D$29 -> 0 | F29: =F28*$D$29 -> 0 | G29: =G28*$D$29 -> 0 | H29: =H28*$D$29 -> 0 | I29: =I28*$D$29 -> 182210.29 | J29: =J28*$D$29 -> 182210.29 | K29: =K28*$D$29 -> 0 | L29: =L28*$D$29 -> 0 | ... N29: =N28*$D$29 -> 0 | O29: =SUM(E29:N29) -> 364420.58
A30: 11 | B30: PINTURAS E ACABAMENTOS | C30: Físico % | D30: =D31/$D$63 -> 0.030998774 | E30: 0 | F30: 0 | G30: 0 | H30: 0 | I30: 0 | J30: 0 | K30: 0 | L30: 0 | M30: 0.5 | N30: 0.5 | O30: =SUM(E30:N30) -> 1
C31: Financeiro | D31: ='Planilha Licitação Válida'!H235 -> 193226.84 | E31: =E30*$D$31 -> 0 | F31: =F30*$D$31 -> 0 | G31: =G30*$D$31 -> 0 | H31: =H30*$D$31 -> 0 | I31: =I30*$D$31 -> 0 | J31: =J30*$D$31 -> 0 | K31: =K30*$D$31 -> 0 | L31: =L30*$D$31 -> 0 | ... N31: =N30*$D$31 -> 96613.42 | O31: =SUM(E31:N31) -> 193226.84
A32: 12 | B32: INSTALAÇÃO HIDRÁULICA | C32: Físico % | D32: =D33/$D$63 -> 0.023128526 | E32: 0 | F32: 0 | G32: 0 | H32: 0 | I32: 0 | J32: 0 | K32: 0.5 | L32: 0.5 | M32: 0 | N32: 0 | O32: =SUM(E32:N32) -> 1
C33: Financeiro | D33: ='Planilha Licitação Válida'!H263 -> 144168.67 | E33: =E32*$D$33 -> 0 | F33: =F32*$D$33 -> 0 | G33: =G32*$D$33 -> 0 | H33: =H32*$D$33 -> 0 | I33: =I32*$D$33 -> 0 | J33: =J32*$D$33 -> 0 | K33: =K32*$D$33 -> 72084.335 | L33: =L32*$D$33 -> 72084.335 | ... N33: =N32*$D$33 -> 0 | O33: =SUM(E33:N33) -> 144168.67
A34: 13 | B34: DRENAGEM DE ÁGUAS PLUVIAIS | C34: Físico % | D34: =D35/$D$63 -> 0.0070358532 | E34: 0 | F34: 0 | G34: 0 | H34: 0 | I34: 1 | J34: 0 | K34: 0 | L34: 0 | M34: 0 | N34: 0 | O34: =SUM(E34:N34) -> 1
C35: Financeiro | D35: ='Planilha Licitação Válida'!H317 -> 43857.08 | E35: =E34*$D$35 -> 0 | F35: =F34*$D$35 -> 0 | G35: =G34*$D$35 -> 0 | H35: =H34*$D$35 -> 0 | I35: =I34*$D$35 -> 43857.08 | J35: =J34*$D$35 -> 0 | K35: =K34*$D$35 -> 0 | L35: =L34*$D$35 -> 0 | ... N35: =N34*$D$35 -> 0 | O35: =SUM(E35:N35) -> 43857.08
A36: 14 | B36: INSTALAÇÃO SANITÁRIA | C36: Físico % | D36: =D37/$D$63 -> 0.010474269 | E36: 0 | F36: 0 | G36: 0 | H36: 0 | I36: 0 | J36: 0.5 | K36: 0.5 | L36: 0 | M36: 0 | N36: 0 | O36: =SUM(E36:N36) -> 1
C37: Financeiro | D37: ='Planilha Licitação Válida'!H337 -> 65290 | E37: =E36*$D$37 -> 0 | F37: =F36*$D$37 -> 0 | G37: =G36*$D$37 -> 0 | H37: =H36*$D$37 -> 0 | I37: =I36*$D$37 -> 0 | J37: =J36*$D$37 -> 32645 | K37: =K36*$D$37 -> 32645 | L37: =L36*$D$37 -> 0 | ... N37: =N36*$D$37 -> 0 | O37: =SUM(E37:N37) -> 65290
A38: 15 | B38: LOUÇAS, ACESSÓRIOS E METAIS | C38: Físico % | D38: =D39/$D$63 -> 0.017419002 | E38: 0 | F38: 0 | G38: 0 | H38: 0 | I38: 0 | J38: 0 | K38: 0 | L38: 0.5 | M38: 0.5 | N38: 0 | O38: =SUM(E38:N38) -> 1
C39: Financeiro | D39: ='Planilha Licitação Válida'!H380 -> 108579.09 | E39: =E38*$D$39 -> 0 | F39: =F38*$D$39 -> 0 | G39: =G38*$D$39 -> 0 | H39: =H38*$D$39 -> 0 | I39: =I38*$D$39 -> 0 | J39: =J38*$D$39 -> 0 | K39: =K38*$D$39 -> 0 | L39: =L38*$D$39 -> 54289.545 | ... N39: =N38*$D$39 -> 0 | O39: =SUM(E39:N39) -> 108579.09
A40: 16 | B40: INSTALAÇÃO DE GÁS COMBUSTÍVEL | C40: Físico % | D40: =D41/$D$63 -> 0.0008456356 | E40: 0 | F40: 0 | G40: 0 | H40: 0 | I40: 0 | J40: 0 | K40: 0 | L40: 0 | M40: 0 | N40: 1 | O40: =SUM(E40:N40) -> 1
...
