Workbook
Name NCOMPOSICOES: 4

Sheet ORÇAMENTO
A1: Obra: CONSTRUÇÃO UNIDADE BÁSICA DE SAÚDE - UBS T3
A2: Endereço: RUA FREI ORLANDO, S/N, MONTE MÁRIO - BARBACENA/MG
A3: Data de Referência: SINAPI DEZEMBRO/2023 Não Desonerado / SETOP Região Leste - AGOSTO de 2023 Sem Desoneração / ORSE - ABRIL 2023 / SBC - JUNHO 2023 | J3: _________________________________________
A4: Unidade federativa: Barbacena - MG | J4: CRISTIANE DORNELAS SAVIOTTI
A5: Data: 09/02/2024 | J5: ENGENHEIRA CIVIL - CREA 207.043/D
A6: BDI: | B6: 0.25
A8: PLANILHA ORÇAMENTÁRIA
K9: CUSTO UNITÁRIO
A10: ITEM | B10: CÓDIGO | C10: FONTE | D10: DESCRIÇÃO DOS SERVIÇOS | E10: UN. | F10: QUANT. | G10: CUSTO sem BDI (R$) | H10: PREÇO com BDI (R$) | I10: VALOR (R$) | J10: OBSERVAÇÕES | K10: SINAPI | L10: SINAPI-I | M10: SETOP | N10: COMPOSIÇÃO
A11: 1 | D11: SERVIÇOS PRELIMINARES
A12: 1.1 | B12: ED-50393 | C12: =VLOOKUP(B12,SERVIÇOS!$A$1:$D$18506,4,0) -> SETOP | D12: =VLOOKUP(B12,SERVIÇOS!$A:$B,2,0) -> MOBILIZAÇÃO E DESMOBILIZAÇÃO DE OBRA EM CENTRO URBANO OU REGIÃO LIMÍTROFE COM VALOR ENTRE 1.000.000,01 E 3.000.000,00 | E12: =VLOOKUP(B12,SERVIÇOS!$A:$C,3,0) -> % | F12: 12000 | G12: =IF(C12=$K$10,K12,IF(C12=$L$10,L12,IF(C12=$M$10,M12,IF(C12=#REF!,VLOOKUP(B12,#REF!,7,FALSE),#REF!)))) -> 0.3 | H12: =G12+(G12*$B$6) -> 0.375 | I12: =F12*H12 -> 4500 | J12: MOBILIZAÇÃO E DESMOBILIZAÇÃO DA OBRA | K12: =IF(C12="SINAPI",VLOOKUP(B12,'SIN C 12.23'!A:E,5,0)," ") | L12: =IF(C12="SINAPI-I",VLOOKUP(B12,'SIN I 12.23'!$7:$5071,5,0)," ") | M12: =IF(C12="SETOP",VLOOKUP(B12,'SET 08.23'!A:D,4,FALSE)," ") -> 0.3
A13: 1.2 | B13: ED-16660 | C13: =VLOOKUP(B13,SERVIÇOS!$A$1:$D$18506,4,0) -> SETOP | D13: =VLOOKUP(B13,SERVIÇOS!$A:$B,2,0) -> FORNECIMENTO E COLOCAÇÃO DE PLACA DE OBRA EM CHAPA GALVANIZADA #26, ESP. 0,45 MM, PLOTADA COM ADESIVO VINÍLICO, AFIXADA COM REBITES 4,8X40 MM, EM ESTRUTURA METÁLICA DE METALON 20X20 MM, ESP. 1,25 MM, INCLUSIVE SUPORTE EM EUCALIPTO AUTOCLAVADO PINTADO COM TINTA PVA DUAS (2) DEMÃOS | E13: =VLOOKUP(B13,SERVIÇOS!$A:$C,3,0) -> m2 | F13: 2 | G13: =IF(C13=$K$10,K13,IF(C13=$L$10,L13,IF(C13=$M$10,M13,IF(C13=#REF!,VLOOKUP(B13,#REF!,7,FALSE),#REF!)))) -> 310.26 | H13: =G13+(G13*$B$6) -> 387.825 | I13: =F13*H13 -> 775.65 | J13: Placa de identificação da unidade,de acordo com os padrões de identificação do Ministério da Saúde | K13: =IF(C13="SINAPI",VLOOKUP(B13,'SIN C 12.23'!A:E,5,0)," ") | L13: =IF(C13="SINAPI-I",VLOOKUP(B13,'SIN I 12.23'!$7:$5071,5,0)," ") | M13: =IF(C13="SETOP",VLOOKUP(B13,'SET 08.23'!A:D,4,FALSE)," ") -> 310.26
A14: 1.3 | B14: ED-50148 | C14: =VLOOKUP(B14,SERVIÇOS!$A$1:$D$18506,4,0) -> SETOP | D14: =VLOOKUP(B14,SERVIÇOS!$A:$B,2,0) -> BARRACÃO DE OBRA PARA ESCRITÓRIO DA EMPREITEIRA TIPO-I, ÁREA INTERNA 18,15M2, EM CHAPA DE COMPENSADO RESINADO, INCLUSIVE MOBILIÁRIO (OBRA DE PEQUENO A MÉDIO PORTE, EFETIVO ATÉ 60 HOMENS) - PADRÃO DER-MG | E14: =VLOOKUP(B14,SERVIÇOS!$A:$C,3,0) -> un | F14: 1 | G14: =IF(C14=$K$10,K14,IF(C14=$L$10,L14,IF(C14=$M$10,M14,IF(C14=#REF!,VLOOKUP(B14,#REF!,7,FALSE),#REF!)))) -> 10847.56 | H14: =G14+(G14*$B$6) -> 13559.45 | I14: =F14*H14 -> 13559.45 | J14: BARRACAO DE OBRA PARA ALOJAMENTO/ESCRITORIO | K14: =IF(C14="SINAPI",VLOOKUP(B14,'SIN C 12.23'!A:E,5,0)," ") | L14: =IF(C14="SINAPI-I",VLOOKUP(B14,'SIN I 12.23'!$7:$5071,5,0)," ") | M14: =IF(C14="SETOP",VLOOKUP(B14,'SET 08.23'!A:D,4,FALSE)," ") -> 10847.56
A15: 1.2 | D15: INSTALAÇÕES PROVISORIAS
A16: 1.2.1 | B16: ED-50150 | C16: =VLOOKUP(B16,SERVIÇOS!$A$1:$D$18506,4,0) -> SETOP | D16: =VLOOKUP(B16,SERVIÇOS!$A:$B,2,0) -> LIGAÇÃO DE ÁGUA PROVISÓRIA PARA CANTEIRO, INCLUSIVE HIDRÔMETRO E CAVALETE PARA MEDIÇÃO DE ÁGUA - ENTRADA PRINCIPAL, EM AÇO GALVANIZADO DN 20MM (1/2") - PADRÃO CONCESSIONÁRIA | E16: =VLOOKUP(B16,SERVIÇOS!$A:$C,3,0) -> un | F16: 1 | G16: =IF(C16=$K$10,K16,IF(C16=$L$10,L16,IF(C16=$M$10,M16,IF(C16=#REF!,VLOOKUP(B16,#REF!,7,FALSE),#REF!)))) -> 399.2 | H16: =G16+(G16*$B$6) -> 499 | I16: =F16*H16 -> 499 | J16: INSTALACAO PROVISORIA DE AGUA/ESGOTO INCLUSIVE RESERVATORIO | K16: =IF(C16="SINAPI",VLOOKUP(B16,'SIN C 12.23'!A:E,5,0)," ") | L16: =IF(C16="SINAPI-I",VLOOKUP(B16,'SIN I 12.23'!$7:$5071,5,0)," ") | M16: =IF(C16="SETOP",VLOOKUP(B16,'SET 08.23'!A:D,4,FALSE)," ") -> 399.2
A17: 1.2.2 | B17: ED-50151 | C17: =VLOOKUP(B17,SERVIÇOS!$A$1:$D$18506,4,0) -> SETOP | D17: =VLOOKUP(B17,SERVIÇOS!$A:$B,2,0) -> LIGAÇÃO PROVISÓRIA COM ENTRADA DE ENERGIA AÉREA, PADRÃO CEMIG, CARGA INSTALADA DE 15,1KVA ATÉ 30KVA, TRIFÁSICO, COM SAÍDA SUBTERRÂNEA, INCLUSIVE POSTE, CAIXA PARA MEDIDOR, DISJUNTOR, BARRAMENTO, ATERRAMENTO E ACESSÓRIOS | E17: =VLOOKUP(B17,SERVIÇOS!$A:$C,3,0) -> un | F17: 1 | G17: =IF(C17=$K$10,K17,IF(C17=$L$10,L17,IF(C17=$M$10,M17,IF(C17=#REF!,VLOOKUP(B17,#REF!,7,FALSE),#REF!)))) -> 1204.72 | H17: =G17+(G17*$B$6) -> 1505.9 | I17: =F17*H17 -> 1505.9 | J17: INSTALACAO PROVISORIA DE ENERGIA ELETRICA | K17: =IF(C17="SINAPI",VLOOKUP(B17,'SIN C 12.23'!A:E,5,0)," ") | L17: =IF(C17="SINAPI-I",VLOOKUP(B17,'SIN I 12.23'!$7:$5071,5,0)," ") | M17: =IF(C17="SETOP",VLOOKUP(B17,'SET 08.23'!A:D,4,FALSE)," ") -> 1204.72
A18: 1.3 | D18: MURO DE DIVISA
A19: 1.3.1 | B19: ED-50396 | C19: =VLOOKUP(B19,SERVIÇOS!$A$1:$D$18506,4,0) -> SETOP | D19: =VLOOKUP(B19,SERVIÇOS!$A:$B,2,0) -> MURO DIVISÓRIO EM BLOCO DE CONCRETO COM ACABAMENTO APARENTE, ESP.15CM, ALTURA DE 220CM, COM SAPATA EM CONCRETO ARMADO , DIMENSÃO (50X55)CM, FORMA EM CONTRA BARRANCO, INCLUSIVE ESCAVAÇÃO COM TRANSPORTE E RETIRADA DO MATERIAL ESCAVADO (EM CAÇAMBA) E PINGADEIRA EM CONCRETO | E19: =VLOOKUP(B19,SERVIÇOS!$A:$C,3,0) -> m | F19: 99.5 | G19: =IF(C19=$K$10,K19,IF(C19=$L$10,L19,IF(C19=$M$10,M19,IF(C19=#REF!,VLOOKUP(B19,#REF!,7,FALSE),#REF!)))) -> 506.74 | H19: =G19+(G19*$B$6) -> 633.425 | I19: =F19*H19 -> 63025.787 | J19: MURO DIVISÓRIO EM TORNO DE TODO LOTE, CONFORME PROJETO | K19: =IF(C19="SINAPI",VLOOKUP(B19,'SIN C 12.23'!A:E,5,0)," ") | L19: =IF(C19="SINAPI-I",VLOOKUP(B19,'SIN I 12.23'!$7:$5071,5,0)," ") | M19: =IF(C19="SETOP",VLOOKUP(B19,'SET 08.23'!A:D,4,FALSE)," ") -> 506.74
A20: 1.3.2 | B20: ED-50453 | C20: =VLOOKUP(B20,SERVIÇOS!$A$1:$D$18506,4,0) -> SETOP | D20: =VLOOKUP(B20,SERVIÇOS!$A:$B,2,0) -> PINTURA ACRÍLICA EM PAREDE, TRÊS (3) DEMÃOS, EXCLUSIVE SELADOR ACRÍLICO E MASSA ACRÍLICA/CORRIDA (PVA) | E20: =VLOOKUP(B20,SERVIÇOS!$A:$C,3,0) -> m2 | F20: 437.8 | G20: =IF(C20=$K$10,K20,IF(C20=$L$10,L20,IF(C20=$M$10,M20,IF(C20=#REF!,VLOOKUP(B20,#REF!,7,FALSE),#REF!)))) -> 19.75 | H20: =G20+(G20*$B$6) -> 24.6875 | I20: =F20*H20 -> 10808.188 | J20: BARRACAO DE OBRA PARA ALOJAMENTO/ESCRITORIO | K20: =IF(C20="SINAPI",VLOOKUP(B20,'SIN C 12.23'!A:E,5,0)," ") | L20: =IF(C20="SINAPI-I",VLOOKUP(B20,'SIN I 12.23'!$7:$5071,5,0)," ") | M20: =IF(C20="SETOP",VLOOKUP(B20,'SET 08.23'!A:D,4,FALSE)," ") -> 19.75
A21: 1.5 | D21: ANDAIME
A22: 1.5.1 | B22: ED-9076 | C22: =VLOOKUP(B22,SERVIÇOS!$A$1:$D$18506,4,0) -> SETOP | D22: =VLOOKUP(B22,SERVIÇOS!$A:$B,2,0) -> FORNECIMENTO DE ANDAIME METÁLICO TUBULAR TIPO TORRE (LOCAÇÃO), INCLUSIVE RODÍZIOS, EXCLUSIVE MONTAGEM E DESMONTAGEM | E22: =VLOOKUP(B22,SERVIÇOS!$A:$C,3,0) -> mxmês | F22: 42 | G22: =IF(C22=$K$10,K22,IF(C22=$L$10,L22,IF(C22=$M$10,M22,IF(C22=#REF!,VLOOKUP(B22,#REF!,7,FALSE),#REF!)))) -> 20 | H22: =G22+(G22*$B$6) -> 25 | I22: =F22*H22 -> 1050 | J22: ANDAIME METÁLICO TUBULAR (14 m) * 3 meses | K22: =IF(C22="SINAPI",VLOOKUP(B22,'SIN C 12.23'!A:E,5,0)," ") | L22: =IF(C22="SINAPI-I",VLOOKUP(B22,'SIN I 12.23'!$7:$5071,5,0)," ") | M22: =IF(C22="SETOP",VLOOKUP(B22,'SET 08.23'!A:D,4,FALSE)," ") -> 20
A23: 1.5.2 | B23: ED-28533 | C23: =VLOOKUP(B23,SERVIÇOS!$A$1:$D$18506,4,0) -> SETOP | D23: =VLOOKUP(B23,SERVIÇOS!$A:$B,2,0) -> ANDAIME EM CAVALETE METÁLICO PARA FORRO OU SERVIÇO EM ALTURA INTERNO, COM CHAPA DE COMPENSADO E TÁBUA, COM REAPROVEITAMENTO, INCLUSIVE MONTAGEM/DESMONTAGEM E REMANEJAMENTO | E23: =VLOOKUP(B23,SERVIÇOS!$A:$C,3,0) -> m2 | F23: 596.96 | G23: =IF(C23=$K$10,K23,IF(C23=$L$10,L23,IF(C23=$M$10,M23,IF(C23=#REF!,VLOOKUP(B23,#REF!,7,FALSE),#REF!)))) -> 1.42 | H23: =G23+(G23*$B$6) -> 1.775 | I23: =F23*H23 -> 1059.604 | J23: ANDAIME PARA REVESTIMENTO DE FORROS EM MADEIRA DE 3A | K23: =IF(C23="SINAPI",VLOOKUP(B23,'SIN C 12.23'!A:E,5,0)," ") | L23: =IF(C23="SINAPI-I",VLOOKUP(B23,'SIN I 12.23'!$7:$5071,5,0)," ") | M23: =IF(C23="SETOP",VLOOKUP(B23,'SET 08.23'!A:D,4,FALSE)," ") -> 1.42
A24: . | H24: Subtotal | I24: =SUM(I12:I23) -> 96783.579 | K24: =IF(C24="SINAPI",VLOOKUP(B24,'SIN C 12.23'!A:E,5,0)," ") | L24: =IF(C24="SINAPI-I",VLOOKUP(B24,'SIN I 12.23'!$7:$5071,5,0)," ") | M24: =IF(C24="SETOP",VLOOKUP(B24,'SET 08.23'!A:D,4,FALSE)," ")
A25: 2 | D25: ESTRUTURAS METÁLICAS E FECHAMENTOS LIGHT STEEL FRAMING | K25: =IF(C25="SINAPI",VLOOKUP(B25,'SIN C 12.23'!A:E,5,0)," ") | L25: =IF(C25="SINAPI-I",VLOOKUP(B25,'SIN I 12.23'!$7:$5071,5,0)," ") | M25: =IF(C25="SETOP",VLOOKUP(B25,'SET 08.23'!A:D,4,FALSE)," ")
A26: 2.1 | B26: ED-49664 | C26: =VLOOKUP(B26,SERVIÇOS!$A$1:$D$18506,4,0) -> SETOP | D26: =VLOOKUP(B26,SERVIÇOS!$A:$B,2,0) -> FORNECIMENTO DE ESTRUTURA METÁLICA EM PERFIL LAMINADO, INCLUSIVE FABRICAÇÃO, TRANSPORTE, MONTAGEM E APLICAÇÃO DE FUNDO PREPARADOR ANTICORROSIVO EM SUPERFÍCIE METÁLICA, UMA (1) DEMÃO | E26: =VLOOKUP(B26,SERVIÇOS!$A:$C,3,0) -> Kg | F26: 3510 | G26: =IF(C26=$K$10,K26,IF(C26=$L$10,L26,IF(C26=$M$10,M26,IF(C26=#REF!,VLOOKUP(B26,#REF!,7,FALSE),#REF!)))) -> 27.43 | H26: =G26+(G26*$B$6) -> 34.2875 | I26: =F26*H26 -> 120349.12 | J26: FORNECIMENTO, FABRICAÇÃO E MONTAGEM DE ESTRUTURA METÁLICA (AÇO ESTRUTURAL PARA PÓRTICO E CAIXA D'ÁGUA) | K26: =IF(C26="SINAPI",VLOOKUP(B26,'SIN C 12.23'!A:E,5,0)," ") | L26: =IF(C26="SINAPI-I",VLOOKUP(B26,'SIN I 12.23'!$7:$5071,5,0)," ") | M26: =IF(C26="SETOP",VLOOKUP(B26,'SET 08.23'!A:D,4,FALSE)," ") -> 27.43
A27: 2.2 | B27: COTAÇÃO DE MERCADO | C27: MERCADO | D27: FORNECIMENTO E MONTAGEMDOS FECHAMENTOS DAS PAREDES EM LIGHT STEEL FRAMING COM REVESTIMENTO EXTERNO E INTERNO, BARREIRA DE VAPOR DAS PAREDES E TELHADO, ISOLAMENTO TERMO-ACUSTICO DAS PAREDES E FORROS, SUBSTRATOS DOS PISOS DA LAJE E ESCADA E FORRO DE GESSO ESTRUTURADOMONTAGEM DE PERFIS METÁLICOS DE PAREDES EXTERNAS E INTERNAS, DE TELHADO, DA LAJE E ESCADA EM ESTRUTURA LIGHT STEEL FRAMING - 636,40M² (FRETE INCLUSO) | E27: UN | F27: 1 | G27: 1270506.3 | H27: =G27 -> 1270506.3 | I27: =F27*H27 -> 1270506.3 | J27: Todo forncimento e montagem de todas as partes da estrutura em LIGHT STEEL FRAMING da unidade. Os orçamentos foram elaborados pela média de todos os serviços divididos pela área 636,40m². Orçamentos de mercado, que traz de maneira mais realista os preços de mercado praticados na região onde será construída a UBS. Usando o método da média dos preço temos: (R$ 924.389,19; R$ 1.358.179,60; R$ 1.528.950,00) = R$ R$ 1.270.506,26; usando o método da mediana dos preços temos: (R$ 924.389,19; R$ 1.358.179,60; R$ 1.528.950,00) = R$ 1.358.179,60 - Logo o método utilizado é da média. (OBSERVAÇÃO: COTAÇÃO DE MERCADO NÃO NECESSÁRIO OS 25% DE BDI, VISTO QUE AS EMPRESAS JÁ ESTÃO EMBUTINDO OS BENEFÍCIOS E DESPESAS INDIRETAS DO PRODUTO ORÇADO). | K27: =IF(C27="SINAPI",VLOOKUP(B27,'SIN C 12.23'!A:E,5,0)," ") | L27: =IF(C27="SINAPI-I",VLOOKUP(B27,'SIN I 12.23'!$7:$5071,5,0)," ") | M27: =IF(C27="SETOP",VLOOKUP(B27,'SET 08.23'!A:D,4,FALSE)," ")
A28: . | H28: Subtotal | I28: =SUM(I26:I27) -> 1390855.4 | K28: =IF(C28="SINAPI",VLOOKUP(B28,'SIN C 12.23'!A:E,5,0)," ") | L28: =IF(C28="SINAPI-I",VLOOKUP(B28,'SIN I 12.23'!$7:$5071,5,0)," ") | M28: =IF(C28="SETOP",VLOOKUP(B28,'SET 08.23'!A:D,4,FALSE)," ")
A29: 3 | D29: ALVENARIAS E DIVISÕES | K29: =IF(C29="SINAPI",VLOOKUP(B29,'SIN C 12.23'!A:E,5,0)," ") | L29: =IF(C29="SINAPI-I",VLOOKUP(B29,'SIN I 12.23'!$7:$5071,5,0)," ") | M29: =IF(C29="SETOP",VLOOKUP(B29,'SET 08.23'!A:D,4,FALSE)," ")
A30: 3.1 | B30: 103329 | C30: =VLOOKUP(B30,SERVIÇOS!$A$1:$D$18506,4,0) -> SINAPI | D30: =VLOOKUP(B30,SERVIÇOS!$A:$B,2,0) -> ALVENARIA DE VEDAÇÃO DE BLOCOS CERÂMICOS FURADOS NA HORIZONTAL DE 9X19X19 CM (ESPESSURA 9 CM) E ARGAMASSA DE ASSENTAMENTO COM PREPARO MANUAL. AF_12/2021 | E30: =VLOOKUP(B30,SERVIÇOS!$A:$C,3,0) -> M2 | F30: 2 | G30: =IF(C30=$K$10,K30,IF(C30=$L$10,L30,IF(C30=$M$10,M30,IF(C30=#REF!,VLOOKUP(B30,#REF!,7,FALSE),#REF!)))) -> 88,63 | H30: =G30+(G30*$B$6) -> 110.7875 | I30: =F30*H30 -> 221.575 | J30: ALVENARIA DE TIJOLOS CERAMICOS FURADOS, 10X20X20CM, ASSENTADOS COM ARGAMASSA CIMENTO/AREIA 1:10 COM PREPARO MANUAL, ESP. PAREDE = 12CM, COM JUNTAS DE 12MM, CONSIDERANDO 8% | K30: =IF(C30="SINAPI",VLOOKUP(B30,'SIN C 12.23'!A:E,5,0)," ") -> 88,63 | L30: =IF(C30="SINAPI-I",VLOOKUP(B30,'SIN I 12.23'!$7:$5071,5,0)," ") | M30: =IF(C30="SETOP",VLOOKUP(B30,'SET 08.23'!A:D,4,FALSE)," ")
A31: 3.2 | B31: ED-48536 | C31: =VLOOKUP(B31,SERVIÇOS!$A$1:$D$18506,4,0) -> SETOP | D31: =VLOOKUP(B31,SERVIÇOS!$A:$B,2,0) -> DIVISÓRIA EM PAINEL REMOVÍVEL, NÚCLEO COMPENSADO NAVAL - P. AÇO TIPO C | E31: =VLOOKUP(B31,SERVIÇOS!$A:$C,3,0) -> m2 | F31: 42.35 | G31: =IF(C31=$K$10,K31,IF(C31=$L$10,L31,IF(C31=$M$10,M31,IF(C31=#REF!,VLOOKUP(B31,#REF!,7,FALSE),#REF!)))) -> 100.93 | H31: =G31+(G31*$B$6) -> 126.1625 | I31: =F31*H31 -> 5342.9819 | J31: DIVISORIA 35MM PAINEL CEGO MIOLO COLMEIA REVESTIDA C/CHAPA LAMINADA EM CORES FIBRA MADEIRA PRENSADA C/MONTANTES ALUMINIO ANODIZADO NATURAL EM"L" "T" OU "X" INCL PORTAS EXCL SUAS FERRAGENS. | K31: =IF(C31="SINAPI",VLOOKUP(B31,'SIN C 12.23'!A:E,5,0)," ") | L31: =IF(C31="SINAPI-I",VLOOKUP(B31,'SIN I 12.23'!$7:$5071,5,0)," ") | M31: =IF(C31="SETOP",VLOOKUP(B31,'SET 08.23'!A:D,4,FALSE)," ") -> 100.93
A32: 3.3 | B32: ED-48533 | C32: =VLOOKUP(B32,SERVIÇOS!$A$1:$D$18506,4,0) -> SETOP | D32: =VLOOKUP(B32,SERVIÇOS!$A:$B,2,0) -> DIVISÓRIA EM GRANITO CINZA ANDORINHA E = 3 CM, INCLUSIVE FERRAGENS EM LATÃO CROMADO | E32: =VLOOKUP(B32,SERVIÇOS!$A:$C,3,0) -> m2 | F32: 17.54 | G32: =IF(C32=$K$10,K32,IF(C32=$L$10,L32,IF(C32=$M$10,M32,IF(C32=#REF!,VLOOKUP(B32,#REF!,7,FALSE),#REF!)))) -> 694.61 | H32: =G32+(G32*$B$6) -> 868.2625 | I32: =F32*H32 -> 15229.324 | J32: DIVISORIA EM GRANITO CINZA CORUMBÁ POLIDO H= 180 CM, INCLUSIVE FERRAGENS EM LATÃO CROMADO | K32: =IF(C32="SINAPI",VLOOKUP(B32,'SIN C 12.23'!A:E,5,0)," ") | L32: =IF(C32="SINAPI-I",VLOOKUP(B32,'SIN I 12.23'!$7:$5071,5,0)," ") | M32: =IF(C32="SETOP",VLOOKUP(B32,'SET 08.23'!A:D,4,FALSE)," ") -> 694.61
A33: . | H33: Subtotal | I33: =SUM(I30:I32) -> 20793.881 | K33: =IF(C33="SINAPI",VLOOKUP(B33,'SIN C 12.23'!A:E,5,0)," ") | L33: =IF(C33="SINAPI-I",VLOOKUP(B33,'SIN I 12.23'!$7:$5071,5,0)," ") | M33: =IF(C33="SETOP",VLOOKUP(B33,'SET 08.23'!A:D,4,FALSE)," ")
A34: 4 | D34: COBERTURA | K34: =IF(C34="SINAPI",VLOOKUP(B34,'SIN C 12.23'!A:E,5,0)," ") | L34: =IF(C34="SINAPI-I",VLOOKUP(B34,'SIN I 12.23'!$7:$5071,5,0)," ") | M34: =IF(C34="SETOP",VLOOKUP(B34,'SET 08.23'!A:D,4,FALSE)," ")
A35: 4.1 | B35: ED-13852 | C35: =VLOOKUP(B35,SERVIÇOS!$A$1:$D$18506,4,0) -> SETOP | D35: =VLOOKUP(B35,SERVIÇOS!$A:$B,2,0) -> COBERTURA EM TELHA METÁLICA GALVANIZADA ONDULADA, TIPO SIMPLES, ESP. 0,50MM, ACABAMENTO NATURAL, INCLUSIVE ACESSÓRIOS PARA FIXAÇÃO, FORNECIMENTO E INSTALAÇÃO | E35: =VLOOKUP(B35,SERVIÇOS!$A:$C,3,0) -> m2 | F35: 626.3 | G35: =IF(C35=$K$10,K35,IF(C35=$L$10,L35,IF(C35=$M$10,M35,IF(C35=#REF!,VLOOKUP(B35,#REF!,7,FALSE),#REF!)))) -> 97.98 | H35: =G35+(G35*$B$6) -> 122.475 | I35: =F35*H35 -> 76706.092 | J35: COBERTURA COM TELHA CHAPA AÇO ZINCADO ONDULADA 0,5 MM | K35: =IF(C35="SINAPI",VLOOKUP(B35,'SIN C 12.23'!A:E,5,0)," ") | L35: =IF(C35="SINAPI-I",VLOOKUP(B35,'SIN I 12.23'!$7:$5071,5,0)," ") | M35: =IF(C35="SETOP",VLOOKUP(B35,'SET 08.23'!A:D,4,FALSE)," ") -> 97.98
A36: 4.2 | B36: ED-48402 | C36: =VLOOKUP(B36,SERVIÇOS!$A$1:$D$18506,4,0) -> SETOP | D36: =VLOOKUP(B36,SERVIÇOS!$A:$B,2,0) -> COLOCAÇÃO DE CUMEEIRA GALVANIZADA TRAPEZOIDAL E = 0,50 MM, SIMPLES | E36: =VLOOKUP(B36,SERVIÇOS!$A:$C,3,0) -> m | F36: 50.1 | G36: =IF(C36=$K$10,K36,IF(C36=$L$10,L36,IF(C36=$M$10,M36,IF(C36=#REF!,VLOOKUP(B36,#REF!,7,FALSE),#REF!)))) -> 56.99 | H36: =G36+(G36*$B$6) -> 71.2375 | I36: =F36*H36 -> 3568.9987 | J36: FABRICAÇÃO, FORNECIMENTO E INSTALAÇÃO DE CUMEEIRA METÁLICA PARA TELHA TRAPEZOIDAL | K36: =IF(C36="SINAPI",VLOOKUP(B36,'SIN C 12.23'!A:E,5,0)," ") | L36: =IF(C36="SINAPI-I",VLOOKUP(B36,'SIN I 12.23'!$7:$5071,5,0)," ") | M36: =IF(C36="SETOP",VLOOKUP(B36,'SET 08.23'!A:D,4,FALSE)," ") -> 56.99
A37: 4.3 | B37: ED-50667 | C37: =VLOOKUP(B37,SERVIÇOS!$A$1:$D$18506,4,0) -> SETOP | D37: =VLOOKUP(B37,SERVIÇOS!$A:$B,2,0) -> CHAPIM EM CHAPA GALVANIZADA, COM PINGADEIRA, ESP. 0,65MM (GSG-24), COM DESENVOLVIMENTO DE 35CM, INCLUSIVE IÇAMENTO MANUAL VERTICAL | E37: =VLOOKUP(B37,SERVIÇOS!$A:$C,3,0) -> m | F37: 171.2 | G37: =IF(C37=$K$10,K37,IF(C37=$L$10,L37,IF(C37=$M$10,M37,IF(C37=#REF!,VLOOKUP(B37,#REF!,7,FALSE),#REF!)))) -> 62.57 | H37: =G37+(G37*$B$6) -> 78.2125 | I37: =F37*H37 -> 13389.98 | J37: FABRICAÇÃO, FORNECIMENTO E INSTALAÇÃO DE CHAPIM EM CHAPA DE AÇO GALVANIZADA CONFORME PROJETO | K37: =IF(C37="SINAPI",VLOOKUP(B37,'SIN C 12.23'!A:E,5,0)," ") | L37: =IF(C37="SINAPI-I",VLOOKUP(B37,'SIN I 12.23'!$7:$5071,5,0)," ") | M37: =IF(C37="SETOP",VLOOKUP(B37,'SET 08.23'!A:D,4,FALSE)," ") -> 62.57
A38: 4.4 | B38: ED-50660 | C38: =VLOOKUP(B38,SERVIÇOS!$A$1:$D$18506,4,0) -> SETOP | D38: =VLOOKUP(B38,SERVIÇOS!$A:$B,2,0) -> CALHA EM CHAPA GALVANIZADA, ESP. 0,65MM (GSG-24), COM DESENVOLVIMENTO DE 100CM, INCLUSIVE IÇAMENTO MANUAL VERTICAL | E38: =VLOOKUP(B38,SERVIÇOS!$A:$C,3,0) -> m | F38: 163.06 | G38: =IF(C38=$K$10,K38,IF(C38=$L$10,L38,IF(C38=$M$10,M38,IF(C38=#REF!,VLOOKUP(B38,#REF!,7,FALSE),#REF!)))) -> 162.68 | H38: =G38+(G38*$B$6) -> 203.35 | I38: =F38*H38 -> 33158.251 | J38: FABRICAÇÃO, FORNECIMENTO E INSTALAÇÃO DE CALHA METÁLICA CONJUGADA EM CHAPIM EM CHAPA DE AÇO GALVANIZADO CONFORME PROJETO | K38: =IF(C38="SINAPI",VLOOKUP(B38,'SIN C 12.23'!A:E,5,0)," ") | L38: =IF(C38="SINAPI-I",VLOOKUP(B38,'SIN I 12.23'!$7:$5071,5,0)," ") | M38: =IF(C38="SETOP",VLOOKUP(B38,'SET 08.23'!A:D,4,FALSE)," ") -> 162.68
A39: 4.5 | B39: ED-50679 | C39: =VLOOKUP(B39,SERVIÇOS!$A$1:$D$18506,4,0) -> SETOP | D39: =VLOOKUP(B39,SERVIÇOS!$A:$B,2,0) -> RUFO E CONTRARRUFO EM CHAPA GALVANIZADA, ESP. 0,65MM (GSG-24), COM DESENVOLVIMENTO DE 50CM, INCLUSIVE IÇAMENTO MANUAL VERTICAL | E39: =VLOOKUP(B39,SERVIÇOS!$A:$C,3,0) -> m | F39: 140.48 | G39: =IF(C39=$K$10,K39,IF(C39=$L$10,L39,IF(C39=$M$10,M39,IF(C39=#REF!,VLOOKUP(B39,#REF!,7,FALSE),#REF!)))) -> 87.71 | H39: =G39+(G39*$B$6) -> 109.6375 | I39: =F39*H39 -> 15401.876 | J39: FABRICAÇÃO, FORNECIMENTO E INSTALAÇÃO DE RUFOS EM CHAPA DE AÇO GALVANIZADA CONFORME PROJETO | K39: =IF(C39="SINAPI",VLOOKUP(B39,'SIN C 12.23'!A:E,5,0)," ") | L39: =IF(C39="SINAPI-I",VLOOKUP(B39,'SIN I 12.23'!$7:$5071,5,0)," ") | M39: =IF(C39="SETOP",VLOOKUP(B39,'SET 08.23'!A:D,4,FALSE)," ") -> 87.71
A40: . | H40: Subtotal | I40: =SUM(I35:I39) -> 142225.2 | K40: =IF(C40="SINAPI",VLOOKUP(B40,'SIN C 12.23'!A:E,5,0)," ") | L40: =IF(C40="SINAPI-I",VLOOKUP(B40,'SIN I 12.23'!$7:$5071,5,0)," ") | M40: =IF(C40="SETOP",VLOOKUP(B40,'SET 08.23'!A:D,4,FALSE)," ")
A41: 5 | D41: IMPERMEABILIZAÇÕES E ISOLAMENTO | K41: =IF(C41="SINAPI",VLOOKUP(B41,'SIN C 12.23'!A:E,5,0)," ") | L41: =IF(C41="SINAPI-I",VLOOKUP(B41,'SIN I 12.23'!$7:$5071,5,0)," ") | M41: =IF(C41="SETOP",VLOOKUP(B41,'SET 08.23'!A:D,4,FALSE)," ")
...

Sheet COMPOSIÇÃO 01
A1: Obra: CONSTRUÇÃO UNIDADE BÁSICA DE SAÚDE - UBS T3
A2: Endereço: RUA FREI ORLANDO, S/N, MONTE MÁRIO - BARBACENA/MG
A3: =ORÇAMENTO!A3 -> Data de Referência: SINAPI DEZEMBRO/2023 Não Desonerado / SETOP Região Leste - AGOSTO de 2023 Sem Desoneração / ORSE - ABRIL 2023 / SBC - JUNHO 2023 | I3: _________________________________________
A4: Unidade federativa: Barbacena - MG | I4: =ORÇAMENTO!J4 -> CRISTIANE DORNELAS SAVIOTTI
A5: =ORÇAMENTO!A5 -> Data: 09/02/2024 | I5: =ORÇAMENTO!J5 -> ENGENHEIRA CIVIL - CREA 207.043/D
A6: BDI: | B6: 0.25
A8: PLANILHA ORÇAMENTÁRIA
J9: CUSTO UNITÁRIO
A10: ITEM | B10: CÓDIGO | C10: FONTE | D10: DESCRIÇÃO DOS SERVIÇOS | E10: UN. | F10: QUANT. | G10: CUSTO sem BDI (R$) | H10: VALOR (R$) | I10: MEMÓRIA DE CÁLCULO | J10: SINAPI | K10: SINAPI-I | L10: SETOP | M10: COMPOSIÇÃO
D11: COMPOSIÇÃO 01
A12: 1 | D12: PLACA EM AÇO INOX ESCOVADO 250 X 32CM DOBRADA NA BORDA PARA ENQUADRAMENTO CONFORME DIAGRAMAÇÃO. O FUNDO SERÁ EM PELÍCULA NA COR AZUL C100, M70, Y0, K0 REF.: 3M OU EQUIVALENTE COM LETRAS ADESIVADAS NA COR BRANCA COM LETRA FONTE "GOTHAN BLACK"
A13: 1.1 | B13: 88316 | C13: =VLOOKUP(B13,SERVIÇOS!$A$1:$D$18506,4,0) -> SINAPI | D13: =VLOOKUP(B13,SERVIÇOS!$A:$B,2,0) -> SERVENTE COM ENCARGOS COMPLEMENTARES | E13: =VLOOKUP(B13,SERVIÇOS!$A:$C,3,0) -> H | F13: 0.25 | G13: =IF(C13=$J$10,J13,IF(C13=$K$10,K13,IF(C13=$L$10,L13,IF(C13=#REF!,VLOOKUP(B13,#REF!,7,FALSE),#REF!)))) -> 19,94 | H13: =F13*G13 -> 4.985 | I13: Considerando 25min para instalação | J13: =IF(C13="SINAPI",VLOOKUP(B13,'SIN C 12.23'!A:E,5,0)," ") -> 19,94 | K13: =IF(C13="SINAPI-I",VLOOKUP(B13,'SIN I 12.23'!$7:$5071,5,0)," ") | L13: =IF(C13="SETOP",VLOOKUP(B13,'SET 08.23'!A:D,4,FALSE)," ")
A14: 1.2 | B14: 34721 | C14: =VLOOKUP(B14,SERVIÇOS!$A$1:$D$18506,4,0) -> SINAPI-I | D14: =VLOOKUP(B14,SERVIÇOS!$A:$B,2,0) -> PLACA DE SINALIZACAO EM CHAPA DE ALUMINIO COM PINTURA REFLETIVA, E = 2 MM | E14: =VLOOKUP(B14,SERVIÇOS!$A:$C,3,0) -> M2 | F14: 0.8 | G14: =IF(C14=$J$10,J14,IF(C14=$K$10,K14,IF(C14=$L$10,L14,IF(C14=#REF!,VLOOKUP(B14,#REF!,7,FALSE),#REF!)))) -> 720,00 | H14: =F14*G14 -> 576 | I14: 2,50 x 0,32 = 0,80m² | J14: =IF(C14="SINAPI",VLOOKUP(B14,'SIN C 12.23'!A:E,5,0)," ") | K14: =IF(C14="SINAPI-I",VLOOKUP(B14,'SIN I 12.23'!$7:$5071,5,0)," ") -> 720,00 | L14: =IF(C14="SETOP",VLOOKUP(B14,'SET 08.23'!A:D,4,FALSE)," ")
A15: . | G15: Subtotal | H15: =SUM(H13:H14) -> 580.985 | J15: =IF(C15="SINAPI",VLOOKUP(B15,'SIN C 12.23'!A:E,5,0)," ") | K15: =IF(C15="SINAPI-I",VLOOKUP(B15,'SIN I 12.23'!$7:$5071,5,0)," ") | L15: =IF(C15="SETOP",VLOOKUP(B15,'SET 08.23'!A:D,4,FALSE)," ")
D16: COMPOSIÇÃO 02
A17: 2 | D17: PLACA EM AÇO INOX ESCOVADO 250 X79 CM DOBRADA NA BORDA PARA ENQUADRAMENTO COM LETRA FONTE "GOTHAN BLACK", CONFORME DIAGRAMAÇÃO. O FUNDO SERÁ EM PELÍCULA NA COR AZUL C100, M70, Y0, K0 REF.: 3M OU EQUIVALENTE COM LETRAS ADESIVADAS NA COR BRANCA
A18: 2.1 | B18: 88316 | C18: =VLOOKUP(B18,SERVIÇOS!$A$1:$D$18506,4,0) -> SINAPI | D18: =VLOOKUP(B18,SERVIÇOS!$A:$B,2,0) -> SERVENTE COM ENCARGOS COMPLEMENTARES | E18: =VLOOKUP(B18,SERVIÇOS!$A:$C,3,0) -> H | F18: 0.25 | G18: =IF(C18=$J$10,J18,IF(C18=$K$10,K18,IF(C18=$L$10,L18,IF(C18=#REF!,VLOOKUP(B18,#REF!,7,FALSE),#REF!)))) -> 19,94 | H18: =F18*G18 -> 4.985 | I18: Considerando 25min para instalação | J18: =IF(C18="SINAPI",VLOOKUP(B18,'SIN C 12.23'!A:E,5,0)," ") -> 19,94 | K18: =IF(C18="SINAPI-I",VLOOKUP(B18,'SIN I 12.23'!$7:$5071,5,0)," ") | L18: =IF(C18="SETOP",VLOOKUP(B18,'SET 08.23'!A:D,4,FALSE)," ")
A19: 2.2 | B19: 34721 | C19: =VLOOKUP(B19,SERVIÇOS!$A$1:$D$18506,4,0) -> SINAPI-I | D19: =VLOOKUP(B19,SERVIÇOS!$A:$B,2,0) -> PLACA DE SINALIZACAO EM CHAPA DE ALUMINIO COM PINTURA REFLETIVA, E = 2 MM | E19: =VLOOKUP(B19,SERVIÇOS!$A:$C,3,0) -> M2 | F19: 1.975 | G19: =IF(C19=$J$10,J19,IF(C19=$K$10,K19,IF(C19=$L$10,L19,IF(C19=#REF!,VLOOKUP(B19,#REF!,7,FALSE),#REF!)))) -> 720,00 | H19: =F19*G19 -> 1422 | I19: 2,50 x 0,79 = 1,98m² | J19: =IF(C19="SINAPI",VLOOKUP(B19,'SIN C 12.23'!A:E,5,0)," ") | K19: =IF(C19="SINAPI-I",VLOOKUP(B19,'SIN I 12.23'!$7:$5071,5,0)," ") -> 720,00 | L19: =IF(C19="SETOP",VLOOKUP(B19,'SET 08.23'!A:D,4,FALSE)," ")
A20: . | G20: Subtotal | H20: =SUM(H18:H19) -> 1426.985 | J20: =IF(C20="SINAPI",VLOOKUP(B20,'SIN C 12.23'!A:E,5,0)," ") | K20: =IF(C20="SINAPI-I",VLOOKUP(B20,'SIN I 12.23'!$7:$5071,5,0)," ") | L20: =IF(C20="SETOP",VLOOKUP(B20,'SET 08.23'!A:D,4,FALSE)," ")
D21: COMPOSIÇÃO 03
A22: 3 | D22: PLACA EM AÇO INOX ESCOVADO 40 X 15 CM DOBRADA NA BORDA PARA ENQUADRAMENTO COM LETRA FONTE "GOTHAN BLACK" H=4 CM NA COR AZUL C100, M70, Y0, K0 REF.: 3M OU EQUIVALENTE
A23: 3.1 | B23: 88316 | C23: =VLOOKUP(B23,SERVIÇOS!$A$1:$D$18506,4,0) -> SINAPI | D23: =VLOOKUP(B23,SERVIÇOS!$A:$B,2,0) -> SERVENTE COM ENCARGOS COMPLEMENTARES | E23: =VLOOKUP(B23,SERVIÇOS!$A:$C,3,0) -> H | F23: 0.25 | G23: =IF(C23=$J$10,J23,IF(C23=$K$10,K23,IF(C23=$L$10,L23,IF(C23=#REF!,VLOOKUP(B23,#REF!,7,FALSE),#REF!)))) -> 19,94 | H23: =F23*G23 -> 4.985 | I23: Considerando 25min para instalação | J23: =IF(C23="SINAPI",VLOOKUP(B23,'SIN C 12.23'!A:E,5,0)," ") -> 19,94 | K23: =IF(C23="SINAPI-I",VLOOKUP(B23,'SIN I 12.23'!$7:$5071,5,0)," ") | L23: =IF(C23="SETOP",VLOOKUP(B23,'SET 08.23'!A:D,4,FALSE)," ")
A24: 3.2 | B24: 34721 | C24: =VLOOKUP(B24,SERVIÇOS!$A$1:$D$18506,4,0) -> SINAPI-I | D24: =VLOOKUP(B24,SERVIÇOS!$A:$B,2,0) -> PLACA DE SINALIZACAO EM CHAPA DE ALUMINIO COM PINTURA REFLETIVA, E = 2 MM | E24: =VLOOKUP(B24,SERVIÇOS!$A:$C,3,0) -> M2 | F24: 0.06 | G24: =IF(C24=$J$10,J24,IF(C24=$K$10,K24,IF(C24=$L$10,L24,IF(C24=#REF!,VLOOKUP(B24,#REF!,7,FALSE),#REF!)))) -> 720,00 | H24: =F24*G24 -> 43.2 | I24: 0,40 x 0,15 = 00,06m² | J24: =IF(C24="SINAPI",VLOOKUP(B24,'SIN C 12.23'!A:E,5,0)," ") | K24: =IF(C24="SINAPI-I",VLOOKUP(B24,'SIN I 12.23'!$7:$5071,5,0)," ") -> 720,00 | L24: =IF(C24="SETOP",VLOOKUP(B24,'SET 08.23'!A:D,4,FALSE)," ")
A25: . | G25: Subtotal | H25: =SUM(H23:H24) -> 48.185 | J25: =IF(C25="SINAPI",VLOOKUP(B25,'SIN C 12.23'!A:E,5,0)," ") | K25: =IF(C25="SINAPI-I",VLOOKUP(B25,'SIN I 12.23'!$7:$5071,5,0)," ") | L25: =IF(C25="SETOP",VLOOKUP(B25,'SET 08.23'!A:D,4,FALSE)," ")
D26: COMPOSIÇÃO 04
A27: 4 | D27: PLACA EM AÇO INOX ESCOVADO 40 X18 CM DOBRADA NA BORDA PARA ENQUADRAMENTO COM LETRA FONTE "GOTHAN BLACK" H=3.5 CM NA COR AZUL C100, M70, Y0, K0 REF.: 3M OU EQUIVALENTE
A28: 4.1 | B28: 88316 | C28: =VLOOKUP(B28,SERVIÇOS!$A$1:$D$18506,4,0) -> SINAPI | D28: =VLOOKUP(B28,SERVIÇOS!$A:$B,2,0) -> SERVENTE COM ENCARGOS COMPLEMENTARES | E28: =VLOOKUP(B28,SERVIÇOS!$A:$C,3,0) -> H | F28: 0.25 | G28: =IF(C28=$J$10,J28,IF(C28=$K$10,K28,IF(C28=$L$10,L28,IF(C28=#REF!,VLOOKUP(B28,#REF!,7,FALSE),#REF!)))) -> 19,94 | H28: =F28*G28 -> 4.985 | I28: Considerando 25min para instalação | J28: =IF(C28="SINAPI",VLOOKUP(B28,'SIN C 12.23'!A:E,5,0)," ") -> 19,94 | K28: =IF(C28="SINAPI-I",VLOOKUP(B28,'SIN I 12.23'!$7:$5071,5,0)," ") | L28: =IF(C28="SETOP",VLOOKUP(B28,'SET 08.23'!A:D,4,FALSE)," ")
A29: 4.2 | B29: 34721 | C29: =VLOOKUP(B29,SERVIÇOS!$A$1:$D$18506,4,0) -> SINAPI-I | D29: =VLOOKUP(B29,SERVIÇOS!$A:$B,2,0) -> PLACA DE SINALIZACAO EM CHAPA DE ALUMINIO COM PINTURA REFLETIVA, E = 2 MM | E29: =VLOOKUP(B29,SERVIÇOS!$A:$C,3,0) -> M2 | F29: 0.072 | G29: =IF(C29=$J$10,J29,IF(C29=$K$10,K29,IF(C29=$L$10,L29,IF(C29=#REF!,VLOOKUP(B29,#REF!,7,FALSE),#REF!)))) -> 720,00 | H29: =F29*G29 -> 51.84 | I29: 0,40 x 0,18 = 0,07m² | J29: =IF(C29="SINAPI",VLOOKUP(B29,'SIN C 12.23'!A:E,5,0)," ") | K29: =IF(C29="SINAPI-I",VLOOKUP(B29,'SIN I 12.23'!$7:$5071,5,0)," ") -> 720,00 | L29: =IF(C29="SETOP",VLOOKUP(B29,'SET 08.23'!A:D,4,FALSE)," ")
A30: . | G30: Subtotal | H30: =SUM(H28:H29) -> 56.825 | J30: =IF(C30="SINAPI",VLOOKUP(B30,'SIN C 12.23'!A:E,5,0)," ") | K30: =IF(C30="SINAPI-I",VLOOKUP(B30,'SIN I 12.23'!$7:$5071,5,0)," ") | L30: =IF(C30="SETOP",VLOOKUP(B30,'SET 08.23'!A:D,4,FALSE)," ")
D31: COMPOSIÇÃO 05
A32: 5 | D32: P110 - PORTA DE ABRIR, 1 FOLHA, TIPO PRANCHETA, COM BATENTE E MARCO DE MADEIRA - 110 X 210 CM
A33: 5.1 | B33: 90820 | C33: =VLOOKUP(B33,SERVIÇOS!$A$1:$D$18506,4,0) -> SINAPI | D33: =VLOOKUP(B33,SERVIÇOS!$A:$B,2,0) -> PORTA DE MADEIRA PARA PINTURA, SEMI-OCA (LEVE OU MÉDIA), 60X210CM, ESPESSURA DE 3,5CM, INCLUSO DOBRADIÇAS - FORNECIMENTO E INSTALAÇÃO. AF_12/2019 | E33: =VLOOKUP(B33,SERVIÇOS!$A:$C,3,0) -> UN | F33: 2 | G33: =IF(C33=$J$10,J33,IF(C33=$K$10,K33,IF(C33=$L$10,L33,IF(C33=#REF!,VLOOKUP(B33,#REF!,7,FALSE),#REF!)))) -> 304,63 | H33: =F33*G33 -> 609.26 | I33: Considerando 1,10M largura | J33: =IF(C33="SINAPI",VLOOKUP(B33,'SIN C 12.23'!A:E,5,0)," ") -> 304,63 | K33: =IF(C33="SINAPI-I",VLOOKUP(B33,'SIN I 12.23'!$7:$5071,5,0)," ") | L33: =IF(C33="SETOP",VLOOKUP(B33,'SET 08.23'!A:D,4,FALSE)," ")
A34: 5.2 | B34: 184 | C34: =VLOOKUP(B34,SERVIÇOS!$A$1:$D$18506,4,0) -> SINAPI-I | D34: =VLOOKUP(B34,SERVIÇOS!$A:$B,2,0) -> BATENTE / PORTAL / ADUELA / MARCO EM MADEIRA MACICA COM REBAIXO, E = *3* CM, L = *14* CM, PARA PORTAS DE GIRO DE *60 CM A 120* CM X *210* CM, PINUS / EUCALIPTO / VIROLA OU EQUIVALENTE DA REGIAO (NAO INCLUI ALIZARES) | E34: =VLOOKUP(B34,SERVIÇOS!$A:$C,3,0) -> JG | F34: 1 | G34: =IF(C34=$J$10,J34,IF(C34=$K$10,K34,IF(C34=$L$10,L34,IF(C34=#REF!,VLOOKUP(B34,#REF!,7,FALSE),#REF!)))) -> 130,06 | H34: =F34*G34 -> 130.06 | J34: =IF(C34="SINAPI",VLOOKUP(B34,'SIN C 12.23'!A:E,5,0)," ") | K34: =IF(C34="SINAPI-I",VLOOKUP(B34,'SIN I 12.23'!$7:$5071,5,0)," ") -> 130,06 | L34: =IF(C34="SETOP",VLOOKUP(B34,'SET 08.23'!A:D,4,FALSE)," ")
A35: 5.3 | B35: 11055 | C35: =VLOOKUP(B35,SERVIÇOS!$A$1:$D$18506,4,0) -> SINAPI-I | D35: =VLOOKUP(B35,SERVIÇOS!$A:$B,2,0) -> PARAFUSO ROSCA SOBERBA ZINCADO CABECA CHATA FENDA SIMPLES 3,5 X 25 MM (1 ") | E35: =VLOOKUP(B35,SERVIÇOS!$A:$C,3,0) -> UN | F35: 40 | G35: =IF(C35=$J$10,J35,IF(C35=$K$10,K35,IF(C35=$L$10,L35,IF(C35=#REF!,VLOOKUP(B35,#REF!,7,FALSE),#REF!)))) -> 0,09 | H35: =F35*G35 -> 3.6 | J35: =IF(C35="SINAPI",VLOOKUP(B35,'SIN C 12.23'!A:E,5,0)," ") | K35: =IF(C35="SINAPI-I",VLOOKUP(B35,'SIN I 12.23'!$7:$5071,5,0)," ") -> 0,09 | L35: =IF(C35="SETOP",VLOOKUP(B35,'SET 08.23'!A:D,4,FALSE)," ")
A36: 5.4 | B36: 20017 | C36: =VLOOKUP(B36,SERVIÇOS!$A$1:$D$18506,4,0) -> SINAPI-I | D36: =VLOOKUP(B36,SERVIÇOS!$A:$B,2,0) -> GUARNICAO / ALIZAR / VISTA LISA EM MADEIRA MACICA, PARA PORTA , E = *1* CM, L = *5* CM, CEDRINHO / ANGELIM COMERCIAL / TAURI/ CURUPIXA / PEROBA / CUMARU OU EQUIVALENTE DA REGIAO | E36: =VLOOKUP(B36,SERVIÇOS!$A:$C,3,0) -> M | F36: 5.3 | G36: =IF(C36=$J$10,J36,IF(C36=$K$10,K36,IF(C36=$L$10,L36,IF(C36=#REF!,VLOOKUP(B36,#REF!,7,FALSE),#REF!)))) -> 7,63 | H36: =F36*G36 -> 40.439 | J36: =IF(C36="SINAPI",VLOOKUP(B36,'SIN C 12.23'!A:E,5,0)," ") | K36: =IF(C36="SINAPI-I",VLOOKUP(B36,'SIN I 12.23'!$7:$5071,5,0)," ") -> 7,63 | L36: =IF(C36="SETOP",VLOOKUP(B36,'SET 08.23'!A:D,4,FALSE)," ")
A37: 5.5 | B37: 20247 | C37: =VLOOKUP(B37,SERVIÇOS!$A$1:$D$18506,4,0) -> SINAPI-I | D37: =VLOOKUP(B37,SERVIÇOS!$A:$B,2,0) -> PREGO DE ACO POLIDO COM CABECA 15 X 15 (1 1/4 X 13) | E37: =VLOOKUP(B37,SERVIÇOS!$A:$C,3,0) -> KG | F37: 0.0315 | G37: =IF(C37=$J$10,J37,IF(C37=$K$10,K37,IF(C37=$L$10,L37,IF(C37=#REF!,VLOOKUP(B37,#REF!,7,FALSE),#REF!)))) -> 21,29 | H37: =F37*G37 -> 0.670635 | J37: =IF(C37="SINAPI",VLOOKUP(B37,'SIN C 12.23'!A:E,5,0)," ") | K37: =IF(C37="SINAPI-I",VLOOKUP(B37,'SIN I 12.23'!$7:$5071,5,0)," ") -> 21,29 | L37: =IF(C37="SETOP",VLOOKUP(B37,'SET 08.23'!A:D,4,FALSE)," ")
A38: 5.6 | B38: 39027 | C38: =VLOOKUP(B38,SERVIÇOS!$A$1:$D$18506,4,0) -> SINAPI-I | D38: =VLOOKUP(B38,SERVIÇOS!$A:$B,2,0) -> PREGO DE ACO POLIDO COM CABECA 19 X 36 (3 1/4 X 9) | E38: =VLOOKUP(B38,SERVIÇOS!$A:$C,3,0) -> KG | F38: 0.225 | G38: =IF(C38=$J$10,J38,IF(C38=$K$10,K38,IF(C38=$L$10,L38,IF(C38=#REF!,VLOOKUP(B38,#REF!,7,FALSE),#REF!)))) -> 19,21 | H38: =F38*G38 -> 4.32225 | J38: =IF(C38="SINAPI",VLOOKUP(B38,'SIN C 12.23'!A:E,5,0)," ") | K38: =IF(C38="SINAPI-I",VLOOKUP(B38,'SIN I 12.23'!$7:$5071,5,0)," ") -> 19,21 | L38: =IF(C38="SETOP",VLOOKUP(B38,'SET 08.23'!A:D,4,FALSE)," ")
A39: 5.7 | B39: 88261 | C39: =VLOOKUP(B39,SERVIÇOS!$A$1:$D$18506,4,0) -> SINAPI | D39: =VLOOKUP(B39,SERVIÇOS!$A:$B,2,0) -> CARPINTEIRO DE ESQUADRIA COM ENCARGOS COMPLEMENTARES | E39: =VLOOKUP(B39,SERVIÇOS!$A:$C,3,0) -> H | F39: 3.458 | G39: =IF(C39=$J$10,J39,IF(C39=$K$10,K39,IF(C39=$L$10,L39,IF(C39=#REF!,VLOOKUP(B39,#REF!,7,FALSE),#REF!)))) -> 30,14 | H39: =F39*G39 -> 104.22412 | J39: =IF(C39="SINAPI",VLOOKUP(B39,'SIN C 12.23'!A:E,5,0)," ") -> 30,14 | K39: =IF(C39="SINAPI-I",VLOOKUP(B39,'SIN I 12.23'!$7:$5071,5,0)," ") | L39: =IF(C39="SETOP",VLOOKUP(B39,'SET 08.23'!A:D,4,FALSE)," ")
A40: 5.8 | B40: 88309 | C40: =VLOOKUP(B40,SERVIÇOS!$A$1:$D$18506,4,0) -> SINAPI | D40: =VLOOKUP(B40,SERVIÇOS!$A:$B,2,0) -> PEDREIRO COM ENCARGOS COMPLEMENTARES | E40: =VLOOKUP(B40,SERVIÇOS!$A:$C,3,0) -> H | F40: 1.389 | G40: =IF(C40=$J$10,J40,IF(C40=$K$10,K40,IF(C40=$L$10,L40,IF(C40=#REF!,VLOOKUP(B40,#REF!,7,FALSE),#REF!)))) -> 27,10 | H40: =F40*G40 -> 37.6419 | J40: =IF(C40="SINAPI",VLOOKUP(B40,'SIN C 12.23'!A:E,5,0)," ") -> 27,10 | K40: =IF(C40="SINAPI-I",VLOOKUP(B40,'SIN I 12.23'!$7:$5071,5,0)," ") | L40: =IF(C40="SETOP",VLOOKUP(B40,'SET 08.23'!A:D,4,FALSE)," ")
A41: 5.9 | B41: 88316 | C41: =VLOOKUP(B41,SERVIÇOS!$A$1:$D$18506,4,0) -> SINAPI | D41: =VLOOKUP(B41,SERVIÇOS!$A:$B,2,0) -> SERVENTE COM ENCARGOS COMPLEMENTARES | E41: =VLOOKUP(B41,SERVIÇOS!$A:$C,3,0) -> H | F41: 2.424 | G41: =IF(C41=$J$10,J41,IF(C41=$K$10,K41,IF(C41=$L$10,L41,IF(C41=#REF!,VLOOKUP(B41,#REF!,7,FALSE),#REF!)))) -> 19,94 | H41: =F41*G41 -> 48.33456 | J41: =IF(C41="SINAPI",VLOOKUP(B41,'SIN C 12.23'!A:E,5,0)," ") -> 19,94 | K41: =IF(C41="SINAPI-I",VLOOKUP(B41,'SIN I 12.23'!$7:$5071,5,0)," ") | L41: =IF(C41="SETOP",VLOOKUP(B41,'SET 08.23'!A:D,4,FALSE)," ")
...

Sheet BDI
A1: Prefeitura Municipal de Barbacena - MG
A2: Secretaria Municipal de Saúde Pública - SESAP
A5: =ORÇAMENTO!A1 -> Obra: CONSTRUÇÃO UNIDADE BÁSICA DE SAÚDE - UBS T3
A6: =ORÇAMENTO!A2 -> Endereço: RUA FREI ORLANDO, S/N, MONTE MÁRIO - BARBACENA/MG
A7: =ORÇAMENTO!A3 -> Data de Referência: SINAPI DEZEMBRO/2023 Não Desonerado / SETOP Região Leste - AGOSTO de 2023 Sem Desoneração / ORSE - ABRIL 2023 / SBC - JUNHO 2023 | F7: _________________________________
A8: =ORÇAMENTO!A4 -> Unidade federativa: Barbacena - MG | F8: =CRONOGRAMA!I8 -> CRISTIANE DORNELAS SAVIOTTI
A9: =ORÇAMENTO!A5 -> Data: 09/02/2024 | F9: =CRONOGRAMA!I9 -> ENGENHEIRA CIVIL - CREA 207.043/D
A12: COMPOSIÇÃO DO BDI
A14: TIPO DE OBRA
A15: Construção e Reforma de Edifícios
B17: Itens | E17: Siglas | F17: % Adotado
B18: Administração Central | E18: AC | F18: 0.06245
B19: Seguro e Garantia | E19: S | F19: 0.004
B20: Risco | E20: R | F20: 0.018
B21: Despesas Financeiras | E21: DF | F21: 0.011
B22: Lucro | E22: L | F22: 0.07
B23: Tributos (impostos COFINS 3%, e PIS 0,65%) | E23: I | F23: 0.0365
B24: Tributos (ISS, variável de acordo com o município) | E24: I | F24: 0.025
B25: Tributos (Contribuição Previdenciária sobre a Receita Bruta - 0% ou 4,5% - Desoneração) | F25: =IF(BDI.Opcao<>"Desonerado",0,IF(AND(#REF!<>$A$155,COUNTA(OFFSET(#REF!,1,0,6))>0),4.5%,0%)) -> 0
B26: BDI SEM desoneração (Fórmula Acórdão TCU) | E26: BDI PAD | F26: =ROUND((((1+F18+F19+F20)*(1+F21)*(1+F22)/(1-(F23+F24)))-1),4) -> 0.25
B29: Fórmula adotada: | C29: BDI= (1+AC+S+R+G)(1+DF)(1+L) -1
C30: (1-I)
A33: AC: taxa de administração central
A34: S: taxa de seguros
A35: R: taxa de riscos
A36: G: taxa de garantias
A37: DF: taxa de despesas financeiras
A38: L: taxa de lucro/remuneração
A39: I: taxa de incidência de impostos (PIS, COFINS, ISS).

Sheet CRONOGRAMA
A1: Prefeitura Municipal de Barbacena - MG
A2: Secretaria Municipal de Saúde Pública - SESAP
A5: =ORÇAMENTO!A1 -> Obra: CONSTRUÇÃO UNIDADE BÁSICA DE SAÚDE - UBS T3
A6: =ORÇAMENTO!A2 -> Endereço: RUA FREI ORLANDO, S/N, MONTE MÁRIO - BARBACENA/MG
A7: =ORÇAMENTO!A3 -> Data de Referência: SINAPI DEZEMBRO/2023 Não Desonerado / SETOP Região Leste - AGOSTO de 2023 Sem Desoneração / ORSE - ABRIL 2023 / SBC - JUNHO 2023 | I7: _________________________________________
A8: =ORÇAMENTO!A4 -> Unidade federativa: Barbacena - MG | I8: =ORÇAMENTO!J4 -> CRISTIANE DORNELAS SAVIOTTI
A9: =ORÇAMENTO!A5 -> Data: 09/02/2024 | I9: =ORÇAMENTO!J5 -> ENGENHEIRA CIVIL - CREA 207.043/D
A12: CRONOGRAMA
A14: ITEM | B14: DESCRIÇÃO DOS SERVIÇOS | C14: VALOR (R$) | D14: % ITEM | E14: 1 | F14: 2 | G14: 3 | H14: 4 | I14: 5 | J14: 6
A16: =ORÇAMENTO!A11 -> 1 | B16: =ORÇAMENTO!D11 -> SERVIÇOS PRELIMINARES | C16: =ORÇAMENTO!I24 -> 96783.579 | D16: =SUM(E16:J16) -> 1 | E16: 1
A18: =ORÇAMENTO!A25 -> 2 | B18: =ORÇAMENTO!D25 -> ESTRUTURAS METÁLICAS E FECHAMENTOS LIGHT STEEL FRAMING | C18: =ORÇAMENTO!I28 -> 1390855.4 | D18: =SUM(E18:J18) -> 1 | F18: 0.75 | G18: 0.25
A20: =ORÇAMENTO!A29 -> 3 | B20: =ORÇAMENTO!D29 -> ALVENARIAS E DIVISÕES | C20: =ORÇAMENTO!I33 -> 20793.881 | D20: =SUM(E20:J20) -> 1 | E20: 0.05 | F20: 0.2 | G20: 0.35 | H20: 0.4
A22: =ORÇAMENTO!A34 -> 4 | B22: =ORÇAMENTO!D34 -> COBERTURA | C22: =ORÇAMENTO!I40 -> 142225.2 | D22: =SUM(E22:J22) -> 1 | G22: 0.5 | H22: 0.5
A24: =ORÇAMENTO!A41 -> 5 | B24: =ORÇAMENTO!D41 -> IMPERMEABILIZAÇÕES E ISOLAMENTO | C24: =ORÇAMENTO!I48 -> 23952.331 | D24: =SUM(E24:J24) -> 1 | E24: 0.1 | G24: 0.3 | H24: 0.3 | I24: 0.3
A26: =ORÇAMENTO!A49 -> 6 | B26: =ORÇAMENTO!D49 -> INSTALAÇÃO HIDRO-SANITÁRIA | C26: =ORÇAMENTO!I117 -> 153443.37 | D26: =SUM(E26:J26) -> 1 | F26: 0.1 | G26: 0.1 | H26: 0.2 | I26: 0.3 | J26: 0.3
A28: =ORÇAMENTO!A118 -> 7 | B28: =ORÇAMENTO!D118 -> PREVENÇÃO E COMBATE A INCÊNDIO | C28: =ORÇAMENTO!I127 -> 8021.65 | D28: =SUM(E28:J28) -> 1 | J28: 1
A30: =ORÇAMENTO!A128 -> 8 | B30: =ORÇAMENTO!D128 -> DRENAGEM | C30: =ORÇAMENTO!I140 -> 30956.122 | D30: =SUM(E30:J30) -> 1 | H30: 0.25 | I30: 0.75
A32: =ORÇAMENTO!A141 -> 9 | B32: =ORÇAMENTO!D141 -> INSTALAÇÕES ELÉTRICAS | C32: =ORÇAMENTO!I186 -> 186750.68 | D32: =SUM(E32:J32) -> 1 | G32: 0.1 | H32: 0.4 | I32: 0.4 | J32: 0.1
A34: =ORÇAMENTO!A187 -> 10 | B34: =ORÇAMENTO!D187 -> CABEAMENTO ESTRUTURADO | C34: =ORÇAMENTO!I202 -> 42422.213 | D34: =SUM(E34:J34) -> 1 | G34: 0.1 | H34: 0.4 | I34: 0.4 | J34: 0.1
A36: =ORÇAMENTO!A204 -> 11 | B36: =ORÇAMENTO!D204 -> CFTV E SONORIZAÇÃO | C36: =ORÇAMENTO!I213 -> 5744.275 | D36: =SUM(E36:J36) -> 1 | H36: 0.1 | I36: 0.4 | J36: 0.5
A38: =ORÇAMENTO!A214 -> 12 | B38: =ORÇAMENTO!D214 -> SPDA | C38: =ORÇAMENTO!I237 -> 42489.762 | D38: =SUM(E38:J38) -> 1 | H38: 0.1 | I38: 0.4 | J38: 0.5
A40: =ORÇAMENTO!A238 -> 13 | B40: =ORÇAMENTO!D238 -> CLIMATIZAÇÃO | C40: =ORÇAMENTO!I244 -> 2979.115 | D40: =SUM(E40:J40) -> 1 | H40: 0.1 | I40: 0.2 | J40: 0.7
A42: =ORÇAMENTO!A246 -> 14 | B42: =ORÇAMENTO!D246 -> ESQUADRIA DE MADEIRA | C42: =ORÇAMENTO!I261 -> 56548.402 | D42: =SUM(E42:J42) -> 1 | H42: 0.4 | I42: 0.6
A44: =ORÇAMENTO!A262 -> 15 | B44: =ORÇAMENTO!D262 -> ESQUADRIA DE ALUMINIO E VIDRO | C44: =ORÇAMENTO!I286 -> 74178.084 | D44: =SUM(E44:J44) -> 1 | H44: 0.4 | I44: 0.6
A46: =ORÇAMENTO!A287 -> 16 | B46: =ORÇAMENTO!D287 -> ESQUADRIA METÁLICA | C46: =ORÇAMENTO!I292 -> 8159.2953 | D46: =SUM(E46:J46) -> 1 | I46: 0.5 | J46: 0.5
A48: =ORÇAMENTO!A293 -> 17 | B48: =ORÇAMENTO!D293 -> REVESTIMENTOS DE PAREDES E TETOS | C48: =ORÇAMENTO!I299 -> 46371.619 | D48: =SUM(E48:J48) -> 1 | G48: 0.3 | H48: 0.3 | I48: 0.4
A50: =ORÇAMENTO!A300 -> 18 | B50: =ORÇAMENTO!D300 -> PISOS | C50: =ORÇAMENTO!I312 -> 154136.89 | D50: =SUM(E50:J50) -> 1 | E50: 0.25 | G50: 0.15 | H50: 0.3 | I50: 0.3
A52: =ORÇAMENTO!A313 -> 19 | B52: =ORÇAMENTO!D313 -> ESPELHOS | C52: =ORÇAMENTO!I316 -> 4183.55 | D52: =SUM(E52:J52) -> 1 | J52: 1
A54: =ORÇAMENTO!A317 -> 20 | B54: =ORÇAMENTO!D317 -> PINTURA INTERNA / EXTERNA | C54: =ORÇAMENTO!I330 -> 166631.37 | D54: =SUM(E54:J54) -> 1 | I54: 0.5 | J54: 0.5
A56: =ORÇAMENTO!A332 -> 21 | B56: =ORÇAMENTO!D332 -> BANCADA | C56: =ORÇAMENTO!I338 -> 22454.041 | D56: =SUM(E56:J56) -> 1 | H56: 1
A58: =ORÇAMENTO!A339 -> 22 | B58: =ORÇAMENTO!D339 -> SINALIZAÇÃO | C58: =ORÇAMENTO!I346 -> 4790.2687 | D58: =SUM(E58:J58) -> 1 | J58: 1
A60: =ORÇAMENTO!A347 -> 23 | B60: URBANIZAÇÃO E OBRAS COMPLEMENTARES | C60: =ORÇAMENTO!I351 -> 40017.572 | D60: =SUM(E60:J60) -> 1 | H60: 0.2 | I60: 0.3 | J60: 0.5
A62: =ORÇAMENTO!A352 -> 24 | B62: FUNDAÇÃO | C62: =ORÇAMENTO!I356 -> 175415.97 | D62: =SUM(E62:J62) -> 1 | E62: 1
A64: =ORÇAMENTO!A358 -> 25 | B64: LIMPEZA GERAL | C64: =ORÇAMENTO!I361 -> 9524.815 | D64: =SUM(E64:J64) -> 1 | E64: 0.1 | F64: 0.1 | G64: 0.1 | H64: 0.1 | I64: 0.2 | J64: 0.4
A66: =ORÇAMENTO!A363 -> 26 | B66: ADMINISTRAÇÃO LOCAL | C66: =ORÇAMENTO!I366 -> 37727.05 | D66: =SUM(E66:J66) -> 1 | E66: 0.2 | F66: 0.2 | G66: 0.1 | H66: 0.1 | I66: 0.2 | J66: 0.2
A67: Valores totais | C67: =SUM(C16:C66) -> 2947556.5 | E67: =$C16*E16+E18*$C18+$C20*E20+$C22*E22+E24*$C24+$C26*E26+E28*$C28+$C30*E30+E32*$C32+$C34*E34+E36*$C36+$C38*E38+E40*$C40+$C42*E42+$C44*E44+$C46*E46+E48*$C48+$C50*E50+E52*$C52+$C54*E54+E56*$C56+$C58*E58+$C60*E60+$C62*E62+$C64*E64+$C66*E66 -> 322666.59 | F67: =$C16*F16+F18*$C18+$C20*F20+$C22*F22+F24*$C24+$C26*F26+F28*$C28+$C30*F30+F32*$C32+$C34*F34+F36*$C36+$C38*F38+F40*$C40+$C42*F42+$C44*F44+$C46*F46+F48*$C48+$C50*F50+F52*$C52+$C54*F54+F56*$C56+$C58*F58+$C60*F60+$C62*F62+$C64*F64+$C66*F66 -> 1071142.5 | G67: =$C16*G16+G18*$C18+$C20*G20+$C22*G22+G24*$C24+$C26*G26+G28*$C28+$C30*G30+G32*$C32+$C34*G34+G36*$C36+$C38*G38+G40*$C40+$C42*G42+$C44*G44+$C46*G46+G48*$C48+$C50*G50+G52*$C52+$C54*G54+G56*$C56+$C58*G58+$C60*G60+$C62*G62+$C64*G64+$C66*G66 -> 513308.83 | H67: =$C16*H16+H18*$C18+$C20*H20+$C22*H22+H24*$C24+$C26*H26+H28*$C28+$C30*H30+H32*$C32+$C34*H34+H36*$C36+$C38*H38+H40*$C40+$C42*H42+$C44*H44+$C46*H46+H48*$C48+$C50*H50+H52*$C52+$C54*H54+H56*$C56+$C58*H58+$C60*H60+$C62*H62+$C64*H64+$C66*H66 -> 369459.92 | I67: =$C16*I16+I18*$C18+$C20*I20+$C22*I22+I24*$C24+$C26*I26+I28*$C28+$C30*I30+I32*$C32+$C34*I34+I36*$C36+$C38*I38+I40*$C40+$C42*I42+$C44*I44+$C46*I46+I48*$C48+$C50*I50+I52*$C52+$C54*I54+I56*$C56+$C58*I58+$C60*I60+$C62*I62+$C64*I64+$C66*I66 -> 440070.98 | J67: =$C16*J16+J18*$C18+$C20*J20+$C22*J22+J24*$C24+$C26*J26+J28*$C28+$C30*J30+J32*$C32+$C34*J34+J36*$C36+$C38*J38+J40*$C40+$C42*J42+$C44*J44+$C46*J46+J48*$C48+$C50*J50+J52*$C52+$C54*J54+J56*$C56+$C58*J58+$C60*J60+$C62*J62+$C64*J64+$C66*J66 -> 230907.62
D68: % | E68: =E67/$C$67 -> 0.10946918 | F68: =F67/$C$67 -> 0.36340018 | G68: =G67/$C$67 -> 0.17414724 | H68: =H67/$C$67 -> 0.12534447 | I68: =I67/$C$67 -> 0.14930027 | J68: =J67/$C$67 -> 0.078338659
D69: Total Acumulado | E69: =E67 -> 322666.59 | F69: =F67+E69 -> 1393809.1 | G69: =G67+F69 -> 1907118 | H69: =H67+G69 -> 2276577.9 | I69: =I67+H69 -> 2716648.9 | J69: =J67+I69 -> 2947556.5
D70: % Acumulado | E70: =E69/$C$67 -> 0.10946918 | F70: =F69/$C$67 -> 0.47286935 | G70: =G69/$C$67 -> 0.6470166 | H70: =H69/$C$67 -> 0.77236107 | I70: =I69/$C$67 -> 0.92166134 | J70: =J69/$C$67 -> 1

Sheet SIN C 12.23
A1: CODIGO DA COMPOSICAO | B1: DESCRICAO DA COMPOSICAO | C1: UNIDADE | D1: ORIGEM DE PREÇO | E1: CUSTO TOTAL
A2: 97141 | B2: ASSENTAMENTO DE TUBO DE FERRO FUNDIDO PARA REDE DE ÁGUA, DN 80 MM, JUNTA ELÁSTICA, INSTALADO EM LOCAL COM NÍVEL ALTO DE INTERFERÊNCIAS (NÃO INCLUI FORNECIMENTO). AF_11/2017 | C2: M | D2: COEFICIENTE DE REPRESENTATIVIDADE | E2: 8,80
A3: 97142 | B3: ASSENTAMENTO DE TUBO DE FERRO FUNDIDO PARA REDE DE ÁGUA, DN 100 MM, JUNTA ELÁSTICA, INSTALADO EM LOCAL COM NÍVEL ALTO DE INTERFERÊNCIAS (NÃO INCLUI FORNECIMENTO). AF_11/2017 | C3: M | D3: COEFICIENTE DE REPRESENTATIVIDADE | E3: 9,74
A4: 97143 | B4: ASSENTAMENTO DE TUBO DE FERRO FUNDIDO PARA REDE DE ÁGUA, DN 150 MM, JUNTA ELÁSTICA, INSTALADO EM LOCAL COM NÍVEL ALTO DE INTERFERÊNCIAS (NÃO INCLUI FORNECIMENTO). AF_11/2017 | C4: M | D4: COEFICIENTE DE REPRESENTATIVIDADE | E4: 12,12
A5: 97144 | B5: ASSENTAMENTO DE TUBO DE FERRO FUNDIDO PARA REDE DE ÁGUA, DN 200 MM, JUNTA ELÁSTICA, INSTALADO EM LOCAL COM NÍVEL ALTO DE INTERFERÊNCIAS (NÃO INCLUI FORNECIMENTO). AF_11/2017 | C5: M | D5: COEFICIENTE DE REPRESENTATIVIDADE | E5: 14,50
A6: 97145 | B6: ASSENTAMENTO DE TUBO DE FERRO FUNDIDO PARA REDE DE ÁGUA, DN 250 MM, JUNTA ELÁSTICA, INSTALADO EM LOCAL COM NÍVEL ALTO DE INTERFERÊNCIAS (NÃO INCLUI FORNECIMENTO). AF_11/2017 | C6: M | D6: COEFICIENTE DE REPRESENTATIVIDADE | E6: 16,90
A7: 97146 | B7: ASSENTAMENTO DE TUBO DE FERRO FUNDIDO PARA REDE DE ÁGUA, DN 300 MM, JUNTA ELÁSTICA, INSTALADO EM LOCAL COM NÍVEL ALTO DE INTERFERÊNCIAS (NÃO INCLUI FORNECIMENTO). AF_11/2017 | C7: M | D7: COEFICIENTE DE REPRESENTATIVIDADE | E7: 19,29
A8: 97147 | B8: ASSENTAMENTO DE TUBO DE FERRO FUNDIDO PARA REDE DE ÁGUA, DN 350 MM, JUNTA ELÁSTICA, INSTALADO EM LOCAL COM NÍVEL ALTO DE INTERFERÊNCIAS (NÃO INCLUI FORNECIMENTO). AF_11/2017 | C8: M | D8: COEFICIENTE DE REPRESENTATIVIDADE | E8: 21,69
A9: 97148 | B9: ASSENTAMENTO DE TUBO DE FERRO FUNDIDO PARA REDE DE ÁGUA, DN 400 MM, JUNTA ELÁSTICA, INSTALADO EM LOCAL COM NÍVEL ALTO DE INTERFERÊNCIAS (NÃO INCLUI FORNECIMENTO). AF_11/2017 | C9: M | D9: COEFICIENTE DE REPRESENTATIVIDADE | E9: 24,07
A10: 97149 | B10: ASSENTAMENTO DE TUBO DE FERRO FUNDIDO PARA REDE DE ÁGUA, DN 450 MM, JUNTA ELÁSTICA, INSTALADO EM LOCAL COM NÍVEL ALTO DE INTERFERÊNCIAS (NÃO INCLUI FORNECIMENTO). AF_11/2017 | C10: M | D10: COEFICIENTE DE REPRESENTATIVIDADE | E10: 26,49
A11: 97150 | B11: ASSENTAMENTO DE TUBO DE FERRO FUNDIDO PARA REDE DE ÁGUA, DN 500 MM, JUNTA ELÁSTICA, INSTALADO EM LOCAL COM NÍVEL ALTO DE INTERFERÊNCIAS (NÃO INCLUI FORNECIMENTO). AF_11/2017 | C11: M | D11: COEFICIENTE DE REPRESENTATIVIDADE | E11: 33,95
A12: 97151 | B12: ASSENTAMENTO DE TUBO DE FERRO FUNDIDO PARA REDE DE ÁGUA, DN 600 MM, JUNTA ELÁSTICA, INSTALADO EM LOCAL COM NÍVEL ALTO DE INTERFERÊNCIAS (NÃO INCLUI FORNECIMENTO). AF_11/2017 | C12: M | D12: COEFICIENTE DE REPRESENTATIVIDADE | E12: 39,51
A13: 97152 | B13: ASSENTAMENTO DE TUBO DE FERRO FUNDIDO PARA REDE DE ÁGUA, DN 700 MM, JUNTA ELÁSTICA, INSTALADO EM LOCAL COM NÍVEL ALTO DE INTERFERÊNCIAS (NÃO INCLUI FORNECIMENTO). AF_11/2017 | C13: M | D13: COEFICIENTE DE REPRESENTATIVIDADE | E13: 44,83
... A7555: 101460 | B7555: VIGIA DIURNO COM ENCARGOS COMPLEMENTARES | C7555: MES | D7555: COEFICIENTE DE REPRESENTATIVIDADE | E7555: 4.078,69

Sheet SIN I 12.23
A1: PRECOS DE INSUMOS
A3: MES DE COLETA: 05/2023
A4: LOCALIDADE: 1950 - BELO HORIZONTE
A5: ENCARGOS SOCIAIS (%) HORISTA 115,19 MENSALISTA 73,23
A7: CODIGO | B7: DESCRICAO DO INSUMO | C7: UNIDADE | D7: ORIGEM DO PRECO | E7: PRECO MEDIANO R$
A8: 38605 | B8: ABERTURA PARA ENCAIXE DE CUBA OU LAVATORIO EM BANCADA DE MARMORE/ GRANITO OU OUTRO TIPO DE PEDRA NATURAL | C8: UN | D8: CR | E8: 108,21
A9: 11270 | B9: ABRACADEIRA DE LATAO PARA FIXACAO DE CABO PARA-RAIO, DIMENSOES 32 X 24 X 24 MM | C9: UN | D9: CR | E9: 3,54
A10: 412 | B10: ABRACADEIRA DE NYLON PARA AMARRACAO DE CABOS, COMPRIMENTO DE *230* X *7,6* MM | C10: UN | D10: CR | E10: 0,92
A11: 414 | B11: ABRACADEIRA DE NYLON PARA AMARRACAO DE CABOS, COMPRIMENTO DE 100 X 2,5 MM | C11: UN | D11: CR | E11: 0,05
A12: 410 | B12: ABRACADEIRA DE NYLON PARA AMARRACAO DE CABOS, COMPRIMENTO DE 150 X *3,6* MM | C12: UN | D12: CR | E12: 0,14
A13: 411 | B13: ABRACADEIRA DE NYLON PARA AMARRACAO DE CABOS, COMPRIMENTO DE 200 X *4,6* MM | C13: UN | D13: C | E13: 0,18
A14: 408 | B14: ABRACADEIRA DE NYLON PARA AMARRACAO DE CABOS, COMPRIMENTO DE 390 X *4,6* MM | C14: UN | D14: CR | E14: 0,89
A15: 39131 | B15: ABRACADEIRA EM ACO PARA AMARRACAO DE ELETRODUTOS, TIPO D, COM 1 1/2" E CUNHA DE FIXACAO | C15: UN | D15: CR | E15: 3,16
A16: 394 | B16: ABRACADEIRA EM ACO PARA AMARRACAO DE ELETRODUTOS, TIPO D, COM 1 1/2" E PARAFUSO DE FIXACAO | C16: UN | D16: CR | E16: 3,20
A17: 39130 | B17: ABRACADEIRA EM ACO PARA AMARRACAO DE ELETRODUTOS, TIPO D, COM 1 1/4" E CUNHA DE FIXACAO | C17: UN | D17: CR | E17: 2,88
A18: 395 | B18: ABRACADEIRA EM ACO PARA AMARRACAO DE ELETRODUTOS, TIPO D, COM 1 1/4" E PARAFUSO DE FIXACAO | C18: UN | D18: CR | E18: 3,08
A19: 39127 | B19: ABRACADEIRA EM ACO PARA AMARRACAO DE ELETRODUTOS, TIPO D, COM 1/2" E CUNHA DE FIXACAO | C19: UN | D19: CR | E19: 1,52
... A4918: 41776 | B4918: VIGIA NOTURNO, HORA EFETIVAMENTE TRABALHADA DE 22 H AS 5 H (COM ADICIONAL NOTURNO) | C4918: H | D4918: CR | E4918: 22,93
A4920: TOTAL DE INSUMOS : 4911

Sheet SET 08.23
A1: TABELA REFERENCIAL DE PREÇOS UNITÁRIOS PARA OBRAS DE EDIFICAÇÃO
A2: Região Leste - S/ Desoneração
A3: 45139
A7: CÓDIGO | B7: DESCRIÇÃO DO SERVIÇO | C7: UNIDADE | D7: CUSTO UNITÁRIO
A8: 8662 | B8: MOBILIZAÇÃO E DESMOBILIZAÇÃO DE OBRA
A9: 8700 | B9: OBRAS EM CENTRO URBANO OU REGIÃO LIMÍTROFE
A10: ED-50394 | B10: MOBILIZAÇÃO E DESMOBILIZAÇÃO DE OBRA EM CENTRO URBANO OU REGIÃO LIMÍTROFE COM VALOR ACIMA DE 3.000.000,01 | C10: % | D10: 0.2
A11: ED-50392 | B11: MOBILIZAÇÃO E DESMOBILIZAÇÃO DE OBRA EM CENTRO URBANO OU REGIÃO LIMÍTROFE COM VALOR ATÉ O VALOR DE 1.000.000,00 | C11: % | D11: 0.5
A12: ED-50393 | B12: MOBILIZAÇÃO E DESMOBILIZAÇÃO DE OBRA EM CENTRO URBANO OU REGIÃO LIMÍTROFE COM VALOR ENTRE 1.000.000,01 E 3.000.000,00 | C12: % | D12: 0.3
A13: 8701 | B13: OBRA DISTANTE DE CENTRO URBANO
A14: ED-50391 | B14: MOBILIZAÇÃO E DESMOBILIZAÇÃO OBRA DISTANTE DE CENTRO URBANO COM ACIMA DE 3.000.000,01 | C14: % | D14: 1
A15: ED-50390 | B15: MOBILIZAÇÃO E DESMOBILIZAÇÃO OBRA DISTANTE DE CENTRO URBANO COM ENTRE 1.000.000,01 E 3.000.000,00 | C15: % | D15: 1.5
A16: ED-50389 | B16: MOBILIZAÇÃO E DESMOBILIZAÇÃO OBRA DISTANTE DE CENTRO URBANO COM VALOR ATÉ O VALOR DE 1.000.000,00 | C16: % | D16: 2
A17: 8663 | B17: SERVIÇOS PRELIMINARES
A18: 8702 | B18: LIMPEZA DO TERRENO
A19: ED-50701 | B19: CAPINA MANUAL DO TERRENO, EXCLUSIVE RASTELAMENTO E QUEIMA | C19: m2 | D19: 1.31
A20: ED-28163 | B20: DESTOCAMENTO E AFASTAMENTO DE REMANESCENTE ARBÓREO, INCLUSIVE TRANSPORTE E RETIRADA DO MATERIAL ESCAVADO (EM CAÇAMBA) | C20: un | D20: 459.35
A21: ED-50703 | B21: LIMPEZA DE TERRENO, INCLUSIVE CAPINA, RASTELAMENTO COM AFASTAMENTO ATÉ VINTE (20) METROS E QUEIMA CONTROLADA | C21: m2 | D21: 2.32
A22: ED-8143 | B22: RASTELAMENTO DE ÁREA COM AFASTAMENTO DE ATÉ VINTE (20) METROS, EXCLUSIVE CAPINA OU ROÇADA MANUAL | C22: m2 | D22: 0.87
A23: ED-28162 | B23: ROÇADA MANUAL DE TERRENO COM ROÇADEIRA COSTAL, EXCLUSIVE RASTELAMENTO E QUEIMA | C23: m2 | D23: 0.19
A24: 8703 | B24: DESMATAMENTO E DESTOCAMENTO
A25: ED-50702 | B25: DESMATAMENTO, DESTOCAMENTO E LIMPEZA, INCLUSIVE TRANSPORTE ATÉ CINQUENTA (50) METROS | C25: m2 | D25: 0.52
A26: 8704 | B26: SUPRESSÃO DE ÁRVORE
A27: ED-50699 | B27: CORTE DE ÁRVORE COM MOTOSSERRA, DIÂMETRO DO TRONCO ACIMA DE TRINTA (30) CENTÍMETROS ATÉ CINQUENTA (50) CENTÍMETROS, EXCLUSIVE DESTOCAMENTO E AFASTAMENTO | C27: un | D27: 90.47
A28: ED-50697 | B28: CORTE DE ÁRVORE COM MOTOSSERRA, DIÂMETRO DO TRONCO DE QUINZE (15) CENTÍMETROS ATÉ TRINTA (30) CENTÍMETROS, EXCLUSIVE DESTOCAMENTO E AFASTAMENTO | C28: un | D28: 54.28
A29: 8706 | B29: REMOÇÃO DE TELHADO
A30: ED-48438 | B30: REMOÇÃO DE CALHA EM CHAPA GALVANIZADA OU EM PVC, COM REAPROVEITAMENTO, INCLUSIVE AFASTAMENTO E EMPILHAMENTO, EXCLUSIVE TRANSPORTE E RETIRADA DO MATERIAL REMOVIDO NÃO REAPROVEITÁVEL | C30: m | D30: 4.6
A31: ED-48446 | B31: REMOÇÃO MANUAL DE CONDUTOR EM PVC OU METÁLICO, COM REAPROVEITAMENTO, INCLUSIVE AFASTAMENTO E EMPILHAMENTO, EXCLUSIVE TRANSPORTE E RETIRADA DO MATERIAL REMOVIDO NÃO REAPROVEITÁVEL | C31: m | D31: 5.5
A32: ED-48455 | B32: REMOÇÃO MANUAL DE ENGRADAMENTO PARA TELHA TIPO CALHA ESTRUTURAL EM FIBROCIMENTO, COM REAPROVEITAMENTO, INCLUSIVE AFASTAMENTO E EMPILHAMENTO, EXCLUSIVE TRANSPORTE E RETIRADA DO MATERIAL REMOVIDO NÃO REAPROVEITÁVEL | C32: m2 | D32: 11.12
A33: ED-48457 | B33: REMOÇÃO MANUAL DE ENGRADAMENTO PARA TELHA TIPO CERÂMICA OU CONCRETO, INCLUSIVE AFASTAMENTO E EMPILHAMENTO, EXCLUSIVE TRANSPORTE E RETIRADA DO MATERIAL REMOVIDO NÃO REAPROVEITÁVEL | C33: m2 | D33: 22.25
A34: ED-48454 | B34: REMOÇÃO MANUAL DE ENGRADAMENTO PARA TELHA TIPO METÁLICA, PVC OU FIBROCIMENTO, COM REAPROVEITAMENTO, INCLUSIVE AFASTAMENTO E EMPILHAMENTO, EXCLUSIVE TRANSPORTE E RETIRADA DO MATERIAL REMOVIDO NÃO REAPROVEITÁVEL | C34: m2 | D34: 14.83
A35: ED-48506 | B35: REMOÇÃO MANUAL DE RUFO METÁLICO, COM REAPROVEITAMENTO, INCLUSIVE AFASTAMENTO E EMPILHAMENTO, EXCLUSIVE TRANSPORTE E RETIRADA DO MATERIAL REMOVIDO NÃO REAPROVEITÁVEL | C35: m | D35: 6.76
A36: ED-48512 | B36: REMOÇÃO MANUAL DE TELHA EM FIBROCIMENTO, TIPO ONDULADA, COM REAPROVEITAMENTO, INCLUSIVE AFASTAMENTO E EMPILHAMENTO, EXCLUSIVE TRANSPORTE E RETIRADA DO MATERIAL REMOVIDO NÃO REAPROVEITÁVEL | C36: m2 | D36: 12.71
A37: ED-48514 | B37: REMOÇÃO MANUAL DE TELHA CERÂMICA, COM REAPROVEITAMENTO, INCLUSIVE AFASTAMENTO E EMPILHAMENTO, EXCLUSIVE TRANSPORTE E RETIRADA DO MATERIAL REMOVIDO NÃO REAPROVEITÁVEL | C37: m2 | D37: 23.9
A38: ED-48510 | B38: REMOÇÃO MANUAL DE TELHA EM FIBROCIMENTO, TIPO CALHA ESTRUTURAL, COM REAPROVEITAMENTO, INCLUSIVE IÇAMENTO, AFASTAMENTO E EMPILHAMENTO, EXCLUSIVE TRANSPORTE E RETIRADA DO MATERIAL REMOVIDO NÃO REAPROVEITÁVEL | C38: m2 | D38: 24.96
A39: ED-48509 | B39: REMOÇÃO MANUAL DE TELHA METÁLICA OU PVC, COM REAPROVEITAMENTO, INCLUSIVE AFASTAMENTO E EMPILHAMENTO, EXCLUSIVE TRANSPORTE E RETIRADA DO MATERIAL REMOVIDO NÃO REAPROVEITÁVEL | C39: m2 | D39: 8.9
A40: 8707 | B40: DEMOLIÇÃO E REMOÇÃO DE INSTALAÇÃO
A41: ED-48500 | B41: DEMOLIÇÃO MANUAL DE TUBULAÇÕES EMBUTIDAS DE REDE (ÁGUA, ELÉTRICA, GASES, ETC.), INCLUSIVE RASGO EM ALVENARIA, REMOÇÃO DE ACESSÓRIOS DE FIXAÇÃO, AFASTAMENTO E EMPILHAMENTO, EXCLUSIVE TRANSPORTE E RETIRADA DO MATERIAL DEMOLIDO | C41: m | D41: 8.24
A42: ED-48466 | B42: REMOÇÃO MANUAL DE INTERFONE, COM REAPROVEITAMENTO, INCLUSIVE AFASTAMENTO E EMPILHAMENTO, EXCLUSIVE TRANSPORTE E RETIRADA DO MATERIAL REMOVIDO NÃO REAPROVEITÁVEL | C42: un | D42: 43.59
A43: ED-48468 | B43: REMOÇÃO MANUAL DE LUMINÁRIA COMERCIAL, EMBUTIDA OU SOBREPOR, COM REAPROVEITAMENTO, INCLUSIVE AFASTAMENTO E EMPILHAMENTO, EXCLUSIVE TRANSPORTE E RETIRADA DO MATERIAL REMOVIDO NÃO REAPROVEITÁVEL | C43: un | D43: 10.5
...

Sheet SERVIÇOS
A1: CÓDIGO | B1: DESCRIÇÃO DO SERVIÇO | C1: UN.NIDADE | D1: TABELA
A2: 8662 | B2: MOBILIZAÇÃO E DESMOBILIZAÇÃO DE OBRA | D2: SETOP
A3: 8700 | B3: OBRAS EM CENTRO URBANO OU REGIÃO LIMÍTROFE | D3: SETOP
A4: ED-50394 | B4: MOBILIZAÇÃO E DESMOBILIZAÇÃO DE OBRA EM CENTRO URBANO OU REGIÃO LIMÍTROFE COM VALOR ACIMA DE 3.000.000,01 | C4: % | D4: SETOP
A5: ED-50392 | B5: MOBILIZAÇÃO E DESMOBILIZAÇÃO DE OBRA EM CENTRO URBANO OU REGIÃO LIMÍTROFE COM VALOR ATÉ O VALOR DE 1.000.000,00 | C5: % | D5: SETOP
A6: ED-50393 | B6: MOBILIZAÇÃO E DESMOBILIZAÇÃO DE OBRA EM CENTRO URBANO OU REGIÃO LIMÍTROFE COM VALOR ENTRE 1.000.000,01 E 3.000.000,00 | C6: % | D6: SETOP
A7: ED-29823 | B7: TAPUME FIXO DE PROTEÇÃO PARA FECHAMENTO DE OBRA EM TELHA METÁLICA GALVANIZADA, TIPO TRAPEZOIDAL, ESP. 0,5MM, COM MÓDULO NA DIMENSÃO DE (300X220)CM, COM REAPROVEITAMENTO, EXCLUSIVE PINTURA ESMALTE, INCLUSIVE PONTALETE E FIXAÇÃO | C7: m2 | D7: SETOP
A8: 8701 | B8: OBRA DISTANTE DE CENTRO URBANO | D8: SETOP
A9: ED-50391 | B9: MOBILIZAÇÃO E DESMOBILIZAÇÃO OBRA DISTANTE DE CENTRO URBANO COM ACIMA DE 3.000.000,01 | C9: % | D9: SETOP
A10: ED-50390 | B10: MOBILIZAÇÃO E DESMOBILIZAÇÃO OBRA DISTANTE DE CENTRO URBANO COM ENTRE 1.000.000,01 E 3.000.000,00 | C10: % | D10: SETOP
A11: ED-50389 | B11: MOBILIZAÇÃO E DESMOBILIZAÇÃO OBRA DISTANTE DE CENTRO URBANO COM VALOR ATÉ O VALOR DE 1.000.000,00 | C11: % | D11: SETOP
A12: 8663 | B12: SERVIÇOS PRELIMINARES | D12: SETOP
A13: 8702 | B13: LIMPEZA DO TERRENO | D13: SETOP
A14: ED-50701 | B14: CAPINA MANUAL DO TERRENO, EXCLUSIVE RASTELAMENTO E QUEIMA | C14: m2 | D14: SETOP
A15: ED-28163 | B15: DESTOCAMENTO E AFASTAMENTO DE REMANESCENTE ARBÓREO, INCLUSIVE TRANSPORTE E RETIRADA DO MATERIAL ESCAVADO (EM CAÇAMBA) | C15: un | D15: SETOP
A16: ED-50703 | B16: LIMPEZA DE TERRENO, INCLUSIVE CAPINA, RASTELAMENTO COM AFASTAMENTO ATÉ VINTE (20) METROS E QUEIMA CONTROLADA | C16: m2 | D16: SETOP
A17: ED-8143 | B17: RASTELAMENTO DE ÁREA COM AFASTAMENTO DE ATÉ VINTE (20) METROS, EXCLUSIVE CAPINA OU ROÇADA MANUAL | C17: m2 | D17: SETOP
A18: ED-28162 | B18: ROÇADA MANUAL DE TERRENO COM ROÇADEIRA COSTAL, EXCLUSIVE RASTELAMENTO E QUEIMA | C18: m2 | D18: SETOP
A19: 8703 | B19: DESMATAMENTO E DESTOCAMENTO | D19: SETOP
A20: ED-50702 | B20: DESMATAMENTO, DESTOCAMENTO E LIMPEZA, INCLUSIVE TRANSPORTE ATÉ CINQUENTA (50) METROS | C20: m2 | D20: SETOP
A21: 8704 | B21: SUPRESSÃO DE ÁRVORE | D21: SETOP
A22: ED-50699 | B22: CORTE DE ÁRVORE COM MOTOSSERRA, DIÂMETRO DO TRONCO ACIMA DE TRINTA (30) CENTÍMETROS ATÉ CINQUENTA (50) CENTÍMETROS, EXCLUSIVE DESTOCAMENTO E AFASTAMENTO | C22: un | D22: SETOP
A23: ED-50697 | B23: CORTE DE ÁRVORE COM MOTOSSERRA, DIÂMETRO DO TRONCO DE QUINZE (15) CENTÍMETROS ATÉ TRINTA (30) CENTÍMETROS, EXCLUSIVE DESTOCAMENTO E AFASTAMENTO | C23: un | D23: SETOP
A24: 8706 | B24: REMOÇÃO DE TELHADO | D24: SETOP
A25: ED-48438 | B25: REMOÇÃO DE CALHA EM CHAPA GALVANIZADA OU EM PVC, COM REAPROVEITAMENTO, INCLUSIVE AFASTAMENTO E EMPILHAMENTO, EXCLUSIVE TRANSPORTE E RETIRADA DO MATERIAL REMOVIDO NÃO REAPROVEITÁVEL | C25: m | D25: SETOP
A26: ED-48446 | B26: REMOÇÃO MANUAL DE CONDUTOR EM PVC OU METÁLICO, COM REAPROVEITAMENTO, INCLUSIVE AFASTAMENTO E EMPILHAMENTO, EXCLUSIVE TRANSPORTE E RETIRADA DO MATERIAL REMOVIDO NÃO REAPROVEITÁVEL | C26: m | D26: SETOP
A27: ED-48455 | B27: REMOÇÃO MANUAL DE ENGRADAMENTO PARA TELHA TIPO CALHA ESTRUTURAL EM FIBROCIMENTO, COM REAPROVEITAMENTO, INCLUSIVE AFASTAMENTO E EMPILHAMENTO, EXCLUSIVE TRANSPORTE E RETIRADA DO MATERIAL REMOVIDO NÃO REAPROVEITÁVEL | C27: m2 | D27: SETOP
A28: ED-48457 | B28: REMOÇÃO MANUAL DE ENGRADAMENTO PARA TELHA TIPO CERÂMICA OU CONCRETO, INCLUSIVE AFASTAMENTO E EMPILHAMENTO, EXCLUSIVE TRANSPORTE E RETIRADA DO MATERIAL REMOVIDO NÃO REAPROVEITÁVEL | C28: m2 | D28: SETOP
A29: ED-48454 | B29: REMOÇÃO MANUAL DE ENGRADAMENTO PARA TELHA TIPO METÁLICA, PVC OU FIBROCIMENTO, COM REAPROVEITAMENTO, INCLUSIVE AFASTAMENTO E EMPILHAMENTO, EXCLUSIVE TRANSPORTE E RETIRADA DO MATERIAL REMOVIDO NÃO REAPROVEITÁVEL | C29: m2 | D29: SETOP
A30: ED-48506 | B30: REMOÇÃO MANUAL DE RUFO METÁLICO, COM REAPROVEITAMENTO, INCLUSIVE AFASTAMENTO E EMPILHAMENTO, EXCLUSIVE TRANSPORTE E RETIRADA DO MATERIAL REMOVIDO NÃO REAPROVEITÁVEL | C30: m | D30: SETOP
A31: ED-48512 | B31: REMOÇÃO MANUAL DE TELHA EM FIBROCIMENTO, TIPO ONDULADA, COM REAPROVEITAMENTO, INCLUSIVE AFASTAMENTO E EMPILHAMENTO, EXCLUSIVE TRANSPORTE E RETIRADA DO MATERIAL REMOVIDO NÃO REAPROVEITÁVEL | C31: m2 | D31: SETOP
A32: ED-48514 | B32: REMOÇÃO MANUAL DE TELHA CERÂMICA, COM REAPROVEITAMENTO, INCLUSIVE AFASTAMENTO E EMPILHAMENTO, EXCLUSIVE TRANSPORTE E RETIRADA DO MATERIAL REMOVIDO NÃO REAPROVEITÁVEL | C32: m2 | D32: SETOP
A33: ED-48510 | B33: REMOÇÃO MANUAL DE TELHA EM FIBROCIMENTO, TIPO CALHA ESTRUTURAL, COM REAPROVEITAMENTO, INCLUSIVE IÇAMENTO, AFASTAMENTO E EMPILHAMENTO, EXCLUSIVE TRANSPORTE E RETIRADA DO MATERIAL REMOVIDO NÃO REAPROVEITÁVEL | C33: m2 | D33: SETOP
A34: ED-48509 | B34: REMOÇÃO MANUAL DE TELHA METÁLICA OU PVC, COM REAPROVEITAMENTO, INCLUSIVE AFASTAMENTO E EMPILHAMENTO, EXCLUSIVE TRANSPORTE E RETIRADA DO MATERIAL REMOVIDO NÃO REAPROVEITÁVEL | C34: m2 | D34: SETOP
A35: 8707 | B35: DEMOLIÇÃO E REMOÇÃO DE INSTALAÇÃO | D35: SETOP
A36: ED-48500 | B36: DEMOLIÇÃO MANUAL DE TUBULAÇÕES EMBUTIDAS DE REDE (ÁGUA, ELÉTRICA, GASES, ETC.), INCLUSIVE RASGO EM ALVENARIA, REMOÇÃO DE ACESSÓRIOS DE FIXAÇÃO, AFASTAMENTO E EMPILHAMENTO, EXCLUSIVE TRANSPORTE E RETIRADA DO MATERIAL DEMOLIDO | C36: m | D36: SETOP
A37: ED-48466 | B37: REMOÇÃO MANUAL DE INTERFONE, COM REAPROVEITAMENTO, INCLUSIVE AFASTAMENTO E EMPILHAMENTO, EXCLUSIVE TRANSPORTE E RETIRADA DO MATERIAL REMOVIDO NÃO REAPROVEITÁVEL | C37: un | D37: SETOP
A38: ED-48468 | B38: REMOÇÃO MANUAL DE LUMINÁRIA COMERCIAL, EMBUTIDA OU SOBREPOR, COM REAPROVEITAMENTO, INCLUSIVE AFASTAMENTO E EMPILHAMENTO, EXCLUSIVE TRANSPORTE E RETIRADA DO MATERIAL REMOVIDO NÃO REAPROVEITÁVEL | C38: un | D38: SETOP
A39: ED-48469 | B39: REMOÇÃO MANUAL DE LUMINÁRIA COMPACTA (PLAFON, PAINEL LED, ETC.) EMBUTIDA OU SOBREPOR, COM REAPROVEITAMENTO, INCLUSIVE AFASTAMENTO E EMPILHAMENTO, EXCLUSIVE TRANSPORTE E RETIRADA DO MATERIAL REMOVIDO NÃO REAPROVEITÁVEL | C39: un | D39: SETOP
A40: ED-48499 | B40: REMOÇÃO MANUAL DE REDES DE DUTOS PARA CLIMATIZAÇÃO, INCLUSIVE AFASTAMENTO E EMPILHAMENTO, EXCLUSIVE TRANSPORTE E RETIRADA DO MATERIAL REMOVIDO NÃO REAPROVEITÁVEL | C40: m | D40: SETOP
...
