Workbook
Name ___sub1: #REF!
Name ___sub2: #REF!
Name ___sub3: #REF!
Name _sub1: #REF!
Name _sub2: #REF!
Name _sub3: #REF!
Name a: #REF!
Name AREA: #REF!
Name B: #REF!
Name BDI: #REF!
Name DOLAR: [1]INSUMOS!$G$8
Name ersdcefgbrnghrbgbrgfbgfwbvbfgvwfv: #REF!
Name Excel_BuiltIn_Print_Area_2: #REF!
Name Excel_BuiltIn_Print_Area_2_1: #REF!
Name Excel_BuiltIn_Print_Area_2_1_1: #REF!
Name Excel_BuiltIn_Print_Area_2_1_1_1: #REF!
Name Excel_BuiltIn_Print_Area_4: #REF!
Name leosde: #REF!
Name NCOMPOSICOES: 7
Name NCOTACOES: 15
Name obra: #REF!
Name obra1: #REF!
Name obra2: #REF!
Name obra3: #REF!
Name obra4: #REF!
Name obra5: #REF!
Name P.1: #REF!
Name P.10: #REF!
Name P.11: #REF!
Name P.12: #REF!
Name P.13: #REF!
Name P.14: #REF!
Name P.15: #REF!
Name P.2: #REF!
Name P.3: #REF!
Name P.4: #REF!
Name P.5: #REF!
Name P.6: #REF!
Name P.7: #REF!
Name P.8: #REF!
Name P.9: #REF!
Name Pedreiro_de_acabamento: [1]INSUMOS!$B$11
Name PP1.1: #REF!
Name PP1.10: #REF!
Name PP1.11: #REF!
Name PP1.12: #REF!
Name PP1.13: #REF!
Name PP1.14: #REF!
Name PP1.15: #REF!
Name PP1.2: #REF!
Name PP1.3: #REF!
Name PP1.4: #REF!
Name PP1.5: #REF!
Name PP1.6: #REF!
Name PP1.7: #REF!
Name PP1.8: #REF!
Name PP1.9: #REF!
Name T.1: #REF!
Name T.10: #REF!
Name T.11: #REF!

Sheet Planilha Orcamentária
A2: PLANILHA ORÇAMENTÁRIA DE CUSTOS
A3: PREFEITURA MUNICIPAL DE MONTALVÂNIA-MG | F3: FOLHA N º: | H3: 01/01.
A4: OBRA: CALÇAMENTO EM BLOQUETE SEXTAVADO- DIVERSOS LOGRADOUROS DISTRITO DE POÇÕES | F4: DATA: | H4: =TODAY() -> 46042
A5: LOCAL: RUA GÓIAS , RUA MARANHÃO , RUA PRAÇA DOS ESPORTES | F5: FORMA DE EXECUÇÃO:
A6: REGIÃO/MÊS DE REFERÊNCIA: SICOR/SEINFRA - REGIÃO NORTE - JULHO/2025- SEM DESONERAÇÃO - SINAPI 09/2025 NÃO DESONERADO; SICRO 07/2025 SEM DESONERAÇÃO; | F6: ( ) | G6: DIRETA | H6: ( X ) | I6: INDIRETA
A7: COMPOSIÇÃO/DEMONSTRATIVO DE BDI - EM ANEXO | F7: % ISS MUNICIPAL: | G7: 0.03 | H7: BDI: | I7: 0.2264
A9: ITEM | B9: FONTE | C9: CÓDIGO | D9: DESCRIÇÃO | E9: UNIDADE | F9: QUANTIDADE | G9: PREÇO UNITÁRIO S/ BDI | H9: PREÇO UNITÁRIO C/ BDI | I9: PREÇO TOTAL
A10: 1.0 | D10: SERVIÇOS PRELIMINARES | H10: =ROUND(G10+(G10*$I$7),2) -> 0 | I10: =SUM(I11+I12+I13) -> 5433.5362 | J10: =I11+I12+I13 -> 5433.5362
A11: 1.1 | B11: SICOR/ SEINFRA | C11: ED-50155 | D11: LOCAÇÃO DE BANHEIRO QUÍMICO, DIMENSÃO (110X120X230)CM, LINHA PADRÃO, CONTENDO UMA (1) PIA/HIGIENIZADOR DE MÃOS, INCLUSIVE MANUTENÇÃO E MOBILIZAÇÃO/DESMOBILIZAÇÃO | E11: MÊS | F11: 2 | G11: 980 | H11: =G11*(1+I7) -> 1201.872 | I11: =ROUND((F11*H11),2) -> 2403.74 | J11: =I11+I12+I13+I14 -> 6947.0662
A12: 1.2 | B12: SICOR/ SEINFRA | C12: ED-28427 | D12: FORNECIMENTO E COLOCAÇÃO DE PLACA DE OBRA EM CHAPA GALVANIZADA #26, ESP. 0,45MM, DIMENSÃO (3X1,5)M, PLOTADA COM ADESIVO VINÍLICO, AFIXADA COM REBITES 4,8X40MM, EM ESTRUTURA METÁLICA DE METALON 20X20MM, ESP. 1,25MM, INCLUSIVE SUPORTE EM EUCALIPTO AUTOCLAVADO PINTADO COM TINTA PVA DUAS (2) DEMÃOS | E12: UM | F12: 1 | G12: 1156.55 | H12: =G12*(1+I7) -> 1418.3929 | I12: =ROUND((F12*H12),2) -> 1418.39
A13: 1.3 | B13: SICOR/ SEINFRA | C13: ED-50275 | D13: LOCAÇÃO TOPOGRÁFICA PARA ATÉ VINTE (20) PONTOS REFERENCIAIS, INCLUSIVE ESTACA (PIQUETE) DE MARCAÇÃO | E13: PT | F13: ='Memória - SEINFRA'!E24 -> 18.8 | G13: 69.89 | H13: =G13*(1+I7) -> 85.713096 | I13: =F13*H13 -> 1611.4062
A14: 1.4 | B14: SICOR/ SEINFRA | C14: ED-50392 | D14: MOBILIZAÇÃO E DESMOBILIZAÇÃO DE OBRA EM CENTRO URBANO OU REGIÃO LIMÍTROFE COM VALOR ATÉ O VALOR DE 1.000.000,00 | E14: % | F14: 0.5 | G14: =I29 -> 302706.53 | H14: =G14*(F14/100) -> 1513.5327 | I14: =ROUND((1*H14),2) -> 1513.53 | J14: =I14/2 -> 756.765
A16: 2.0 | D16: TERRAPLENAGEM | H16: =ROUND(G16+(G16*$I$7),2) -> 0 | I16: =SUM(I17:I20) -> 18452.01
A17: 2.1 | B17: SICRO/ DNIT | C17: 4011209 | D17: REGULARIZAÇÃO DO SUBLEITO - 100% PROCTOR INTERMEDIÁRIO | E17: M² | F17: ='Memória - SEINFRA'!E36 -> 2022.6 | G17: 1.81 | H17: =G17*(1+I7) -> 2.219784 | I17: =ROUND((F17*H17),2) -> 4489.74
A18: 2.2 | B18: SICRO/ DNIT | C18: 4011219 | D18: BASE DE SOLO ESTABILIZADO GRANULOMETRICAMENTE SEM MISTURA COM MATERIAL DE JAZIDA - 100% PROCTOR MODIFICADO | E18: M³ | F18: ='Memória - SEINFRA'!E45 -> 303.39 | G18: 16.66 | H18: =G18*(1+I7) -> 20.431824 | I18: =ROUND((F18*H18),2) -> 6198.81
A19: 2.3 | C19: - | D19: AQUISIÇÃO DE MATERIAL DE JAZIDA PARA BASE - CASCALHO | E19: M³ | G19: A CARGO DO MUNICÍPIO | I19: =ROUND((F19*H19),2) -> 0
A20: 2.4 | B20: SICRO/ DNIT | C20: 5915321 | D20: TRANSPORTE COM CAMINHÃO BASCULANTE DE 14 M³ - RODOVIA PAVIMENTADA | E20: TXKM | F20: ='Memória - SEINFRA'!H60 -> 9353.5722 | G20: 0.68 | H20: =ROUND(G20+(G20*$I$7),2) -> 0.83 | I20: =ROUND((F20*H20),2) -> 7763.46
A21: 3.0 | D21: CALÇAMENTO | I21: =SUM(I22:I23) -> 219724.45
A22: 3.1 | B22: SICOR/ SEINFRA | C22: ED-8914 | D22: EXECUÇÃO DE PAVIMENTO COM PISO INTERTRAVADO, TIPO SEXTAVADO, ESP. 8CM, COM FCK DE 35MPA, INCLUSIVE COLCHÃO DE AREIA, ESP. 6CM, PARA ASSENTAMENTO, COMPACTAÇÃO MECANIZADA, CARGA E DESCARGA MECÂNICA EM CAMINHÃO, EXCLUSIVE TRANSPORTE DE PISO INTERTRAVADO | E22: M² | F22: ='Memória - SEINFRA'!E68 -> 1684.2 | G22: 96.93 | H22: =G22*(1+I7) -> 118.87495 | I22: =ROUND((F22*H22),2) -> 200209.19
A23: 3.2 | B23: SICRO/ DNIT | C23: 5915321 | D23: TRANSPORTE EM CAMINHÃO BASCULANTE COM CAPACIDADE DE 14 M3 – RODOVIA PAVIMENTADA | E23: TXKM | F23: ='Memória - SEINFRA'!F76 -> 23512.356 | G23: 0.68 | H23: =ROUND(G23+(G23*$I$7),2) -> 0.83 | I23: =H23*F23 -> 19515.255
A24: 4.0 | D24: DRENAGEM PLUVIAL | I24: =SUM(I25:I26) -> 59096.54
A25: 4.1 | B25: SINAPI | C25: 94267 | D25: GUIA (MEIO-FIO) E SARJETA CONJUGADOS DE CONCRETO, MOLDADA IN LOCO COM EXTRUSORA, 45 CM BASE (15 CM BASE DA GUIA + 30 CM BASE DA SARJETA) X 22 CM ALTURA. AF_06/2016 | E25: M | F25: ='Memória - SEINFRA'!H86 -> 752 | G25: 60.69 | H25: =G25*(1+I7) -> 74.430216 | I25: =ROUND((F25*H25),2) -> 55971.52
A26: 4.2 | B26: SICOR/ SEINFRA | C26: ED-51135 | D26: GUIA DE CORDÃO BOLEADO, EM CONCRETO COM FCK 20MPA, PRÉ-MOLDADA, 10X10CM (ALTURA X LARGURA), INCLUSIVE UMA ( 1) FIADA DE BLOCO DE CONCRETO, ESP. 9CM, ESCAVAÇÃO, APILOAMENTO E TRANSPORTE COM RETIRADA DO MATERIAL ESCAVADO (EM CAÇAMBA) | E26: M | F26: ='Memória - SEINFRA'!H96 -> 41.8 | G26: 60.96 | H26: =G26*(1+I7) -> 74.761344 | I26: =ROUND((F26*H26),2) -> 3125.02
A29: VALOR TOTAL DA OBRA | I29: =I24+I21+I16+I10 -> 302706.53
A30: VALOR TOTAL GERAL DA OBRA | I30: =I29+I14 -> 304220.06
J31: =J30-J29 -> 0
D33: ANYK DA SILVA REIS
D34: Engenhera Civil - Responsável Técnico
D35: CREA/MG Nº: MG 378514
D39: FREDSON LOPES FRANÇA
D40: Prefeito Municipal

Sheet Memória - SEINFRA
A1: MEMÓRIA DE CÁCULO DE QUANTITATIVOS
A3: CALÇAMENTO
A4: ='Planilha Orcamentária'!A3:E3 -> PREFEITURA MUNICIPAL DE MONTALVÂNIA-MG
A5: ='Planilha Orcamentária'!A4:E4 -> OBRA: CALÇAMENTO EM BLOQUETE SEXTAVADO- DIVERSOS LOGRADOUROS DISTRITO DE POÇÕES
A6: ='Planilha Orcamentária'!A5:E5 -> LOCAL: RUA GÓIAS , RUA MARANHÃO , RUA PRAÇA DOS ESPORTES
A7: DATA: | B7: =TODAY() -> 46042
A9: ITEM: | B9: ='Planilha Orcamentária'!A11 -> 1.1
A10: LOCAÇÃO DE BANHEIRO QUÍMICO, DIMENSÃO (110X120X230)CM,LINHA PADRÃO, CONTENDO UMA (1) PIA/HIGIENIZADOR DE MÃOS, INCLUSIVE MANUTENÇÃO E MOBILIZAÇÃO/DESMOBILIZAÇÃO
A11: Quantidade | C11: 2 | D11: Unidade
A13: ITEM: | B13: ='Planilha Orcamentária'!A12 -> 1.2
A14: ='Planilha Orcamentária'!D12 -> FORNECIMENTO E COLOCAÇÃO DE PLACA DE OBRA EM CHAPA GALVANIZADA #26, ESP. 0,45MM, DIMENSÃO (3X1,5)M, PLOTADA COM ADESIVO VINÍLICO, AFIXADA COM REBITES 4,8X40MM, EM ESTRUTURA METÁLICA DE METALON 20X20MM, ESP. 1,25MM, INCLUSIVE SUPORTE EM EUCALIPTO AUTOCLAVADO PINTADO COM TINTA PVA DUAS (2) DEMÃOS
A15: Quantidade | C15: 1 | D15: Unidade
A17: ITEM: | B17: ='Planilha Orcamentária'!A13 -> 1.3
A18: ='Planilha Orcamentária'!D13 -> LOCAÇÃO TOPOGRÁFICA PARA ATÉ VINTE (20) PONTOS REFERENCIAIS, INCLUSIVE ESTACA (PIQUETE) DE MARCAÇÃO
A19: LOCAL | C19: Comprimento | D19: Largura | E19: Área
C20: (m) | D20: (m) | E20: (m²)
A21: Rua Góias | C21: 210 | D21: 5.6 | E21: =D21*C21 -> 1176
A22: Rua Maranhão | C22: =60+60 -> 120 | D22: 5.1 | E22: =D22*C22 -> 612
A23: Rua Praça dos Esportes | C23: 46 | D23: 5.1 | E23: =D23*C23 -> 234.6
C24: =SUM(C21:C23) -> 376 | D24: TOTAL | E24: =C24/20 -> 18.8
A25: ITEM: | B25: ='Planilha Orcamentária'!A14 -> 1.4
A26: ='Planilha Orcamentária'!D14 -> MOBILIZAÇÃO E DESMOBILIZAÇÃO DE OBRA EM CENTRO URBANO OU REGIÃO LIMÍTROFE COM VALOR ATÉ O VALOR DE 1.000.000,00
A27: Quantidade | C27: ='Planilha Orcamentária'!F14 -> 0.5 | D27: ='Planilha Orcamentária'!E14 -> %
A29: ITEM: | B29: ='Planilha Orcamentária'!A17 -> 2.1
A30: ='Planilha Orcamentária'!D17 -> REGULARIZAÇÃO DO SUBLEITO - 100% PROCTOR INTERMEDIÁRIO
A31: LOCAL | C31: Comprimento | D31: Largura | E31: Área
C32: (m) | D32: (m) | E32: (m²)
A33: Rua Góias | C33: 210 | D33: 5.6 | E33: =D33*C33 -> 1176
A34: Rua Maranhão | C34: =60+60 -> 120 | D34: 5.1 | E34: =D34*C34 -> 612
A35: Rua Praça dos Esportes | C35: 46 | D35: 5.1 | E35: =D35*C35 -> 234.6
D36: TOTAL | E36: =SUM(E33:E35) -> 2022.6
A38: ITEM: | B38: ='Planilha Orcamentária'!A18 -> 2.2
A39: ='Planilha Orcamentária'!D18 -> BASE DE SOLO ESTABILIZADO GRANULOMETRICAMENTE SEM MISTURA COM MATERIAL DE JAZIDA - 100% PROCTOR MODIFICADO
A40: LOCAL | C40: Área | D40: Espessura | E40: Volume
C41: (m²) | D41: (m) | E41: (m3)
A42: Rua Góias | C42: =E33 -> 1176 | D42: 0.15 | E42: =ROUND(D42*C42,2) -> 176.4
A43: Rua Maranhão | C43: =E34 -> 612 | D43: 0.15 | E43: =ROUND(D43*C43,2) -> 91.8
A44: Rua Praça dos Esportes | C44: =E35 -> 234.6 | D44: 0.15 | E44: =ROUND(D44*C44,2) -> 35.19
D45: TOTAL | E45: =SUM(E42:E44) -> 303.39
A47: ITEM: | B47: ='Planilha Orcamentária'!A19 -> 2.3
...

Sheet Cronograma
A2: CRONOGRAMA FÍSICO-FINANCEIRO
A3: ='Planilha Orcamentária'!A3 -> PREFEITURA MUNICIPAL DE MONTALVÂNIA-MG | C3: VALOR DO CONVÊNIO: | D3: =D16 -> 304220.06 | E3: DATA: | G3: =TODAY() -> 46042 | H3: FOLHA Nº: 01/01
A4: ='Planilha Orcamentária'!A4 -> OBRA: CALÇAMENTO EM BLOQUETE SEXTAVADO- DIVERSOS LOGRADOUROS DISTRITO DE POÇÕES | E4: PREVISÃO DE EXECUÇÃO DAS OBRAS: 2 MESES
A5: ='Planilha Orcamentária'!A5 -> LOCAL: RUA GÓIAS , RUA MARANHÃO , RUA PRAÇA DOS ESPORTES
A6: ITENS | B6: ETAPAS/DESCRIÇÃO | C6: FÍSICO/ FINANCEIRO | D6: TOTAL ETAPAS | E6: MÊS 1 | G6: MÊS 2
A7: ='Planilha Orcamentária'!A10 -> 1.0 | B7: ='Planilha Orcamentária'!D10 -> SERVIÇOS PRELIMINARES | C7: Físico % | D7: =D8/$D$16 -> 0.022835661 | E7: =E8/D8 -> 0.71806371 | G7: =G8/D8 -> 0.28193729
C8: Financeiro | D8: ='Planilha Orcamentária'!I11+'Planilha Orcamentária'!I12+'Planilha Orcamentária'!I13+'Planilha Orcamentária'!I14 -> 6947.0662 | E8: ='Planilha Orcamentária'!H11+'Planilha Orcamentária'!H12+'Planilha Orcamentária'!I13+'Planilha Orcamentária'!J14 -> 4988.4361 | G8: ='Planilha Orcamentária'!H11+'Planilha Orcamentária'!J14 -> 1958.637
A9: ='Planilha Orcamentária'!A16 -> 2.0 | B9: ='Planilha Orcamentária'!D16 -> TERRAPLENAGEM | C9: Físico % | D9: =D10/$D$16 -> 0.060653495 | E9: 0.3 | G9: 0.7
C10: Financeiro | D10: ='Planilha Orcamentária'!I17+'Planilha Orcamentária'!I18+'Planilha Orcamentária'!I20 -> 18452.01 | E10: =E9*$D$10 -> 5535.603 | G10: =G9*$D$10 -> 12916.407
A11: ='Planilha Orcamentária'!A21 -> 3.0 | B11: ='Planilha Orcamentária'!D21 -> CALÇAMENTO | C11: Físico % | D11: =D12/$D$16 -> 0.72225495 | E11: 0.7 | G11: 0.3
C12: Financeiro | D12: ='Planilha Orcamentária'!I21 -> 219724.45 | E12: =E11*$D$12 -> 153807.11 | G12: =G11*D12 -> 65917.334
A13: ='Planilha Orcamentária'!A24 -> 4.0 | B13: ='Planilha Orcamentária'!D24 -> DRENAGEM PLUVIAL | C13: Físico % | D13: =D14/$D$16 -> 0.19425589 | E13: 0.5 | G13: 0.5
C14: Financeiro | D14: ='Planilha Orcamentária'!I24 -> 59096.54 | E14: =E13*$D$14 -> 29548.27 | G14: =G13*$D$14 -> 29548.27
A15: TOTAL | C15: Físico % | D15: =D7++D11+D9+D13+0.5% -> 1.005 | E15: =E16/$D$16 -> 0.63729992 | G15: =G16/$D$16 -> 0.3627001
C16: Financeiro | D16: =D8+D10+D12+D14 -> 304220.06 | E16: =E8+E10+E12+E14 -> 193879.42 | G16: =G8+G10+G12+G14 -> 110340.65 | I16: =E15+F15+G15+H15+0.5% -> 1.005
I17: =E16+F16+G16+H16 -> 304220.07
I18: =G16+E16 -> 304220.07
B19: ='Planilha Orcamentária'!D33 -> ANYK DA SILVA REIS
B20: ='Planilha Orcamentária'!D34 -> Engenhera Civil - Responsável Técnico
B21: ='Planilha Orcamentária'!D35 -> CREA/MG Nº: MG 378514 | I21: =G16+E16 -> 304220.07
B24: ='Planilha Orcamentária'!D39 -> FREDSON LOPES FRANÇA
B25: ='Planilha Orcamentária'!D40 -> Prefeito Municipal

Sheet Plan1
A1: ASFALTAMENTO EM PMF
A2: COMPOSIÇÃO DA TAXA DE BENEFÍCIOS E DESPESAS INDIRETAS
A3: Grupo | B3: A | C3: Despesas indiretas
B4: A.1 | C4: Administração central | D4: 0.04673
B5: A.2 | C5: Garantia | D5: 0.0074
B6: A.3 | C6: Risco | D6: 0.0097
C8: Total do grupo A | D8: =SUM(D4:D7) -> 0.06383
A10: Grupo | B10: B | C10: Bonificação
B11: B.1 | C11: Lucro | D11: 0.0753
C12: Total do grupo B | D12: 0.0753
A14: Grupo | B14: C | C14: Impostos
B15: C.1 | C15: PIS | D15: 0.0065
B16: C.2 | C16: COFINS | D16: 0.03
B17: C.3 | C17: ISSQN (Prefeitura de Montalvânia)* | D17: 0.021
B18: C.4 | C18: INSS | D18: 0
C19: Total do grupo C | D19: =SUM(D15:D17) -> 0.0575
A21: Grupo | B21: D | C21: Despesas Financeiras (F)
C22: Despesas Financeiras (F) | D22: 0.0105
C23: Total do grupo D | D23: 0.0105
A25: Fórmula para o cálculo do B.D.I. ( benefícios e despesas indiretas )
A26: BDI = BDI (%) = (1+AC+G+R) x (1+DF) x (1+L) - 1 x 100 | D26: 0.2264
C27: (1- (I+INSS))
C32: ANYK DA SILVA REIS
C33: ENGENHEIRA CIVIL
C34: CREA/MG Nº: MG 378514
