Workbook

Sheet Relatório de Compatibilidade
B1: Relatório de Compatibilidade para PLANILHA OFICIAL DE MEDIÇÃO CEF.xls
B2: Executar em 22/5/2012 19:18
B4: Não há suporte para os recursos a seguir nas versões anteriores do Excel. Esses recursos poderão ser perdidos ou prejudicados quando você salvar a pasta de trabalho em um formato de arquivo anterior.
B6: Perda insignificante de fidelidade | E6: Núm. de ocorrências
B8: Algumas células ou alguns estilos desta pasta de trabalho contêm formatação para a qual não há suporte no formato de arquivo selecionado. Esses formatos serão convertidos no formato mais próximo disponível. | E8: 3

Sheet PLANILHA DE LICITAÇÃO
A1: PLANILHA ORÇAMENTÁRIA | F1: LICITAÇÃO Nº | H1: EDITAL Nº
A2: ÓRGÃO | B2: PREFEITURA MUNICIPAL DE MONTALVÂNIA | H2: DATA
A3: OBJETO | B3: PAVIMENTAÇÃO ASFÁLTICA EM PMF DE RUAS DO BAIRRO NOVO HORIZONTE E RECAPEMENTO DE TRECHO DA RUA DA VINCI | H3: LOTE
A4: MODALIDADE | C4: REGIME DE EXECUÇÃO | F4: CIDADE | G4: MONTALVÂNIA | H4: UF | I4: MG
A5: DATA BASE DO ORÇAMENTO | B5: ='[1]PLANILHA OFICIAL '!A8 -> REFERÊNCIA: SETOP 01/2025,SINAPI 01/2024 e 05/2025, SUDECAP 01/2025 | C5: DESONERAÇÃO | D5: ENCARGOS SOCIAIS - HORISTAS (%) | F5: BDI 1 | G5: =[1]BDI!D26 -> 0.2728 | H5: BDI 2
C6: Sim | D6: ENCARGOS SOCIAIS - MENSALISTAS (%)
A8: LEGENDA | B8: PREENCHIMENTO OBRIGATÓRIO
B9: PREENCHIIMENTO FACULTATIVO
B10: PREENCHIMENTO AUTOMÁTICO
G11: TIPO DE VALOR | K11: TOTAL GERAL
G12: CUSTO (SEM BDI) | K12: =SUM(K15:K64) -> 1252737
A13: ITEM | B13: CÓDIGO | C13: REFERÊNCIA | D13: DESCRIÇÃO DOS SERVIÇOS | E13: UNIDADE | F13: QUANTIDADE | G13: VALOR UNITÁRIO (R$) | H13: BDI | I13: CUSTO UNITÁRIO (SEM BDI) | J13: PREÇO UNITÁRIO (COM BDI) | K13: PREÇO TOTAL
A14: 1 | D14: SERVIÇOS INICIAIS
A15: 1.1 | B15: ='PLANILHA OFICIAL '!B14 -> ED-16660 | C15: SETOP | D15: ='PLANILHA OFICIAL '!C14 -> FORNECIMENTO E COLOCAÇÃO DE PLACA DE OBRA EM CHAPA GALVANIZADA #26, ESP. 0,45 MM, PLOTADA COM ADESIVO VINÍLICO, AFIXADA COM REBITES 4,8X40 MM, EM ESTRUTURA METÁLICA DE METALON 20X20 MM, ESP. 1,25 MM, INCLUSIVE SUPORTE EM EUCALIPTO AUTOCLAVADO PINTADO COM TINTA PVA DUAS (2) DEMÃOS | E15: ='PLANILHA OFICIAL '!D14 -> M2 | F15: ='PLANILHA OFICIAL '!E14 -> 4.5 | G15: ='PLANILHA OFICIAL '!F14 -> 256.28 | H15: ='PLANILHA OFICIAL '!$H$9 -> 0.2751 | I15: =G15 -> 256.28 | J15: =G15+(G15*H15) -> 326.78263 | K15: =J15*F15 -> 1470.5218
A16: 1.2 | B16: ='PLANILHA OFICIAL '!B15 -> ED-50274 | C16: SETOP | D16: ='PLANILHA OFICIAL '!C15 -> LOCAÇÃO TOPOGRÁFICA PARA ATÉ VINTE (20) PONTOS REFERENCIAIS, INCLUSIVE ESTACA (PIQUETE) DE MARCAÇÃO | E16: ='PLANILHA OFICIAL '!D15 -> PT | F16: ='PLANILHA OFICIAL '!E15 -> 11.142 | G16: ='PLANILHA OFICIAL '!F15 -> 91.88 | H16: ='PLANILHA OFICIAL '!$H$9 -> 0.2751 | I16: =G16 -> 91.88 | J16: =G16+(G16*H16) -> 117.15619 | K16: =J16*F16 -> 1305.3542
A18: 2 | D18: TERRAPLANAGEM
A19: 2.2 | B19: ='PLANILHA OFICIAL '!B18 -> 4743 | C19: SETOP | D19: ='PLANILHA OFICIAL '!C18 -> CASCALHO DE CAVA | E19: ='PLANILHA OFICIAL '!D18 -> m3 | F19: ='PLANILHA OFICIAL '!E18 -> 727.0155 | G19: ='PLANILHA OFICIAL '!F18 -> 70.34 | H19: ='PLANILHA OFICIAL '!$H$9 -> 0.2751 | I19: =G19 -> 70.34 | J19: =G19+(G19*H19) -> 89.690534 | K19: =J19*F19 -> 65206.408
A20: 2.3 | B20: ='PLANILHA OFICIAL '!B19 -> RO-00269 | C20: SETOP | D20: ='PLANILHA OFICIAL '!C19 -> Regularização do subleito - Compactado na energia intermediária | E20: ='PLANILHA OFICIAL '!D19 -> M2 | F20: ='PLANILHA OFICIAL '!E19 -> 4846.77 | G20: ='PLANILHA OFICIAL '!F19 -> 1.22 | H20: ='PLANILHA OFICIAL '!$H$9 -> 0.2751 | I20: =G20 -> 1.22 | J20: =G20+(G20*H20) -> 1.555622 | K20: =J20*F20 -> 7539.742
A21: 2.4 | B21: ='PLANILHA OFICIAL '!B20 -> RO-00318 | C21: SETOP | D21: ='PLANILHA OFICIAL '!C20 -> Base de solo estabilizado granulometricamente sem mistura com material de jazida - Compactado na energia modificada (Execução, incluído escavação e carga do material de jazida, exclui o transporte) | E21: ='PLANILHA OFICIAL '!D20 -> M3 | F21: ='PLANILHA OFICIAL '!E20 -> 727.0155 | G21: ='PLANILHA OFICIAL '!F20 -> 13.02 | H21: ='PLANILHA OFICIAL '!$H$9 -> 0.2751 | I21: =G21 -> 13.02 | J21: =G21+(G21*H21) -> 16.601802 | K21: =J21*F21 -> 12069.767
A23: 3 | D23: PAVIMENTAÇÃO
A24: 3.1 | B24: ='PLANILHA OFICIAL '!B23 -> 20.11.05 | C24: SETOP | D24: ='PLANILHA OFICIAL '!C23 -> IMPRIMAÇÃO COM EMULSÃO ASFÁLTICA - EAI, LIMPEZA MANUAL | E24: ='PLANILHA OFICIAL '!D23 -> M2 | F24: ='PLANILHA OFICIAL '!E23 -> 4846.77 | G24: ='PLANILHA OFICIAL '!F23 -> 8.2 | H24: ='PLANILHA OFICIAL '!$H$9 -> 0.2751 | I24: =G24 -> 8.2 | J24: =G24+(G24*H24) -> 10.45582 | K24: =J24*F24 -> 50676.955
A25: 3.2 | B25: ='PLANILHA OFICIAL '!B24 -> 20.12.01 | C25: SETOP | D25: ='PLANILHA OFICIAL '!C24 -> PINTURA DE LIGAÇÃO COM RR-1C | E25: ='PLANILHA OFICIAL '!D24 -> M2 | F25: ='PLANILHA OFICIAL '!E24 -> 4846.77 | G25: ='PLANILHA OFICIAL '!F24 -> 2.32 | H25: ='PLANILHA OFICIAL '!$H$9 -> 0.2751 | I25: =G25 -> 2.32 | J25: =G25+(G25*H25) -> 2.958232 | K25: =J25*F25 -> 14337.87
A26: 3.3 | B26: ='PLANILHA OFICIAL '!B25 -> ED-7624 | C26: SETOP | D26: ='PLANILHA OFICIAL '!C25 -> EXECUÇÃO E APLICAÇÃO DE CONCRETO ASFÁLTICO PREMISTURADO À FRIO (PMF), EM BETONEIRA, INCLUINDO FORNECIMENTO E TRANSPORTE DOS AGREGADOS E MATERIAL BETUMINOSO, INCLUSIVE TRANSPORTE DA MASSA ASFÁLTICA ATÉ A PISTA | E26: ='PLANILHA OFICIAL '!D25 -> M3 | F26: ='PLANILHA OFICIAL '!E25 -> 193.8708 | G26: ='PLANILHA OFICIAL '!F25 -> 1059.16 | H26: ='PLANILHA OFICIAL '!$H$9 -> 0.2751 | I26: =G26 -> 1059.16 | J26: =G26+(G26*H26) -> 1350.5349 | K26: =J26*F26 -> 261829.28
A28: 4 | D28: DRENAGEM
A29: 4.1 | B29: ='PLANILHA OFICIAL '!B28 -> CO-27426 | C29: SETOP | D29: ='PLANILHA OFICIAL '!C28 -> PROJETO EXECUTIVO DE DRENAGEM PLUVIAL | E29: ='PLANILHA OFICIAL '!D28 -> UNID. | F29: ='PLANILHA OFICIAL '!E28 -> 1 | G29: ='PLANILHA OFICIAL '!F28 -> 1352.47 | H29: ='PLANILHA OFICIAL '!$H$9 -> 0.2751 | I29: =G29 -> 1352.47 | J29: =G29+(G29*H29) -> 1724.5345 | K29: =J29*F29 -> 1724.5345
A30: 4.2 | B30: ='PLANILHA OFICIAL '!B29 -> 94268 | C30: SETOP | D30: ='PLANILHA OFICIAL '!C29 -> GUIA (MEIO-FIO) E SARJETA CONJUGADOS DE CONCRETO, MOLDADA IN LOCO EM TRECHO CURVO COM EXTRUSORA, 45 CM BASE (15 CM BASE DA GUIA + 30 CM BASE DA SARJETA) X 22 CM ALTURA. AF_01/2024 | E30: ='PLANILHA OFICIAL '!D29 -> M | F30: ='PLANILHA OFICIAL '!E29 -> 42.78 | G30: ='PLANILHA OFICIAL '!F29 -> 64.98 | H30: ='PLANILHA OFICIAL '!$H$9 -> 0.2751 | I30: =G30 -> 64.98 | J30: =G30+(G30*H30) -> 82.855998 | K30: =J30*F30 -> 3544.5796
A31: 4.3 | B31: ='PLANILHA OFICIAL '!B30 -> 94287 | C31: SETOP | D31: ='PLANILHA OFICIAL '!C30 -> EXECUÇÃO DE SARJETA DE CONCRETO USINADO, MOLDADA IN LOCO EM TRECHO RETO, 30 CM BASE X 10 CM ALTURA. AF_01/2024 | E31: ='PLANILHA OFICIAL '!D30 -> M | F31: ='PLANILHA OFICIAL '!E30 -> 274.68 | G31: ='PLANILHA OFICIAL '!F30 -> 34.38 | H31: ='PLANILHA OFICIAL '!$H$9 -> 0.2751 | I31: =G31 -> 34.38 | J31: =G31+(G31*H31) -> 43.837938 | K31: =J31*F31 -> 12041.405
A32: 4.4 | B32: ='PLANILHA OFICIAL '!B31 -> 92216 | C32: SETOP | D32: ='PLANILHA OFICIAL '!C31 -> TUBO DE CONCRETO PARA REDES COLETORAS DE ÁGUAS PLUVIAIS, DIÂMETRO DE 1000 MM, JUNTA RÍGIDA, INSTALADO EM LOCAL COM BAIXO NÍVEL DE INTERFERÊNCIAS - FORNECIMENTO E ASSENTAMENTO. AF_03/2024 | E32: ='PLANILHA OFICIAL '!D31 -> M | F32: ='PLANILHA OFICIAL '!E31 -> 350 | G32: ='PLANILHA OFICIAL '!F31 -> 589.8 | H32: ='PLANILHA OFICIAL '!$H$9 -> 0.2751 | I32: =G32 -> 589.8 | J32: =G32+(G32*H32) -> 752.05398 | K32: =J32*F32 -> 263218.89
A33: 4.5 | B33: ='PLANILHA OFICIAL '!B32 -> ED-49814 | C33: SETOP | D33: ='PLANILHA OFICIAL '!C32 -> LASTRO DE AREIA, INCLUSIVE ADENSAMENTO E APILOAMENTO MANUAL | E33: ='PLANILHA OFICIAL '!D32 -> m3 | F33: ='PLANILHA OFICIAL '!E32 -> 42 | G33: ='PLANILHA OFICIAL '!F32 -> 256.27 | H33: ='PLANILHA OFICIAL '!$H$9 -> 0.2751 | I33: =G33 -> 256.27 | J33: =G33+(G33*H33) -> 326.76988 | K33: =J33*F33 -> 13724.335
A34: 4.6 | B34: ='PLANILHA OFICIAL '!B33 -> ED-48646 | C34: SETOP | D34: ='PLANILHA OFICIAL '!C33 -> POÇO DE VISITA PARA REDE TUBULAR TIPO B DN 1000, EXCLUSIVE ESCAVAÇÃO, REATERRO E BOTA FORA | E34: ='PLANILHA OFICIAL '!D33 -> UNID. | F34: ='PLANILHA OFICIAL '!E33 -> 4 | G34: ='PLANILHA OFICIAL '!F33 -> 4251.03 | H34: ='PLANILHA OFICIAL '!$H$9 -> 0.2751 | I34: =G34 -> 4251.03 | J34: =G34+(G34*H34) -> 5420.4884 | K34: =J34*F34 -> 21681.953
A35: 4.7 | B35: ='PLANILHA OFICIAL '!B34 -> RO-00084 | C35: SETOP | D35: ='PLANILHA OFICIAL '!C34 -> Escavação, carga e transporte de material de 1ª categoria - executado com escavadeira de 1,40 m3 e caminhão basculante de 12 m3 e com caminho de serviço pavimentado - DMT de 3.000 m | E35: ='PLANILHA OFICIAL '!D34 -> M3 | F35: ='PLANILHA OFICIAL '!E34 -> 646 | G35: ='PLANILHA OFICIAL '!F34 -> 8.98 | H35: ='PLANILHA OFICIAL '!$H$9 -> 0.2751 | I35: =G35 -> 8.98 | J35: =G35+(G35*H35) -> 11.450398 | K35: =J35*F35 -> 7396.9571
A36: 4.8 | B36: ='PLANILHA OFICIAL '!B35 -> 93369 | C36: SETOP | D36: ='PLANILHA OFICIAL '!C35 -> REATERRO MECANIZADO DE VALA COM ESCAVADEIRA HIDRÁULICA (CAPACIDADE DA CAÇAMBA: 0,8 M³/POTÊNCIA: 111 HP), LARGURA 1,5 A 2,5 M, PROFUNDIDADE 1,5 A 3,0 M, COM SOLO (SEM SUBSTITUIÇÃO) DE 1ª CATEGORIA, COM COMPACTADOR DE SOLOS DE PERCUSSÃO. AF_08/2023 | E36: ='PLANILHA OFICIAL '!D35 -> M3 | F36: ='PLANILHA OFICIAL '!E35 -> 210 | G36: ='PLANILHA OFICIAL '!F35 -> 17.46 | H36: ='PLANILHA OFICIAL '!$H$9 -> 0.2751 | I36: =G36 -> 17.46 | J36: =G36+(G36*H36) -> 22.263246 | K36: =J36*F36 -> 4675.2817
A37: 4.9 | B37: ='PLANILHA OFICIAL '!B36 -> ED-7540 | C37: SETOP | D37: ='PLANILHA OFICIAL '!C36 -> TRANSPORTE DE TUBO DE CONCRETO, EM CAMINHÃO, TRAÇÃO 6X2, TIPO TRUCADO, PESO BRUTO TOTAL (PBT) DE 23.000KG, COM GUINDASTE ARTICULADO, MOMENTO DE CARGA MÁXIMO DE 10TXM, E CARROCERIA DE CARGA SECA, COM CAPACIDADE DE 14T, EM RODOVIA PAVIMENTADA, EXCLUSIVE MANOBRA, CARGA E DESCARGA | E37: ='PLANILHA OFICIAL '!D36 -> TXKM | F37: ='PLANILHA OFICIAL '!E36 -> 49275.252 | G37: ='PLANILHA OFICIAL '!F36 -> 0.94 | H37: ='PLANILHA OFICIAL '!$H$9 -> 0.2751 | I37: =G37 -> 0.94 | J37: =G37+(G37*H37) -> 1.198594 | K37: =J37*F37 -> 59061.021
A38: 4.10 | B38: ='PLANILHA OFICIAL '!B37 -> 103931 | C38: SETOP | D38: ='PLANILHA OFICIAL '!C37 -> BACIA DE DISSIPAÇÃO, LARGURA DE 1 A 4 M, TIPO BACIA EM PEDRA DE MÃO FIXADA COM CONCRETO (DEB 03, 04, 05, 06), COM PREPARO MANUAL, FCK = 20 MPA, LANÇADO MANUALMENTE, INCLUINDO MATERIAIS E FÔRMAS (2 UTILIZAÇÕES). AF_08/2022 | E38: ='PLANILHA OFICIAL '!D37 -> M3 | F38: ='PLANILHA OFICIAL '!E37 -> 4 | G38: ='PLANILHA OFICIAL '!F37 -> 623.12 | H38: ='PLANILHA OFICIAL '!$H$9 -> 0.2751 | I38: =G38 -> 623.12 | J38: =G38+(G38*H38) -> 794.54031 | K38: =J38*F38 -> 3178.1612
A39: 4.11 | B39: ='PLANILHA OFICIAL '!B38 -> 102487 | C39: SETOP | D39: ='PLANILHA OFICIAL '!C38 -> CONCRETO CICLÓPICO FCK = 15MPA, 30% PEDRA DE MÃO EM VOLUME REAL, INCLUSIVE LANÇAMENTO. AF_05/2021 | E39: ='PLANILHA OFICIAL '!D38 -> M3 | F39: ='PLANILHA OFICIAL '!E38 -> 6 | G39: ='PLANILHA OFICIAL '!F38 -> 646.81 | H39: ='PLANILHA OFICIAL '!$H$9 -> 0.2751 | I39: =G39 -> 646.81 | J39: =G39+(G39*H39) -> 824.74743 | K39: =J39*F39 -> 4948.4846
A40: 4.12 | B40: ='PLANILHA OFICIAL '!B39 -> 102684 | C40: SETOP | D40: ='PLANILHA OFICIAL '!C39 -> DRENO PROFUNDO (SEÇÃO 0,50 X 1,50 M), COM TUBO DE PEAD CORRUGADO PERFURADO, DN 100 MM, ENCHIMENTO COM BRITA, ENVOLVIDO COM MANTA GEOTÊXTIL. AF_07/2021 | E40: ='PLANILHA OFICIAL '!D39 -> M | F40: ='PLANILHA OFICIAL '!E39 -> 980 | G40: ='PLANILHA OFICIAL '!F39 -> 177.69 | H40: ='PLANILHA OFICIAL '!$H$9 -> 0.2751 | I40: =G40 -> 177.69 | J40: =G40+(G40*H40) -> 226.57252 | K40: =J40*F40 -> 222041.07
A41: 4.13 | B41: ='PLANILHA OFICIAL '!B40 -> ED-49917 | C41: SETOP | D41: ='PLANILHA OFICIAL '!C40 -> CAIXA DE DRENAGEM DE INSPEÇÃO/PASSAGEM EM ALVENARIA ( 60X60X100CM), REVESTIMENTO EM ARGAMASSA COM ADITIVO IMPERMEABILIZANTE, COM TAMPA EM GRELHA, INCLUSIVE ESCAVAÇÃO, REATERRO E TRANSPORTE COM RETIRADA DO MATERIAL ESCAVADO (EM CAÇAMBA) | E41: ='PLANILHA OFICIAL '!D40 -> UNID. | F41: ='PLANILHA OFICIAL '!E40 -> 14 | G41: ='PLANILHA OFICIAL '!F40 -> 1093.21 | H41: ='PLANILHA OFICIAL '!$H$9 -> 0.2751 | I41: =G41 -> 1093.21 | J41: =G41+(G41*H41) -> 1393.9521 | K41: =J41*F41 -> 19515.329
A42: 5 | D42: ='PLANILHA OFICIAL '!C42 -> COMPLEMENTARES
A43: 5.1 | B43: ='PLANILHA OFICIAL '!B43 -> COTAÇÃO | C43: COTAÇÃO | D43: ='PLANILHA OFICIAL '!C43 -> GRADIL | E43: ='PLANILHA OFICIAL '!D43 -> UNIDADE | F43: ='PLANILHA OFICIAL '!E43 -> 1 | G43: ='PLANILHA OFICIAL '!F43 -> 37750.546 | H43: ='PLANILHA OFICIAL '!$H$9 -> 0.2751 | I43: =G43 -> 37750.546 | J43: =G43+(G43*H43) -> 48135.721 | K43: =J43*F43 -> 48135.721
A44: 5.2 | B44: ='PLANILHA OFICIAL '!B44 -> ED-48195 | C44: SETOP | D44: ='PLANILHA OFICIAL '!C44 -> ALVENARIA DE VEDAÇÃO COM BLOCO DE CONCRETO, ESP. 14CM, INCLUSIVE ARGAMASSA PARA ASSENTAMENTO | E44: ='PLANILHA OFICIAL '!D44 -> M2 | F44: ='PLANILHA OFICIAL '!E44 -> 38 | G44: ='PLANILHA OFICIAL '!F44 -> 76.72 | H44: ='PLANILHA OFICIAL '!$H$9 -> 0.2751 | I44: =G44 -> 76.72 | J44: =G44+(G44*H44) -> 97.825672 | K44: =J44*F44 -> 3717.3755
...

Sheet PLANILHA OFICIAL 
A3: PLANILHA ORÇAMENTÁRIA DE CUSTOS
A5: PREFEITURA MUNICIPAL DE MONTALVÂNIA
A6: OBRA: PAVIMENTAÇÃO ASFÁLTICA EM PMF COM EXECUÇÃO DE DRENAGEM NO CENTRO DE EVENTOS, JUNTAMENTE COM SERVIÇOS COMPLEMENTARES NO CENTRO DE EVENTOS E ALAMEDA COCHANINA | F6: DATA: 01/2026
A7: LOCAL: CENTRO - MONTALAVÂNIA - MG | E7: FORMA DE EXECUÇÃO:
A8: REGIÃO/MÊS DE REFERÊNCIA: SETOP - OUTUBRO/2025, SINAPI JANEIRO/2024 E NOVEMBRO/2025, SUDECAP SETEMBRO/2025 | E8: ( ) | F8: DIRETA | G8: ( x ) | H8: INDIRETA
A9: PRAZO DE EXECUÇÃO: 03 Meses | G9: BDI | H9: =BDI!D26 -> 0.2751
A10: ITEM | B10: CÓDIGO | C10: DESCRIÇÃO | D10: UNID. | E10: QTDE. | F10: PREÇO UNITÁRIO | H10: PREÇO TOTAL
F11: SEM BDI | G11: COM BDI
C12: CENTRO DE EVENTOS | H12: =H66 -> 1252737
A13: 1 | C13: INSTALAÇÕES INICIAIS DA OBRA
A14: 1.1 | B14: ED-16660 | C14: FORNECIMENTO E COLOCAÇÃO DE PLACA DE OBRA EM CHAPA GALVANIZADA #26, ESP. 0,45 MM, PLOTADA COM ADESIVO VINÍLICO, AFIXADA COM REBITES 4,8X40 MM, EM ESTRUTURA METÁLICA DE METALON 20X20 MM, ESP. 1,25 MM, INCLUSIVE SUPORTE EM EUCALIPTO AUTOCLAVADO PINTADO COM TINTA PVA DUAS (2) DEMÃOS | D14: M2 | E14: 4.5 | F14: 256.28 | G14: =F14*(1+$H$9) -> 326.78263 | H14: =E14*G14 -> 1470.5218
A15: 1.2 | B15: ED-50274 | C15: LOCAÇÃO TOPOGRÁFICA PARA ATÉ VINTE (20) PONTOS REFERENCIAIS, INCLUSIVE ESTACA (PIQUETE) DE MARCAÇÃO | D15: PT | E15: ='MEMÓRIA DE CÁLCULO'!C53/10 -> 11.142 | F15: 91.88 | G15: =F15*(1+$H$9) -> 117.15619 | H15: =G15*E15 -> 1305.3542
A16: SUB-TOTAL | H16: =SUM(H14:H15) -> 2775.8761
A17: 2 | C17: TERRAPLENAGEM
A18: 2.2 | B18: 4743 | C18: CASCALHO DE CAVA | D18: m3 | E18: ='MEMÓRIA DE CÁLCULO'!G11 -> 727.0155 | F18: 70.34 | G18: =F18*(1+$H$9) -> 89.690534 | H18: =G18*E18 -> 65206.408
A19: 2.3 | B19: RO-00269 | C19: Regularização do subleito - Compactado na energia intermediária | D19: M2 | E19: ='MEMÓRIA DE CÁLCULO'!F20 -> 4846.77 | F19: 1.22 | G19: =F19*(1+$H$9) -> 1.555622 | H19: =G19*E19 -> 7539.742
A20: 2.4 | B20: RO-00318 | C20: Base de solo estabilizado granulometricamente sem mistura com material de jazida - Compactado na energia modificada (Execução, incluído escavação e carga do material de jazida, exclui o transporte) | D20: M3 | E20: ='MEMÓRIA DE CÁLCULO'!G28 -> 727.0155 | F20: 13.02 | G20: =F20*(1+$H$9) -> 16.601802 | H20: =G20*E20 -> 12069.767
A21: SUB-TOTAL | H21: =SUM(H18:H20) -> 84815.918
A22: 3 | C22: PAVIMENTAÇÃO
A23: 3.1 | B23: 20.11.05 | C23: IMPRIMAÇÃO COM EMULSÃO ASFÁLTICA - EAI, LIMPEZA MANUAL | D23: M2 | E23: ='MEMÓRIA DE CÁLCULO'!F37 -> 4846.77 | F23: 8.2 | G23: =F23*(1+$H$9) -> 10.45582 | H23: =G23*E23 -> 50676.955
A24: 3.2 | B24: 20.12.01 | C24: PINTURA DE LIGAÇÃO COM RR-1C | D24: M2 | E24: ='MEMÓRIA DE CÁLCULO'!F45 -> 4846.77 | F24: 2.32 | G24: =F24*(1+$H$9) -> 2.958232 | H24: =G24*E24 -> 14337.87
A25: 3.3 | B25: ED-7624 | C25: EXECUÇÃO E APLICAÇÃO DE CONCRETO ASFÁLTICO PREMISTURADO À FRIO (PMF), EM BETONEIRA, INCLUINDO FORNECIMENTO E TRANSPORTE DOS AGREGADOS E MATERIAL BETUMINOSO, INCLUSIVE TRANSPORTE DA MASSA ASFÁLTICA ATÉ A PISTA | D25: M3 | E25: ='MEMÓRIA DE CÁLCULO'!G52 -> 193.8708 | F25: 1059.16 | G25: =F25*(1+$H$9) -> 1350.5349 | H25: ='MEMÓRIA DE CÁLCULO'!I53 -> 261829.28
D26: SUB-TOTAL | H26: =SUM(H23:H25) -> 326844.11
A27: 4 | C27: DRENAGEM
A28: 4.1 | B28: CO-27426 | C28: PROJETO EXECUTIVO DE DRENAGEM PLUVIAL | D28: UNID. | E28: 1 | F28: 1352.47 | G28: =F28*(1+$H$9) -> 1724.5345 | H28: =G28*E28 -> 1724.5345
A29: 4.2 | B29: 94268 | C29: GUIA (MEIO-FIO) E SARJETA CONJUGADOS DE CONCRETO, MOLDADA IN LOCO EM TRECHO CURVO COM EXTRUSORA, 45 CM BASE (15 CM BASE DA GUIA + 30 CM BASE DA SARJETA) X 22 CM ALTURA. AF_01/2024 | D29: M | E29: =42.78 -> 42.78 | F29: 64.98 | G29: =F29*(1+$H$9) -> 82.855998 | H29: =G29*E29 -> 3544.5796
A30: 4.3 | B30: 94287 | C30: EXECUÇÃO DE SARJETA DE CONCRETO USINADO, MOLDADA IN LOCO EM TRECHO RETO, 30 CM BASE X 10 CM ALTURA. AF_01/2024 | D30: M | E30: =38.71+64.88+76.09+95 -> 274.68 | F30: 34.38 | G30: =F30*(1+$H$9) -> 43.837938 | H30: =G30*E30 -> 12041.405
A31: 4.4 | B31: 92216 | C31: TUBO DE CONCRETO PARA REDES COLETORAS DE ÁGUAS PLUVIAIS, DIÂMETRO DE 1000 MM, JUNTA RÍGIDA, INSTALADO EM LOCAL COM BAIXO NÍVEL DE INTERFERÊNCIAS - FORNECIMENTO E ASSENTAMENTO. AF_03/2024 | D31: M | E31: 350 | F31: 589.8 | G31: =F31*(1+$H$9) -> 752.05398 | H31: =G31*E31 -> 263218.89
A32: 4.5 | B32: ED-49814 | C32: LASTRO DE AREIA, INCLUSIVE ADENSAMENTO E APILOAMENTO MANUAL | D32: m3 | E32: =E31*1.2*0.1 -> 42 | F32: 256.27 | G32: =F32*(1+$H$9) -> 326.76988 | H32: =G32*E32 -> 13724.335
A33: 4.6 | B33: ED-48646 | C33: POÇO DE VISITA PARA REDE TUBULAR TIPO B DN 1000, EXCLUSIVE ESCAVAÇÃO, REATERRO E BOTA FORA | D33: UNID. | E33: 4 | F33: 4251.03 | G33: =F33*(1+$H$9) -> 5420.4884 | H33: =G33*E33 -> 21681.953
A34: 4.7 | B34: RO-00084 | C34: Escavação, carga e transporte de material de 1ª categoria - executado com escavadeira de 1,40 m3 e caminhão basculante de 12 m3 e com caminho de serviço pavimentado - DMT de 3.000 m | D34: M3 | E34: =E31*1.2*1.5+(4*1*1)*4 -> 646 | F34: 8.98 | G34: =F34*(1+$H$9) -> 11.450398 | H34: =G34*E34 -> 7396.9571
A35: 4.8 | B35: 93369 | C35: REATERRO MECANIZADO DE VALA COM ESCAVADEIRA HIDRÁULICA (CAPACIDADE DA CAÇAMBA: 0,8 M³/POTÊNCIA: 111 HP), LARGURA 1,5 A 2,5 M, PROFUNDIDADE 1,5 A 3,0 M, COM SOLO (SEM SUBSTITUIÇÃO) DE 1ª CATEGORIA, COM COMPACTADOR DE SOLOS DE PERCUSSÃO. AF_08/2023 | D35: M3 | E35: =E31*0.4*1.5 -> 210 | F35: 17.46 | G35: =F35*(1+$H$9) -> 22.263246 | H35: =G35*E35 -> 4675.2817
A36: 4.9 | B36: ED-7540 | C36: TRANSPORTE DE TUBO DE CONCRETO, EM CAMINHÃO, TRAÇÃO 6X2, TIPO TRUCADO, PESO BRUTO TOTAL (PBT) DE 23.000KG, COM GUINDASTE ARTICULADO, MOMENTO DE CARGA MÁXIMO DE 10TXM, E CARROCERIA DE CARGA SECA, COM CAPACIDADE DE 14T, EM RODOVIA PAVIMENTADA, EXCLUSIVE MANOBRA, CARGA E DESCARGA | D36: TXKM | E36: =((234*998)/1000)*211 -> 49275.252 | F36: 0.94 | G36: =F36*(1+$H$9) -> 1.198594 | H36: =G36*E36 -> 59061.021
A37: 4.10 | B37: 103931 | C37: BACIA DE DISSIPAÇÃO, LARGURA DE 1 A 4 M, TIPO BACIA EM PEDRA DE MÃO FIXADA COM CONCRETO (DEB 03, 04, 05, 06), COM PREPARO MANUAL, FCK = 20 MPA, LANÇADO MANUALMENTE, INCLUINDO MATERIAIS E FÔRMAS (2 UTILIZAÇÕES). AF_08/2022 | D37: M3 | E37: 4 | F37: 623.12 | G37: =F37*(1+$H$9) -> 794.54031 | H37: =G37*E37 -> 3178.1612
A38: 4.11 | B38: 102487 | C38: CONCRETO CICLÓPICO FCK = 15MPA, 30% PEDRA DE MÃO EM VOLUME REAL, INCLUSIVE LANÇAMENTO. AF_05/2021 | D38: M3 | E38: =(4*0.5*1.5)*2 -> 6 | F38: 646.81 | G38: =F38*(1+$H$9) -> 824.74743 | H38: =G38*E38 -> 4948.4846
A39: 4.12 | B39: 102684 | C39: DRENO PROFUNDO (SEÇÃO 0,50 X 1,50 M), COM TUBO DE PEAD CORRUGADO PERFURADO, DN 100 MM, ENCHIMENTO COM BRITA, ENVOLVIDO COM MANTA GEOTÊXTIL. AF_07/2021 | D39: M | E39: =(90*4)+(267*2)+86 -> 980 | F39: 177.69 | G39: =F39*(1+$H$9) -> 226.57252 | H39: =G39*E39 -> 222041.07
A40: 4.13 | B40: ED-49917 | C40: CAIXA DE DRENAGEM DE INSPEÇÃO/PASSAGEM EM ALVENARIA ( 60X60X100CM), REVESTIMENTO EM ARGAMASSA COM ADITIVO IMPERMEABILIZANTE, COM TAMPA EM GRELHA, INCLUSIVE ESCAVAÇÃO, REATERRO E TRANSPORTE COM RETIRADA DO MATERIAL ESCAVADO (EM CAÇAMBA) | D40: UNID. | E40: 14 | F40: 1093.21 | G40: =F40*(1+$H$9) -> 1393.9521 | H40: =G40*E40 -> 19515.329
H41: =SUM(H28:H40) -> 636752
A42: 5 | C42: COMPLEMENTARES
A43: 5.1 | B43: COTAÇÃO | C43: GRADIL | D43: UNIDADE | E43: 1 | F43: ='COTAÇÃO GRADIL TIPO BELGO'!G12*1.25 -> 37750.546 | G43: =F43*(1+$H$9) -> 48135.721 | H43: =G43*E43 -> 48135.721 | J43: =I43*37 -> 0
...

Sheet COTAÇÃO GRADIL TIPO BELGO
A1: COTAÇÕES GRADIL - MG7 - CNPJ: 60.440.683/0001-20
A2: ITEM | B2: QNT | C2: VALOR UNIT. | D2: TOTAL
A3: GRADIL 2,03X2,5 | B3: 38 | C3: 470 | D3: =C3*B3 -> 17860
A4: POSTE RET. 2,60M 60X40MM | B4: 39 | C4: 220 | D4: =C4*B4 -> 8580
A5: FIXADORES | B5: 234 | C5: 5.6 | D5: =C5*B5 -> 1310.4
A6: FRETE | B6: 1 | C6: 1450 | D6: =C6*B6 -> 1450
D7: =SUM(D3:D6) -> 29200.4
A10: COTAÇÕES GRADIL -TELAS VITORIA - CNPJ: 32.951.470/0001-27
A11: ITEM | B11: QNT | C11: VALOR UNIT. | D11: TOTAL | G11: MEDIA
A12: GRADIL 2,03X2,5 | B12: 38 | C12: 580.13 | D12: =C12*B12 -> 22044.94 | G12: =(D16+D7+D27)/3 -> 30200.437
A13: POSTE RET. 2,60M 60X40MM | B13: 39 | C13: 256.7 | D13: =C13*B13 -> 10011.3 | G13: 25% MAO DE OBRA
A14: FIXADORES | B14: 234 | C14: 8.88 | D14: =C14*B14 -> 2077.92 | G14: =G12+(G12*25%) -> 37750.546
A15: FRETE | B15: 1 | C15: 1287.13 | D15: =C15*B15 -> 1287.13
D16: =SUM(D12:D15) -> 35421.29
A19: COTAÇÕES GRADIL -METALURGICA BARBATI INDUSTRIA E COMERCIO LTDA - CNPJ: 06.047.418/0001-30
A20: ITEM | B20: QNT | C20: VALOR UNIT. | D20: TOTAL
A21: GRADIL 2,03X2,5 | B21: 39 | C21: 360.98 | D21: =C21*B21 -> 14078.22
A22: POSTE RET. 2,60M 60X40MM | B22: 40 | C22: 149.55 | D22: =C22*B22 -> 5982
A23: CONJUNTO FIXACAO FECHAMENTO EM GRADIL ARENA | B23: 162 | C23: 5.5 | D23: =C23*B23 -> 891
A24: TAMPA PARA TUBO 60X40 MM AMARELO | B24: 40 | C24: 2.11 | D24: =C24*B24 -> 84.4
A25: PARAF SEXT 5/16 X 3/4 ZC | B25: 160 | C25: 5.9 | D25: =C25*B25 -> 944
A26: FRETE | B26: 1 | C26: 4000 | D26: =C26*B26 -> 4000
D27: =SUM(D21:D26) -> 25979.62

Sheet MEMÓRIA DE CÁLCULO
A1: PREFEITURA MUNICIPAL DE MONTALVÂNIA
A2: OBRA: PAVIMENTAÇÃO ASFÁLTICA EM PMF COM EXECUÇÃO DE DRENAGEM NO CENTRO DE EVENTOS, JUNTAMENTE COM SERVIÇOS COMPLEMENTARES NO CENTRO DE EVENTOS E ALAMEDA COCHANINA
A3: BDI: | B3: =BDI!D26 -> 0.2751
A4: DATA DO ORÇAMENTO: 01/2026
A5: MEMÓRIA DE CÁLCULO
A6: ITEM | B6: 2.2 | C6: Serviço | D6: ='PLANILHA OFICIAL '!C18 -> CASCALHO DE CAVA | I6: UNIDADE
A7: SETOP | B7: ='PLANILHA OFICIAL '!B18 -> 4743 | I7: M3
A8: Logradouro | C8: Compr. | D8: Largura | E8: Espessura | F8: Área | G8: Volume | H8: DMT | I8: V. Unit. Total
I9: ='PLANILHA OFICIAL '!G18 -> 89.690534
A10: (Unidade) | C10: m | D10: m | E10: m | F10: m² | G10: m³ | H10: km | I10: Total
A11: ESPAÇO DE EVENTOS | C11: 111.42 | D11: 43.5 | E11: 0.15 | F11: =C11*D11 -> 4846.77 | G11: =F11*E11 -> 727.0155 | I11: =I9*G11 -> 65206.408
C12: =SUM(C11:C11) -> 111.42 | F12: =SUM(F11:F11) -> 4846.77 | I12: =SUM(I11:I11) -> 65206.408
A14: ITEM | B14: 2.3 | C14: Serviço | D14: ='PLANILHA OFICIAL '!C19 -> Regularização do subleito - Compactado na energia intermediária | I14: UNIDADE
A15: SETOP | B15: ='PLANILHA OFICIAL '!B19 -> RO-00269 | I15: M2
A16: Logradouro | C16: Compr. | D16: Largura | E16: Espessura | F16: Área | G16: Volume | H16: DMT | I16: V. Unit. Total
I17: ='PLANILHA OFICIAL '!G19 -> 1.555622
A18: (Unidade) | C18: m | D18: m | E18: m | F18: m² | G18: m³ | H18: km | I18: Total
A19: ESPAÇO DE EVENTOS | C19: 111.42 | D19: 43.5 | E19: 0.15 | F19: =C19*D19 -> 4846.77 | G19: =E19*F19 -> 727.0155 | I19: =I17*F19 -> 7539.742
C20: =SUM(C19:C19) -> 111.42 | F20: =SUM(F19:F19) -> 4846.77 | G20: =SUM(G19:G19) -> 727.0155 | I20: =SUM(I19:I19) -> 7539.742
A22: ITEM | B22: 2.5 | C22: Serviço | D22: ='PLANILHA OFICIAL '!C20 -> Base de solo estabilizado granulometricamente sem mistura com material de jazida - Compactado na energia modificada (Execução, incluído escavação e carga do material de jazida, exclui o transporte) | I22: UNIDADE
A23: SETOP | B23: ='PLANILHA OFICIAL '!B20 -> RO-00318 | I23: M3
A24: Logradouro | C24: Compr. | D24: Largura | E24: Espessura | F24: Área | G24: Volume | H24: Transporte | I24: V. Unit. Total
I25: ='PLANILHA OFICIAL '!G20 -> 16.601802
A26: (Unidade) | C26: m | D26: m | E26: m | F26: m² | G26: m³ | H26: m³xkm | I26: Total
A27: ESPAÇO DE EVENTOS | C27: 111.42 | D27: 43.5 | E27: 0.15 | F27: =C27*D27 -> 4846.77 | G27: =E27*F27 -> 727.0155 | H27: =10*G27 -> 7270.155 | I27: =I25*G27 -> 12069.767
C28: =SUM(C27:C27) -> 111.42 | D28: =SUM(D27:D27) -> 43.5 | F28: =SUM(F27:F27) -> 4846.77 | G28: =SUM(G27:G27) -> 727.0155 | H28: =SUM(H27:H27) -> 7270.155 | I28: =SUM(I27:I27) -> 12069.767
A31: ITEM | B31: 3.1 | C31: Serviço | D31: ='PLANILHA OFICIAL '!C23 -> IMPRIMAÇÃO COM EMULSÃO ASFÁLTICA - EAI, LIMPEZA MANUAL | I31: UNIDADE
A32: SETOP | B32: ='PLANILHA OFICIAL '!B23 -> 20.11.05 | I32: M2
A33: Logradouro | C33: Compr. | D33: Largura | E33: Espessura | F33: Área | G33: Volume | H33: Transporte | I33: V. Unit. Total
I34: ='PLANILHA OFICIAL '!G23 -> 10.45582
A35: (Unidade) | C35: m | D35: m | E35: m | F35: m² | G35: m³ | H35: m³xkm | I35: Total
A36: ESPAÇO DE EVENTOS | C36: 111.42 | D36: 43.5 | F36: =C36*D36 -> 4846.77 | I36: =$I$34*F36 -> 50676.955
C37: =SUM(C36:C36) -> 111.42 | F37: =SUM(F36:F36) -> 4846.77 | I37: =SUM(I36:I36) -> 50676.955
A39: ITEM | B39: 3.2 | C39: Serviço | D39: ='PLANILHA OFICIAL '!C24 -> PINTURA DE LIGAÇÃO COM RR-1C | I39: UNIDADE
A40: SETOP | B40: ='PLANILHA OFICIAL '!B24 -> 20.12.01 | I40: TON X KM
A41: Logradouro | C41: Compr. | D41: Largura | E41: Taxa | F41: Área | G41: Volume | H41: Transporte | I41: V. Unit. Total
I42: ='PLANILHA OFICIAL '!G24 -> 2.958232
A43: (Unidade) | C43: m | D43: m | E43: litro / m² | F43: m² | G43: m³ | H43: ton x km | I43: Total
A44: ESPAÇO DE EVENTOS | C44: 111.42 | D44: 43.5 | F44: =C44*D44 -> 4846.77 | G44: =F44*E44/1000 -> 0 | H44: =G44*770 -> 0 | I44: =F45*I42 -> 14337.87
C45: =SUM(C44:C44) -> 111.42 | F45: =SUM(F44:F44) -> 4846.77 | G45: =SUM(G44:G44) -> 0 | H45: =SUM(H44:H44) -> 0 | I45: =SUM(I44:I44) -> 14337.87
...

Sheet CRONOGRAMA FÍSICO -  FINANCEIRO
A3: CRONOGRAMA FÍSICO-FINANCEIRO
A4: PREFEITURA: PREFEITURA MUNICIPAL DE MONTALVÂNIA | D4: VALOR : | F4: ='PLANILHA OFICIAL '!H66 -> 1252737 | H4: ='PLANILHA OFICIAL '!F6 -> DATA: 01/2026
A5: OBRA: PAVIMENTAÇÃO ASFÁLTICA EM PMF COM EXECUÇÃO DE DRENAGEM NO CENTRO DE EVENTOS, JUNTAMENTE COM SERVIÇOS COMPLEMENTARES NO CENTRO DE EVENTOS E ALAMEDA COCHANINA | D5: LOCAL: ALAMEDA COCHANINA - CENTRO - MONTALVANIA - MG | F5: PRAZO DA OBRA: 03 meses
A6: ITEM | B6: CÓDIGO | C6: ETAPAS/DESCRIÇÃO | D6: FÍSICO/ FINANCEIRO | E6: TOTAL ETAPAS | F6: MÊS 1 | G6: MÊS 2 | H6: MÊS 3
A7: 1 | B7: IIO-001 | C7: ='PLANILHA OFICIAL '!C13 -> INSTALAÇÕES INICIAIS DA OBRA | D7: Físico % | E7: =E8/E18 -> 0.002215849 | F7: =F8/E8 -> 1
D8: Financeiro | E8: ='PLANILHA OFICIAL '!H16 -> 2775.8761 | F8: =E8 -> 2775.8761 | G8: =G7*$E$8 -> 0 | H8: =H7*$E$8 -> 0
A9: 2 | B9: TER-001 | C9: ='PLANILHA OFICIAL '!C17 -> TERRAPLENAGEM | D9: Físico % | E9: =E10/E18 -> 0.067704488 | F9: 1
D10: Financeiro | E10: ='PLANILHA OFICIAL '!H21 -> 84815.918 | F10: =F9*$E$10 -> 84815.918 | G10: =G9*$E$10 -> 0 | H10: =H9*$E$10 -> 0
A11: 3 | B11: OBR-001 | C11: ='PLANILHA OFICIAL '!C22 -> PAVIMENTAÇÃO | D11: Físico % | E11: =E12/E18 -> 0.26090401 | G11: 0.3 | H11: =H12/E12 -> 0.7
D12: Financeiro | E12: ='PLANILHA OFICIAL '!H26 -> 326844.11 | F12: =F11*$E$12 -> 0 | G12: =G11*$E$12 -> 98053.233 | H12: =SUM('PLANILHA OFICIAL '!H23:H25)*70% -> 228790.88
A13: 4 | B13: DRE-001 | C13: ='PLANILHA OFICIAL '!C27 -> DRENAGEM | D13: Físico % | E13: =E14/E18 -> 0.50828865 | F13: =F14/E14 -> 0.46455567 | G13: =G14/E14 -> 0.52987767 | H13: =H14/E14 -> 0.0055666564
D14: Financeiro | E14: ='PLANILHA OFICIAL '!H41 -> 636752 | F14: =SUM('PLANILHA OFICIAL '!H31:H36)*80% -> 295806.75 | G14: =E14-F14-H14 -> 337400.67 | H14: ='PLANILHA OFICIAL '!H29 -> 3544.5796
A15: 5 | B15: RO-001 | C15: ='PLANILHA OFICIAL '!C42 -> COMPLEMENTARES | D15: Físico % | E15: =E16/E18 -> 0.16088701 | F15: 0.3 | G15: 0.4 | H15: 0.3
D16: Financeiro | E16: ='PLANILHA OFICIAL '!H65 -> 201549.11 | F16: =F15*E16 -> 60464.732 | G16: =G15*E16 -> 80619.642 | H16: =H15*E16 -> 60464.732
A17: TOTAL | D17: Físico % | E17: =E7+E9+E11+E13+E15 -> 1 | F17: =F18/$E$18 -> 0.35431481 | G17: =G18/$E$18 -> 0.41195681 | H17: =H18/$E$18 -> 0.23372838
D18: Financeiro | E18: =SUM(E14,E12,E10,E8,E16) -> 1252737 | F18: =F8+F10+F12+F14+F16 -> 443863.28 | G18: =G8+G10+G12+G14+G16 -> 516073.55 | H18: =H8+H10+H12+H14+H16 -> 292800.19
A19: TOTAL ACUMULADO | D19: Físico % | F19: =F17 -> 0.35431481 | G19: =F17+G17 -> 0.76627162 | H19: =G19+H17 -> 1
D20: Financeiro | F20: =F18 -> 443863.28 | G20: =F18+G18 -> 959936.83 | H20: =F18+G18+H18 -> 1252737
A23: FELIPE MATHEUS LOPES DOS ANJOS | E23: FREDSON LOPES FRANÇA
A24: ENGENHEIRO CIVIL | E24: PREFEITO MUNICIPAL
A25: CREA MG 295973

Sheet BDI
A1: CENTRO DE EVENTOS
A2: COMPOSIÇÃO DA TAXA DE BENEFÍCIOS E DESPESAS INDIRETAS
A3: Grupo | B3: A | C3: Despesas indiretas
B4: A.1 | C4: Administração central | D4: 0.0467
B5: A.2 | C5: Garantia | D5: 0.0074
B6: A.3 | C6: Risco | D6: 0.0097
C8: Total do grupo A | D8: =SUM(D4:D7) -> 0.0638
A10: Grupo | B10: B | C10: Bonificação
B11: B.1 | C11: Lucro | D11: 0.0753
C12: Total do grupo B | D12: 0.0753
A14: Grupo | B14: C | C14: Impostos
B15: C.1 | C15: PIS | D15: 0.0065
B16: C.2 | C16: COFINS | D16: 0.03
B17: C.3 | C17: ISSQN (Prefeitura de Montalvânia)* | D17: 0.021
B18: C.4 | C18: INSS | D18: 0.036
C19: Total do grupo C | D19: =SUM(D15:D17) -> 0.0575
A21: Grupo | B21: D | C21: Despesas Financeiras (F)
C22: Despesas Financeiras (F) | D22: 0.0105
C23: Total do grupo D | D23: 0.0105
A25: Fórmula para o cálculo do B.D.I. ( benefícios e despesas indiretas )
A26: BDI = BDI (%) = (1+AC+G+R) x (1+DF) x (1+L) - 1 x 100 | D26: =ROUND((((1+D4+D5+D6)*(1+D23)*(1+D12))/(1-(D19+D18))-1),4) -> 0.2751
C27: (1- (I+INSS))
C31: _______________________________
C32: FELIPE MATHEUS LOPES DOS ANJOS
C33: Engenheiro Civil
C34: CREA MG 295973

Sheet CRONOGRAMA - JANUÁRIA
A1: PREFEITURA MUNICIPAL DE JANUÁRIA
A2: OBRA: PAVIMENTAÇÃO DISTRITO DE RIACHO DA CRUZ
A3: BDI = 30,00 %
A4: SETOP - DEZEMBRO 2012
A5: DATA DO ORÇAMENTO: 02/04/2013
A6: PERÍODO - ETAPAS | D6: 30 | E6: 60 | F6: 90 | G6: 120 | H6: 150 | I6: 180 | J6: 210 | K6: 240 | L6: 270 | M6: 300 | N6: 330 | O6: 360
A8: DESCRIÇÃO - SERVIÇOS | B8: FÍSICO | C8: FINANCEIRO | D8: 1º MÊS | E8: 2º MÊS | F8: 3º MÊS | G8: 4º MÊS | H8: 5º MÊS | I8: 6º MÊS | J8: 7º MÊS | K8: 8º MÊS | L8: 9º MÊS | M8: 10º MÊS | N8: 11º MÊS | O8: 12º MÊS | P8: TOTAL
A9: INSTALAÇÕES INICIAIS DA OBRA | B9: =C9/$C$13 -> #REF! | C9: ='PLANILHA OFICIAL '!#REF! -> #REF! | D9: =0.5*C9 -> #REF! | E9: =(C9-D9)/11 -> #REF! | F9: =E9 -> #REF! | G9: =F9 -> #REF! | H9: =G9 -> #REF! | I9: =H9 -> #REF! | J9: =I9 -> #REF! | K9: =J9 -> #REF! | L9: =K9 -> #REF! | M9: =L9 -> #REF! | ... O9: =N9 -> #REF! | P9: =SUM(D9:O9) -> #REF!
A10: ='PLANILHA OFICIAL '!C17 -> TERRAPLENAGEM | B10: =C10/$C$13 -> #REF! | C10: ='PLANILHA OFICIAL '!J17 -> 0 | D10: =0.1*C10 -> 0 | E10: =0.2*C10 -> 0 | F10: =E10 -> 0 | G10: =F10 -> 0 | H10: =G10 -> 0 | I10: =0.1*C10 -> 0 | P10: =SUM(D10:O10) -> 0
A11: PAVIMENTAÇÃO | B11: =C11/$C$13 -> #REF! | C11: ='PLANILHA OFICIAL '!J22 -> 0 | E11: =0.1*C11 -> 0 | F11: =E11 -> 0 | G11: =F11 -> 0 | H11: =0.3*C11 -> 0 | I11: =0.1*C11 -> 0 | J11: =I11 -> 0 | K11: =J11 -> 0 | L11: =0.1*C11 -> 0 | P11: =SUM(D11:O11) -> 0
A12: MEIO FIO E SARJETA | B12: =C12/$C$13 -> #REF! | C12: ='PLANILHA OFICIAL '!#REF! -> #REF! | E12: =0.05*C12 -> #REF! | F12: =E12 -> #REF! | G12: =F12 -> #REF! | H12: =0.1*C12 -> #REF! | I12: =0.1*C12 -> #REF! | J12: =0.15*C12 -> #REF! | K12: =I12 -> #REF! | L12: =K12 -> #REF! | M12: =L12 -> #REF! | N12: =M12 -> #REF! | O12: =N12 -> #REF! | P12: =SUM(D12:O12) -> #REF!
A13: SOMA (R$) | B13: =C13/$C$13 -> #REF! | C13: =SUM(C9:C12) -> #REF! | D13: =SUM(D9:D12) -> #REF! | E13: =SUM(E9:E12) -> #REF! | F13: =SUM(F9:F12) -> #REF! | G13: =SUM(G9:G12) -> #REF! | H13: =SUM(H9:H12) -> #REF! | I13: =SUM(I9:I12) -> #REF! | J13: =SUM(J9:J12) -> #REF! | ... O13: =SUM(O9:O12) -> #REF! | P13: =SUM(D13:O13) -> #REF!
A14: SOMA ACUMULADA | B14: =C14/$C$13 -> #REF! | C14: =C13 -> #REF! | D14: =D13 -> #REF! | E14: =D14+E13 -> #REF! | F14: =E14+F13 -> #REF! | G14: =F14+G13 -> #REF! | H14: =G14+H13 -> #REF! | I14: =H14+I13 -> #REF! | J14: =I14+J13 -> #REF! | K14: =J14+K13 -> #REF! | L14: =K14+L13 -> #REF! | ... O14: =N14+O13 -> #REF!
A15: PORCENTAGEM | D15: =D13/$C$13 -> #REF! | E15: =E13/$C$13 -> #REF! | F15: =F13/$C$13 -> #REF! | G15: =G13/$C$13 -> #REF! | H15: =H13/$C$13 -> #REF! | I15: =I13/$C$13 -> #REF! | J15: =J13/$C$13 -> #REF! | K15: =K13/$C$13 -> #REF! | ... O15: =O13/$C$13 -> #REF!
A16: PORCENTAGEM ACUMULADA | D16: =D15 -> #REF! | E16: =D16+E15 -> #REF! | F16: =E16+F15 -> #REF! | G16: =F16+G15 -> #REF! | H16: =G16+H15 -> #REF! | I16: =H16+I15 -> #REF! | J16: =I16+J15 -> #REF! | K16: =J16+K15 -> #REF! | L16: =K16+L15 -> #REF! | ... O16: =N16+O15 -> #REF!
