Workbook
Name EMPRESAS: OFFSET(#REF!,1,0):OFFSET(#REF!,-1,0)

Sheet BDI
C4: BDI
C6: Objeto | F6: Contratante | J6: Data de emissão | K6: ART
C7: =ORÇAMENTO!B9 -> OBRA: TRAVESSIA TUBO ARMCO | F7: =ORÇAMENTO!F5 -> PREFEITURA MUNICIPAL DE SILVEIRÂNIA/MG | J7: =TODAY() -> 45833
F8: =ORÇAMENTO!F6 -> CNPJ: 17.744.558/0001-84
C10: TP Nº | D10: PL Nº | E10: ='[3]Orç. Sintetico'!E14 -> Contratada | G10: CNPJ | J10: Responsável Técnico pelo orçamento
C11: ='[3]Orç. Sintetico'!B15 -> XXXXXXX | D11: ='[3]Orç. Sintetico'!D15 -> XXXXX | E11: ='[3]Orç. Sintetico'!E15 -> XXXXXXXX | G11: ='[3]Orç. Sintetico'!G15 -> XXXXXXXX
C14: Local da Obra ( local / bairro / Município ) | F14: Regime de Execução | G14: Forma de execução | I14: BDI | J14: --------------------------------------------------------
C15: =ORÇAMENTO!B17 -> LOCAL: SILVEIRÂNIA/MG | F15: EMPREITADA GLOBAL | G15: ( ) DIRETA | I15: =I38 -> 0.2674 | J15: JORGE CÉLIO FRAGGODINHO
G16: ( X ) INDIRETA | J16: Engenheiro Civil - CREA: MG 2014140512/D
C18: Região / Mês de referência do orçamento
C19: SINAPI MG - 04/2024, SETOP MG LESTE - 01/2024, SUDECAP 01/2024.
C21: Fórmula de cálculo de BDI: | G21: Definição do BDI
E23: (((1+AC+S+R+G)*(1+DF)*(1+L))/(1-(PIS+CONFINS+CPRB+ISS)-1) | G23: Tipo de obra:
G24: CONSTRUÇÃO DE EDIFÍCIOS
G26: Variável | I26: 1 Quartil*
C27: AC é a taxa de rateio da administração central; | G27: AC | I27: 0.0435
C28: S é uma taxa representativa de seguros; | G28: S | I28: 0.0025
C29: R corresponde aos riscos e imprevistos; | G29: R | I29: 0.012
C30: G é a taxa que representa o ônus das garantias presentes no edital; | G30: G | I30: 0.0025
C31: DF é taxa representativa das despesas financeiras; | G31: DF | I31: 0.01
C32: L corresponde a remuneração bruta do construtor; | G32: L | I32: 0.075
C33: I é a taxa representativa dos tributos incidentes sobre o preço de venda (PIS, Confins, CPRB e ISS). | G33: I | H33: PIS | I33: 0.0065
H34: Confins | I34: 0.03
H35: CPRB | I35: 0.045
C36: De acordo com a legislação tributária municipal, a base de cálculo do ISS corresponde a 50% do valor deste tipo de obra e, sobre esta base, incide ISS com alíquota de 5,00%. | H36: ISS | I36: 0.01
H37: Total | I37: =SUM(I33:I36) -> 0.0915
G38: BDI = | I38: =ROUND((((1+I27+I28+I29+I30)*(1+I31)*(1+I32))/(1-I37)-1),4) -> 0.2674
G39: *fonte (Acórdão 2.622/2013 - Plenário)

Sheet ORÇAMENTO
B2: PLANILHA ORÇAMENTÁRIA
F4: Propietário | Q4: Medição Nº
F5: PREFEITURA MUNICIPAL DE SILVEIRÂNIA/MG | Q5: 00
F6: CNPJ: 17.744.558/0001-84
B8: Objeto (resumo) | F8: Base de Preço | M8: Ordem de Serviço: | O8: Valor do Contrato Original | Q8: Valor Após Aditivo
B9: OBRA: TRAVESSIA TUBO ARMCO | F9: SINAPI MG 12/2023; SETOP MG LESTE 08/2023; COPASA 12/2023 | M9: Numero | N9: Data emissão | O9: =I40 -> 159708.85 | Q9: =O9 -> 159708.85
M10: - | N10: =TODAY() -> 45833
B12: Concorrência | C12: Licitação | D12: Empresa contratada | M12: Vigência do contrato | O12: Valor Acumulado | Q12: Acumulado Anterior
M13: De | N13: Até | O13: =SUM(P23+#REF!) -> #REF! | Q13: =SUM(L23+#REF!) -> #REF!
M14: 45436 | N14: 45737
B16: Local da Obra ( local / bairro / Município ) | F16: Forma de Execução | H16: ISS | I16: BDI 1 | J16: BDI 2 | M16: BM - Período da Medição | O16: Saldo Atual | Q16: Valor desta Medição
B17: LOCAL: SILVEIRÂNIA/MG | F17: ( ) Direta | G17: ( x ) Indireta | H17: 0.02 | I17: =BDI!I38 -> 0.2674 | J17: - | M17: De | N17: Até | O17: =Q40 -> #REF! | Q17: =M40 -> #REF!
M18: 45602 | N18: 45667
B20: ITEM | C20: CÓDIGO | D20: ORGÃO | E20: DESCRIÇÃO | F20: UND. | G20: QTDE. | H20: PREÇO UNIT. | I20: PREÇO UNIT. C/BDI | J20: PREÇO TOTAL C/BDI | K20: MEDIÇÃO
K21: ANTERIOR | M21: NO PERÍODO | O21: ACUMULADO TOTAL | Q21: SALDO CONTRATUAL
K22: QUANT. | L22: VALOR TOTAL | M22: QUANT. | N22: VALOR TOTAL | O22: QUANT. | P22: VALOR TOTAL | Q22: QUANT. | R22: VALOR TOTAL
B23: 1 | E23: SERVIÇOS PRELIMINARES | J23: =SUM(J24:J24) -> 629.5 | L23: =#REF! -> #REF! | N23: =#REF! -> #REF! | P23: =#REF! -> #REF! | R23: =SUM(#REF!) -> #REF!
B24: 1.1 | C24: 103689 | D24: =VLOOKUP(C24,BANCO!$A$1:$E$17604,2,FALSE) -> SINAPI | E24: =VLOOKUP(C24,BANCO!$A$1:$E$17604,3,FALSE) -> FORNECIMENTO E INSTALAÇÃO DE PLACA DE OBRA COM CHAPA GALVANIZADA E ESTRUTURA DE MADEIRA. AF_03/2022_PS | F24: =VLOOKUP(C24,BANCO!$A$1:$E$17604,4,FALSE) -> M2 | G24: =MEMÓRIA!G23 -> 1 | H24: =VLOOKUP(C24,BANCO!$A$1:$E$17604,5,FALSE) -> 496.69 | I24: =ROUND(H24+H24*$I$17,2) -> 629.5 | J24: =ROUND(I24*G24,2) -> 629.5 | K24: 2 | L24: =ROUND(K24*I24,2) -> 1259 | M24: 0 | N24: =M24*I24 -> 0 | O24: =K24+M24 -> 2 | P24: =L24+N24 -> 1259 | Q24: =G24-O24 -> -1 | R24: =ROUND(Q24*$I24,2) -> -629.5
B25: 2 | E25: MOVIMENTAÇÃO DE TERRA | J25: =SUM(J26:J29) -> 17272.72 | L25: =SUM(L26+#REF!+#REF!+#REF!+#REF!+#REF!+#REF!+#REF!) -> #REF! | N25: =SUM(N26+#REF!+#REF!+#REF!+#REF!+#REF!+#REF!+#REF!) -> #REF! | P25: =SUM(P26+#REF!+#REF!+#REF!+#REF!+#REF!+#REF!+#REF!) -> #REF! | R25: =SUM(R26+#REF!+#REF!+#REF!+#REF!+#REF!+#REF!+#REF!) -> #REF!
B26: 2.1 | C26: 101254 | D26: =VLOOKUP(C26,BANCO!$A$1:$E$17604,2,FALSE) -> SINAPI | E26: =VLOOKUP(C26,BANCO!$A$1:$E$17604,3,FALSE) -> ESCAVAÇÃO VERTICAL PARA EDIFICAÇÃO, COM CARGA, DESCARGA E TRANSPORTE DE SOLO DE 1ª CATEGORIA, COM ESCAVADEIRA HIDRÁULICA (CAÇAMBA: 0,8 M³ / 111HP), FROTA DE 3 CAMINHÕES BASCULANTES DE 10 M³, DMT ATÉ 1 KM E VELOCIDADE MÉDIA 14 KM/H. AF_05/2020 | F26: =VLOOKUP(C26,BANCO!$A$1:$E$17604,4,FALSE) -> M3 | G26: =MEMÓRIA!G25 -> 352.535 | H26: =VLOOKUP(C26,BANCO!$A$1:$E$17604,5,FALSE) -> 12.63 | I26: =ROUND(H26+H26*$I$17,2) -> 16.01 | J26: =ROUND(I26*G26,2) -> 5644.09 | K26: 78 | L26: =ROUND(K26*I26,2) -> 1248.78 | N26: =M26*I26 -> 0 | O26: =K26+M26 -> 78 | P26: =L26+N26 -> 1248.78 | Q26: =G26-O26 -> 274.535 | R26: =ROUND(Q26*$I26,2) -> 4395.31
B27: 2.2 | C27: 95875 | D27: =VLOOKUP(C27,BANCO!$A$1:$E$17604,2,FALSE) -> SINAPI | E27: =VLOOKUP(C27,BANCO!$A$1:$E$17604,3,FALSE) -> TRANSPORTE COM CAMINHÃO BASCULANTE DE 10 M³, EM VIA URBANA PAVIMENTADA, DMT ATÉ 30 KM (UNIDADE: M3XKM). AF_07/2020 | F27: =VLOOKUP(C27,BANCO!$A$1:$E$17604,4,FALSE) -> M3XKM | G27: =MEMÓRIA!G26 -> 1125.3391 | H27: =VLOOKUP(C27,BANCO!$A$1:$E$17604,5,FALSE) -> 2.45 | I27: =ROUND(H27+H27*$I$17,2) -> 3.11 | J27: =ROUND(I27*G27,2) -> 3499.8 | K27: 15.6 | L27: =ROUND(K27*I27,2) -> 48.52 | N27: =M27*I27 -> 0 | O27: =K27+M27 -> 15.6 | P27: =L27+N27 -> 48.52 | Q27: =G27-O27 -> 1109.7391 | R27: =ROUND(Q27*$I27,2) -> 3451.29
B28: 2.3 | C28: 105557 | D28: =VLOOKUP(C28,BANCO!$A$1:$E$17604,2,FALSE) -> SINAPI | E28: =VLOOKUP(C28,BANCO!$A$1:$E$17604,3,FALSE) -> EXECUÇÃO E COMPACTAÇÃO DE CAMADA FINAL DE ATERRO (100% DE ENERGIA DO PROCTOR NORMAL) COM SOLO PREDOMINANTEMENTE ARGILOSO, EM CAMADAS COM ESPESSURA DE 10 CM - EXCLUSIVE ESCAVAÇÃO, CARGA E TRANSPORTE E SOLO. AF_09/2024 | F28: =VLOOKUP(C28,BANCO!$A$1:$E$17604,4,FALSE) -> M3 | G28: =MEMÓRIA!G27 -> 292.51691 | H28: =VLOOKUP(C28,BANCO!$A$1:$E$17604,5,FALSE) -> 14.98 | I28: =ROUND(H28+H28*$I$17,2) -> 18.99 | J28: =ROUND(I28*G28,2) -> 5554.9 | K28: 0 | L28: =ROUND(K28*I28,2) -> 0 | N28: =M28*I28 -> 0 | O28: =K28+M28 -> 0 | P28: =L28+N28 -> 0 | Q28: =G28-O28 -> 292.51691 | R28: =ROUND(Q28*$I28,2) -> 5554.9
B29: 2.4 | C29: ED-50422 | D29: =VLOOKUP(C29,BANCO!$A$1:$E$17604,2,FALSE) -> SETOP | E29: =VLOOKUP(C29,BANCO!$A$1:$E$17604,3,FALSE) -> ENSECADEIRA INCLUSIVE RETIRADA DO MADEIRAMENTO , PAREDE SIMPLES | F29: =VLOOKUP(C29,BANCO!$A$1:$E$17604,4,FALSE) -> m2 | G29: =MEMÓRIA!G28 -> 9.5 | H29: =VLOOKUP(C29,BANCO!$A$1:$E$17604,5,FALSE) -> 213.78 | I29: =ROUND(H29+H29*$I$17,2) -> 270.94 | J29: =ROUND(I29*G29,2) -> 2573.93 | K29: 0 | L29: =ROUND(K29*I29,2) -> 0 | N29: =M29*I29 -> 0 | O29: =K29+M29 -> 0 | P29: =L29+N29 -> 0 | Q29: =G29-O29 -> 9.5 | R29: =ROUND(Q29*$I29,2) -> 2573.93
B30: 3 | E30: ALA DE CONCRETO ARMADO | J30: =SUM(J31:J33) -> 125824.12 | L30: =SUM(L31+#REF!+#REF!+#REF!+#REF!+#REF!+#REF!+#REF!) -> #REF! | N30: =SUM(N31+#REF!+#REF!+#REF!+#REF!+#REF!+#REF!+#REF!) -> #REF! | P30: =SUM(P31+#REF!+#REF!+#REF!+#REF!+#REF!+#REF!+#REF!) -> #REF! | R30: =SUM(R31+#REF!+#REF!+#REF!+#REF!+#REF!+#REF!+#REF!) -> #REF!
B31: 3.1 | C31: ED-8398 | D31: =VLOOKUP(C31,BANCO!$A$1:$E$17604,2,FALSE) -> SETOP | E31: =VLOOKUP(C31,BANCO!$A$1:$E$17604,3,FALSE) -> FÔRMA E DESFORMA DE COMPENSADO PLASTIFICADO, ESP. 12MM, REAPROVEITAMENTO (3X), EXCLUSIVE ESCORAMENTO | F31: =VLOOKUP(C31,BANCO!$A$1:$E$17604,4,FALSE) -> m2 | G31: =MEMÓRIA!G30 -> 349.74 | H31: =VLOOKUP(C31,BANCO!$A$1:$E$17604,5,FALSE) -> 68.03 | I31: =ROUND(H31+H31*$I$17,2) -> 86.22 | J31: =ROUND(I31*G31,2) -> 30154.58 | K31: 0 | L31: =ROUND(K31*I31,2) -> 0 | N31: =M31*I31 -> 0 | O31: =K31+M31 -> 0 | P31: =L31+N31 -> 0 | Q31: =G31-O31 -> 349.74 | R31: =ROUND(Q31*$I31,2) -> 30154.58
B32: 3.2 | C32: ED-48298 | D32: =VLOOKUP(C32,BANCO!$A$1:$E$17604,2,FALSE) -> SETOP | E32: =VLOOKUP(C32,BANCO!$A$1:$E$17604,3,FALSE) -> CORTE, DOBRA E MONTAGEM DE AÇO CA-50/60, INCLUSIVE ESPAÇADOR | F32: =VLOOKUP(C32,BANCO!$A$1:$E$17604,4,FALSE) -> Kg | G32: =MEMÓRIA!G31 -> 3008.4 | H32: =VLOOKUP(C32,BANCO!$A$1:$E$17604,5,FALSE) -> 11.38 | I32: =ROUND(H32+H32*$I$17,2) -> 14.42 | J32: =ROUND(I32*G32,2) -> 43381.13 | K32: 0 | L32: =ROUND(K32*I32,2) -> 0 | N32: =M32*I32 -> 0 | O32: =K32+M32 -> 0 | P32: =L32+N32 -> 0 | Q32: =G32-O32 -> 3008.4 | R32: =ROUND(Q32*$I32,2) -> 43381.13
B33: 3.3 | C33: ED-49631 | D33: =VLOOKUP(C33,BANCO!$A$1:$E$17604,2,FALSE) -> SETOP | E33: =VLOOKUP(C33,BANCO!$A$1:$E$17604,3,FALSE) -> FORNECIMENTO DE CONCRETO ESTRUTURAL, USINADO, COM FCK 30MPA, INCLUSIVE LANÇAMENTO, ADENSAMENTO E ACABAMENTO | F33: =VLOOKUP(C33,BANCO!$A$1:$E$17604,4,FALSE) -> m3 | G33: =MEMÓRIA!G32 -> 55.07 | H33: =VLOOKUP(C33,BANCO!$A$1:$E$17604,5,FALSE) -> 749.16 | I33: =ROUND(H33+H33*$I$17,2) -> 949.49 | J33: =ROUND(I33*G33,2) -> 52288.41 | K33: 0 | L33: =ROUND(K33*I33,2) -> 0 | N33: =M33*I33 -> 0 | O33: =K33+M33 -> 0 | P33: =L33+N33 -> 0 | Q33: =G33-O33 -> 55.07 | R33: =ROUND(Q33*$I33,2) -> 52288.41
B34: 4 | E34: BERÇO | J34: =SUM(J35:J36) -> 4970.99 | L34: =SUM(L35+#REF!+#REF!+#REF!+#REF!+#REF!+L42+#REF!) -> #REF! | N34: =SUM(N35+#REF!+#REF!+#REF!+#REF!+#REF!+N42+#REF!) -> #REF! | P34: =SUM(P35+#REF!+#REF!+#REF!+#REF!+#REF!+P42+#REF!) -> #REF! | R34: =SUM(R35+#REF!+#REF!+#REF!+#REF!+#REF!+R42+#REF!) -> #REF!
B35: 4.1 | C35: ED-49795 | D35: =VLOOKUP(C35,BANCO!$A$1:$E$17604,2,FALSE) -> SETOP | E35: =VLOOKUP(C35,BANCO!$A$1:$E$17604,3,FALSE) -> FORNECIMENTO DE CONCRETO NÃO ESTRUTURAL, USINADO, COM FCK 15MPA, INCLUSIVE LANÇAMENTO, ADENSAMENTO E ACABAMENTO (FUNDAÇÃO) | F35: =VLOOKUP(C35,BANCO!$A$1:$E$17604,4,FALSE) -> m3 | G35: =MEMÓRIA!G34 -> 4.95 | H35: =VLOOKUP(C35,BANCO!$A$1:$E$17604,5,FALSE) -> 670.14 | I35: =ROUND(H35+H35*$I$17,2) -> 849.34 | J35: =ROUND(I35*G35,2) -> 4204.23 | K35: 18 | L35: =ROUND(K35*I35,2) -> 15288.12 | N35: =M35*I35 -> 0 | O35: =K35+M35 -> 18 | P35: =L35+N35 -> 15288.12 | Q35: =G35-O35 -> -13.05 | R35: =ROUND(Q35*$I35,2) -> -11083.89
B36: 4.2 | C36: ED-49540 | D36: =VLOOKUP(C36,BANCO!$A$1:$E$17604,2,FALSE) -> SETOP | E36: =VLOOKUP(C36,BANCO!$A$1:$E$17604,3,FALSE) -> ENROCAMENTO MANUAL COM PEDRA DE MÃO JOGADA, INCLUSIVE FORNECIMENTO | F36: =VLOOKUP(C36,BANCO!$A$1:$E$17604,4,FALSE) -> m3 | G36: =MEMÓRIA!G35 -> 3.6 | H36: =VLOOKUP(C36,BANCO!$A$1:$E$17604,5,FALSE) -> 168.05 | I36: =ROUND(H36+H36*$I$17,2) -> 212.99 | J36: =ROUND(I36*G36,2) -> 766.76 | K36: 26.5 | L36: =ROUND(K36*I36,2) -> 5644.24 | N36: =M36*I36 -> 0 | O36: =K36+M36 -> 26.5 | P36: =L36+N36 -> 5644.24 | Q36: =G36-O36 -> -22.9 | R36: =ROUND(Q36*$I36,2) -> -4877.47
B37: 5 | E37: MATERIAIS | J37: =SUM(J38) -> 11011.52 | L37: =SUM(L38+#REF!+#REF!+#REF!+#REF!+#REF!+L45+#REF!) -> #REF! | N37: =SUM(N38+#REF!+#REF!+#REF!+#REF!+#REF!+N45+#REF!) -> #REF! | P37: =SUM(P38+#REF!+#REF!+#REF!+#REF!+#REF!+P45+#REF!) -> #REF! | R37: =SUM(R38+#REF!+#REF!+#REF!+#REF!+#REF!+R45+#REF!) -> #REF!
B38: 5.1 | C38: CPU-001 | D38: =VLOOKUP(C38,BANCO!$A$1:$E$24100,2,FALSE) -> COMPOSIÇÃO | E38: =VLOOKUP(C38,BANCO!$A$1:$E$24100,3,FALSE) -> ASSENTAMENTO DE TRAVESSIA UTILIZANDO BUEIRO METÁLICO COM CHAPASMÚLTIPLAS MP 100 COM REVESTIMENTO EM EPÓXI D = 2,00M OU D = 2,50M - COM BRITA COMERCIAL E EXCLUSIVE BUEIRO | F38: =VLOOKUP(C38,BANCO!$A$1:$E$24100,4,FALSE) -> M | G38: 8 | H38: =VLOOKUP(C38,BANCO!$A$1:$E$24100,5,FALSE) -> 1086.0364 | I38: =ROUND(H38+H38*$I$17,2) -> 1376.44 | J38: =ROUND(I38*G38,2) -> 11011.52 | K38: 18 | L38: =ROUND(K38*I38,2) -> 24775.92 | N38: =M38*I38 -> 0 | O38: =K38+M38 -> 18 | P38: =L38+N38 -> 24775.92 | Q38: =G38-O38 -> -10 | R38: =ROUND(Q38*$I38,2) -> -13764.4
B39: TOTAL GERAL | F39: TOTAL CONTRATADO: | K39: TOTAL NO ANTERIOR: | M39: TOTAL NO PERÍODO: | O39: TOTAL ACUMULADO: | Q39: SALDO CONTRATUAL:
I40: =SUM(J23+J25+J30+J34+J37) -> 159708.85 | K40: =SUM(L23+#REF!) -> #REF! | M40: =SUM(N23+#REF!) -> #REF! | O40: =SUM(P23+#REF!) -> #REF! | Q40: =SUM(R23+#REF!) -> #REF!
Q41: 0
B42: Prefeitura Municipal de Silveirania/MG | F42: Responsável Técnico Fiscalização/Prefeitura: | O42: Importa a presente medição em:
B44: ___________________________________________ | F44: ___________________________________________ | O44: =M40 -> #REF!
B45: PREFEITURA MUNICIPAL DE SILVEIRÂNIA | F45: JORGE CÉLIO FRAGA GODINHO
B46: PREFEITO MUNICIPAL | F46: CREA RJ 2014140455/D

Sheet MEMÓRIA
B1: MEMORIA DE CÁLCULO
F3: Propietário | Q3: Medição Nº
F4: PREFEITURA MUNICIPAL DE SILVEIRÂNIA/MG | Q4: 00
F5: CNPJ:
B7: Objeto (resumo) | F7: Base de Preço | M7: Ordem de Serviço: | O7: Valor do Contrato Original | Q7: Valor Após Aditivo
B8: OBRA: TRAVESSIA TUBO ARMCO | F8: SINAPI MG 12/2023; SETOP MG LESTE 08/2023; COPASA 12/2023 | M8: Numero | N8: Data emissão | O8: =#REF! -> #REF! | Q8: =O8 -> #REF!
M9: - | N9: =TODAY() -> 45833
B11: Concorrência | C11: Licitação | D11: Empresa contratada | M11: Vigência do contrato | O11: Valor Acumulado | Q11: Acumulado Anterior
M12: De | N12: Até | O12: =SUM(P22+#REF!) -> #REF! | Q12: =SUM(L22+#REF!) -> #REF!
M13: 45436 | N13: 45737
B15: Local da Obra ( local / bairro / Município ) | F15: Forma de Execução | H15: ISS | I15: BDI 1 | J15: BDI 2 | M15: BM - Período da Medição | O15: Saldo Atual | Q15: Valor desta Medição
B16: LOCAL: SILVEIRÂNIA/MG | F16: ( ) Direta | G16: ( x ) Indireta | H16: 0.05 | I16: 0.27 | J16: 0.1528 | M16: De | N16: Até | O16: =#REF! -> #REF! | Q16: =#REF! -> #REF!
M17: 45602 | N17: 45667
B19: ITEM | C19: CÓDIGO | D19: ORGÃO | E19: DESCRIÇÃO | F19: UND. | G19: QTDE. | H19: MEMORIA DE CÁLCULO | K19: MEDIÇÃO
K20: ANTERIOR | M20: NO PERÍODO | O20: ACUMULADO TOTAL | Q20: SALDO CONTRATUAL
K21: QUANT. | L21: VALOR TOTAL | M21: QUANT. | N21: VALOR TOTAL | O21: QUANT. | P21: VALOR TOTAL | Q21: QUANT. | R21: VALOR TOTAL
B22: =ORÇAMENTO!B23 -> 1 | E22: =ORÇAMENTO!E23 -> SERVIÇOS PRELIMINARES | L22: =#REF! -> #REF! | N22: =#REF! -> #REF! | P22: =#REF! -> #REF! | R22: =SUM(#REF!) -> #REF!
B23: =ORÇAMENTO!B24 -> 1.1 | C23: =ORÇAMENTO!C24 -> 103689 | D23: =ORÇAMENTO!D24 -> SINAPI | E23: =ORÇAMENTO!E24 -> FORNECIMENTO E INSTALAÇÃO DE PLACA DE OBRA COM CHAPA GALVANIZADA E ESTRUTURA DE MADEIRA. AF_03/2022_PS | F23: =ORÇAMENTO!F24 -> M2 | G23: 1 | H23: 1 UNIDADE | K23: 2 | L23: =ROUND(K23*I23,2) -> 0 | M23: 0 | N23: =M23*I23 -> 0 | O23: =K23+M23 -> 2 | P23: =L23+N23 -> 0 | Q23: =G23-O23 -> -1 | R23: =ROUND(Q23*$I23,2) -> 0
B24: =ORÇAMENTO!B25 -> 2 | E24: =ORÇAMENTO!E25 -> MOVIMENTAÇÃO DE TERRA | L24: =SUM(L25+#REF!+#REF!+#REF!+#REF!+#REF!+#REF!+#REF!) -> #REF! | N24: =SUM(N25+#REF!+#REF!+#REF!+#REF!+#REF!+#REF!+#REF!) -> #REF! | P24: =SUM(P25+#REF!+#REF!+#REF!+#REF!+#REF!+#REF!+#REF!) -> #REF! | R24: =SUM(R25+#REF!+#REF!+#REF!+#REF!+#REF!+#REF!+#REF!) -> #REF!
B25: =ORÇAMENTO!B26 -> 2.1 | C25: =ORÇAMENTO!C26 -> 101254 | D25: =ORÇAMENTO!D26 -> SINAPI | E25: =ORÇAMENTO!E26 -> ESCAVAÇÃO VERTICAL PARA EDIFICAÇÃO, COM CARGA, DESCARGA E TRANSPORTE DE SOLO DE 1ª CATEGORIA, COM ESCAVADEIRA HIDRÁULICA (CAÇAMBA: 0,8 M³ / 111HP), FROTA DE 3 CAMINHÕES BASCULANTES DE 10 M³, DMT ATÉ 1 KM E VELOCIDADE MÉDIA 14 KM/H. AF_05/2020 | F25: =ORÇAMENTO!F26 -> M3 | G25: =59.7*1.55+20.8*4+44.2*4 -> 352.535 | H25: ÁREA DA FUNDAÇÃO DO MURO x PROFUNDIDADE + ÁREA DE TRABALHO DO MURO x ALTURA DO MURO + ÁREA DA TRAVESSIA x ALTURA | K25: 78 | L25: =ROUND(K25*I25,2) -> 0 | N25: =M25*I25 -> 0 | O25: =K25+M25 -> 78 | P25: =L25+N25 -> 0 | Q25: =G25-O25 -> 274.535 | R25: =ROUND(Q25*$I25,2) -> 0
B26: =ORÇAMENTO!B27 -> 2.2 | C26: =ORÇAMENTO!C27 -> 95875 | D26: =ORÇAMENTO!D27 -> SINAPI | E26: =ORÇAMENTO!E27 -> TRANSPORTE COM CAMINHÃO BASCULANTE DE 10 M³, EM VIA URBANA PAVIMENTADA, DMT ATÉ 30 KM (UNIDADE: M3XKM). AF_07/2020 | F26: =ORÇAMENTO!F27 -> M3XKM | G26: =(G25-G27)*1.25*15 -> 1125.3391 | H26: (VOLUME DE ESCAVAÇÃO - VOLUME DE ATERRO) x EMPOLAMENTO x DISTÂNCIA MÉDIA DE TRANSPORTE ATÉ O BOTA FORA | K26: 15.6 | L26: =ROUND(K26*I26,2) -> 0 | N26: =M26*I26 -> 0 | O26: =K26+M26 -> 15.6 | P26: =L26+N26 -> 0 | Q26: =G26-O26 -> 1109.7391 | R26: =ROUND(Q26*$I26,2) -> 0
B27: =ORÇAMENTO!B28 -> 2.3 | C27: =ORÇAMENTO!C28 -> 105557 | D27: =ORÇAMENTO!D28 -> SINAPI | E27: =ORÇAMENTO!E28 -> EXECUÇÃO E COMPACTAÇÃO DE CAMADA FINAL DE ATERRO (100% DE ENERGIA DO PROCTOR NORMAL) COM SOLO PREDOMINANTEMENTE ARGILOSO, EM CAMADAS COM ESPESSURA DE 10 CM - EXCLUSIVE ESCAVAÇÃO, CARGA E TRANSPORTE E SOLO. AF_09/2024 | F27: =ORÇAMENTO!F28 -> M3 | G27: =G25-G32-(PI()*1.255^2) -> 292.51691 | H27: VOLUME DE ESCAVAÇÃO - VOLUME DE CONCRETO - VOLUME DO BUEIRO | K27: 0 | L27: =ROUND(K27*I27,2) -> 0 | N27: =M27*I27 -> 0 | O27: =K27+M27 -> 0 | P27: =L27+N27 -> 0 | Q27: =G27-O27 -> 292.51691 | R27: =ROUND(Q27*$I27,2) -> 0
B28: =ORÇAMENTO!B29 -> 2.4 | C28: =ORÇAMENTO!C29 -> ED-50422 | D28: =ORÇAMENTO!D29 -> SETOP | E28: =ORÇAMENTO!E29 -> ENSECADEIRA INCLUSIVE RETIRADA DO MADEIRAMENTO , PAREDE SIMPLES | F28: =ORÇAMENTO!F29 -> m2 | G28: =(5.5+2*2)*1 -> 9.5 | H28: COMPRIMENTO DO TUBO + DESVIO INICIAL + DESVIO FINAL, SENDO O SOMATÓRIO MULTIPLICADO PELA LARGURA | K28: 0 | L28: =ROUND(K28*I28,2) -> 0 | N28: =M28*I28 -> 0 | O28: =K28+M28 -> 0 | P28: =L28+N28 -> 0 | Q28: =G28-O28 -> 9.5 | R28: =ROUND(Q28*$I28,2) -> 0
B29: =ORÇAMENTO!B30 -> 3 | E29: =ORÇAMENTO!E30 -> ALA DE CONCRETO ARMADO | L29: =SUM(L30+#REF!+#REF!+#REF!+#REF!+#REF!+#REF!+#REF!) -> #REF! | N29: =SUM(N30+#REF!+#REF!+#REF!+#REF!+#REF!+#REF!+#REF!) -> #REF! | P29: =SUM(P30+#REF!+#REF!+#REF!+#REF!+#REF!+#REF!+#REF!) -> #REF! | R29: =SUM(R30+#REF!+#REF!+#REF!+#REF!+#REF!+#REF!+#REF!) -> #REF!
B30: =ORÇAMENTO!B31 -> 3.1 | C30: =ORÇAMENTO!C31 -> ED-8398 | D30: =ORÇAMENTO!D31 -> SETOP | E30: =ORÇAMENTO!E31 -> FÔRMA E DESFORMA DE COMPENSADO PLASTIFICADO, ESP. 12MM, REAPROVEITAMENTO (3X), EXCLUSIVE ESCORAMENTO | F30: =ORÇAMENTO!F31 -> m2 | G30: =323.34+26.4 -> 349.74 | H30: CONFORME PROJETO EXECUTIVO ESTRUTURAL | K30: 0 | L30: =ROUND(K30*I30,2) -> 0 | N30: =M30*I30 -> 0 | O30: =K30+M30 -> 0 | P30: =L30+N30 -> 0 | Q30: =G30-O30 -> 349.74 | R30: =ROUND(Q30*$I30,2) -> 0
B31: =ORÇAMENTO!B32 -> 3.2 | C31: =ORÇAMENTO!C32 -> ED-48298 | D31: =ORÇAMENTO!D32 -> SETOP | E31: =ORÇAMENTO!E32 -> CORTE, DOBRA E MONTAGEM DE AÇO CA-50/60, INCLUSIVE ESPAÇADOR | F31: =ORÇAMENTO!F32 -> Kg | G31: =2886+31.5+90.9 -> 3008.4 | H31: CONFORME PROJETO EXECUTIVO ESTRUTURAL | K31: 0 | L31: =ROUND(K31*I31,2) -> 0 | N31: =M31*I31 -> 0 | O31: =K31+M31 -> 0 | P31: =L31+N31 -> 0 | Q31: =G31-O31 -> 3008.4 | R31: =ROUND(Q31*$I31,2) -> 0
B32: =ORÇAMENTO!B33 -> 3.3 | C32: =ORÇAMENTO!C33 -> ED-49631 | D32: =ORÇAMENTO!D33 -> SETOP | E32: =ORÇAMENTO!E33 -> FORNECIMENTO DE CONCRETO ESTRUTURAL, USINADO, COM FCK 30MPA, INCLUSIVE LANÇAMENTO, ADENSAMENTO E ACABAMENTO | F32: =ORÇAMENTO!F33 -> m3 | G32: =52.87+2.2 -> 55.07 | H32: CONFORME PROJETO EXECUTIVO ESTRUTURAL | K32: 0 | L32: =ROUND(K32*I32,2) -> 0 | N32: =M32*I32 -> 0 | O32: =K32+M32 -> 0 | P32: =L32+N32 -> 0 | Q32: =G32-O32 -> 55.07 | R32: =ROUND(Q32*$I32,2) -> 0
B33: =ORÇAMENTO!B34 -> 4 | E33: =ORÇAMENTO!E34 -> BERÇO | L33: =SUM(#REF!+#REF!+#REF!+#REF!+#REF!+#REF!+L39+#REF!) -> #REF! | N33: =SUM(#REF!+#REF!+#REF!+#REF!+#REF!+#REF!+N39+#REF!) -> #REF! | P33: =SUM(#REF!+#REF!+#REF!+#REF!+#REF!+#REF!+P39+#REF!) -> #REF! | R33: =SUM(#REF!+#REF!+#REF!+#REF!+#REF!+#REF!+R39+#REF!) -> #REF!
B34: =ORÇAMENTO!B35 -> 4.1 | C34: =ORÇAMENTO!C35 -> ED-49795 | D34: =ORÇAMENTO!D35 -> SETOP | E34: =ORÇAMENTO!E35 -> FORNECIMENTO DE CONCRETO NÃO ESTRUTURAL, USINADO, COM FCK 15MPA, INCLUSIVE LANÇAMENTO, ADENSAMENTO E ACABAMENTO (FUNDAÇÃO) | F34: =ORÇAMENTO!F35 -> m3 | G34: =0.9*5.5 -> 4.95 | H34: CONFORME PROJETO BÁSICO | K34: 0 | L34: =ROUND(K34*I34,2) -> 0 | N34: =M34*I34 -> 0 | O34: =K34+M34 -> 0 | P34: =L34+N34 -> 0 | Q34: =G34-O34 -> 4.95 | R34: =ROUND(Q34*$I34,2) -> 0
B35: =ORÇAMENTO!B36 -> 4.2 | C35: =ORÇAMENTO!C36 -> ED-49540 | D35: =ORÇAMENTO!D36 -> SETOP | E35: =ORÇAMENTO!E36 -> ENROCAMENTO MANUAL COM PEDRA DE MÃO JOGADA, INCLUSIVE FORNECIMENTO | F35: =ORÇAMENTO!F36 -> m3 | G35: =0.9*4 -> 3.6 | H35: CONFORME PROJETO BÁSICO | K35: 0 | L35: =ROUND(K35*I35,2) -> 0 | N35: =M35*I35 -> 0 | O35: =K35+M35 -> 0 | P35: =L35+N35 -> 0 | Q35: =G35-O35 -> 3.6 | R35: =ROUND(Q35*$I35,2) -> 0
B36: =ORÇAMENTO!B37 -> 5 | E36: =ORÇAMENTO!E37 -> MATERIAIS | L36: =SUM(#REF!+#REF!+#REF!+#REF!+#REF!+#REF!+L42+#REF!) -> #REF! | N36: =SUM(#REF!+#REF!+#REF!+#REF!+#REF!+#REF!+N42+#REF!) -> #REF! | P36: =SUM(#REF!+#REF!+#REF!+#REF!+#REF!+#REF!+P42+#REF!) -> #REF! | R36: =SUM(#REF!+#REF!+#REF!+#REF!+#REF!+#REF!+R42+#REF!) -> #REF!
B37: =ORÇAMENTO!B38 -> 5.1 | C37: =ORÇAMENTO!C38 -> CPU-001 | D37: =ORÇAMENTO!D38 -> COMPOSIÇÃO | E37: =ORÇAMENTO!E38 -> ASSENTAMENTO DE TRAVESSIA UTILIZANDO BUEIRO METÁLICO COM CHAPASMÚLTIPLAS MP 100 COM REVESTIMENTO EM EPÓXI D = 2,00M OU D = 2,50M - COM BRITA COMERCIAL E EXCLUSIVE BUEIRO | F37: =ORÇAMENTO!F38 -> M | G37: 8 | H37: O MATERIAL SERÁ FORNECIDO PELA PREFEITURA MUNICIPAL DE SILVEIRÂNIA | K37: 0 | L37: =ROUND(K37*I37,2) -> 0 | N37: =M37*I37 -> 0 | O37: =K37+M37 -> 0 | P37: =L37+N37 -> 0 | Q37: =G37-O37 -> 8 | R37: =ROUND(Q37*$I37,2) -> 0
Q38: 0
B39: Prefeitura Municipal de Silveirania/MG | F39: Responsável Técnico Fiscalização/Prefeitura: | O39: Importa a presente medição em:
B41: ___________________________________________ | F41: ___________________________________________ | O41: =#REF! -> #REF!
B42: PREFEITURA MUNICIPAL DE SILVEIRÂNIA | F42: JORGE CÉLIO FRAGA GODINHO
B43: PREFEITO MUNICIPAL | F43: CREA RJ 2014140455/D

Sheet COMPOSIÇÃO
B2: COMPOSIÇÕES
F4: Propietário
F5: PREFEITURA MUNICIPAL DE SILVEIRÂNIA/MG
F6: CNPJ: 17.744.558/0001-84
B8: Objeto (resumo) | F8: Base de Preço
B9: OBRA: TRAVESSIA TUBO ARMCO | F9: SINAPI MG 12/2023; SETOP MG LESTE 08/2023; COPASA 12/2023
B12: Local da Obra ( local / bairro / Município ) | F12: Forma de Execução | H12: ISS | I12: BDI 1 | J12: BDI 2
B13: LOCAL: SILVEIRÂNIA/MG | F13: ( ) Direta | G13: ( x ) Indireta | H13: 0.02 | I13: =BDI!I39 -> 0 | J13: -
B16: Código | C16: Referência | E16: Discriminação | G16: Unid. | H16: Coef. | I16: Custo/Unit. S/BDI (R$) | J16: PREÇO TOTAL
B17: CPU-001 | C17: COMPOSIÇÃO | E17: ASSENTAMENTO DE TRAVESSIA UTILIZANDO BUEIRO METÁLICO COM CHAPASMÚLTIPLAS MP 100 COM REVESTIMENTO EM EPÓXI D = 2,00M OU D = 2,50M - COM BRITA COMERCIAL E EXCLUSIVE BUEIRO | G17: M | J17: =SUM(J18:J24) -> 1086.0364
B18: 5928 | C18: =VLOOKUP($B18,BANCO!$A$1:$E$24100,2,FALSE) -> SINAPI | E18: =VLOOKUP($B18,BANCO!$A$1:$E$24100,3,FALSE) -> GUINDAUTO HIDRÁULICO, CAPACIDADE MÁXIMA DE CARGA 6200 KG, MOMENTO MÁXIMO DE CARGA 11,7 TM, ALCANCE MÁXIMO HORIZONTAL 9,70 M, INCLUSIVE CAMINHÃO TOCO PBT 16.000 KG, POTÊNCIA DE 189 CV - CHP DIURNO. AF_06/2014 | G18: =VLOOKUP($B18,BANCO!$A$1:$E$24100,4,FALSE) -> CHP | H18: 2.3 | I18: =VLOOKUP($B18,BANCO!$A$1:$E$24100,5,FALSE) -> 272.79 | J18: =H18*I18 -> 627.417
B19: 88316 | C19: =VLOOKUP($B19,BANCO!$A$1:$E$24100,2,FALSE) -> SINAPI | E19: =VLOOKUP($B19,BANCO!$A$1:$E$24100,3,FALSE) -> SERVENTE COM ENCARGOS COMPLEMENTARES | G19: =VLOOKUP($B19,BANCO!$A$1:$E$24100,4,FALSE) -> H | H19: 5.99082 | I19: =VLOOKUP($B19,BANCO!$A$1:$E$24100,5,FALSE) -> 18.75 | J19: =H19*I19 -> 112.32788
B20: 88277 | C20: =VLOOKUP($B20,BANCO!$A$1:$E$24100,2,FALSE) -> SINAPI | E20: =VLOOKUP($B20,BANCO!$A$1:$E$24100,3,FALSE) -> MONTADOR (TUBO AÇO/EQUIPAMENTOS) COM ENCARGOS COMPLEMENTARES | G20: =VLOOKUP($B20,BANCO!$A$1:$E$24100,4,FALSE) -> H | H20: 1.99082 | I20: =VLOOKUP($B20,BANCO!$A$1:$E$24100,5,FALSE) -> 21.57 | J20: =H20*I20 -> 42.941987
B21: ED-19633 | C21: =VLOOKUP($B21,BANCO!$A$1:$E$24100,2,FALSE) -> SETOP | E21: =VLOOKUP($B21,BANCO!$A$1:$E$24100,3,FALSE) -> ESCORAMENTO METÁLICO PARA LAJE E VIGA EM CONCRETO ARMADO, TIPO "A", ALTURA DE (200 ATÉ 310)CM, INCLUSIVE DESCARGA, MONTAGEM, DESMONTAGEM E CARGA | G21: =VLOOKUP($B21,BANCO!$A$1:$E$24100,4,FALSE) -> m2xmês | H21: 4 | I21: =VLOOKUP($B21,BANCO!$A$1:$E$24100,5,FALSE) -> 19 | J21: =H21*I21 -> 76
B22: ED-49813 | C22: =VLOOKUP($B22,BANCO!$A$1:$E$24100,2,FALSE) -> SETOP | E22: =VLOOKUP($B22,BANCO!$A$1:$E$24100,3,FALSE) -> LASTRO DE BRITA COM PEDRA BRITADA NÚMERO 2 E 3, INCLUSIVE ADENSAMENTO E APILOAMENTO MANUAL | G22: =VLOOKUP($B22,BANCO!$A$1:$E$24100,4,FALSE) -> m3 | H22: 1.05 | I22: =VLOOKUP($B22,BANCO!$A$1:$E$24100,5,FALSE) -> 186.99 | J22: =H22*I22 -> 196.3395
B23: ED-9076 | C23: =VLOOKUP($B23,BANCO!$A$1:$E$24100,2,FALSE) -> SETOP | E23: =VLOOKUP($B23,BANCO!$A$1:$E$24100,3,FALSE) -> FORNECIMENTO DE ANDAIME METÁLICO TUBULAR TIPO TORRE (LOCAÇÃO), INCLUSIVE RODÍZIOS, EXCLUSIVE MONTAGEM E DESMONTAGEM | G23: =VLOOKUP($B23,BANCO!$A$1:$E$24100,4,FALSE) -> mxmês | H23: 1 | I23: =VLOOKUP($B23,BANCO!$A$1:$E$24100,5,FALSE) -> 22 | J23: =H23*I23 -> 22
B24: ED-9077 | C24: =VLOOKUP($B24,BANCO!$A$1:$E$24100,2,FALSE) -> SETOP | E24: =VLOOKUP($B24,BANCO!$A$1:$E$24100,3,FALSE) -> MONTAGEM E DESMONTAGEM DE ANDAIME METÁLICO TUBULAR TIPO TORRE, EXCLUSIVE FORNECIMENTO DO ANDAIME | G24: =VLOOKUP($B24,BANCO!$A$1:$E$24100,4,FALSE) -> m | H24: 1 | I24: =VLOOKUP($B24,BANCO!$A$1:$E$24100,5,FALSE) -> 9.01 | J24: =H24*I24 -> 9.01
B26: Prefeitura Municipal de Silveirania/MG | F26: Responsável Técnico Fiscalização/Prefeitura:
F27: ___________________________________________
B28: ___________________________________________
B29: PREFEITURA MUNICIPAL DE SILVEIRÂNIA | F29: JORGE CÉLIO FRAGA GODINHO
B30: PREFEITO MUNICIPAL | F30: CREA RJ 2014140455/D

Sheet CRONO
B2: CRONOGRAMA
F4: Propietário
F5: =ORÇAMENTO!F5 -> PREFEITURA MUNICIPAL DE SILVEIRÂNIA/MG
F6: =ORÇAMENTO!F6 -> CNPJ: 17.744.558/0001-84
B8: Objeto (resumo) | F8: Base de Preço
B9: =ORÇAMENTO!B9 -> OBRA: TRAVESSIA TUBO ARMCO | F9: =ORÇAMENTO!F9 -> SINAPI MG 12/2023; SETOP MG LESTE 08/2023; COPASA 12/2023
B12: Local da Obra ( local / bairro / Município ) | F12: Forma de Execução | H12: ISS | I12: BDI 1 | J12: BDI 2
B13: =ORÇAMENTO!B17 -> LOCAL: SILVEIRÂNIA/MG | F13: ( ) Direta | G13: ( x ) Indireta | H13: 0.02 | I13: =BDI!I15 -> 0.2674 | J13: -
B16: ITEM | C16: ETAPAS/DESCRIÇÃO | D16: FÍSICO/ FINANCEIRO | E16: TOTAL ETAPAS | F16: MÊS 1 | G16: MÊS 2 | H16: MÊS 3 | I16: MÊS 4 | J16: MÊS 5 | K16: MÊS 6
B17: =ORÇAMENTO!B23 -> 1 | C17: =VLOOKUP($B17,ORÇAMENTO!$B$23:$J$1002,4,FALSE) -> SERVIÇOS PRELIMINARES | D17: Físico % | E17: =E18/$E$28 -> 0.0039415474 | F17: 1 | G17: 0 | H17: 0 | J17: 0 | K17: 0
D18: Financeiro | E18: =VLOOKUP($B17,ORÇAMENTO!$B$23:$J$1002,9,FALSE) -> 629.5 | F18: =F17*$E$18 -> 629.5 | G18: =G17*$E$18 -> 0 | H18: =H17*$E$18 -> 0 | I18: =I17*$E$18 -> 0 | J18: =J17*$E$18 -> 0 | K18: =K17*$E$18 -> 0
B19: =ORÇAMENTO!B25 -> 2 | C19: =VLOOKUP($B19,ORÇAMENTO!$B$23:$J$1002,4,FALSE) -> MOVIMENTAÇÃO DE TERRA | D19: Físico % | E19: =E20/$E$28 -> 0.1081513 | F19: 0.25 | G19: 0.25 | H19: 0.25 | I19: 0.25
D20: Financeiro | E20: =VLOOKUP($B19,ORÇAMENTO!$B$23:$J$1002,9,FALSE) -> 17272.72 | F20: =F19*$E$20 -> 4318.18 | G20: =G19*$E$20 -> 4318.18 | H20: =H19*$E$20 -> 4318.18 | I20: =I19*$E$20 -> 4318.18 | J20: =J19*$E$20 -> 0 | K20: =K19*$E$20 -> 0
B21: =ORÇAMENTO!B30 -> 3 | C21: =VLOOKUP($B21,ORÇAMENTO!$B$23:$J$1002,4,FALSE) -> ALA DE CONCRETO ARMADO | D21: Físico % | E21: =E22/$E$28 -> 0.78783436 | F21: 0.25 | G21: 0.25 | H21: 0.25 | I21: 0.25
D22: Financeiro | E22: =VLOOKUP($B21,ORÇAMENTO!$B$23:$J$1002,9,FALSE) -> 125824.12 | F22: =F21*$E$22 -> 31456.03 | G22: =G21*$E$22 -> 31456.03 | H22: =H21*$E$22 -> 31456.03 | I22: =I21*$E$22 -> 31456.03 | J22: =J21*$E$22 -> 0 | K22: =K21*$E$22 -> 0
B23: =ORÇAMENTO!B34 -> 4 | C23: =VLOOKUP($B23,ORÇAMENTO!$B$23:$J$1002,4,FALSE) -> BERÇO | D23: Físico % | E23: =E24/$E$28 -> 0.031125326 | G23: 0.5 | H23: 0.5
D24: Financeiro | E24: =VLOOKUP($B23,ORÇAMENTO!$B$23:$J$1002,9,FALSE) -> 4970.99 | F24: =F23*$E$24 -> 0 | G24: =G23*$E$24 -> 2485.495 | H24: =H23*$E$24 -> 2485.495 | I24: =I23*$E$24 -> 0 | J24: =J23*$E$24 -> 0 | K24: =K23*$E$24 -> 0
B25: =ORÇAMENTO!B37 -> 5 | C25: =VLOOKUP($B25,ORÇAMENTO!$B$23:$J$1002,4,FALSE) -> MATERIAIS | D25: Físico % | E25: =E26/$E$28 -> 0.068947463 | I25: 1
D26: Financeiro | E26: =VLOOKUP($B25,ORÇAMENTO!$B$23:$J$1002,9,FALSE) -> 11011.52 | F26: =F25*$E$26 -> 0 | G26: =G25*$E$26 -> 0 | H26: =H25*$E$26 -> 0 | I26: =I25*$E$26 -> 11011.52 | J26: =J25*$E$26 -> 0 | K26: =K25*$E$26 -> 0
B27: TOTAL | D27: Físico % | E27: =SUM(E19,E17,E21,E23,E25) -> 1 | F27: =F28/$E$28 -> 0.22793796 | G27: =G28/$E$28 -> 0.23955908 | H27: =H28/$E$28 -> 0.23955908 | I27: =I28/$E$28 -> 0.29294388 | J27: =J28/$E$28 -> 0 | K27: =K28/$E$28 -> 0
D28: Financeiro | E28: =SUM(E18,E22,E24,E26,E20) -> 159708.85 | F28: =SUM(F18,F22,F24,F26,F20) -> 36403.71 | G28: =SUM(G18,G22,G24,G26,G20) -> 38259.705 | H28: =SUM(H18,H22,H24,H26,H20) -> 38259.705 | I28: =SUM(I18,I22,I24,I26,I20) -> 46785.73 | J28: =SUM(J18,J22,J24,J26,J20) -> 0 | K28: =SUM(K18,K22,K24,K26,K20) -> 0
B29: Prefeitura Municipal de Silveirania/MG | F29: Responsável Técnico Fiscalização/Prefeitura:
F30: ___________________________________________
B31: ___________________________________________
B32: PREFEITURA MUNICIPAL DE SILVEIRÂNIA | F32: JORGE CÉLIO FRAGA GODINHO
B33: PREFEITO MUNICIPAL | F33: CREA RJ 2014140455/D

Sheet BANCO
A1: 97141 | B1: SINAPI | C1: ASSENTAMENTO DE TUBO DE FERRO FUNDIDO PARA REDE DE ÁGUA, DN 80 MM, JUNTA ELÁSTICA, INSTALADO EM LOCAL COM NÍVEL ALTO DE INTERFERÊNCIAS (NÃO INCLUI FORNECIMENTO). AF_05/2024 | D1: M | E1: 4.7
A2: 97142 | B2: SINAPI | C2: ASSENTAMENTO DE TUBO DE FERRO FUNDIDO PARA REDE DE ÁGUA, DN 100 MM, JUNTA ELÁSTICA, INSTALADO EM LOCAL COM NÍVEL ALTO DE INTERFERÊNCIAS (NÃO INCLUI FORNECIMENTO). AF_05/2024 | D2: M | E2: 5.38
A3: 97143 | B3: SINAPI | C3: ASSENTAMENTO DE TUBO DE FERRO FUNDIDO PARA REDE DE ÁGUA, DN 150 MM, JUNTA ELÁSTICA, INSTALADO EM LOCAL COM NÍVEL ALTO DE INTERFERÊNCIAS (NÃO INCLUI FORNECIMENTO). AF_05/2024 | D3: M | E3: 7.09
A4: 97144 | B4: SINAPI | C4: ASSENTAMENTO DE TUBO DE FERRO FUNDIDO PARA REDE DE ÁGUA, DN 200 MM, JUNTA ELÁSTICA, INSTALADO EM LOCAL COM NÍVEL ALTO DE INTERFERÊNCIAS (NÃO INCLUI FORNECIMENTO). AF_05/2024 | D4: M | E4: 8.78
A5: 97145 | B5: SINAPI | C5: ASSENTAMENTO DE TUBO DE FERRO FUNDIDO PARA REDE DE ÁGUA, DN 250 MM, JUNTA ELÁSTICA, INSTALADO EM LOCAL COM NÍVEL ALTO DE INTERFERÊNCIAS (NÃO INCLUI FORNECIMENTO). AF_05/2024 | D5: M | E5: 10.49
A6: 97146 | B6: SINAPI | C6: ASSENTAMENTO DE TUBO DE FERRO FUNDIDO PARA REDE DE ÁGUA, DN 300 MM, JUNTA ELÁSTICA, INSTALADO EM LOCAL COM NÍVEL ALTO DE INTERFERÊNCIAS (NÃO INCLUI FORNECIMENTO). AF_05/2024 | D6: M | E6: 12.22
A7: 97147 | B7: SINAPI | C7: ASSENTAMENTO DE TUBO DE FERRO FUNDIDO PARA REDE DE ÁGUA, DN 350 MM, JUNTA ELÁSTICA, INSTALADO EM LOCAL COM NÍVEL ALTO DE INTERFERÊNCIAS (NÃO INCLUI FORNECIMENTO). AF_05/2024 | D7: M | E7: 13.93
A8: 97148 | B8: SINAPI | C8: ASSENTAMENTO DE TUBO DE FERRO FUNDIDO PARA REDE DE ÁGUA, DN 400 MM, JUNTA ELÁSTICA, INSTALADO EM LOCAL COM NÍVEL ALTO DE INTERFERÊNCIAS (NÃO INCLUI FORNECIMENTO). AF_05/2024 | D8: M | E8: 15.64
A9: 97149 | B9: SINAPI | C9: ASSENTAMENTO DE TUBO DE FERRO FUNDIDO PARA REDE DE ÁGUA, DN 450 MM, JUNTA ELÁSTICA, INSTALADO EM LOCAL COM NÍVEL ALTO DE INTERFERÊNCIAS (NÃO INCLUI FORNECIMENTO). AF_05/2024 | D9: M | E9: 17.38
A10: 97150 | B10: SINAPI | C10: ASSENTAMENTO DE TUBO DE FERRO FUNDIDO PARA REDE DE ÁGUA, DN 500 MM, JUNTA ELÁSTICA, INSTALADO EM LOCAL COM NÍVEL ALTO DE INTERFERÊNCIAS (NÃO INCLUI FORNECIMENTO). AF_05/2024 | D10: M | E10: 21.84
A11: 97151 | B11: SINAPI | C11: ASSENTAMENTO DE TUBO DE FERRO FUNDIDO PARA REDE DE ÁGUA, DN 600 MM, JUNTA ELÁSTICA, INSTALADO EM LOCAL COM NÍVEL ALTO DE INTERFERÊNCIAS (NÃO INCLUI FORNECIMENTO). AF_05/2024 | D11: M | E11: 25.73
A12: 97152 | B12: SINAPI | C12: ASSENTAMENTO DE TUBO DE FERRO FUNDIDO PARA REDE DE ÁGUA, DN 700 MM, JUNTA ELÁSTICA, INSTALADO EM LOCAL COM NÍVEL ALTO DE INTERFERÊNCIAS (NÃO INCLUI FORNECIMENTO). AF_05/2024 | D12: M | E12: 29.38
... A12669: 41096 | B12669: SINAPI-I | C12669: VIGIA DIURNO (MENSALISTA) | D12669: MES | E12669: 2702.69
A12671: 8662 | B12671: SETOP | C12671: MOBILIZAÇÃO E DESMOBILIZAÇÃO DE OBRA
A12672: 8700 | B12672: SETOP | C12672: OBRAS EM CENTRO URBANO OU REGIÃO LIMÍTROFE
A12673: ED-50394 | B12673: SETOP | C12673: MOBILIZAÇÃO E DESMOBILIZAÇÃO DE OBRA EM CENTRO URBANO OU REGIÃO LIMÍTROFE COM VALOR ACIMA DE 3.000.000,01 | D12673: % | E12673: 0.2
A12674: ED-50392 | B12674: SETOP | C12674: MOBILIZAÇÃO E DESMOBILIZAÇÃO DE OBRA EM CENTRO URBANO OU REGIÃO LIMÍTROFE COM VALOR ATÉ 1.000.000,00 | D12674: % | E12674: 0.5
A12675: ED-50393 | B12675: SETOP | C12675: MOBILIZAÇÃO E DESMOBILIZAÇÃO DE OBRA EM CENTRO URBANO OU REGIÃO LIMÍTROFE COM VALOR ENTRE 1.000.000,01 E 3.000.000,00 | D12675: % | E12675: 0.3
A12676: 8701 | B12676: SETOP | C12676: OBRA DISTANTE DE CENTRO URBANO
A12677: ED-50391 | B12677: SETOP | C12677: MOBILIZAÇÃO E DESMOBILIZAÇÃO OBRA DISTANTE DE CENTRO URBANO COM ACIMA DE 3.000.000,01 | D12677: % | E12677: 1
A12678: ED-50389 | B12678: SETOP | C12678: MOBILIZAÇÃO E DESMOBILIZAÇÃO OBRA DISTANTE DE CENTRO URBANO COM VALOR ATÉ 1.000.000,00 | D12678: % | E12678: 2
A12679: ED-50390 | B12679: SETOP | C12679: MOBILIZAÇÃO E DESMOBILIZAÇÃO OBRA DISTANTE DE CENTRO URBANO COM VALOR ENTRE 1.000.000,01 E 3.000.000,00 | D12679: % | E12679: 1.5
A12680: 8663 | B12680: SETOP | C12680: SERVIÇOS PRELIMINARES
A12681: 8702 | B12681: SETOP | C12681: LIMPEZA DO TERRENO
A12682: ED-50701 | B12682: SETOP | C12682: CAPINA MANUAL DO TERRENO, EXCLUSIVE RASTELAMENTO E QUEIMA | D12682: m2 | E12682: 1.24
A12683: ED-28163 | B12683: SETOP | C12683: DESTOCAMENTO E AFASTAMENTO DE REMANESCENTE ARBÓREO, INCLUSIVE TRANSPORTE COM RETIRADA DO MATERIAL DESTOCADO (EM CAÇAMBA) | D12683: un | E12683: 478.35
A12684: ED-50703 | B12684: SETOP | C12684: LIMPEZA DE TERRENO, INCLUSIVE CAPINA, RASTELAMENTO COM AFASTAMENTO ATÉ VINTE (20) METROS E QUEIMA CONTROLADA | D12684: m2 | E12684: 2.19
A12685: ED-8143 | B12685: SETOP | C12685: RASTELAMENTO DE ÁREA COM AFASTAMENTO DE ATÉ VINTE (20) METROS, EXCLUSIVE CAPINA OU ROÇADA MANUAL | D12685: m2 | E12685: 0.82
A12686: ED-28162 | B12686: SETOP | C12686: ROÇADA MANUAL DE TERRENO COM ROÇADEIRA COSTAL, EXCLUSIVE RASTELAMENTO E QUEIMA | D12686: m2 | E12686: 0.25
A12687: 8703 | B12687: SETOP | C12687: DESMATAMENTO E DESTOCAMENTO
A12688: ED-50702 | B12688: SETOP | C12688: DESMATAMENTO, DESTOCAMENTO E LIMPEZA, INCLUSIVE TRANSPORTE ATÉ CINQUENTA (50) METROS | D12688: m2 | E12688: 0.49
A12689: 8704 | B12689: SETOP | C12689: SUPRESSÃO DE ÁRVORE
A12690: ED-50699 | B12690: SETOP | C12690: CORTE DE ÁRVORE COM MOTOSSERRA, DIÂMETRO DO TRONCO ACIMA DE TRINTA (30) CENTÍMETROS ATÉ CINQUENTA (50) CENTÍMETROS, EXCLUSIVE DESTOCAMENTO E AFASTAMENTO | D12690: un | E12690: 86.57
A12691: ED-50697 | B12691: SETOP | C12691: CORTE DE ÁRVORE COM MOTOSSERRA, DIÂMETRO DO TRONCO DE QUINZE (15) CENTÍMETROS ATÉ TRINTA (30) CENTÍMETROS, EXCLUSIVE DESTOCAMENTO E AFASTAMENTO | D12691: un | E12691: 51.94
A12692: 8706 | B12692: SETOP | C12692: REMOÇÃO DE TELHADO
A12693: ED-48438 | B12693: SETOP | C12693: REMOÇÃO DE CALHA EM CHAPA GALVANIZADA OU EM PVC, COM REAPROVEITAMENTO, INCLUSIVE AFASTAMENTO E EMPILHAMENTO, EXCLUSIVE TRANSPORTE E RETIRADA DO MATERIAL REMOVIDO NÃO REAPROVEITÁVEL | D12693: m | E12693: 4.29
A12694: ED-48446 | B12694: SETOP | C12694: REMOÇÃO MANUAL DE CONDUTOR EM PVC OU METÁLICO, COM REAPROVEITAMENTO, INCLUSIVE AFASTAMENTO E EMPILHAMENTO, EXCLUSIVE TRANSPORTE E RETIRADA DO MATERIAL REMOVIDO NÃO REAPROVEITÁVEL | D12694: m | E12694: 5.15
A12695: ED-48455 | B12695: SETOP | C12695: REMOÇÃO MANUAL DE ENGRADAMENTO PARA TELHA TIPO CALHA ESTRUTURAL EM FIBROCIMENTO, COM REAPROVEITAMENTO, INCLUSIVE AFASTAMENTO E EMPILHAMENTO, EXCLUSIVE TRANSPORTE E RETIRADA DO MATERIAL REMOVIDO NÃO REAPROVEITÁVEL | D12695: m2 | E12695: 10.32
A12696: ED-48457 | B12696: SETOP | C12696: REMOÇÃO MANUAL DE ENGRADAMENTO PARA TELHA TIPO CERÂMICA OU CONCRETO, INCLUSIVE AFASTAMENTO E EMPILHAMENTO, EXCLUSIVE TRANSPORTE E RETIRADA DO MATERIAL REMOVIDO NÃO REAPROVEITÁVEL | D12696: m2 | E12696: 20.64
A12697: ED-48454 | B12697: SETOP | C12697: REMOÇÃO MANUAL DE ENGRADAMENTO PARA TELHA TIPO METÁLICA, PVC OU FIBROCIMENTO, COM REAPROVEITAMENTO, INCLUSIVE AFASTAMENTO E EMPILHAMENTO, EXCLUSIVE TRANSPORTE E RETIRADA DO MATERIAL REMOVIDO NÃO REAPROVEITÁVEL | D12697: m2 | E12697: 13.76
...

Sheet cronograma
A1: Empresa: SOLAR GP DOS SANTOS CONSTRUCOES E REFORMAS LTDA | H1: SINAPI - 11/2022 - MG | J1: B.D.I. | L1: Encargos Sociais Não Desonerado: embutido nos preços unitário dos insumos de mão de obra, de acordo com as bases.
A2: Endereço: | H2: SETOP - 10/2022 - MG | J2: 21%
A3: CRONOGRAMA FÍSICO-FINANCEIRO
A4: Item | B4: Descrição | F4: Total por etapa | I4: 01 MÊS | J4: 03 MESES | K4: 06 MESES | L4: 09 MESES | M4: 12 MESES
A5: 1 | B5: SERVIÇOS PRELIMINARES | F5: =ORÇAMENTO!J23 -> 629.5 | I5: =F5 -> 629.5
A6: 2 | B6: MOV. DE TERRAS | F6: =ORÇAMENTO!#REF! -> #REF! | I6: =F6 -> #REF!
A7: 4 | B7: INFRAESTRUTURA e SUPERESTRUTURA | F7: =ORÇAMENTO!#REF! -> #REF! | J7: =F7 -> #REF!
A8: 5 | B8: ALVENARIAS E FECHAMENTOS | F8: =ORÇAMENTO!#REF! -> #REF! | K8: =F8 -> #REF!
A9: 6 | B9: REVESTIMENTOS | F9: =ORÇAMENTO!#REF! -> #REF! | L9: =F9 -> #REF!
A10: 7 | B10: PINTURA | F10: =ORÇAMENTO!#REF! -> #REF! | L10: =F10*0.5 -> #REF! | M10: =F10*0.5 -> #REF!
A11: 8 | B11: INSTALAÇÕES ELÉTRICAS | F11: =ORÇAMENTO!#REF! -> #REF! | K11: =F11 -> #REF!
A12: 9 | B12: INSTALAÇÕES HIDRAULICAS e SANITÁRIAS | F12: =ORÇAMENTO!#REF! -> #REF! | K12: =F12 -> #REF!
A13: 10 | B13: ESQUADRIAS | F13: =ORÇAMENTO!#REF! -> #REF! | L13: =F13 -> #REF!
A14: 11 | B14: COBERTURA | F14: =ORÇAMENTO!#REF! -> #REF! | K14: =F14 -> #REF!
A15: 12 | B15: SERVIÇOS COMPLEMENTARES | F15: =ORÇAMENTO!#REF! -> #REF! | M15: =F15 -> #REF!
A16: TOTAL | F16: =SUM(F5:H15) -> #REF!
A17: Porcentagem | I17: =(I5+I6)/F16 -> #REF! | J17: =J7/F16 -> #REF! | K17: =(K8+K11+K12+K14)/F16 -> #REF! | L17: =(L9+L10+L13)/F16 -> #REF! | M17: =(M10+M15)/F16 -> #REF!
A18: Custo | I18: =SUM(I5:I16) -> #REF! | J18: =SUM(J5:J16) -> #REF! | K18: =SUM(K5:K16) -> #REF! | L18: =SUM(L5:L16) -> #REF! | M18: =SUM(M5:M16) -> #REF!
A19: Porcentagem Acumulada | I19: =I17 -> #REF! | J19: =I19+J17 -> #REF! | K19: =J19+K17 -> #REF! | L19: =K19+L17 -> #REF! | M19: =L19+M17 -> #REF!
A20: Custo Acumulado | I20: =I18 -> #REF! | J20: =I20+J18 -> #REF! | K20: =J20+K18 -> #REF! | L20: =K20+L18 -> #REF! | M20: =L20+M18 -> #REF!
C22: Data: | D22: 45125
C26: _______________________________________ | I26: ___________________________________
C27: Engenheiro Civil | I27: SOLAR GP DOS SANTOS CONSTRUCOES E REFORMAS LTDA
C28: Vinícius Tófani Cruz | I28: CNPJ: 04.871.223/0001-85
C29: CREA: 211590/D
