Workbook

Sheet Orçamento Sintético
D1: SECRETARIA DE ESTADO DE SAÚDE - MUNICÍPIO -
D2: OBRA | E2: Bancos | H2: B.D.I. | I2: ENCARGOS SOCIAIS
D3: UBS PADRÃO SES TIPO I ALVENARIA | E3: SINAPI -09/2023 - MG ORSE - Agosto/2023-1 SBC - 01/10/2023 SETOP - 04/2023 - MG - LESTE | H3: 0.3091 | I3: ONERADO ( ) DESONERADO (x)
D4: ENDEREÇO: Rua José Coelho, s/n - Centro | I4: Data
D5: Resende Costa - Minas Gerais | I5: 45230
A6: Orçamento Sintético
A7: Item | B7: Código | C7: Banco | D7: Descrição | E7: Und | F7: Quant. | G7: Valor Unit | H7: Valor Unit com BDI | I7: Total | J7: Peso (%)
A8: 1 | D8: PROJETOS COMPLEMENTARES | I8: =I9+I10+I11+I12+I13+I14 -> 22273.224 | J8: =I8/I339 -> 0.011009322
A9: 1.1 | B9: CO-27427 | C9: COMPOSIÇÃO | D9: PROJETO EXECUTIVO DE ESTRUTURA DE CONCRETO (INCLUSIVE FUNDAÇÃO) | E9: PR A1 | F9: 4 | G9: 1482.73 | H9: =G9*1.3091 -> 1941.0418 | I9: =F9*H9 -> 7764.1674 | J9: =I9/I339 -> 0.003837712
A10: 1.2 | B10: CO-27431 | C10: COMPOSIÇÃO | D10: PROJETO EXECUTIVODE INSTALAÇÕES ELÉTRICAS | E10: PR A1 | F10: 2 | G10: 1765.98 | H10: =G10*1.3091 -> 2311.8444 | I10: =F10*H10 -> 4623.6888 | J10: =I10/I339 -> 0.0022854203
A11: 1.3 | B11: CO-27430 | C11: COMPOSIÇÃO | D11: PROJETO EXECUTIVO DE INSTALAÇÕES HIDRO SANITÁRIAS | E11: PR A1 | F11: 2 | G11: 1693.84 | H11: =G11*1.3091 -> 2217.4059 | I11: =F11*H11 -> 4434.8119 | J11: =I11/I339 -> 0.0021920613
A12: 1.4 | B12: CO-27434 | C12: COMPOSIÇÃO | D12: PROJETO EXECUTIVO DE SPDA | E12: PR A1 | F12: 1 | G12: 1273.56 | H12: =G12*1.3091 -> 1667.2174 | I12: =F12*H12 -> 1667.2174 | J12: =I12/I339 -> 0.00082408066
A13: 1.5 | B13: CO-27480 | C13: COMPOSIÇÃO | D13: PROJETO EXECUTIVO DE GASES MEDICINAIS | E13: PR A1 | F13: 1 | G13: 1390.83 | H13: =G13*1.3091 -> 1820.7356 | I13: =F13*H13 -> 1820.7356 | J13: =I13/I339 -> 0.00089996239
A14: 1.6 | B14: CO-27468 | C14: COMPOSIÇÃO | D14: PROJETO EXECUTIVO DE PREVENÇÃO E COMBATE A INCÊNDIO | E14: PR A1 | F14: 1 | G14: 1499.2 | H14: =G14*1.3091 -> 1962.6027 | I14: =F14*H14 -> 1962.6027 | J14: =I14/I339 -> 0.00097008521
A15: 2 | D15: MOBILIZAÇÃO - CANTEIRO DE OBRAS | I15: =I16+I17+I18+I19+I20+I21+I22+I23 -> 35545.647 | J15: =I15/I339 -> 0.017569683
A16: 2.1 | B16: ED-28427 | C16: SETOP | D16: FORNECIMENTO E COLOCAÇÃO DE PLACA DE OBRA EM CHAPA GALVANIZADA #26, ESP. 0,45MM, DIMENSÃO (3X1,5)M, PLOTADA COM ADESIVO VINÍLICO, AFIXADA COM REBITES 4,8X40MM, EM ESTRUTURA METÁLICA DE METALON 20X20MM, ESP. 1,25MM, INCLUSIVE SUPORTE EM EUCALIPTO AUTOCLAVADO PINTADO COM TINTA PVA DUAS (2) DEMÃOS | E16: UN | F16: 1 | G16: 1429.69 | H16: =G16*1.3091 -> 1871.6072 | I16: =F16*H16 -> 1871.6072 | J16: =I16/I339 -> 0.00092510748
A17: 2.2 | B17: ED-50159 | C17: SETOP | D17: TAPUME FIXO DE PROTEÇÃO PARA FECHAMENTO DE OBRA EM CHAPA DE COMPENSADO, ESP. 12MM, COM MÓDULO NA DIMENSÃO DE (110X220)CM, INCLUSIVE PINTURA LÁTEX (PVA) COM DUAS (2) DEMÃOS, EXCLUSIVE ABERTURA PARA PORTÃO | E17: M | F17: 24 | G17: 197.19 | H17: =G17*1.3091 -> 258.14143 | I17: =F17*H17 -> 6195.3943 | J17: =I17/I339 -> 0.0030622909
A18: 2.3 | B18: ED-50703 | C18: SETOP | D18: LIMPEZA DE TERRENO, INCLUSIVE CAPINA, RASTELAMENTO COM AFASTAMENTO ATÉ VINTE (20) METROS E QUEIMA CONTROLADA | E18: M² | F18: 720 | G18: 2.08 | H18: =G18*1.3091 -> 2.722928 | I18: =F18*H18 -> 1960.5082 | J18: =I18/I339 -> 0.0009690499
A19: 2.4 | B19: ED-50151 | C19: SETOP | D19: LIGAÇÃO PROVISÓRIA COM ENTRADA DE ENERGIA AÉREA, PADRÃO CEMIG, CARGA INSTALADA DE 15,1KVA ATÉ 30KVA, TRIFÁSICO, COM SAÍDA SUBTERRÂNEA, INCLUSIVE POSTE, CAIXA PARA MEDIDOR, DISJUNTOR, BARRAMENTO, ATERRAMENTO E ACESSÓRIOS | E19: UN | F19: 1 | G19: 1159.22 | H19: =G19*1.3091 -> 1517.5349 | I19: =F19*H19 -> 1517.5349 | J19: =I19/I339 -> 0.00075009484
A20: 2.5 | B20: ED-50150 | C20: SETOP | D20: LIGAÇÃO DE ÁGUA PROVISÓRIA PARA CANTEIRO, INCLUSIVE HIDRÔMETRO E CAVALETE PARA MEDIÇÃO DE ÁGUA - ENTRADA PRINCIPAL, EM AÇO GALVANIZADO DN 20MM (1/2") - PADRÃO CONCESSIONÁRIA | E20: UN | F20: 1 | G20: 375.16 | H20: =G20*1.3091 -> 491.12196 | I20: =F20*H20 -> 491.12196 | J20: =I20/I339 -> 0.00024275425
A21: 2.6 | B21: ED-17989 | C21: SETOP | D21: LOCAÇÃO DE OBRA COM GABARITO DE TÁBUAS CORRIDAS PONTALETADAS A CADA 2,00M, REAPROVEITAMENTO (2X), INCLUSIVE ACOMPANHAMENTO DE EQUIPE TOPOGRÁFICA PARA MARCAÇÃO DE PONTO TOPOGRÁFICO | E21: M | F21: 121 | G21: 49.69 | H21: =G21*1.3091 -> 65.049179 | I21: =F21*H21 -> 7870.9507 | J21: =I21/I339 -> 0.0038904934
A22: 2.7 | B22: ED-50128 | C22: SETOP | D22: BARRACÃO DE OBRA PARA DEPÓSITO E FERRAMENTARIA TIPO-I, ÁREA INTERNA 14,52M2, EM CHAPA DE COMPENSADO RESINADO, INCLUSIVE MOBILIÁRIO (OBRA DE PEQUENO PORTE, EFETIVO ATÉ 30 HOMENS), PADRÃO DER-MG | E22: UN | F22: 1 | G22: 7323.59 | H22: =G22*1.3091 -> 9587.3117 | I22: =F22*H22 -> 9587.3117 | J22: =I22/I339 -> 0.004738865
A23: 2.8 | B23: ED-50393 | C23: SETOP | D23: MOBILIZAÇÃO E DESMOBILIZAÇÃO DE OBRA EM CENTRO URBANO OU REGIÃO LIMÍTROFE COM VALOR ENTRE 1.000.000,01 E 3.000.000,00 | E23: % | F23: 0.3 | G23: 2017072.8 | H23: 2017072.8 | I23: =H23*0.003 -> 6051.2185 | J23: =I23/I339 -> 0.0029910269 | M23: 1
A24: 3 | D24: MOVIMENTO DE TERRA / FUNDAÇÃO / ESTRUTURA | I24: =I25+I30+I36 -> 319540.05 | J24: =I24/I339 -> 0.15794387
A25: 3.1 | D25: MOVIMENTO DE TERRA | I25: =I26+I27+I28+I29 -> 22366.461 | J25: =I25/I339 -> 0.011055408
A26: 3.1.1 | B26: ED-51107 | C26: SETOP | D26: ESCAVAÇÃO MANUAL DE VALA COM PROFUNDIDADE MENOR OU IGUAL A 1,5M, INCLUSIVE DESCARGA LATERAL | E26: M³ | F26: 130.93 | G26: 60.61 | H26: =G26*1.3091 -> 79.344551 | I26: =F26*H26 -> 10388.582 | J26: =I26/I339 -> 0.005134921
A27: 3.1.2 | B27: ED-51120 | C27: SETOP | D27: REATERRO MANUAL DE VALA, INCLUSIVE ESPALHAMENTO E COMPACTAÇÃO MANUAL COM SOQUETE | E27: M³ | F27: 96.93 | G27: 60.61 | H27: =G27*1.3091 -> 79.344551 | I27: =F27*H27 -> 7690.8673 | J27: =I27/I339 -> 0.0038014809
A28: 3.1.3 | B28: ED-51132 | C28: SETOP | D28: CARGA MECÂNICA DE MATERIAL DE QUALQUER NATUREZA SOBRE CAMINHÃO, EXCLUSIVE TRANSPORTE | E28: M³ | F28: 44.2 | G28: 3.01 | H28: =G28*1.3091 -> 3.940391 | I28: =F28*H28 -> 174.16528 | J28: =I28/I339 -> 8.6087298e-05
A29: 3.1.4 | B29: ED-51131 | C29: SETOP | D29: TRANSPORTE DE MATERIAL DE QUALQUER NATUREZA EM CAMINHÃO, DISTÂNCIA MAIOR QUE 2KM E MENOR OU IGUAL A 5KM, DENTRO DO PERÍMETRO URBANO, EXCLUSIVE CARGA, INCLUSIVE DESCARGA | E29: M3xKM | F29: 88.4 | G29: 35.54 | H29: =G29*1.3091 -> 46.525414 | I29: =F29*H29 -> 4112.8466 | J29: =I29/I339 -> 0.0020329186
A30: 3.2 | D30: FUNDAÇÃO | I30: =I31+I32+I33+I34+I35 -> 92607.27 | J30: =I30/I339 -> 0.04577439
A31: 3.2.1 | B31: ED-51093 | C31: SETOP | D31: APILOAMENTO MANUAL EM FUNDO DE VALA COM SOQUETE, EXCLUSIVE ESCAVAÇÃO | E31: M² | F31: 163.06 | G31: 20.43 | H31: =G31*1.3091 -> 26.744913 | I31: =F31*H31 -> 4361.0255 | J31: =I31/I339 -> 0.0021555898
A32: 3.2.2 | B32: ED-48311 | C32: SETOP | D32: CONCRETO MAGRO, TRAÇO 1:3:6, PREPARADO EM OBRA COM BETONEIRA, SEM FUNÇÃO ESTRUTURAL | E32: M³ | F32: 4.75 | G32: 379.79 | H32: =G32*1.3091 -> 497.18309 | I32: =F32*H32 -> 2361.6197 | J32: =I32/I339 -> 0.0011673133
A33: 3.2.3 | B33: ED-49811 | C33: SETOP | D33: FORMA E DESFORMA DE COMPENSADO RESINADO, ESP. 12MM, REAPROVEITAMENTO (3X) (FUNDAÇÃO) | E33: M² | F33: 272.54 | G33: 60.12 | H33: =G33*1.3091 -> 78.703092 | I33: =F33*H33 -> 21449.741 | J33: =I33/I339 -> 0.010602286
A34: 3.2.4 | B34: ED-48298 | C34: SETOP | D34: CORTE, DOBRA E MONTAGEM DE AÇO CA-50/60, INCLUSIVE ESPAÇADOR | E34: Kg | F34: 2013.95 | G34: 12.82 | H34: =G34*1.3091 -> 16.782662 | I34: =F34*H34 -> 33799.442 | J34: =I34/I339 -> 0.016706559
A35: 3.2.5 | B35: ED-49638 | C35: SETOP | D35: FORNECIMENTO DE CONCRETO ESTRUTURAL, USINADO BOMBEADO, COM FCK 25 MPA, INCLUSIVE LANÇAMENTO, ADENSAMENTO E ACABAMENTO | E35: M³ | F35: 33.15 | G35: 705.94 | H35: =G35*1.3091 -> 924.14605 | I35: =F35*H35 -> 30635.442 | J35: =I35/I339 -> 0.015142641
A36: 3.3 | D36: ESTRUTURA | I36: =I37+I38+I39+I40+I41 -> 204566.32 | J36: =I36/I339 -> 0.10111408
A37: 3.3.1 | B37: ED-49645 | C37: SETOP | D37: FORMA E DESFORMA DE COMPENSADO RESINADO, ESP. 12MM, REAPROVEITAMENTO (3X), EXCLUSIVE ESCORAMENTO | E37: M² | F37: 462.87 | G37: 59.84 | H37: =G37*1.3091 -> 78.336544 | I37: =F37*H37 -> 36259.636 | J37: =I37/I339 -> 0.017922597
A38: 3.3.2 | B38: ED-48298 | C38: SETOP | D38: CORTE, DOBRA E MONTAGEM DE AÇO CA-50/60, INCLUSIVE ESPAÇADOR | E38: Kg | F38: 2937.24 | G38: 12.82 | H38: =G38*1.3091 -> 16.782662 | I38: =F38*H38 -> 49294.706 | J38: =I38/I339 -> 0.024365637
A39: 3.3.3 | B39: ED-49638 | C39: SETOP | D39: FORNECIMENTO DE CONCRETO ESTRUTURAL, USINADO BOMBEADO, COM FCK 25 MPA, INCLUSIVE LANÇAMENTO, ADENSAMENTO E ACABAMENTO | E39: M³ | F39: 37.03 | G39: 705.94 | H39: =G39*1.3091 -> 924.14605 | I39: =F39*H39 -> 34221.128 | J39: =I39/I339 -> 0.016914993
A40: 3.3.4 | B40: ED-50246 | C40: SETOP | D40: LAJE PRÉ-MOLDADA UNIDIRECIONAL COM LAJOTA CERÂMICA, CAPEAMENTO DE 4CM, SOBRECARGA DE 200KG/M2, ALTURA TOTAL DE 11CM E VÃO LIVRE MÁXIMO DE 4M, INCLUSIVE CONCRETO ESTRUTURAL, USINADO E BOMBEADO COM FCK DE 20MPA, EXCLUSIVE TELA ARMADA E CIMBRAMENTO | E40: M² | F40: 422.98 | G40: 142.18 | H40: =G40*1.3091 -> 186.12784 | I40: =F40*H40 -> 78728.353 | J40: =I40/I339 -> 0.038914249
A41: 3.3.5 | B41: ED-9906 | C41: SETOP | D41: VERGA EM CONCRETO ESTRUTURAL PARA VÃOS ACIMA DE 150CM, PREPARADO EM OBRA COM BETONEIRA, CONTROLE "A", COM FCK 20 MPA, MOLDADA IN LOCO, INCLUSIVE ARMAÇÃO | E41: M³ | F41: 1.6 | G41: 2894.4 | H41: =G41*1.3091 -> 3789.059 | I41: =F41*H41 -> 6062.4945 | J41: =I41/I339 -> 0.0029966005
A42: 4 | D42: ALVENARIA - VEDAÇÃO | I42: =I43+I44+I45+I46+I47 -> 147871.1 | J42: =I42/I339 -> 0.073090475
A43: 4.1 | B43: ED-48231 | C43: SETOP | D43: ALVENARIA DE VEDAÇÃO COM TIJOLO CERÂMICO FURADO, ESP. 9CM, PARA REVESTIMENTO, INCLUSIVE ARGAMASSA PARA ASSENTAMENTO | E43: M² | F43: 984.47 | G43: 45.93 | H43: =G43*1.3091 -> 60.126963 | I43: =F43*H43 -> 59193.191 | J43: =I43/I339 -> 0.02925831
A44: 4.2 | B44: CP-042 | C44: COMPOSIÇÃO | D44: ALVENARIA DE VEDAÇÃO COM TIJOLO ECOLÓGICO, ESP. 10CM, COM ACABAMENTO APARENTE, INCLUSIVE ARGAMASSA PARA ASSENTAMENTO | E44: M² | F44: 10.65 | G44: 174.68 | H44: =G44*1.3091 -> 228.67359 | I44: =F44*H44 -> 2435.3737 | J44: =I44/I339 -> 0.0012037689
A45: 4.3 | B45: ED-48209 | C45: SETOP | D45: PAREDE EM CHAPA DE GESSO ACARTONADO (DRYWALL), DIVISÃO ENTRE ÁREAS SECAS DE UMA MESMA UNIDADE (ST/ST), ESP. 115 MM, INCLUSIVE MONTANTES, GUIAS E ACESSÓRIOS, EXCLUSIVE ISOLANTE TÉRMICO/ACÚSTICO | E45: M² | F45: 4.73 | G45: 92.83 | H45: =G45*1.3091 -> 121.52375 | I45: =F45*H45 -> 574.80735 | J45: =I45/I339 -> 0.00028411869
A46: 4.4 | B46: ED-48533 | C46: SETOP | D46: DIVISÓRIA EM GRANITO CINZA ANDORINHA E = 3 CM, INCLUSIVE FERRAGENS EM LATÃO CROMADO | E46: M² | F46: 2.04 | G46: 659.22 | H46: =G46*1.3091 -> 862.9849 | I46: =F46*H46 -> 1760.4892 | J46: =I46/I339 -> 0.00087018352
A47: 4.5 | B47: ED-50407 | C47: SETOP | D47: MURO DIVISÓRIO TIJOLO FURADO E = 10 CM, REBOCADO E PINTADO A LATEX H = 2,20 M, INCLUSIVE SAPATA DE CONCRETO ARMADO FCK = 15 MPA, 50 x 55 CM | E47: M | F47: 84 | G47: 763.04 | H47: =G47*1.3091 -> 998.89566 | I47: =F47*H47 -> 83907.236 | J47: =I47/I339 -> 0.041474093
A48: 5 | D48: IMPERMEABILIZAÇÃO | I48: =I49+I50 -> 16424.683 | J48: =I48/I339 -> 0.0081184754
A49: 5.1 | B49: ED-50174 | C49: SETOP | D49: PINTURA COM EMULSÃO ASFÁLTICA, DUAS (2) DEMÃOS | E49: M² | F49: 311.05 | G49: 23.36 | H49: =G49*1.3091 -> 30.580576 | I49: =F49*H49 -> 9512.0882 | J49: =I49/$I$339 -> 0.0047016831
A50: 5.2 | B50: ED-50168 | C50: SETOP | D50: IMPERMEABILIZAÇÃO COM MANTA ASFÁLTICA PRÉ-FABRICADA, E = 4 MM | E50: M² | F50: 83.13 | G50: 63.52 | H50: =G50*1.3091 -> 83.154032 | I50: =F50*H50 -> 6912.5947 | J50: =I50/$I$339 -> 0.0034167923
A51: 6 | D51: COBERTURA | I51: =I52+I53+I54+I55+I56+I57 -> 308639.35 | J51: =I51/$I$339 -> 0.15255582
A52: 6.1 | B52: ED-20603 | C52: SETOP | D52: FORNECIMENTO DE ESTRUTURA METÁLICA E ENGRADAMENTO METÁLICO, EM AÇO, PARA TELHADO, EXCLUSIVE TELHA, INCLUSIVE FABRICAÇÃO, TRANSPORTE, MONTAGEM E APLICAÇÃO DE FUNDO PREPARADOR ANTICORROSIVO EM SUPERFÍCIE METÁLICA, UMA (1) DEMÃO | E52: Kg | F52: 4819.28 | G52: 22.92 | H52: =G52*1.3091 -> 30.004572 | I52: =F52*H52 -> 144600.43 | J52: =I52/$I$339 -> 0.071473835
A53: 6.2 | B53: ED-48402 | C53: SETOP | D53: COLOCAÇÃO DE CUMEEIRA GALVANIZADA TRAPEZOIDAL E = 0,50 MM, SIMPLES | E53: M | F53: 44.69 | G53: 55.95 | H53: =G53*1.3091 -> 73.244145 | I53: =F53*H53 -> 3273.2808 | J53: =I53/$I$339 -> 0.0016179338
A54: 6.3 | B54: 13060 | C54: ORSE | D54: FORNECIMENTO E INSTALAÇÃO DE CHAPAS DE POLICARBONATO, E=8MM EM TOLDO/COBERTURA/FECHAMENTO/ETC - REV 01 | E54: M² | F54: 32.7 | G54: 471.35 | H54: =G54*1.3091 -> 617.04428 | I54: =F54*H54 -> 20177.348 | J54: =I54/$I$339 -> 0.0099733618
A55: 6.4 | B55: ED-50648 | C55: SETOP | D55: CALHA EM CHAPA GALVANIZADA, ESP. 0,8MM (GSG-22), COM DESENVOLVIMENTO DE 33CM, INCLUSIVE IÇAMENTO MANUAL VERTICAL | E55: M | F55: 78.15 | G55: 63.51 | H55: =G55*1.3091 -> 83.140941 | I55: =F55*H55 -> 6497.4645 | J55: =I55/$I$339 -> 0.0032115997
A56: 6.5 | B56: ED-50675 | C56: SETOP | D56: RUFO E CONTRARRUFO EM CHAPA GALVANIZADA, ESP. 0,65MM (GSG-24), COM DESENVOLVIMENTO DE 15CM, INCLUSIVE IÇAMENTO MANUAL VERTICAL | E56: M | F56: 135.99 | G56: 28.89 | H56: =G56*1.3091 -> 37.819899 | I56: =F56*H56 -> 5143.1281 | J56: =I56/$I$339 -> 0.0025421714
A57: 6.6 | B57: ED-48429 | C57: SETOP | D57: COBERTURA EM TELHA METÁLICA GALVANIZADA TRAPEZOIDAL, TIPO DUPLA TERMOACÚSTICA COM DUAS FACES TRAPEZOIDAIS, ESP. 0,43MM, PREENCHIMENTO EM POLIESTIRENO EXPANDIDO/ISOPOR COM ESP. 30MM, ACABAMENTO NATURAL, INCLUSIVE ACESSÓRIOS PARA FIXAÇÃO, FORNECIMENTO E INSTALAÇÃO | E57: M² | F57: 420.28 | G57: 234.37 | H57: =G57*1.3091 -> 306.81377 | I57: =F57*H57 -> 128947.69 | J57: =I57/$I$339 -> 0.063736917
A58: 7 | D58: REVESTIMENTOS- PISOS, PAREDES E TETOS | I58: =I59+I72+I81 -> 417792.11 | J58: =I58/$I$339 -> 0.2065084
A59: 7.1 | D59: PISOS | I59: =I60+I61+I62+I63+I64+I65+I66+I67+I68+I69+I70+I71 -> 153375.58 | J59: =I59/$I$339 -> 0.07581126
A60: 7.1.1 | B60: ED-50621 | C60: SETOP | D60: SÓCULO COM ENCHIMENTO EM TIJOLOS MACIÇOS, ALTURA DE 10CM À 12CM, INCLUSIVE ACABAMENTO FINAL EM ARGAMASSA, ESP. 20MM, APLICAÇÃO MANUAL | E60: M² | F60: 5.34 | G60: 92.03 | H60: =G60*1.3091 -> 120.47647 | I60: =F60*H60 -> 643.34437 | J60: =I60/$I$339 -> 0.00031799551
A61: 7.1.2 | B61: ED-51144 | C61: SETOP | D61: PASSEIOS DE CONCRETO E = 8 CM, FCK = 15 MPA PADRÃO PREFEITURA | E61: M² | F61: 144.64 | G61: 67.74 | H61: =G61*1.3091 -> 88.678434 | I61: =F61*H61 -> 12826.449 | J61: =I61/$I$339 -> 0.006339922
A62: 7.1.3 | B62: ED-50418 | C62: SETOP | D62: EXECUÇÃO DE PAVIMENTO INTERTRAVADO, ESPESSURA 8CM, FCK 35MPA, INCLUINDO FORNECIMENTO E TRANSPORTE DE TODOS OS MATERIAIS E COLCHÃO DE ASSENTAMENTO COM ESPESSURA 6CM | E62: M² | F62: 56.45 | G62: 79.36 | H62: =G62*1.3091 -> 103.89018 | I62: =F62*H62 -> 5864.6004 | J62: =I62/$I$339 -> 0.0028987844
A63: 7.1.4 | B63: ED-51139 | C63: SETOP | D63: GUIA DE MEIO-FIO, EM CONCRETO COM FCK 20MPA, PRÉ-MOLDADA, MFC-01 PADRÃO DER-MG, DIMENSÕES (12X16,7X35)CM, EXCLUSIVE SARJETA, INCLUSIVE ESCAVAÇÃO, APILOAMENTO E TRANSPORTE COM RETIRADA DO MATERIAL ESCAVADO (EM CAÇAMBA) | E63: M | F63: 46.88 | G63: 54.63 | H63: =G63*1.3091 -> 71.516133 | I63: =F63*H63 -> 3352.6763 | J63: =I63/$I$339 -> 0.0016571778
A64: 7.1.5 | B64: ED-14763 | C64: SETOP | D64: SARJETA DE CONCRETO URBANO (SCU), TIPO 2, COM FCK 15 MPA, LARGURA DE 50CM COM INCLINAÇÃO DE 15%, ESP. 7CM, PADRÃO DER-MG, EXCLUSIVE MEIO-FIO, INCLUSIVE ESCAVAÇÃO, APILAOMENTO E TRANSPORTE COM RETIRADA DO MATERIAL ESCAVADO (EM CAÇAMBA) | E64: M | F64: 24 | G64: 39.68 | H64: =G64*1.3091 -> 51.945088 | I64: =F64*H64 -> 1246.6821 | J64: =I64/$I$339 -> 0.00061621635
A65: 7.1.6 | B65: ED-50771 | C65: SETOP | D65: RODAPÉ COM REVESTIMENTO EM CERÂMICA ESMALTADA COMERCIAL, ALTURA 10CM, PEI IV, ASSENTAMENTO COM ARGAMASSA INDUSTRIALIZADA, INCLUSIVE REJUNTAMENTO | E65: M | F65: 272.05 | G65: 11.78 | H65: =G65*1.3091 -> 15.421198 | I65: =F65*H65 -> 4195.3369 | J65: =I65/$I$339 -> 0.0020736924
A66: 7.1.7 | B66: ED-51002 | C66: SETOP | D66: SOLEIRA DE GRANITO CINZA ANDORINHA E = 2 CM | E66: M² | F66: 1.76 | G66: 295.31 | H66: =G66*1.3091 -> 386.59032 | I66: =F66*H66 -> 680.39896 | J66: =I66/$I$339 -> 0.00033631105
A67: 7.1.8 | B67: ED-51144 | C67: SETOP | D67: PASSEIOS DE CONCRETO E = 8 CM, FCK = 15 MPA PADRÃO PREFEITURA | E67: M² | F67: 60 | G67: 67.74 | H67: =G67*1.3091 -> 88.678434 | I67: =F67*H67 -> 5320.706 | J67: =I67/$I$339 -> 0.0026299455
A68: 7.1.9 | B68: ED-15226 | C68: SETOP | D68: PISO PODOTÁTIL DE CONCRETO, ALERTA, APLICADO EM PISO (20X20CM) COM JUNTA SECA, COR VERMELHO/AMARELO, ASSENTAMENTO COM ARGAMASSA INDUSTRIALIZADA, INCLUSIVE FORNECIMENTO E INSTALAÇÃO | E68: M² | F68: 2.31 | G68: 100.25 | H68: =G68*1.3091 -> 131.23727 | I68: =F68*H68 -> 303.15811 | J68: =I68/$I$339 -> 0.00014984652
A69: 7.1.10 | B69: ED-50569 | C69: SETOP | D69: CONTRAPISO DESEMPENADO COM ARGAMASSA, TRAÇO 1:3 (CIMENTO E AREIA), ESP. 50MM | E69: M² | F69: 367.78 | G69: 56.2 | H69: =G69*1.3091 -> 73.57142 | I69: =F69*H69 -> 27058.097 | J69: =I69/$I$339 -> 0.013374413
A70: 7.1.11 | B70: ED-50170 | C70: SETOP | D70: CAMADA DE REGULARIZAÇÃO COM ARGAMASSA, TRAÇO 1:3 (CIMENTO E AREIA), ESP. 30MM, APLICAÇÃO MANUAL, PREPARO MECÂNICO | E70: M² | F70: 367.78 | G70: 40.65 | H70: =G70*1.3091 -> 53.214915 | I70: =F70*H70 -> 19571.381 | J70: =I70/$I$339 -> 0.0096738415
A71: 7.1.12 | B71: 87262 | C71: SINAPI | D71: REVESTIMENTO CERÂMICO PARA PISO COM PLACAS TIPO PORCELANATO DE DIMENSÕES 60X60 CM APLICADA EM AMBIENTES DE ÁREA ENTRE 5 M² E 10 M². AF_06/2014 | E71: M² | F71: 365.31 | G71: 151.21 | H71: =G71*1.3091 -> 197.94901 | I71: =F71*H71 -> 72312.753 | J71: =I71/$I$339 -> 0.035743114
A72: 7.2 | D72: PAREDE | I72: =I73+I74+I75+I76+I77+I78+I79+I80 -> 217758.71 | J72: =I72/$I$339 -> 0.10763488
A73: 7.2.1 | B73: ED-50727 | C73: SETOP | D73: CHAPISCO COM ARGAMASSA, TRAÇO 1:3 (CIMENTO E AREIA), ESP. 5MM, APLICADO EM ALVENARIA/ESTRUTURA DE CONCRETO COM COLHER, PREPARO MECÂNICO | E73: M² | F73: 1968.94 | G73: 8.5 | H73: =G73*1.3091 -> 11.12735 | I73: =F73*H73 -> 21909.085 | J73: =I73/$I$339 -> 0.010829333
A74: 7.2.2 | B74: ED-50761 | C74: SETOP | D74: REBOCO COM ARGAMASSA, TRAÇO 1:2:8 (CIMENTO, CAL E AREIA), ESP. 20MM, APLICAÇÃO MANUAL, PREPARO MECÂNICO | E74: M² | F74: 1644.71 | G74: 32.18 | H74: =G74*1.3091 -> 42.126838 | I74: =F74*H74 -> 69286.432 | J74: =I74/$I$339 -> 0.034247248
A75: 7.2.3 | B75: ED-50474 | C75: SETOP | D75: EMASSAMENTO EM PAREDE COM MASSA ACRÍLICA, DUAS (2) DEMÃOS, INCLUSIVE LIXAMENTO PARA PINTURA | E75: M² | F75: 876.55 | G75: 20.9 | H75: =G75*1.3091 -> 27.36019 | I75: =F75*H75 -> 23982.575 | J75: =I75/$I$339 -> 0.011854228
A76: 7.2.4 | B76: ED-50451 | C76: SETOP | D76: PINTURA ACRÍLICA EM PAREDE, DUAS (2) DEMÃOS, EXCLUSIVE SELADOR ACRÍLICO E MASSA ACRÍLICA/CORRIDA (PVA) | E76: M² | F76: 1644.71 | G76: 14.1 | H76: =G76*1.3091 -> 18.45831 | I76: =F76*H76 -> 30358.567 | J76: =I76/$I$339 -> 0.015005786
A77: 7.2.5 | B77: ED-50519 | C77: SETOP | D77: PINTURA COM TEXTURA ACRÍLICA COM DESEMPENADEIRA DE AÇO, INCLUSIVE UMA (1) DEMÃO DE SELADOR ACRÍLICO | E77: M² | F77: 708.81 | G77: 25.83 | H77: =G77*1.3091 -> 33.814053 | I77: =F77*H77 -> 23967.739 | J77: =I77/$I$339 -> 0.011846895
A78: 7.2.6 | B78: ED-50732 | C78: SETOP | D78: EMBOÇO COM ARGAMASSA, TRAÇO 1:6 (CIMENTO E AREIA), ESP. 20MM, APLICAÇÃO MANUAL, PREPARO MECÂNICO | E78: M² | F78: 324.23 | G78: 30.23 | H78: =G78*1.3091 -> 39.574093 | I78: =F78*H78 -> 12831.108 | J78: =I78/$I$339 -> 0.0063422251
A79: 7.2.7 | B79: ED-50716 | C79: SETOP | D79: REVESTIMENTO COM AZULEJO BRANCO (15X15CM), JUNTA A PRUMO, ASSENTAMENTO COM ARGAMASSA INDUSTRIALIZADA, INCLUSIVE REJUNTAMENTO | E79: M² | F79: 7.74 | G79: 89.46 | H79: =G79*1.3091 -> 117.11209 | I79: =F79*H79 -> 906.44755 | J79: =I79/$I$339 -> 0.00044804348
A80: 7.2.8 | B80: ED-50717 | C80: SETOP | D80: REVESTIMENTO COM AZULEJO BRANCO (20X20CM), JUNTA A PRUMO, ASSENTAMENTO COM ARGAMASSA INDUSTRIALIZADA, INCLUSIVE REJUNTAMENTO | E80: M² | F80: 316.49 | G80: 83.31 | H80: =G80*1.3091 -> 109.06112 | I80: =F80*H80 -> 34516.754 | J80: =I80/$I$339 -> 0.017061116
A81: 7.3 | D81: TETO | I81: =I82+I83+I84+I85+I86 -> 46657.821 | J81: =I81/$I$339 -> 0.023062264
A82: 7.3.1 | B82: ED-50486 | C82: SETOP | D82: EMASSAMENTO EM FORRO DE GESSO COM MASSA CORRIDA (PVA), UMA (1) DEMÃO, INCLUSIVE LIXAMENTO PARA PINTURA | E82: M² | F82: 360.77 | G82: 14.83 | H82: =G82*1.391 -> 20.62853 | I82: =F82*H82 -> 7442.1548 | J82: =I82/$I$339 -> 0.0036785459
A83: 7.3.2 | B83: ED-50452 | C83: SETOP | D83: PINTURA ACRÍLICA EM TETO, DUAS (2) DEMÃOS, EXCLUSIVE SELADOR ACRÍLICO E MASSA ACRÍLICA/CORRIDA (PVA) | E83: M² | F83: 365.31 | G83: 15.56 | H83: =G83*1.391 -> 21.64396 | I83: =F83*H83 -> 7906.755 | J83: =I83/$I$339 -> 0.0039081909
A84: 7.3.3 | B84: CP-053 | C84: COMPOSIÇÃO | D84: FORRO EM CHAPA DE GESSO ACARTONADA RU, ESP. 12,5MM, COM FIXAÇÃO DO TIPO ESTRUTURADA EM PERFIL METÁLICO, EXCLUSIVE PERFIL TABICA, SANCA E MOLDURA, INCLUSIVE ACESSÓRIOS E FIXAÇÃO | E84: M² | F84: 20.44 | G84: 76.64 | H84: =G84*1.391 -> 106.60624 | I84: =F84*H84 -> 2179.0315 | J84: =I84/$I$339 -> 0.0010770627
A85: 7.3.4 | B85: ED-49686 | C85: SETOP | D85: FORRO EM CHAPA DE GESSO ACARTONADA, ESP. 12,5MM, COM FIXAÇÃO DO TIPO ESTRUTURADA EM PERFIL METÁLICO, EXCLUSIVE PERFIL TABICA, SANCA E MOLDURA, INCLUSIVE ACESSÓRIOS E FIXAÇÃO | E85: M² | F85: 340.33 | G85: 65.01 | H85: =G85*1.3091 -> 85.104591 | I85: =F85*H85 -> 28963.645 | J85: =I85/$I$339 -> 0.014316297
A86: 7.3.5 | B86: ED-50480 | C86: SETOP | D86: EMASSAMENTO EM TETO COM MASSA CORRIDA (PVA), DUAS (2) DEMÃOS, INCLUSIVE LIXAMENTO PARA PINTURA | E86: M² | F86: 4.54 | G86: 27.97 | H86: =G86*1.3091 -> 36.615527 | I86: =F86*H86 -> 166.23449 | J86: =I86/$I$339 -> 8.2167227e-05
A87: 8 | D87: ESQUADRIAS | I87: =I88+I97+I108 -> 158322.98 | J87: =I87/$I$339 -> 0.078256684
A88: 8.1 | D88: MADEIRA | I88: =I89+I90+I91+I92+I93+I94+I95+I96 -> 44211.149 | J88: =I88/$I$339 -> 0.021852911
A89: 8.1.1 | B89: ED-49601 | C89: SETOP | D89: P1-PORTA DE ABRIR, MADEIRA DE LEI PRANCHETA PARA PINTURA COMPLETA 70 X 210 CM,COM FERRAGENS EM FERRO LATONADO | E89: UN | F89: 2 | G89: 840.8 | H89: =G89*1.3091 -> 1100.6913 | I89: =F89*H89 -> 2201.3826 | J89: =I89/$I$339 -> 0.0010881105
A90: 8.1.2 | B90: ED-49602 | C90: SETOP | D90: P2-PORTA DE ABRIR, MADEIRA DE LEI PRANCHETA PARA PINTURA COMPLETA 80 X 210 CM,COM FERRAGENS EM FERRO LATONADO | E90: UN | F90: 16 | G90: 900.92 | H90: =G90*1.3091 -> 1179.3944 | I90: =F90*H90 -> 18870.31 | J90: =I90/$I$339 -> 0.0093273124
A91: 8.1.3 | B91: 110478 | C91: SBC | D91: P3 - PORTA COMPLETA MADEIRA 1 FL.1,20x2,10m-COM VISOR | E91: UN | F91: 4 | G91: 1711.13 | H91: =G91*1.3091 -> 2240.0403 | I91: =F91*H91 -> 8960.1611 | J91: =I91/$I$339 -> 0.0044288738
A92: 8.1.4 | B92: CP-48431 | C92: COMPOSIÇÃO | D92: P4(A) - PORTA EM MADEIRA DE LEI, 0.80 X 2.10 M, PARA SANITÁRIO DE DEFICIENTE FÍSICO (INCLUSIVE FERRAGENS, FECHADURA, SUPORTE E CHAPA DE ALUMÍNIO E=1MM, EXCLUSIVE BATENTE) - REV 01 | E92: UN | F92: 2 | G92: 690.67 | H92: =G92*1.3091 -> 904.1561 | I92: =F92*H92 -> 1808.3122 | J92: =I92/$I$339 -> 0.00089382171
A93: 8.1.5 | B93: 13034 | C93: ORSE | D93: P4(B) - PORTA EM MADEIRA COMPENSADA (CANELA), LISA, SEMI-ÔCA, (0.80 X 1,60 A 2.10 M), REVESTIDA C/FÓRMICA, INCLUSIVE FERRAGENS (LIVRE/OCUPADO), PARA USO EM DIVISÓRIAS GRANITO OU MÁRMORE | E93: UN | F93: 2 | G93: 809.07 | H93: =G93*1.3091 -> 1059.1535 | I93: =F93*H93 -> 2118.3071 | J93: =I93/$I$339 -> 0.0010470475
A94: 8.1.6 | B94: 8258 | C94: ORSE | D94: P5-PORTA EM MADEIRA DE LEI, DE CORRER, LISA, SEMI-ÔCA 0,80X2,10M, INCLUSIVE BATENTES E FERRAGENS | E94: UN | F94: 3 | G94: 1276.94 | H94: =G94*1.3091 -> 1671.6422 | I94: =F94*H94 -> 5014.9265 | J94: =I94/$I$339 -> 0.0024788032
A95: 8.1.7 | B95: 13034 | C95: ORSE | D95: P6-PORTA EM MADEIRA COMPENSADA (CANELA), LISA, SEMI-ÔCA, (0.80 X 1,60 A 2.10 M), REVESTIDA C/FÓRMICA, INCLUSIVE FERRAGENS (LIVRE/OCUPADO), PARA USO EM DIVISÓRIAS GRANITO OU MÁRMORE | E95: UN | F95: 2 | G95: 809.07 | H95: =G95*1.3091 -> 1059.1535 | I95: =F95*H95 -> 2118.3071 | J95: =I95/$I$339 -> 0.0010470475
A96: 8.1.8 | B96: ED-50493 | C96: SETOP | D96: PINTURA ESMALTE EM ESQUADRIA DE MADEIRA, DUAS (2) DEMÃOS, INCLUSIVE UMA (1) DEMÃO DE FUNDO NIVELADOR, EXCLUSIVE MASSA A ÓLEO | E96: M² | F96: 97.86 | G96: 24.35 | H96: =G96*1.3091 -> 31.876585 | I96: =F96*H96 -> 3119.4426 | J96: =I96/$I$339 -> 0.0015418939
A97: 8.2 | D97: ALUMÍNIO | I97: =I98+I99+I100+I101+I102+I103+I104+I105+I106+I107 -> 70096.753 | J97: =I97/$I$339 -> 0.034647778
A98: 8.2.1 | B98: ED-29481 | C98: SETOP | D98: JANELA EM ALUMÍNIO MÁXIM-AR COM ALTURA DE 60CM, LINHA 25/SUPREMA, ACABAMENTO ANODIZADO NATURAL, INCLUSIVE PERFIS, VIDRO LISO 4MM E INSTALAÇÃO, EXCLUSIVE FERRAGENS PARA MÓDULO DE JANELA DE ALUMÍNIO MÁXIM-AR | E98: M² | F98: 12 | G98: 1019.9 | H98: =G98*1.3091 -> 1335.1511 | I98: =F98*H98 -> 16021.813 | J98: =I98/$I$339 -> 0.0079193429
A99: 8.2.2 | B99: 91341 | C99: SINAPI | D99: P7,P8 E P11-PORTA EM ALUMÍNIO DE ABRIR TIPO VENEZIANA COM GUARNIÇÃO, FIXAÇÃO COM PARAFUSOS - FORNECIMENTO E INSTALAÇÃO. AF_12/2019 | E99: M² | F99: 12.6 | G99: 664.83 | H99: =G99*1.3091 -> 870.32895 | I99: =F99*H99 -> 10966.145 | J99: =I99/$I$339 -> 0.0054204016
A100: 8.2.3 | B100: CP-48446 | C100: COMPOSIÇÃO | D100: JANELA EM ALUMÍNIO DE CORRER COM 2 FOLHAS, LINHA 25/SUPREMA, ACABAMENTO ANODIZADO NATURAL, INCLUSIVE PERFIS, VIDRO 6MM E INSTALAÇÃO, EXCLUSIVE FERRAGENS PARA JANELA DE ALUMÍNIO DE CORRER | E100: M² | F100: 27.8 | G100: 802.72 | H100: =G100*1.3091 -> 1050.8408 | I100: =F100*H100 -> 29213.373 | J100: =I100/$I$339 -> 0.014439734
...

Sheet Cronograma Físico-financeiro
E1: SECRETARIA DE ESTADO DE SAÚDE - MUNICÍPIO -
E2: OBRA | F2: Bancos | I2: B.D.I. | J2: ENCARGOS SOCIAIS
E3: UBS PADRÃO SES TIPO I ALVENARIA | F3: SINAPI -04/2023 - MG SETOP - 01/2023 - MG - LESTE | I3: 0.3091 | J3: ONERADO ( ) DESONERADO (x)
E4: ENDEREÇO: Rua José Coelho, s/n - Centro | J4: Data
E5: Resende Costa - Minas Gerais | J5: 45175
L7: SERVIÇOS A EXECUTAR
B8: ITEM | C8: DISCRIMINAÇÃO DE SERVIÇOS | E8: VALOR DOS SERVIÇOS (R$) | F8: PESO | G8: EXECUTADO | H8: MÊS - 1 | J8: MÊS - 2 | L8: MÊS - 3 | N8: MÊS - 4 | P8: MÊS - 5 | R8: MÊS - 6
F9: % | G9: % | H9: SIMPL.% | I9: ACUM. % | J9: SIMPL.% | K9: ACUM. % | L9: SIMPL.% | M9: ACUM. % | N9: SIMPL.% | O9: ACUM. % | P9: SIMPL.% | Q9: ACUM. % | R9: SIMPL.% | S9: ACUM. %
B10: 1 | C10: ='Orçamento Sintético'!D8 -> PROJETOS COMPLEMENTARES | E10: ='Orçamento Sintético'!I8 -> 22273.224 | F10: ='Orçamento Sintético'!J8 -> 0.011009322 | H10: 100 | I10: =H10 -> 100 | K10: =J10+I10 -> 100 | M10: =L10+K10 -> 100 | O10: =N10+M10 -> 100 | Q10: =P10+O10 -> 100 | S10: =R10+Q10 -> 100
B11: 2 | C11: ='Orçamento Sintético'!D15 -> MOBILIZAÇÃO - CANTEIRO DE OBRAS | E11: ='Orçamento Sintético'!I15 -> 35545.647 | F11: ='Orçamento Sintético'!J15 -> 0.017569683 | H11: 100 | I11: =H11 -> 100 | K11: =J11+I11 -> 100 | M11: =L11+K11 -> 100 | O11: =N11+M11 -> 100 | Q11: =P11+O11 -> 100 | S11: =R11+Q11 -> 100
B12: 3 | C12: ='Orçamento Sintético'!D24 -> MOVIMENTO DE TERRA / FUNDAÇÃO / ESTRUTURA | E12: ='Orçamento Sintético'!I24 -> 319540.05 | F12: ='Orçamento Sintético'!J24 -> 0.15794387 | H12: =100 -> 100 | I12: =H12 -> 100 | K12: =J12+I12 -> 100 | M12: =L12+K12 -> 100 | O12: =N12+M12 -> 100 | Q12: =P12+O12 -> 100 | S12: =R12+Q12 -> 100
B13: 3.1 | C13: ='Orçamento Sintético'!D25 -> MOVIMENTO DE TERRA | E13: ='Orçamento Sintético'!I25 -> 22366.461 | F13: ='Orçamento Sintético'!J25 -> 0.011055408 | H13: 100
B14: 3.2 | C14: ='Orçamento Sintético'!D30 -> FUNDAÇÃO | E14: ='Orçamento Sintético'!I30 -> 92607.27 | F14: ='Orçamento Sintético'!J30 -> 0.04577439 | H14: 100
B15: 3.3 | C15: ='Orçamento Sintético'!D36 -> ESTRUTURA | E15: ='Orçamento Sintético'!I36 -> 204566.32 | F15: ='Orçamento Sintético'!J36 -> 0.10111408 | H15: 100
B16: 4 | C16: ALVENARIA | E16: ='Orçamento Sintético'!I42 -> 147871.1 | F16: ='Orçamento Sintético'!J42 -> 0.073090475 | I16: =H16 -> 0 | J16: 100 | K16: =J16+I16 -> 100 | M16: =L16+K16 -> 100 | O16: =N16+M16 -> 100 | Q16: =P16+O16 -> 100 | S16: =R16+Q16 -> 100
B17: 5 | C17: ='Orçamento Sintético'!D48 -> IMPERMEABILIZAÇÃO | E17: ='Orçamento Sintético'!I48 -> 16424.683 | F17: ='Orçamento Sintético'!J48 -> 0.0081184754 | I17: =H17 -> 0 | J17: 100 | K17: =J17+I17 -> 100 | M17: =L17+K17 -> 100 | O17: =N17+M17 -> 100 | Q17: =P17+O17 -> 100 | S17: =R17+Q17 -> 100
B18: 6 | C18: ='Orçamento Sintético'!D51 -> COBERTURA | E18: ='Orçamento Sintético'!I51 -> 308639.35 | F18: ='Orçamento Sintético'!J51 -> 0.15255582 | I18: =H18 -> 0 | J18: 100 | K18: =J18+I18 -> 100 | M18: =L18+K18 -> 100 | O18: =N18+M18 -> 100 | Q18: =P18+O18 -> 100 | S18: =R18+Q18 -> 100
B19: 7 | C19: ='Orçamento Sintético'!D58 -> REVESTIMENTOS- PISOS, PAREDES E TETOS | E19: ='Orçamento Sintético'!I58 -> 417792.11 | F19: ='Orçamento Sintético'!J58 -> 0.2065084 | I19: =H19 -> 0 | K19: =J19+I19 -> 0 | L19: 100 | M19: =L19+K19 -> 100 | O19: =N19+M19 -> 100 | Q19: =P19+O19 -> 100 | S19: =R19+Q19 -> 100
B20: 7.1 | C20: ='Orçamento Sintético'!D59 -> PISOS | E20: ='Orçamento Sintético'!I59 -> 153375.58 | F20: ='Orçamento Sintético'!J59 -> 0.07581126 | L20: 100
B21: 7.2 | C21: ='Orçamento Sintético'!D72 -> PAREDE | E21: ='Orçamento Sintético'!I72 -> 217758.71 | F21: ='Orçamento Sintético'!J72 -> 0.10763488 | L21: 100
B22: 7.3 | C22: ='Orçamento Sintético'!D81 -> TETO | E22: ='Orçamento Sintético'!I81 -> 46657.821 | F22: ='Orçamento Sintético'!J81 -> 0.023062264 | L22: 100
B23: 8 | C23: ='Orçamento Sintético'!D87 -> ESQUADRIAS | E23: ='Orçamento Sintético'!I87 -> 158322.98 | F23: ='Orçamento Sintético'!J87 -> 0.078256684 | I23: =H23 -> 0 | K23: =J23+I23 -> 0 | M23: =L23+K23 -> 0 | N23: 100 | O23: =N23+M23 -> 100 | Q23: =P23+O23 -> 100 | S23: =R23+Q23 -> 100
B24: 8.1 | C24: ='Orçamento Sintético'!D88 -> MADEIRA | E24: ='Orçamento Sintético'!I88 -> 44211.149 | F24: ='Orçamento Sintético'!J88 -> 0.021852911
B25: 8.2 | C25: ='Orçamento Sintético'!D97 -> ALUMÍNIO | E25: ='Orçamento Sintético'!I97 -> 70096.753 | F25: ='Orçamento Sintético'!J97 -> 0.034647778
B26: 8.3 | C26: ='Orçamento Sintético'!D108 -> VIDRO | E26: ='Orçamento Sintético'!I108 -> 44015.078 | F26: ='Orçamento Sintético'!J108 -> 0.021755995
B27: 9 | C27: ='Orçamento Sintético'!D113 -> INSTALAÇÕES ELÉTRICAS | E27: ='Orçamento Sintético'!I113 -> 189293.93 | F27: ='Orçamento Sintético'!J113 -> 0.093565164 | I27: =H27 -> 0 | K27: =J27+I27 -> 0 | M27: =L27+K27 -> 0 | N27: 100 | O27: =N27+M27 -> 100 | Q27: =P27+O27 -> 100 | S27: =R27+Q27 -> 100
B28: 9.1 | C28: ='Orçamento Sintético'!D114 -> PADRÃO DE ENTRADA TRIFÁSICO 125A AÉREO | E28: ='Orçamento Sintético'!I114 -> 11908.804 | F28: ='Orçamento Sintético'!J114 -> 0.005886344 | N28: 100
B29: 9.2 | C29: ='Orçamento Sintético'!D117 -> PONTOS ELÉTRICOS | E29: ='Orçamento Sintético'!I117 -> 127425.5 | F29: ='Orçamento Sintético'!J117 -> 0.062984521 | N29: 100
B30: 9.3 | C30: ='Orçamento Sintético'!D155 -> QPGD | E30: ='Orçamento Sintético'!I155 -> 3730.1495 | F30: ='Orçamento Sintético'!J155 -> 0.0018437572 | N30: 100
B31: 9.4 | C31: ='Orçamento Sintético'!D158 -> QUADROS | E31: ='Orçamento Sintético'!I155 -> 3730.1495 | F31: ='Orçamento Sintético'!J158 -> 0.002525651 | N31: 100
B32: 9.5 | C32: ='Orçamento Sintético'!D167 -> EQUIPAMENTO DE LÓGICA E DADOS | E32: ='Orçamento Sintético'!I167 -> 41119.775 | F32: ='Orçamento Sintético'!J167 -> 0.020324891 | N32: 100
B33: 10 | C33: ='Orçamento Sintético'!D189 -> SPDA | E33: ='Orçamento Sintético'!I189 -> 46898.226 | F33: ='Orçamento Sintético'!J189 -> 0.023181093 | I33: =H33 -> 0 | K33: =J33+I33 -> 0 | M33: =L33+K33 -> 0 | N33: 100 | O33: =N33+M33 -> 100 | Q33: =P33+O33 -> 100 | S33: =R33+Q33 -> 100
B34: 11 | C34: ='Orçamento Sintético'!D212 -> INSTALAÇÕES HIDROSSANITÁRIAS | E34: ='Orçamento Sintético'!I212 -> 182541.97 | F34: ='Orçamento Sintético'!J212 -> 0.090227769 | I34: =H34 -> 0 | K34: =J34+I34 -> 0 | M34: =L34+K34 -> 0 | O34: =N34+M34 -> 0 | P34: 100 | Q34: =P34+O34 -> 100 | S34: =R34+Q34 -> 100
B35: 11.1 | C35: ='Orçamento Sintético'!D213 -> PONTOS DE HIDRÁULICA | E35: ='Orçamento Sintético'!I213 -> 53127.066 | F35: ='Orçamento Sintético'!J213 -> 0.026259915 | P35: 100
B36: 11.2 | C36: ='Orçamento Sintético'!D230 -> CAIXAS DE INSPEÇÃO/SIFONADA/GORDURA/AREIA | E36: ='Orçamento Sintético'!I230 -> 13398.573 | F36: ='Orçamento Sintético'!J230 -> 0.0066227145 | P36: 100
B37: 11.3 | C37: ='Orçamento Sintético'!D236 -> LOUÇAS E APARELHOS SANITÁRIOS | E37: ='Orçamento Sintético'!I236 -> 27695.293 | F37: ='Orçamento Sintético'!J236 -> 0.01368937 | P37: 100
B38: 11.4 | C38: ='Orçamento Sintético'!D247 -> METAIS, ACESSÓRIOS E EQUIPAMENTOS | E38: ='Orçamento Sintético'!I247 -> 71731.493 | F38: ='Orçamento Sintético'!J247 -> 0.035455806 | P38: 100
B39: 11.5 | C39: ='Orçamento Sintético'!D275 -> REAPROVEITAMENTO DE ÁGUA PLUVIAL | E39: ='Orçamento Sintético'!I275 -> 16589.544 | F39: ='Orçamento Sintético'!J275 -> 0.0081999636 | P39: 100
B40: 12 | C40: ='Orçamento Sintético'!D291 -> PCIP | E40: ='Orçamento Sintético'!I291 -> 4734.766 | F40: ='Orçamento Sintético'!J291 -> 0.0023403241 | I40: =H40 -> 0 | K40: =J40+I40 -> 0 | M40: =L40+K40 -> 0 | O40: =N40+M40 -> 0 | P40: 100 | Q40: =P40+O40 -> 100 | S40: =R40+Q40 -> 100
B41: 13 | C41: ='Orçamento Sintético'!D297 -> REDE DE AR COMPRIMIDO | E41: ='Orçamento Sintético'!I297 -> 11232.471 | F41: ='Orçamento Sintético'!J297 -> 0.0055520425 | I41: =H41 -> 0 | K41: =J41+I41 -> 0 | M41: =L41+K41 -> 0 | O41: =N41+M41 -> 0 | P41: 100 | Q41: =P41+O41 -> 100 | S41: =R41+Q41 -> 100
B42: 14 | C42: ='Orçamento Sintético'!D303 -> CLIMATIZAÇÃO | E42: ='Orçamento Sintético'!I303 -> 2759.5304 | F42: ='Orçamento Sintético'!J303 -> 0.0013639947 | I42: =H42 -> 0 | K42: =J42+I42 -> 0 | M42: =L42+K42 -> 0 | O42: =N42+M42 -> 0 | P42: 100 | Q42: =P42+O42 -> 100 | S42: =R42+Q42 -> 100
B43: 15 | C43: ='Orçamento Sintético'!D309 -> COMUNICAÇÃO VISUAL | E43: ='Orçamento Sintético'!I309 -> 8995.1932 | F43: ='Orçamento Sintético'!J309 -> 0.0044461896 | I43: =H43 -> 0 | K43: =J43+I43 -> 0 | M43: =L43+K43 -> 0 | O43: =N43+M43 -> 0 | Q43: =P43+O43 -> 0 | R43: 100 | S43: =R43+Q43 -> 100
B44: 16 | C44: ='Orçamento Sintético'!D312 -> CFTV | E44: ='Orçamento Sintético'!I312 -> 1185.4555 | F44: ='Orçamento Sintético'!J312 -> 0.00058595295 | I44: =H44 -> 0 | K44: =J44+I44 -> 0 | M44: =L44+K44 -> 0 | O44: =N44+M44 -> 0 | Q44: =P44+O44 -> 0 | R44: 100 | S44: =R44+Q44 -> 100
B45: 17 | C45: ='Orçamento Sintético'!D318 -> MOBILIÁRIO | E45: ='Orçamento Sintético'!I318 -> 6739.9813 | F45: ='Orçamento Sintético'!J318 -> 0.0033314721 | I45: =H45 -> 0 | K45: =J45+I45 -> 0 | M45: =L45+K45 -> 0 | O45: =N45+M45 -> 0 | Q45: =P45+O45 -> 0 | R45: 100 | S45: =R45+Q45 -> 100
B46: 17.1 | C46: ='Orçamento Sintético'!D319 -> BALCÃO DA RECEPÇÃO - CONFORME PROJETO | E46: ='Orçamento Sintético'!I319 -> 6739.9813 | F46: ='Orçamento Sintético'!J319 -> 0.0033314721 | R46: 100
B47: 18 | C47: ='Orçamento Sintético'!D328 -> DIVERSOS E LIMPEZA | E47: ='Orçamento Sintético'!I328 -> 22959.55 | F47: ='Orçamento Sintético'!J328 -> 0.011348563 | I47: =H47 -> 0 | K47: =J47+I47 -> 0 | M47: =L47+K47 -> 0 | O47: =N47+M47 -> 0 | Q47: =P47+O47 -> 0 | R47: 100 | S47: =R47+Q47 -> 100
B48: 18.1 | C48: ='Orçamento Sintético'!D329 -> DIVERSOS | E48: ='Orçamento Sintético'!I329 -> 22959.55 | F48: ='Orçamento Sintético'!J329 -> 0.011348563 | R48: 100
B49: 19 | C49: ='Orçamento Sintético'!D336 -> ADMINISTRAÇÃO LOCAL | E49: ='Orçamento Sintético'!I336 -> 119373.83 | F49: ='Orçamento Sintético'!J336 -> 0.059004703 | I49: =H49 -> 0 | K49: =J49+I49 -> 0 | M49: =L49+K49 -> 0 | O49: =N49+M49 -> 0 | Q49: =P49+O49 -> 0 | S49: =R49+Q49 -> 0
B51: TOTAL | E51: =E49+E47+E45+E44+E43+E42+E41+E40+E34+E33+E27+E23+E19+E18+E17+E16+E12+E11+E10 -> 2023124 | F51: =F10+F11+F12+F16+F17+F18+F19+F23+F33+F27+F34+F40+F41+F42+F43+F44+F45+F47+F49 -> 1 | G51: =I51+K51+M51+O51+Q51+S51 -> 0.9409953 | H51: =E10+E11+E12 -> 377358.92 | I51: =H51/E51 -> 0.18652288 | J51: =E16+E18+E17 -> 472935.13 | K51: =J51/E51 -> 0.23376477 | L51: =E19 -> 417792.11 | M51: =L51/E51 -> 0.2065084 | N51: =E23+E27+E33 -> 394515.14 | O51: =N51/E51 -> 0.19500294 | P51: =E34+E40+E42+E41 -> 201268.74 | Q51: =P51/E51 -> 0.09948413 | R51: =E43+E44+E45+E47 -> 39880.18 | S51: =R51/E51 -> 0.019712177
C54: 06 de Setembro de 2023 | G54: Leandro Kloser - MG91619/D | K54: Lucas Paulo de Assis Vale - Vice-Prefeito em exercício como Prefeito Municipal
C55: Data | G55: Responsável Técnico - CREA | N55: Proponente
