Workbook

Sheet Orçamento Sintético
D1: SECRETARIA DE ESTADO DE SAÚDE - MUNICÍPIO -
D2: OBRA | E2: Bancos | H2: B.D.I. | I2: ENCARGOS SOCIAIS
D3: UBS PADRÃO SES TIPO I ALVENARIA | E3: SINAPI -09/2023 - MG ORSE - Agosto/2023-1 SBC - 01/10/2023 SETOP - 04/2023 - MG - LESTE | H3: 0.3091 | I3: ONERADO ( ) DESONERADO (x)
D4: ENDEREÇO: Rua José Coelho, s/n - Centro | I4: Data
D5: Resende Costa - Minas Gerais | I5: 45230
A6: Orçamento Sintético
A7: Item | B7: Código | C7: Banco | D7: Descrição | E7: Und | F7: Quant. | G7: Valor Unit | H7: Valor Unit com BDI | I7: Total | J7: Peso (%)
A8: 1 | D8: PROJETOS COMPLEMENTARES | I8: =I9+I10+I11+I12+I13+I14 -> 22273.224 | J8: =I8/I339 -> 0.011009322
A9: 1.1 | B9: CO-27427 | C9: COMPOSIÇÃO | D9: PROJETO EXECUTIVO DE ESTRUTURA DE CONCRETO (INCLUSIVE FUNDAÇÃO) | E9: PR A1 | F9: 4 | G9: 1482.73 | H9: =G9*1.3091 -> 1941.0418 | I9: =F9*H9 -> 7764.1674 | J9: =I9/I339 -> 0.003837712
A10: 1.2 | B10: CO-27431 | C10: COMPOSIÇÃO | D10: PROJETO EXECUTIVODE INSTALAÇÕES ELÉTRICAS | E10: PR A1 | F10: 2 | G10: 1765.98 | H10: =G10*1.3091 -> 2311.8444 | I10: =F10*H10 -> 4623.6888 | J10: =I10/I339 -> 0.0022854203
A11: 1.3 | B11: CO-27430 | C11: COMPOSIÇÃO | D11: PROJETO EXECUTIVO DE INSTALAÇÕES HIDRO SANITÁRIAS | E11: PR A1 | F11: 2 | G11: 1693.84 | H11: =G11*1.3091 -> 2217.4059 | I11: =F11*H11 -> 4434.8119 | J11: =I11/I339 -> 0.0021920613
A12: 1.4 | B12: CO-27434 | C12: COMPOSIÇÃO | D12: PROJETO EXECUTIVO DE SPDA | E12: PR A1 | F12: 1 | G12: 1273.56 | H12: =G12*1.3091 -> 1667.2174 | I12: =F12*H12 -> 1667.2174 | J12: =I12/I339 -> 0.00082408066
A13: 1.5 | B13: CO-27480 | C13: COMPOSIÇÃO | D13: PROJETO EXECUTIVO DE GASES MEDICINAIS | E13: PR A1 | F13: 1 | G13: 1390.83 | H13: =G13*1.3091 -> 1820.7356 | I13: =F13*H13 -> 1820.7356 | J13: =I13/I339 -> 0.00089996239
A14: 1.6 | B14: CO-27468 | C14: COMPOSIÇÃO | D14: PROJETO EXECUTIVO DE PREVENÇÃO E COMBATE A INCÊNDIO | E14: PR A1 | F14: 1 | G14: 1499.2 | H14: =G14*1.3091 -> 1962.6027 | I14: =F14*H14 -> 1962.6027 | J14: =I14/I339 -> 0.00097008521
A15: 2 | D15: MOBILIZAÇÃO - CANTEIRO DE OBRAS | I15: =I16+I17+I18+I19+I20+I21+I22+I23 -> 35545.647 | J15: =I15/I339 -> 0.017569683
A16: 2.1 | B16: ED-28427 | C16: SETOP | D16: FORNECIMENTO E COLOCAÇÃO DE PLACA DE OBRA EM CHAPA GALVANIZADA #26, ESP. 0,45MM, DIMENSÃO (3X1,5)M, PLOTADA COM ADESIVO VINÍLICO, AFIXADA COM REBITES 4,8X40MM, EM ESTRUTURA METÁLICA DE METALON 20X20MM, ESP. 1,25MM, INCLUSIVE SUPORTE EM EUCALIPTO AUTOCLAVADO PINTADO COM TINTA PVA DUAS (2) DEMÃOS | E16: UN | F16: 1 | G16: 1429.69 | H16: =G16*1.3091 -> 1871.6072 | I16: =F16*H16 -> 1871.6072 | J16: =I16/I339 -> 0.00092510748
A17: 2.2 | B17: ED-50159 | C17: SETOP | D17: TAPUME FIXO DE PROTEÇÃO PARA FECHAMENTO DE OBRA EM CHAPA DE COMPENSADO, ESP. 12MM, COM MÓDULO NA DIMENSÃO DE (110X220)CM, INCLUSIVE PINTURA LÁTEX (PVA) COM DUAS (2) DEMÃOS, EXCLUSIVE ABERTURA PARA PORTÃO | E17: M | F17: 24 | G17: 197.19 | H17: =G17*1.3091 -> 258.14143 | I17: =F17*H17 -> 6195.3943 | J17: =I17/I339 -> 0.0030622909
A18: 2.3 | B18: ED-50703 | C18: SETOP | D18: LIMPEZA DE TERRENO, INCLUSIVE CAPINA, RASTELAMENTO COM AFASTAMENTO ATÉ VINTE (20) METROS E QUEIMA CONTROLADA | E18: M² | F18: 720 | G18: 2.08 | H18: =G18*1.3091 -> 2.722928 | I18: =F18*H18 -> 1960.5082 | J18: =I18/I339 -> 0.0009690499
A19: 2.4 | B19: ED-50151 | C19: SETOP | D19: LIGAÇÃO PROVISÓRIA COM ENTRADA DE ENERGIA AÉREA, PADRÃO CEMIG, CARGA INSTALADA DE 15,1KVA ATÉ 30KVA, TRIFÁSICO, COM SAÍDA SUBTERRÂNEA, INCLUSIVE POSTE, CAIXA PARA MEDIDOR, DISJUNTOR, BARRAMENTO, ATERRAMENTO E ACESSÓRIOS | E19: UN | F19: 1 | G19: 1159.22 | H19: =G19*1.3091 -> 1517.5349 | I19: =F19*H19 -> 1517.5349 | J19: =I19/I339 -> 0.00075009484
A20: 2.5 | B20: ED-50150 | C20: SETOP | D20: LIGAÇÃO DE ÁGUA PROVISÓRIA PARA CANTEIRO, INCLUSIVE HIDRÔMETRO E CAVALETE PARA MEDIÇÃO DE ÁGUA - ENTRADA PRINCIPAL, EM AÇO GALVANIZADO DN 20MM (1/2") - PADRÃO CONCESSIONÁRIA | E20: UN | F20: 1 | G20: 375.16 | H20: =G20*1.3091 -> 491.12196 | I20: =F20*H20 -> 491.12196 | J20: =I20/I339 -> 0.00024275425
A21: 2.6 | B21: ED-17989 | C21: SETOP | D21: LOCAÇÃO DE OBRA COM GABARITO DE TÁBUAS CORRIDAS PONTALETADAS A CADA 2,00M, REAPROVEITAMENTO (2X), INCLUSIVE ACOMPANHAMENTO DE EQUIPE TOPOGRÁFICA PARA MARCAÇÃO DE PONTO TOPOGRÁFICO | E21: M | F21: 121 | G21: 49.69 | H21: =G21*1.3091 -> 65.049179 | I21: =F21*H21 -> 7870.9507 | J21: =I21/I339 -> 0.0038904934
A22: 2.7 | B22: ED-50128 | C22: SETOP | D22: BARRACÃO DE OBRA PARA DEPÓSITO E FERRAMENTARIA TIPO-I, ÁREA INTERNA 14,52M2, EM CHAPA DE COMPENSADO RESINADO, INCLUSIVE MOBILIÁRIO (OBRA DE PEQUENO PORTE, EFETIVO ATÉ 30 HOMENS), PADRÃO DER-MG | E22: UN | F22: 1 | G22: 7323.59 | H22: =G22*1.3091 -> 9587.3117 | I22: =F22*H22 -> 9587.3117 | J22: =I22/I339 -> 0.004738865
A23: 2.8 | B23: ED-50393 | C23: SETOP | D23: MOBILIZAÇÃO E DESMOBILIZAÇÃO DE OBRA EM CENTRO URBANO OU REGIÃO LIMÍTROFE COM VALOR ENTRE 1.000.000,01 E 3.000.000,00 | E23: % | F23: 0.3 | G23: 2017072.8 | H23: 2017072.8 | I23: =H23*0.003 -> 6051.2185 | J23: =I23/I339 -> 0.0029910269 | M23: 1
A24: 3 | D24: MOVIMENTO DE TERRA / FUNDAÇÃO / ESTRUTURA | I24: =I25+I30+I36 -> 319540.05 | J24: =I24/I339 -> 0.15794387
A25: 3.1 | D25: MOVIMENTO DE TERRA | I25: =I26+I27+I28+I29 -> 22366.461 | J25: =I25/I339 -> 0.011055408
A26: 3.1.1 | B26: ED-51107 | C26: SETOP | D26: ESCAVAÇÃO MANUAL DE VALA COM PROFUNDIDADE MENOR OU IGUAL A 1,5M, INCLUSIVE DESCARGA LATERAL | E26: M³ | F26: 130.93 | G26: 60.61 | H26: =G26*1.3091 -> 79.344551 | I26: =F26*H26 -> 10388.582 | J26: =I26/I339 -> 0.005134921
A27: 3.1.2 | B27: ED-51120 | C27: SETOP | D27: REATERRO MANUAL DE VALA, INCLUSIVE ESPALHAMENTO E COMPACTAÇÃO MANUAL COM SOQUETE | E27: M³ | F27: 96.93 | G27: 60.61 | H27: =G27*1.3091 -> 79.344551 | I27: =F27*H27 -> 7690.8673 | J27: =I27/I339 -> 0.0038014809
A28: 3.1.3 | B28: ED-51132 | C28: SETOP | D28: CARGA MECÂNICA DE MATERIAL DE QUALQUER NATUREZA SOBRE CAMINHÃO, EXCLUSIVE TRANSPORTE | E28: M³ | F28: 44.2 | G28: 3.01 | H28: =G28*1.3091 -> 3.940391 | I28: =F28*H28 -> 174.16528 | J28: =I28/I339 -> 8.6087298e-05
A29: 3.1.4 | B29: ED-51131 | C29: SETOP | D29: TRANSPORTE DE MATERIAL DE QUALQUER NATUREZA EM CAMINHÃO, DISTÂNCIA MAIOR QUE 2KM E MENOR OU IGUAL A 5KM, DENTRO DO PERÍMETRO URBANO, EXCLUSIVE CARGA, INCLUSIVE DESCARGA | E29: M3xKM | F29: 88.4 | G29: 35.54 | H29: =G29*1.3091 -> 46.525414 | I29: =F29*H29 -> 4112.8466 | J29: =I29/I339 -> 0.0020329186
A30: 3.2 | D30: FUNDAÇÃO | I30: =I31+I32+I33+I34+I35 -> 92607.27 | J30: =I30/I339 -> 0.04577439
A31: 3.2.1 | B31: ED-51093 | C31: SETOP | D31: APILOAMENTO MANUAL EM FUNDO DE VALA COM SOQUETE, EXCLUSIVE ESCAVAÇÃO | E31: M² | F31: 163.06 | G31: 20.43 | H31: =G31*1.3091 -> 26.744913 | I31: =F31*H31 -> 4361.0255 | J31: =I31/I339 -> 0.0021555898
A32: 3.2.2 | B32: ED-48311 | C32: SETOP | D32: CONCRETO MAGRO, TRAÇO 1:3:6, PREPARADO EM OBRA COM BETONEIRA, SEM FUNÇÃO ESTRUTURAL | E32: M³ | F32: 4.75 | G32: 379.79 | H32: =G32*1.3091 -> 497.18309 | I32: =F32*H32 -> 2361.6197 | J32: =I32/I339 -> 0.0011673133
A33: 3.2.3 | B33: ED-49811 | C33: SETOP | D33: FORMA E DESFORMA DE COMPENSADO RESINADO, ESP. 12MM, REAPROVEITAMENTO (3X) (FUNDAÇÃO) | E33: M² | F33: 272.54 | G33: 60.12 | H33: =G33*1.3091 -> 78.703092 | I33: =F33*H33 -> 21449.741 | J33: =I33/I339 -> 0.010602286
A34: 3.2.4 | B34: ED-48298 | C34: SETOP | D34: CORTE, DOBRA E MONTAGEM DE AÇO CA-50/60, INCLUSIVE ESPAÇADOR | E34: Kg | F34: 2013.95 | G34: 12.82 | H34: =G34*1.3091 -> 16.782662 | I34: =F34*H34 -> 33799.442 | J34: =I34/I339 -> 0.016706559
A35: 3.2.5 | B35: ED-49638 | C35: SETOP | D35: FORNECIMENTO DE CONCRETO ESTRUTURAL, USINADO BOMBEADO, COM FCK 25 MPA, INCLUSIVE LANÇAMENTO, ADENSAMENTO E ACABAMENTO | E35: M³ | F35: 33.15 | G35: 705.94 | H35: =G35*1.3091 -> 924.14605 | I35: =F35*H35 -> 30635.442 | J35: =I35/I339 -> 0.015142641
A36: 3.3 | D36: ESTRUTURA | I36: =I37+I38+I39+I40+I41 -> 204566.32 | J36: =I36/I339 -> 0.10111408
A37: 3.3.1 | B37: ED-49645 | C37: SETOP | D37: FORMA E DESFORMA DE COMPENSADO RESINADO, ESP. 12MM, REAPROVEITAMENTO (3X), EXCLUSIVE ESCORAMENTO | E37: M² | F37: 462.87 | G37: 59.84 | H37: =G37*1.3091 -> 78.336544 | I37: =F37*H37 -> 36259.636 | J37: =I37/I339 -> 0.017922597
A38: 3.3.2 | B38: ED-48298 | C38: SETOP | D38: CORTE, DOBRA E MONTAGEM DE AÇO CA-50/60, INCLUSIVE ESPAÇADOR | E38: Kg | F38: 2937.24 | G38: 12.82 | H38: =G38*1.3091 -> 16.782662 | I38: =F38*H38 -> 49294.706 | J38: =I38/I339 -> 0.024365637
A39: 3.3.3 | B39: ED-49638 | C39: SETOP | D39: FORNECIMENTO DE CONCRETO ESTRUTURAL, USINADO BOMBEADO, COM FCK 25 MPA, INCLUSIVE LANÇAMENTO, ADENSAMENTO E ACABAMENTO | E39: M³ | F39: 37.03 | G39: 705.94 | H39: =G39*1.3091 -> 924.14605 | I39: =F39*H39 -> 34221.128 | J39: =I39/I339 -> 0.016914993
A40: 3.3.4 | B40: ED-50246 | C40: SETOP | D40: LAJE PRÉ-MOLDADA UNIDIRECIONAL COM LAJOTA CERÂMICA, CAPEAMENTO DE 4CM, SOBRECARGA DE 200KG/M2, ALTURA TOTAL DE 11CM E VÃO LIVRE MÁXIMO DE 4M, INCLUSIVE CONCRETO ESTRUTURAL, USINADO E BOMBEADO COM FCK DE 20MPA, EXCLUSIVE TELA ARMADA E CIMBRAMENTO | E40: M² | F40: 422.98 | G40: 142.18 | H40: =G40*1.3091 -> 186.12784 | I40: =F40*H40 -> 78728.353 | J40: =I40/I339 -> 0.038914249
...

Sheet Cronograma Físico-financeiro
E1: SECRETARIA DE ESTADO DE SAÚDE - MUNICÍPIO -
E2: OBRA | F2: Bancos | I2: B.D.I. | J2: ENCARGOS SOCIAIS
E3: UBS PADRÃO SES TIPO I ALVENARIA | F3: SINAPI -04/2023 - MG SETOP - 01/2023 - MG - LESTE | I3: 0.3091 | J3: ONERADO ( ) DESONERADO (x)
E4: ENDEREÇO: Rua José Coelho, s/n - Centro | J4: Data
E5: Resende Costa - Minas Gerais | J5: 45175
L7: SERVIÇOS A EXECUTAR
B8: ITEM | C8: DISCRIMINAÇÃO DE SERVIÇOS | E8: VALOR DOS SERVIÇOS (R$) | F8: PESO | G8: EXECUTADO | H8: MÊS - 1 | J8: MÊS - 2 | L8: MÊS - 3 | N8: MÊS - 4 | P8: MÊS - 5 | R8: MÊS - 6
F9: % | G9: % | H9: SIMPL.% | I9: ACUM. % | J9: SIMPL.% | K9: ACUM. % | L9: SIMPL.% | M9: ACUM. % | N9: SIMPL.% | O9: ACUM. % | P9: SIMPL.% | Q9: ACUM. % | R9: SIMPL.% | S9: ACUM. %
B10: 1 | C10: ='Orçamento Sintético'!D8 -> PROJETOS COMPLEMENTARES | E10: ='Orçamento Sintético'!I8 -> 22273.224 | F10: ='Orçamento Sintético'!J8 -> 0.011009322 | H10: 100 | I10: =H10 -> 100 | K10: =J10+I10 -> 100 | M10: =L10+K10 -> 100 | O10: =N10+M10 -> 100 | Q10: =P10+O10 -> 100 | S10: =R10+Q10 -> 100
B11: 2 | C11: ='Orçamento Sintético'!D15 -> MOBILIZAÇÃO - CANTEIRO DE OBRAS | E11: ='Orçamento Sintético'!I15 -> 35545.647 | F11: ='Orçamento Sintético'!J15 -> 0.017569683 | H11: 100 | I11: =H11 -> 100 | K11: =J11+I11 -> 100 | M11: =L11+K11 -> 100 | O11: =N11+M11 -> 100 | Q11: =P11+O11 -> 100 | S11: =R11+Q11 -> 100
B12: 3 | C12: ='Orçamento Sintético'!D24 -> MOVIMENTO DE TERRA / FUNDAÇÃO / ESTRUTURA | E12: ='Orçamento Sintético'!I24 -> 319540.05 | F12: ='Orçamento Sintético'!J24 -> 0.15794387 | H12: =100 -> 100 | I12: =H12 -> 100 | K12: =J12+I12 -> 100 | M12: =L12+K12 -> 100 | O12: =N12+M12 -> 100 | Q12: =P12+O12 -> 100 | S12: =R12+Q12 -> 100
B13: 3.1 | C13: ='Orçamento Sintético'!D25 -> MOVIMENTO DE TERRA | E13: ='Orçamento Sintético'!I25 -> 22366.461 | F13: ='Orçamento Sintético'!J25 -> 0.011055408 | H13: 100
B14: 3.2 | C14: ='Orçamento Sintético'!D30 -> FUNDAÇÃO | E14: ='Orçamento Sintético'!I30 -> 92607.27 | F14: ='Orçamento Sintético'!J30 -> 0.04577439 | H14: 100
B15: 3.3 | C15: ='Orçamento Sintético'!D36 -> ESTRUTURA | E15: ='Orçamento Sintético'!I36 -> 204566.32 | F15: ='Orçamento Sintético'!J36 -> 0.10111408 | H15: 100
B16: 4 | C16: ALVENARIA | E16: ='Orçamento Sintético'!I42 -> 147871.1 | F16: ='Orçamento Sintético'!J42 -> 0.073090475 | I16: =H16 -> 0 | J16: 100 | K16: =J16+I16 -> 100 | M16: =L16+K16 -> 100 | O16: =N16+M16 -> 100 | Q16: =P16+O16 -> 100 | S16: =R16+Q16 -> 100
B17: 5 | C17: ='Orçamento Sintético'!D48 -> IMPERMEABILIZAÇÃO | E17: ='Orçamento Sintético'!I48 -> 16424.683 | F17: ='Orçamento Sintético'!J48 -> 0.0081184754 | I17: =H17 -> 0 | J17: 100 | K17: =J17+I17 -> 100 | M17: =L17+K17 -> 100 | O17: =N17+M17 -> 100 | Q17: =P17+O17 -> 100 | S17: =R17+Q17 -> 100
B18: 6 | C18: ='Orçamento Sintético'!D51 -> COBERTURA | E18: ='Orçamento Sintético'!I51 -> 308639.35 | F18: ='Orçamento Sintético'!J51 -> 0.15255582 | I18: =H18 -> 0 | J18: 100 | K18: =J18+I18 -> 100 | M18: =L18+K18 -> 100 | O18: =N18+M18 -> 100 | Q18: =P18+O18 -> 100 | S18: =R18+Q18 -> 100
B19: 7 | C19: ='Orçamento Sintético'!D58 -> REVESTIMENTOS- PISOS, PAREDES E TETOS | E19: ='Orçamento Sintético'!I58 -> 417792.11 | F19: ='Orçamento Sintético'!J58 -> 0.2065084 | I19: =H19 -> 0 | K19: =J19+I19 -> 0 | L19: 100 | M19: =L19+K19 -> 100 | O19: =N19+M19 -> 100 | Q19: =P19+O19 -> 100 | S19: =R19+Q19 -> 100
B20: 7.1 | C20: ='Orçamento Sintético'!D59 -> PISOS | E20: ='Orçamento Sintético'!I59 -> 153375.58 | F20: ='Orçamento Sintético'!J59 -> 0.07581126 | L20: 100
B21: 7.2 | C21: ='Orçamento Sintético'!D72 -> PAREDE | E21: ='Orçamento Sintético'!I72 -> 217758.71 | F21: ='Orçamento Sintético'!J72 -> 0.10763488 | L21: 100
B22: 7.3 | C22: ='Orçamento Sintético'!D81 -> TETO | E22: ='Orçamento Sintético'!I81 -> 46657.821 | F22: ='Orçamento Sintético'!J81 -> 0.023062264 | L22: 100
B23: 8 | C23: ='Orçamento Sintético'!D87 -> ESQUADRIAS | E23: ='Orçamento Sintético'!I87 -> 158322.98 | F23: ='Orçamento Sintético'!J87 -> 0.078256684 | I23: =H23 -> 0 | K23: =J23+I23 -> 0 | M23: =L23+K23 -> 0 | N23: 100 | O23: =N23+M23 -> 100 | Q23: =P23+O23 -> 100 | S23: =R23+Q23 -> 100
B24: 8.1 | C24: ='Orçamento Sintético'!D88 -> MADEIRA | E24: ='Orçamento Sintético'!I88 -> 44211.149 | F24: ='Orçamento Sintético'!J88 -> 0.021852911
B25: 8.2 | C25: ='Orçamento Sintético'!D97 -> ALUMÍNIO | E25: ='Orçamento Sintético'!I97 -> 70096.753 | F25: ='Orçamento Sintético'!J97 -> 0.034647778
B26: 8.3 | C26: ='Orçamento Sintético'!D108 -> VIDRO | E26: ='Orçamento Sintético'!I108 -> 44015.078 | F26: ='Orçamento Sintético'!J108 -> 0.021755995
B27: 9 | C27: ='Orçamento Sintético'!D113 -> INSTALAÇÕES ELÉTRICAS | E27: ='Orçamento Sintético'!I113 -> 189293.93 | F27: ='Orçamento Sintético'!J113 -> 0.093565164 | I27: =H27 -> 0 | K27: =J27+I27 -> 0 | M27: =L27+K27 -> 0 | N27: 100 | O27: =N27+M27 -> 100 | Q27: =P27+O27 -> 100 | S27: =R27+Q27 -> 100
B28: 9.1 | C28: ='Orçamento Sintético'!D114 -> PADRÃO DE ENTRADA TRIFÁSICO 125A AÉREO | E28: ='Orçamento Sintético'!I114 -> 11908.804 | F28: ='Orçamento Sintético'!J114 -> 0.005886344 | N28: 100
B29: 9.2 | C29: ='Orçamento Sintético'!D117 -> PONTOS ELÉTRICOS | E29: ='Orçamento Sintético'!I117 -> 127425.5 | F29: ='Orçamento Sintético'!J117 -> 0.062984521 | N29: 100
B30: 9.3 | C30: ='Orçamento Sintético'!D155 -> QPGD | E30: ='Orçamento Sintético'!I155 -> 3730.1495 | F30: ='Orçamento Sintético'!J155 -> 0.0018437572 | N30: 100
B31: 9.4 | C31: ='Orçamento Sintético'!D158 -> QUADROS | E31: ='Orçamento Sintético'!I155 -> 3730.1495 | F31: ='Orçamento Sintético'!J158 -> 0.002525651 | N31: 100
B32: 9.5 | C32: ='Orçamento Sintético'!D167 -> EQUIPAMENTO DE LÓGICA E DADOS | E32: ='Orçamento Sintético'!I167 -> 41119.775 | F32: ='Orçamento Sintético'!J167 -> 0.020324891 | N32: 100
B33: 10 | C33: ='Orçamento Sintético'!D189 -> SPDA | E33: ='Orçamento Sintético'!I189 -> 46898.226 | F33: ='Orçamento Sintético'!J189 -> 0.023181093 | I33: =H33 -> 0 | K33: =J33+I33 -> 0 | M33: =L33+K33 -> 0 | N33: 100 | O33: =N33+M33 -> 100 | Q33: =P33+O33 -> 100 | S33: =R33+Q33 -> 100
B34: 11 | C34: ='Orçamento Sintético'!D212 -> INSTALAÇÕES HIDROSSANITÁRIAS | E34: ='Orçamento Sintético'!I212 -> 182541.97 | F34: ='Orçamento Sintético'!J212 -> 0.090227769 | I34: =H34 -> 0 | K34: =J34+I34 -> 0 | M34: =L34+K34 -> 0 | O34: =N34+M34 -> 0 | P34: 100 | Q34: =P34+O34 -> 100 | S34: =R34+Q34 -> 100
B35: 11.1 | C35: ='Orçamento Sintético'!D213 -> PONTOS DE HIDRÁULICA | E35: ='Orçamento Sintético'!I213 -> 53127.066 | F35: ='Orçamento Sintético'!J213 -> 0.026259915 | P35: 100
B36: 11.2 | C36: ='Orçamento Sintético'!D230 -> CAIXAS DE INSPEÇÃO/SIFONADA/GORDURA/AREIA | E36: ='Orçamento Sintético'!I230 -> 13398.573 | F36: ='Orçamento Sintético'!J230 -> 0.0066227145 | P36: 100
B37: 11.3 | C37: ='Orçamento Sintético'!D236 -> LOUÇAS E APARELHOS SANITÁRIOS | E37: ='Orçamento Sintético'!I236 -> 27695.293 | F37: ='Orçamento Sintético'!J236 -> 0.01368937 | P37: 100
B38: 11.4 | C38: ='Orçamento Sintético'!D247 -> METAIS, ACESSÓRIOS E EQUIPAMENTOS | E38: ='Orçamento Sintético'!I247 -> 71731.493 | F38: ='Orçamento Sintético'!J247 -> 0.035455806 | P38: 100
B39: 11.5 | C39: ='Orçamento Sintético'!D275 -> REAPROVEITAMENTO DE ÁGUA PLUVIAL | E39: ='Orçamento Sintético'!I275 -> 16589.544 | F39: ='Orçamento Sintético'!J275 -> 0.0081999636 | P39: 100
B40: 12 | C40: ='Orçamento Sintético'!D291 -> PCIP | E40: ='Orçamento Sintético'!I291 -> 4734.766 | F40: ='Orçamento Sintético'!J291 -> 0.0023403241 | I40: =H40 -> 0 | K40: =J40+I40 -> 0 | M40: =L40+K40 -> 0 | O40: =N40+M40 -> 0 | P40: 100 | Q40: =P40+O40 -> 100 | S40: =R40+Q40 -> 100
B41: 13 | C41: ='Orçamento Sintético'!D297 -> REDE DE AR COMPRIMIDO | E41: ='Orçamento Sintético'!I297 -> 11232.471 | F41: ='Orçamento Sintético'!J297 -> 0.0055520425 | I41: =H41 -> 0 | K41: =J41+I41 -> 0 | M41: =L41+K41 -> 0 | O41: =N41+M41 -> 0 | P41: 100 | Q41: =P41+O41 -> 100 | S41: =R41+Q41 -> 100
...
