Workbook

Sheet Memoria de Calculo
B2: PLANILHA DE CÁLCULO DE QUANTITATIVOS DE RECAPEAMENTO
B3: OBRA: PAVIMENTAÇÃO DE VIAS URBANAS NO MUNICÍPIO DE CRISTAIS/MG.
B4: LOCAL: MUNICÍPIO DE CRISTAIS/MG
B5: DATA: 11/05/2026.
B6: LOCAL | D6: Extensão (m) | E6: DIMENSÕES DA SEÇÃO | H6: PAVIMENTO EM C.B.U.Q
E8: LP | F8: LC | G8: LS | H8: IMP | I8: P.L | J8: EP | K8: C.B.U.Q | M8: TRCBUQ | N8: TRPL
E9: (m) | F9: (m) | G9: (m) | H9: (m2) | I9: (m2) | J9: (m) | K9: (T) | L9: (m3) | M9: (m3xkm) | N9: (Txkm)
B10: RECAPEAMENTO
B11: RUA ANTONIO DE OLIVEIRA NEVES | D11: =1131.33/7 -> 161.61857 | E11: 7 | F11: - | G11: 0.03 | H11: =D11*E11 -> 1131.33 | I11: =D11*E11 -> 1131.33 | J11: 0.05 | K11: =D11*E11*J11*M26 -> 135.7596 | L11: =J11*E11*D11 -> 56.5665 | M11: =L11*M25 -> 4636.756 | N11: =(D11*E11)*M25*0.0006 -> 55.641072
B12: AVENIDA JOSE LUIZ DA COSTA MAIA | D12: 460 | E12: 1.8 | F12: - | G12: 0.03 | H12: =D12*E12 -> 828 | I12: =D12*E12 -> 828 | J12: 0.05 | K12: =D12*E12*J12*M26 -> 99.36 | L12: =J12*E12*D12 -> 41.4 | M12: =L12*M25 -> 3393.558 | N12: =(D12*E12)*M25*0.0006 -> 40.722696
B13: ACESSOS DA AVENIDA OSWALDO DE ASSIS CARVALHO | D13: =((404.52+402.62)/6.09) -> 132.5353 | E13: 6.09 | F13: - | G13: 0.03 | H13: =D13*E13 -> 807.14 | I13: =D13*E13 -> 807.14 | J13: 0.05 | K13: =D13*E13*J13*M26 -> 96.8568 | L13: =J13*E13*D13 -> 40.357 | M13: =L13*M25 -> 3308.0633 | N13: =(D13*E13)*M25*0.0006 -> 39.696759
B14: RUA MIGUEL MESSIAS NEVES | D14: =386.45/7 -> 55.207143 | E14: 7 | F14: - | G14: 0.03 | H14: =D14*E14 -> 386.45 | I14: =D14*E14 -> 386.45 | J14: 0.05 | K14: =D14*E14*J14*M26 -> 46.374 | L14: =J14*E14*D14 -> 19.3225 | M14: =L14*M25 -> 1583.8653 | N14: =(D14*E14)*M25*0.0006 -> 19.006384
B15: RUA RICARDO JORGE MAIA E RUA JOSÉ DE ASSIS CARVALHO | D15: 315.14 | E15: 2.5 | F15: - | G15: 0.03 | H15: =D15*E15 -> 787.85 | I15: =D15*E15 -> 787.85 | J15: 0.05 | K15: =D15*E15*J15*M26 -> 94.542 | L15: =J15*E15*D15 -> 39.3925 | M15: =L15*M25 -> 3229.0032 | N15: =(D15*E15)*M25*0.0006 -> 38.748039
B16: TOTAL | D16: =SUM(D10:D15) -> 1124.501 | H16: =SUM(H11:H15) -> 3940.77 | I16: =SUM(I11:I15) -> 3940.77 | K16: =SUM(K10:K15) -> 472.8924 | L16: =SUM(L10:L15) -> 197.0385 | M16: =SUM(M10:M15) -> 16151.246 | N16: =SUM(N10:N15) -> 193.81495
B18: CONVENÇÃO | F18: CÁLCULOS
B19: LARGURA DA PISTA | D19: LP | F19: VB = LP x EB x Extensão
B20: LARGURA DA CALÇADA | D20: LC | F20: PINTURA DE LIGAÇÃO = [LP -(2 X LS)] X Extensão
B21: LARGURA DA SARJETA | D21: LS | F21: C.B.U.Q = PINTURA DE LIGAÇÃO x EP
B22: IMPRIMAÇÃO | D22: IMP | F22: TRCBUQ = C.B.U.Q x DMTCBUQ x DENSIDADE DO C.B.U.Q
B23: PINTURA DE LIGAÇÃO | D23: PL
B24: ESPESSURA DO PAVIMENTO | D24: EP | F24: CONSIDERAÇÕES
B25: CONCRETO BETUMINOSO USINADO A QUENTE | D25: C.B.U.Q | F25: DMTCBUQ = Distância Média de Transporte do C.B.U.Q até a obra (Km) | M25: 81.97
B26: TRANSPORTE DO C.B.U.Q ATÉ A OBRA | D26: TRCBUQ | F26: Densidade do C.B.U.Q (T/m3) | M26: 2.4
B27: TRANSPORTE DA PINTURA DE LIGAÇÃO ATÉ A OBRA | D27: TRPL
C32: Responsável Orçamentário | I32: Responsável Técnico
C33: Nome: Matheus de Souza Costa | I33: Nome: Matheus de Souza Costa
C34: CREA: MG 239472/D | I34: CREA: MG 239472/D

Sheet Planilha Orç - Mem. de Cálculo
B2: PREFEITURA MUNICIPAL DE CRISTAIS – MG PRAÇA: CEL. JOAQUIM LUIZ DA COSTA MAIA / 001 CENTRO – CEP: 37 275 000 – FONE: (35) 3835 2202 – 2203
B3: PO - PLANILHA ORÇAMENTÁRIA | K3: Grau de Sigilo
B4: Orçamento Base para Licitação | K4: #PUBLICO
B6: OBRA | D6: Recursos | E6: PROPONENTE / TOMADOR | F6: APELIDO DO EMPREENDIMENTO
B7: PAVIMENTAÇÃO | D7: EMENDAS | E7: Município de Cristais/MG. | F7: RECAPEAMENTO DE VIAS PUBLICAS NO MUNICIPIO DE CRISTAIS - MG
B9: LOCALIDADE (MG) | D9: DATA BASE | E9: DESCRIÇÃO DO LOTE | F9: MUNICÍPIO / UF | I9: BDI 1 | J9: BDI 2 | K9: BDI 3
B10: SINAPI SEINFRA SETOP ORSE | D10: 02-26 (N DES.) 01-24 (N DES.) 01-26 (N DES.) 02-26 (N DES.) | E10: Pavimentação Asfáltica de Vias URBANAS. | F10: Cristais/MG | I10: 0.2634 | J10: 0 | K10: 0
B15: Item | C15: Fonte | D15: Código | E15: Descrição | F15: Unidade | G15: Quantidade | H15: Custo Unitário (sem BDI) (R$) | I15: BDI (%) | J15: Preço Unitário (com BDI) (R$) | K15: Preço Total (R$)
B16: PAVIMENTAÇÃO ASFÁLTICA DE VIA URBANAS | K16: =K17+K27+K37+K47+K57 -> 573835.06
B17: 1. | C17: SINAPI | E17: PAVIMENTAÇÃO ASFÁLTICA - RUA ANTONIO DE OLIVEIRA NEVES | F17: - | G17: 0 | I17: BDI 1 | K17: =SUM(K18+K21) -> 164407.38
B18: 1.1 | C18: SINAPI | E18: LIMPEZA DA BASE A SER RECAPEADA E PLACA DE OBRA | F18: - | G18: 0 | I18: BDI 1 | K18: =SUM(K19:K20) -> 1667.3182
B19: 1.1.1 | C19: SINAPI | D19: 99814 | E19: LIMPEZA DE SUPERFÍCIE PISO OU PAREDE COM JATO DE ALTA PRESSÃO. AF_10/2025 | F19: M2 | G19: =(('[3]MEMÓRIA DE CÁLCULO'!I11)/2) -> 565.665 | H19: 1.67 | I19: BDI 1 | J19: =H19*1.2634 -> 2.109878 | K19: =ROUND(G19*J19,2) -> 1193.48
B20: 1.1.2 | C20: SINAPI | D20: 103689 | E20: FORNECIMENTO E INSTALAÇÃO DE PLACA DE OBRA COM CHAPA GALVANIZADA E ESTRUTURA DE MADEIRA. AF_03/2022_PS | F20: M2 | G20: 1 | H20: 375.05 | J20: =H20*1.2634 -> 473.83817 | K20: =J20*G20 -> 473.83817
B21: 1.2 | E21: PAVIMENTAÇÃO ASFÁLTICO EM CBUQ, INCLUSO IMPRIMAÇÃO, PINTURA DE LIGAÇÃO E TRANSPORTE DO CBUQ | K21: =SUM(K22:K26) -> 162740.06
B22: 1.2.1 | C22: SINAPI | D22: 93588 | E22: TRANSPORTE COM CAMINHÃO BASCULANTE DE 10 M³, EM VIA URBANA EM LEITO NATURAL (UNIDADE: M3XKM). AF_02/2026 | F22: M3XKM | G22: 1562.8539 | H22: 3.76 | I22: BDI 1 | J22: =H22*1.2634 -> 4.750384 | K22: =ROUND(G22*J22,2) -> 7424.16
B23: 1.2.2 | C23: SEINFRA | D23: RO-51228 | E23: Imprimação com CM-30 - IMPRIMAÇÃO (EXECUÇÃO E FORNECIMENTO DO MATERIAL BETUMINOSO, EXCLUSIVE TRANSPORTE DO MATERIAL BETUMINOSO) | F23: M2 | G23: ='[3]MEMÓRIA DE CÁLCULO'!H11 -> 1131.33 | H23: 3.55 | I23: BDI 1 | J23: =H23*1.2634 -> 4.48507 | K23: =ROUND(G23*J23,2) -> 5074.09
B24: 1.2.3 | C24: Composição | D24: CP-002 | E24: EXECUÇÃO DE PINTURA DE LIGAÇÃO COM EMULSÃO ASFÁLTICA RR-2C, PARA OBRAS DE CONSTRUÇÃO DE PAVIMENTOS. AF_09/2024 | F24: M2 | G24: ='[3]MEMÓRIA DE CÁLCULO'!I11 -> 1131.33 | H24: =[3]COMPOSIÇÃO!F24 -> 5.1215212 | I24: BDI 1 | J24: =H24*1.2634 -> 6.4705299 | K24: =ROUND(G24*J24,2) -> 7320.3
B25: 1.2.4 | C25: SINAPI | D25: 95995 | E25: Execução de CBUQ (5 cm) - EXECUÇÃO DE PAVIMENTO COM APLICAÇÃO DE CONCRETO ASFÁLTICO, CAMADA DE ROLAMENTO - EXCLUSIVE CARGA E TRANSPORTE. AF_10/2025 | F25: M3 | G25: ='[3]MEMÓRIA DE CÁLCULO'!L11 -> 56.5665 | H25: 1927.85 | I25: BDI 1 | J25: =H25*1.2634 -> 2435.6457 | K25: =ROUND(G25*J25,2) -> 137775.95
B26: 1.2.5 | C26: SINAPI | D26: 97915 | E26: Transporte de CBUQ - TRANSPORTE COM CAMINHÃO BASCULANTE DE 6 M³, EM VIA URBANA PAVIMENTADA, ADICIONAL PARA DMT EXCEDENTE A 30 KM (UNIDADE: M3XKM). AF_02/2026 | F26: M3XKM | G26: =G25*30*2 -> 3393.99 | H26: 1.2 | I26: BDI 1 | J26: =H26*1.2634 -> 1.51608 | K26: =ROUND(G26*J26,2) -> 5145.56
B27: 2. | C27: SINAPI | E27: PAVIMENTAÇÃO ASFÁLTICA - AVENIDA JOSE LUIZ DA COSTA MAIA | F27: - | G27: 0 | I27: BDI 1 | K27: =SUM(K28+K31) -> 120526.89
B28: 2.1 | C28: SINAPI | E28: LIMPEZA DA BASE A SER RECAPEADA E PLACA DE OBRA | F28: - | G28: 0 | I28: BDI 1 | K28: =SUM(K29:K30) -> 1347.3282
B29: 2.1.1 | C29: SINAPI | D29: 99814 | E29: LIMPEZA DE SUPERFÍCIE PISO OU PAREDE COM JATO DE ALTA PRESSÃO. AF_10/2025 | F29: M2 | G29: =('[3]MEMÓRIA DE CÁLCULO'!I12)/2 -> 414 | H29: 1.67 | I29: BDI 1 | J29: =H29*1.2634 -> 2.109878 | K29: =ROUND(G29*J29,2) -> 873.49
B30: 2.1.2 | C30: SINAPI | D30: 103689 | E30: FORNECIMENTO E INSTALAÇÃO DE PLACA DE OBRA COM CHAPA GALVANIZADA E ESTRUTURA DE MADEIRA. AF_03/2022_PS | F30: M2 | G30: 1 | H30: 375.05 | J30: =H30*1.2634 -> 473.83817 | K30: =J30*G30 -> 473.83817
B31: 2.2 | E31: PAVIMENTAÇÃO ASFÁLTICO EM CBUQ, INCLUSO IMPRIMAÇÃO, PINTURA DE LIGAÇÃO E TRANSPORTE DO CBUQ | K31: =SUM(K32:K36) -> 119179.56
B32: 2.2.1 | C32: SINAPI | D32: 93588 | E32: TRANSPORTE COM CAMINHÃO BASCULANTE DE 10 M³, EM VIA URBANA EM LEITO NATURAL (UNIDADE: M3XKM). AF_02/2026 | F32: M3XKM | G32: =(('[3]MEMÓRIA DE CÁLCULO'!L12)*28) -> 1159.2 | H32: 3.76 | I32: BDI 1 | J32: =H32*1.2634 -> 4.750384 | K32: =ROUND(G32*J32,2) -> 5506.65
B33: 2.2.2 | C33: SEINFRA | D33: RO-51228 | E33: Imprimação com CM-30 - IMPRIMAÇÃO (EXECUÇÃO E FORNECIMENTO DO MATERIAL BETUMINOSO, EXCLUSIVE TRANSPORTE DO MATERIAL BETUMINOSO) | F33: M2 | G33: ='[3]MEMÓRIA DE CÁLCULO'!H12 -> 828 | H33: 3.55 | I33: BDI 1 | J33: =H33*1.2634 -> 4.48507 | K33: =ROUND(G33*J33,2) -> 3713.64
B34: 2.2.3 | C34: Composição | D34: CP-002 | E34: EXECUÇÃO DE PINTURA DE LIGAÇÃO COM EMULSÃO ASFÁLTICA RR-2C, PARA OBRAS DE CONSTRUÇÃO DE PAVIMENTOS. AF_09/2024 | F34: M2 | G34: ='[3]MEMÓRIA DE CÁLCULO'!I12 -> 828 | H34: =[3]COMPOSIÇÃO!F24 -> 5.1215212 | I34: BDI 1 | J34: =H34*1.2634 -> 6.4705299 | K34: =ROUND(G34*J34,2) -> 5357.6
B35: 2.2.4 | C35: SINAPI | D35: 95995 | E35: Execução de CBUQ (5 cm) - EXECUÇÃO DE PAVIMENTO COM APLICAÇÃO DE CONCRETO ASFÁLTICO, CAMADA DE ROLAMENTO - EXCLUSIVE CARGA E TRANSPORTE. AF_10/2025 | F35: M3 | G35: ='[3]MEMÓRIA DE CÁLCULO'!L12 -> 41.4 | H35: 1927.85 | I35: BDI 1 | J35: =H35*1.2634 -> 2435.6457 | K35: =ROUND(G35*J35,2) -> 100835.73
B36: 2.2.5 | C36: SINAPI | D36: 97915 | E36: Transporte de CBUQ - TRANSPORTE COM CAMINHÃO BASCULANTE DE 6 M³, EM VIA URBANA PAVIMENTADA, ADICIONAL PARA DMT EXCEDENTE A 30 KM (UNIDADE: M3XKM). AF_02/2026 | F36: M3XKM | G36: =G35*30*2 -> 2484 | H36: 1.2 | I36: BDI 1 | J36: =H36*1.2634 -> 1.51608 | K36: =ROUND(G36*J36,2) -> 3765.94
B37: 3. | C37: SINAPI | E37: PAVIMENTAÇÃO ASFÁLTICA - ACESSOS DA AVENIDA OSWALDO DE ASSIS CARVALHO | F37: - | G37: 0 | I37: BDI 1 | K37: =SUM(K38+K41) -> 117502.35
B38: 3.1 | C38: SINAPI | E38: LIMPEZA DA BASE A SER RECAPEADA E PLACA DE OBRA | F38: - | G38: 0 | I38: BDI 1 | K38: =SUM(K39:K40) -> 1325.3182
B39: 3.1.1 | C39: SINAPI | D39: 99814 | E39: LIMPEZA DE SUPERFÍCIE PISO OU PAREDE COM JATO DE ALTA PRESSÃO. AF_10/2025 | F39: M2 | G39: =('[3]MEMÓRIA DE CÁLCULO'!I13)/2 -> 403.57 | H39: 1.67 | I39: BDI 1 | J39: =H39*1.2634 -> 2.109878 | K39: =ROUND(G39*J39,2) -> 851.48
B40: 3.1.2 | C40: SINAPI | D40: 103689 | E40: FORNECIMENTO E INSTALAÇÃO DE PLACA DE OBRA COM CHAPA GALVANIZADA E ESTRUTURA DE MADEIRA. AF_03/2022_PS | F40: M2 | G40: 1 | H40: 375.05 | J40: =H40*1.2634 -> 473.83817 | K40: =J40*G40 -> 473.83817
B41: 3.2 | E41: PAVIMENTAÇÃO ASFÁLTICO EM CBUQ, INCLUSO IMPRIMAÇÃO, PINTURA DE LIGAÇÃO E TRANSPORTE DO CBUQ | K41: =SUM(K42:K46) -> 116177.03
B42: 3.2.1 | C42: SINAPI | D42: 93588 | E42: TRANSPORTE COM CAMINHÃO BASCULANTE DE 10 M³, EM VIA URBANA EM LEITO NATURAL (UNIDADE: M3XKM). AF_02/2026 | F42: M3XKM | G42: =('[3]MEMÓRIA DE CÁLCULO'!L13*28) -> 1129.996 | H42: 3.76 | I42: BDI 1 | J42: =H42*1.2634 -> 4.750384 | K42: =ROUND(G42*J42,2) -> 5367.91
B43: 3.2.2 | C43: SEINFRA | D43: RO-51228 | E43: Imprimação com CM-30 - IMPRIMAÇÃO (EXECUÇÃO E FORNECIMENTO DO MATERIAL BETUMINOSO, EXCLUSIVE TRANSPORTE DO MATERIAL BETUMINOSO) | F43: M2 | G43: ='[3]MEMÓRIA DE CÁLCULO'!H13 -> 807.14 | H43: 3.55 | I43: BDI 1 | J43: =H43*1.2634 -> 4.48507 | K43: =ROUND(G43*J43,2) -> 3620.08
B44: 3.2.3 | C44: Composição | D44: CP-002 | E44: EXECUÇÃO DE PINTURA DE LIGAÇÃO COM EMULSÃO ASFÁLTICA RR-2C, PARA OBRAS DE CONSTRUÇÃO DE PAVIMENTOS. AF_09/2024 | F44: M2 | G44: ='[3]MEMÓRIA DE CÁLCULO'!I13 -> 807.14 | H44: =[3]COMPOSIÇÃO!F24 -> 5.1215212 | I44: BDI 1 | J44: =H44*1.2634 -> 6.4705299 | K44: =ROUND(G44*J44,2) -> 5222.62
B45: 3.2.4 | C45: SINAPI | D45: 95995 | E45: Execução de CBUQ (5 cm) - EXECUÇÃO DE PAVIMENTO COM APLICAÇÃO DE CONCRETO ASFÁLTICO, CAMADA DE ROLAMENTO - EXCLUSIVE CARGA E TRANSPORTE. AF_10/2025 | F45: M3 | G45: ='[3]MEMÓRIA DE CÁLCULO'!L13 -> 40.357 | H45: 1927.85 | I45: BDI 1 | J45: =H45*1.2634 -> 2435.6457 | K45: =ROUND(G45*J45,2) -> 98295.35
B46: 3.2.5 | C46: SINAPI | D46: 97915 | E46: Transporte de CBUQ - TRANSPORTE COM CAMINHÃO BASCULANTE DE 6 M³, EM VIA URBANA PAVIMENTADA, ADICIONAL PARA DMT EXCEDENTE A 30 KM (UNIDADE: M3XKM). AF_02/2026 | F46: M3XKM | G46: =G45*30*2 -> 2421.42 | H46: 1.2 | I46: BDI 1 | J46: =H46*1.2634 -> 1.51608 | K46: =ROUND(G46*J46,2) -> 3671.07
B47: 4. | C47: SINAPI | E47: PAVIMENTAÇÃO ASFÁLTICA - RUA MIGUEL MESSIAS NEVES | F47: - | G47: 0 | I47: BDI 1 | K47: =SUM(K48+K51) -> 56505.848
...

Sheet Composição
B8: FONTE | C8: CÓDIGO | D8: DESCRIÇÃO | E8: UNIDADE | F8: VALOR FINAL | H8: COEFIC. | I8: DESONERADO | J8: NÃO DESONER.
B9: COMPOSIÇÃO | C9: CP-001 | D9: REGULARIZACAO E COMPACTACAO DE SUBLEITO ATE 20 CM DE ESPESSURA | E9: M2 | F9: =SUM(F10:G17) -> 2.2834872
B10: SINAPI | C10: 5901 | D10: CAMINHÃO PIPA 10.000 L TRUCADO, PESO BRUTO TOTAL 23.000 KG, CARGA ÚTIL MÁXIMA 15.935 KG, DISTÂNCIA ENTRE EIXOS 4,8 M, POTÊNCIA 230 CV, INCLUSIVE TANQUE DE AÇO PARA TRANSPORTE DE ÁGUA - CHP DIURNO. AF_06/2014 | E10: CHP | F10: =H10*J10 -> 0.51436037 | H10: 0.0016109 | I10: 321.5 | J10: 319.3
B11: SINAPI | C11: 5903 | D11: CAMINHÃO PIPA 10.000 L TRUCADO, PESO BRUTO TOTAL 23.000 KG, CARGA ÚTIL MÁXIMA 15.935 KG, DISTÂNCIA ENTRE EIXOS 4,8 M, POTÊNCIA 230 CV, INCLUSIVE TANQUE DE AÇO PARA TRANSPORTE DE ÁGUA - CHI DIURNO. AF_06/2014 | E11: CHI | F11: =H11*J11 -> 0.084000458 | H11: 0.0010739 | I11: 80.42 | J11: 78.22
B12: SINAPI | C12: 5932 | D12: MOTONIVELADORA POTÊNCIA BÁSICA LÍQUIDA (PRIMEIRA MARCHA) 125 HP, PESO BRUTO 13032 KG, LARGURA DA LÂMINA DE 3,7 M - CHP DIURNO. AF_06/2014 | E12: CHP | F12: =H12*J12 -> 0.48722602 | H12: 0.0018525 | I12: 265.92 | J12: 263.01
B13: SINAPI | C13: 5934 | D13: MOTONIVELADORA POTÊNCIA BÁSICA LÍQUIDA (PRIMEIRA MARCHA) 125 HP, PESO BRUTO 13032 KG, LARGURA DA LÂMINA DE 3,7 M - CHI DIURNO. AF_06/2014 | E13: CHI | F13: =H13*J13 -> 0.087865911 | H13: 0.0008323 | I13: 108.48 | J13: 105.57
B14: SINAPI | C14: 7049 | D14: ROLO COMPACTADOR PE DE CARNEIRO VIBRATORIO, POTENCIA 125 HP, PESO OPERACIONAL SEM/COM LASTRO 11,95 / 13,30 T, IMPACTO DINAMICO 38,5 / 22,5 T, LARGURA DE TRABALHO 2,15 M - CHP DIURNO. AF_06/2014 | E14: CHP | F14: =H14*J14 -> 0.57260862 | H14: 0.0026849 | I14: 214.9 | J14: 213.27
B15: SINAPI | C15: 88316 | D15: SERVENTE COM ENCARGOS COMPLEMENTARES | E15: H | F15: =H15*J15 -> 0.25323977 | H15: 0.0107396 | I15: 24.88 | J15: 23.58
B16: SINAPI | C16: 96028 | D16: TRATOR DE PNEUS COM POTÊNCIA DE 85 CV, TRAÇÃO 4X4, COM GRADE DE DISCOS ACOPLADA - CHP DIURNO. AF_02/2017 | E16: CHP | F16: =H16*J16 -> 0.20076934 | H16: 0.0013424 | I16: 152.09 | J16: 149.56
B17: SINAPI | C17: 96029 | D17: TRATOR DE PNEUS COM POTÊNCIA DE 85 CV, TRAÇÃO 4X4, COM GRADE DE DISCOS ACOPLADA - CHI DIURNO. AF_02/2017 | E17: CHI | F17: =H17*J17 -> 0.083416736 | H17: 0.0013424 | I17: 64.67 | J17: 62.14
B23: FONTE | C23: CÓDIGO | D23: DESCRIÇÃO | E23: UNIDADE | F23: VALOR FINAL | H23: COEFIC. | I23: DESONERADO | J23: NÃO DESONER.
B24: COMPOSIÇÃO | C24: CP-002 | D24: EXECUÇÃO DE PINTURA DE LIGAÇÃO COM EMULSÃO ASFÁLTICA RR-2C, PARA OBRAS DE CONSTRUÇÃO DE PAVIMENTOS. AF_09/2024 | E24: M2 | F24: =SUM(F25:G32) -> 5.1215212
B25: SINAPI | C25: 5839 | D25: VASSOURA MECÂNICA REBOCÁVEL COM ESCOVA CILÍNDRICA, LARGURA ÚTIL DE VARRIMENTO DE 2,44 M - CHP DIURNO. AF_06/2014 | E25: CHP | F25: =H25*J25 -> 0.01494581 | H25: 0.001637 | J25: 9.13
B26: SINAPI | C26: 5841 | D26: VASSOURA MECÂNICA REBOCÁVEL COM ESCOVA CILÍNDRICA, LARGURA ÚTIL DE VARRIMENTO DE 2,44 M - CHI DIURNO.AF_06/2014 | E26: CHI | F26: =H26*J26 -> 0.01669383 | H26: 0.003637 | J26: 4.59
B27: SINAPI-I | C27: 517 | D27: EMULSAO ASFALTICA CATIONICA RR-2C PARA USO EM PAVIMENTACAO ASFALTICA - EMULSAO ASFALTICA ANIONICA | E27: L | F27: =H27*J27 -> 3.978 | H27: 0.45 | J27: 8.84
B28: SINAPI | C28: 83362 | D28: ESPARGIDOR DE ASFALTO PRESSURIZADO, TANQUE 6 M3 COM ISOLAÇÃO TÉRMICA, AQUECIDO COM 2 MAÇARICOS, COM BARRA ESPARGIDORA 3,60 M, MONTADO SOBRE CAMINHÃO TOCO, PBT 14.300 KG, POTÊNCIA 185 CV - CHP DIURNO. AF_05/2023 | E28: CHP | F28: =H28*J28 -> 0.11435216 | H28: 0.0004229 | J28: 270.4
B29: SINAPI | C29: 88316 | D29: SERVENTE COM ENCARGOS COMPLEMENTARES | E29: H | F29: =H29*J29 -> 0.12436092 | H29: 0.005274 | J29: 23.58
B30: SINAPI | C30: 89035 | D30: TRATOR DE PNEUS, POTÊNCIA 85 CV, TRAÇÃO 4X4, PESO COM LASTRO DE 4.675 KG - CHP DIURNO. AF_06/2014 | E30: CHP | F30: =H30*J30 -> 0.23224119 | H30: 0.001637 | J30: 141.87
B31: SINAPI | C31: 89036 | D31: TRATOR DE PNEUS, POTÊNCIA 85 CV, TRAÇÃO 4X4, PESO COM LASTRO DE 4.675 KG - CHI DIURNO. AF_06/2014 | E31: CHI | F31: =H31*J31 -> 0.28141231 | H31: 0.0048511 | J31: 58.01
B32: SINAPI | C32: 91486 | D32: ESPARGIDOR DE ASFALTO PRESSURIZADO, TANQUE 6 M3 COM ISOLAÇÃO TÉRMICA, AQUECIDO COM 2 MAÇARICOS, COM BARRA ESPARGIDORA 3,60 M, MONTADO SOBRE CAMINHÃO TOCO, PBT 14.300 KG, POTÊNCIA 185 CV - CHI DIURNO. AF_05/2023 | E32: CHI | F32: =H32*J32 -> 0.35951502 | H32: 0.0048511 | J32: 74.11

Sheet Cronograma Fisico-Financeiro
B2: PREFEITURA MUNICIPAL DE CRISTAIS – MG PRAÇA: CEL. JOAQUIM LUIZ DA COSTA MAIA / 001 CENTRO – CEP: 37 275 000 – FONE: (35) 3835 2202 – 2203
B3: =IF(TIPOORCAMENTO="licitado","CRONOGRAMA FÍSICO-FINANCEIRO LICITADO","CRONOGRAMA FÍSICO-FINANCEIRO") -> CRONOGRAMA FÍSICO-FINANCEIRO | J3: Grau de Sigilo
J4: #PUBLICO
B6: PROPONENTE/TOMADOR | F6: EMPREENDIMENTO
B7: MUNICÍPIO DE CRISTAIS/MG | F7: ASFALTO EM ESTRADAS URBANAS NO MUNICIPIO DE CRISTAIS - MG
B8: Item | C8: Descrição | F8: Valor (R$) | G8: MESES: | H8: 1 | I8: =OFFSET(I8,0,-1)+1 -> 2 | J8: =OFFSET(J8,0,-1)+1 -> 3
B10: =+'[3]PLANILHA ORÇAMENTARIA'!B17 -> 1. | C10: ='[3]PLANILHA ORÇAMENTARIA'!B16 -> PAVIMENTAÇÃO ASFÁLTICA DE VIA URBANAS | F10: ='[3]PLANILHA ORÇAMENTARIA'!K16 -> 573835.06 | G10: % Período: | H10: =H14+H16 -> 238029.24 | I10: =I12+I18 -> 220913.23 | J10: =J20 -> 114892.6
H11: 0.4 | I11: 0.3 | J11: 0.3
B12: =+'[3]PLANILHA ORÇAMENTARIA'!B18 -> 1.1 | C12: ='[3]PLANILHA ORÇAMENTARIA'!E17 -> PAVIMENTAÇÃO ASFÁLTICA - RUA ANTONIO DE OLIVEIRA NEVES | F12: ='[3]PLANILHA ORÇAMENTARIA'!K17 -> 164407.38 | G12: % Período: | I12: =F12 -> 164407.38
I13: 1
B14: =+'[3]PLANILHA ORÇAMENTARIA'!B21 -> 1.2 | C14: ='[3]PLANILHA ORÇAMENTARIA'!E27 -> PAVIMENTAÇÃO ASFÁLTICA - AVENIDA JOSE LUIZ DA COSTA MAIA | F14: ='[3]PLANILHA ORÇAMENTARIA'!K27 -> 120526.89 | G14: % Período: | H14: =F14 -> 120526.89
H15: 1
B16: 1.3 | C16: ='[3]PLANILHA ORÇAMENTARIA'!E37 -> PAVIMENTAÇÃO ASFÁLTICA - ACESSOS DA AVENIDA OSWALDO DE ASSIS CARVALHO | F16: ='[3]PLANILHA ORÇAMENTARIA'!K37 -> 117502.35 | G16: % Período: | H16: =F16 -> 117502.35
H17: 1
B18: 1.4 | C18: ='[3]PLANILHA ORÇAMENTARIA'!E47 -> PAVIMENTAÇÃO ASFÁLTICA - RUA MIGUEL MESSIAS NEVES | F18: ='[3]PLANILHA ORÇAMENTARIA'!K47 -> 56505.848 | G18: % Período: | I18: =F18 -> 56505.848
I19: 1
B20: 1.5 | C20: ='[3]PLANILHA ORÇAMENTARIA'!E57 -> PAVIMENTAÇÃO ASFÁLTICA - RUA RICARDO JORGE MAIA E RUA JOSÉ DE ASSIS CARVALHO | F20: ='[3]PLANILHA ORÇAMENTARIA'!K57 -> 114892.6 | G20: % Período: | J20: =F20 -> 114892.6
J21: 1
C23: Total: | D23: =F10 -> 573835.06 | G23: %: | H23: =H11 -> 0.4 | I23: =H11+I11 -> 0.7 | J23: =I11+J11+H11 -> 1
G24: Acumulado | H24: =H10 -> 238029.24 | I24: =H10+I10 -> 458942.46 | J24: =I10+J10+H10 -> 573835.06
B28: Cristais/MG
B29: Local
F30: Responsável Orçamentário | H30: Responsável Técnico
B31: 46112 | F31: Nome: Matheus de Souza Costa | H31: Nome: Matheus de Souza Costa
B32: Data | F32: CREA: MG 239.472/D | H32: CREA: MG 239.472/D

Sheet BDI
A1: QUADRO DE COMPOSIÇÃO DO BDI
A4: ESTADO | C4: PROPONENTE / TOMADOR
A5: MINAS GERAIS | C5: MUNICÍPIO DE CRISTAIS/MG
A7: OBJETO
A8: CONSTRUÇÃO DE NOVOS CANTEIROS E MELHORIAS NA ILUMINAÇÃO E JARDINAGEM DA AVENIDA JOSÉ DA COSTA LUIZ MAIA.
A10: TIPO DE OBRA DO EMPREENDIMENTO | I10: DESONERAÇÃO
A11: PAVIMENTAÇÃO URBANA DE RUAS MUNICIPAIS | I11: Sim
A13: Conforme legislação tributária municipal, definir estimativa de percentual da base de cálculo para o ISS: | I13: 0.5
A14: Sobre a base de cálculo, definir a respectiva alíquota do ISS (entre 2% e 5%): | I14: 0.03
A16: Itens | E16: Siglas | F16: % Adotado | G16: Situação | H16: 1º Quartil | I16: Médio | J16: 3º Quartil
A18: Administração Central | E18: AC | F18: 0.03 | G18: - | H18: 0.03 | I18: 0.04 | J18: 0.055
A19: Seguro e Garantia | E19: SG | F19: 0.008 | G19: - | H19: 0.008 | I19: 0.008 | J19: 0.01
A20: Risco | E20: R | F20: 0.0097 | G20: - | H20: 0.0097 | I20: 0.0127 | J20: 0.0127
A21: Despesas Financeiras | E21: DF | F21: 0.0059 | G21: - | H21: 0.0059 | I21: 0.0123 | J21: 0.0139
A22: Lucro | E22: L | F22: 0.0831 | G22: - | H22: 0.0616 | I22: 0.074 | J22: 0.0896
A23: Tributos (impostos COFINS 3%, e PIS 0,65%) | E23: CP | F23: 0.0365 | G23: - | H23: 0.0365 | I23: 0.0365 | J23: 0.0365
A24: Tributos (ISS, variável de acordo com o município) | E24: ISS | F24: 0.015 | G24: - | H24: 0 | I24: 0.025 | J24: 0.05
A25: Tributos (Contribuição Previdenciária sobre a Receita Bruta - 0% ou 4,5% - Desoneração) | E25: CPRB | F25: 0.045 | G25: OK | H25: 0 | I25: 0.045 | J25: 0.045
A26: BDI SEM desoneração (Fórmula Acórdão TCU) | E26: BDI PAD | F26: 0.2034 | G26: OK | H26: 0.2034 | I26: 0.2212 | J26: 0.25
A27: BDI COM desoneração (Fórmula Acórdão TCU) | E27: BDI DES | F27: 0.2634 | G27: OK
A30: Os valores de BDI foram calculados com o emprego da fórmula:
D31: BDI.DES = | E31: (1+AC + S + R + G)*(1 + DF)*(1+L) | H31: - 1
E32: (1-CP-ISS-CRPB)
A34: Declaro para os devidos fins que, conforme legislação tributária municipal, a base de cálculo para Construção e Reforma de Edifícios, é de 50%, com a respectiva alíquota de 3,00 %.
A36: Declaro para os devidos fins que o regime de Contribuição Previdenciária sobre a Receita Bruta adotado para elaboração do orçamento foi COM Desoneração, e que esta é a alternativa mais adequada para a Administração Pública.
A38: Observações:
A41: Cristais | G41: 46153
A42: Local | G42: Data
A45: Responsável Técnico | G45: Responsável Tomador
A46: Nome: | B46: Matheus de Souza Costa | G46: Nome: | H46: Célio Elias Pires
A47: Título: | B47: Engenheiro Civil | G47: Cargo: | H47: Prefeito Municipal de Cristais
A48: CREA: | B48: CREA-MG 239472/D
