Workbook

Sheet PO
D1: FNHIS SUB 50
A2: Projeto: | B2: CONSTRUÇÃO DE 20 UNIDADES HABITACIONAIS MCMV, Área toral a construir: 53,86 m²
A3: Data-base: | B3: 45901
A4: Enc sociais: | B4: Com Desoneração
A5: MG
A6: Proponente: | B6: Municipio de Capetinga - MG
A7: Item | B7: Macro-Serviço | C7: SINAPI | D7: Descrição | E7: Und. | F7: Quant. | G7: Preço Unt. (R$) | H7: Preço Unt. Com BDI (R$) | I7: Custo (R$) | J7: Custo (R$) +BDI
A8: CONSTRUÇÃO DE HABITAÇÃO DE INTERESSE SOCIAL - HIS - PADRÃO POPULAR | I8: =SUMIFS(OFFSET($I$8,1,0):$I$223,OFFSET($A$8,1,0):$A$223,"<>"&"-",OFFSET($C$8,1,0):$C$223,"<>"&"") -> 0 | J8: =I8*1.2547 -> 0
A9: 01 | B9: SERVIÇOS PRELIMINARES | I9: =IF($A9="-",0,IF($C9<>"",ROUND(ROUND($F9,2)*$G9,2),SUMIFS($I10:I$223,A10:A$223,$A9&".*",$C10:C$223,"<>"&""))) -> 0 | J9: =I9*1.2547 -> 0
A10: 01.01 | B10: LOCAÇÃO | C10: 99059 | D10: LOCAÇÃO CONVENCIONAL DE OBRA, UTILIZANDO GABARITO DE TÁBUAS CORRIDAS PONTALETADAS A CADA 2,00M - 2 UTILIZAÇÕES. AF_03/2024 | E10: M | F10: =M10*20 -> 766 | M10: 38.3
A11: 01.02 | B11: FORNECIMENTO E INSTALAÇÃO DE PLACA | C11: 103689 | D11: FORNECIMENTO E INSTALAÇÃO DE PLACA DE OBRA COM CHAPA GALVANIZADA E ESTRUTURA DE MADEIRA. AF_03/2022_PS | E11: M2 | F11: =M11*20 -> 6 | M11: 0.3
A12: 01.03 | B12: LIMPEZA | C12: 98525 | D12: LIMPEZA MECANIZADA DE CAMADA VEGETAL, VEGETAÇÃO E PEQUENAS ARVORES ( DIÂMETRO DE TRONCO MENOR QUE 0,20M), COM TRATOR DE ESTEIRAS | E12: M2 | F12: =M12*20 -> 6000 | M12: 300
A13: 01.04 | B13: TERRAPLENAGEM - ESCAVAÇÃO | C13: 90091 | D13: ESCAVAÇÃO MECANIZADA DE VALA COM PROF. ATÉ 1,5 M (MÉDIA MONTANTE E JUSANTE/UMA COMPOSIÇÃO POR TRECHO), ESCAVADEIRA (0,8 M3), LARG. DE 1,5 M A 2,5 M, EM SOLO DE 1A CATEGORIA, LOCAIS COM BAIXO NÍVEL DE INTERFERÊNCIA. AF_09/2024 | E13: M3 | F13: =M13*20 -> 1815 | M13: 90.75
A14: 01.05 | B14: TERRAPLENAGEM - REATERRO | C14: 105559 | D14: EXECUÇÃO E COMPACTAÇÃO DE CORPO DE ATERRO DE ATERRO (95% DE ENERGIA DO PROCTOR NORMAL) COM SOLO PREDOMINANTEMENTE ARGILOSO, EM CAMADAS COM ESPESSURA DE 20 CM - EXCLUSIVE ESCAVAÇÃO, CARGA E TRANSPORTE E SOLO. AF_09/2024 | E14: M3 | F14: =M14*20 -> 1815 | M14: 90.75
A15: 01.06 | B15: ADM LOCAL / CANTEIRO | C15: 10775 | D15: LOCACAO DE CONTAINER 2,30 X 6,00 M PARA OBRA | E15: MÊS | F15: =M15*20 -> 6 | M15: 0.3
A16: 01.07 | B16: ADM LOCAL / ENGENHARIA | C16: 90778 | D16: ENGENHEIRO CIVIL DE OBRA PLENO COM ENCARGOS COMPLEMENTARES (HORISTA) | E16: H | F16: =M16*20 -> 126 | M16: 6.3
A17: 02 | B17: FUNDAÇÕES E CONTENÇÕES | F17: =M17*20 -> 0
A18: 02.01 | B18: FUNDAÇÕES | F18: =M18*20 -> 0
A19: 02.01.01 | B19: RADIER | F19: =M19*20 -> 0
A20: 02.01.01.01 | B20: RADIER | C20: 96521 | D20: ESCAVAÇÃO MECANIZADA PARA BLOCO DE COROAMENTO OU SAPATA COM RETROESCAVADEIRA (INCLUINDO ESCAVAÇÃO PARA COLOCAÇÃO DE FÔRMAS). AF_01/2024 | E20: M3 | F20: =M20*20 -> 250.6 | M20: 12.53
A21: 02.01.01.02 | B21: RADIER | C21: 97083 | D21: COMPACTAÇÃO MECÂNICA DE SOLO PARA EXECUÇÃO DE RADIER, PISO DE CONCRETO OU LAJE SOBRE SOLO, COM COMPACTADOR DE SOLOS A PERCUSSÃO. AF_09/2021 | E21: M2 | F21: =M21*20 -> 1077.2 | M21: 53.86
A22: 02.01.01.03 | B22: RADIER | C22: 97087 | D22: CAMADA SEPARADORA PARA EXECUÇÃO DE RADIER, PISO DE CONCRETO OU LAJE SOBRE SOLO, EM LONA PLÁSTICA. AF_09/2021 | E22: M2 | F22: =M22*20 -> 1077.2 | M22: 53.86
A23: 02.01.01.04 | B23: RADIER | C23: 96622 | D23: LASTRO COM MATERIAL GRANULAR, APLICADO EM PISOS OU LAJES SOBRE SOLO, ESPESSURA DE *5 CM*. AF_01/2024 | E23: M3 | F23: =M23*20 -> 53.8 | M23: 2.69
A24: 02.01.01.05 | B24: RADIER | C24: 97086 | D24: FABRICAÇÃO, MONTAGEM E DESMONTAGEM DE FORMA PARA RADIER, PISO DE CONCRETO OU LAJE SOBRE SOLO, EM MADEIRA SERRADA, 4 UTILIZAÇÕES. AF_09/2021 | E24: M2 | F24: =M24*20 -> 133.4 | M24: 6.67
A25: 02.01.01.06 | B25: RADIER | C25: 92769 | D25: ARMAÇÃO DE LAJE DE ESTRUTURA CONVENCIONAL DE CONCRETO ARMADO UTILIZANDO AÇO CA-50 DE 6,3 MM - MONTAGEM. AF_06/2022 | E25: KG | F25: =M25*20 -> 7240 | M25: 362
A26: 02.01.01.07 | B26: RADIER | C26: 92762 | D26: ARMAÇÃO DE PILAR OU VIGA DE ESTRUTURA CONVENCIONAL DE CONCRETO ARMADO UTILIZANDO AÇO CA-50 DE 10,0 MM - MONTAGEM. AF_06/2022 | E26: KG | F26: =M26*20 -> 572 | M26: 28.6
A27: 02.01.01.08 | B27: RADIER | C27: 92759 | D27: ARMAÇÃO DE PILAR OU VIGA DE ESTRUTURA CONVENCIONAL DE CONCRETO ARMADO UTILIZANDO AÇO CA-60 DE 5,0 MM - MONTAGEM. AF_06/2022 | E27: KG | F27: =M27*20 -> 78 | M27: 3.9
A28: 02.01.01.09 | B28: RADIER | C28: 97096 | D28: CONCRETAGEM DE RADIER, PISO DE CONCRETO OU LAJE SOBRE SOLO, FCK 30 MPA - LANÇAMENTO, ADENSAMENTO E ACABAMENTO. AF_09/2021 | E28: M3 | F28: =M28*20 -> 181.6 | M28: 9.08
A29: 02.01.01.10 | B29: RADIER | C29: 93382 | D29: REATERRO MANUAL DE VALAS, COM COMPACTADOR DE SOLOS DE PERCUSSÃO. AF_08/2023 | E29: M3 | F29: =M29*20 -> 13.6 | M29: 0.68
A30: 02.01.02 | B30: IMPERMEABILIZAÇÃO | F30: =M30*20 -> 0
A31: 02.01.02.01 | B31: IMPERMEABILIZAÇÃO | C31: 98555 | D31: IMPERMEABILIZAÇÃO DE SUPERFÍCIE COM ARGAMASSA POLIMÉRICA / MEMBRANA ACRÍLICA, 3 DEMÃOS. AF_09/2023 | E31: M2 | F31: =M31*20 -> 632.4 | M31: 31.62
A32: 02.01.02.02 | B32: IMPERMEABILIZAÇÃO | C32: 4030_ADP-01 | D32: VEU DE POLIESTER PARA IMPERMEABILIZACAO | E32: M2 | F32: =M32*20 -> 92.4 | M32: 4.62
A33: 03 | B33: SUPRAESTRUTURA | F33: =M33*20 -> 0
A34: 03.01 | B34: PILARES, VIGAS E LAJES | F34: =M34*20 -> 0
A35: 03.01.01 | B35: PILARES, VIGAS E LAJES | C35: 92427 | D35: MONTAGEM E DESMONTAGEM DE FÔRMA DE PILARES RETANGULARES E ESTRUTURAS SIMILARES, PÉ-DIREITO SIMPLES, EM CHAPA DE MADEIRA COMPENSADA RESINADA, 8 UTILIZAÇÕES. AF_09/2020 | E35: M2 | F35: =M35*20 -> 287.8 | M35: 14.39
A36: 03.01.02 | B36: PILARES, VIGAS E LAJES | C36: 92463_ADP-01 | D36: MONTAGEM E DESMONTAGEM DE FÔRMA DE VIGA, SEM ESCORAMENTO, PÉ-DIREITO SIMPLES, EM CHAPA DE MADEIRA RESINADA, 8 UTILIZAÇÕES. | E36: M2 | F36: =M36*20 -> 410.8 | M36: 20.54
A37: 03.01.03 | B37: PILARES, VIGAS E LAJES | C37: 92463 | D37: MONTAGEM E DESMONTAGEM DE FÔRMA DE VIGA, ESCORAMENTO COM GARFO DE MADEIRA, PÉ-DIREITO SIMPLES, EM CHAPA DE MADEIRA RESINADA, 8 UTILIZAÇÕES. AF_09/2020 | E37: M2 | F37: =M37*20 -> 82.6 | M37: 4.13
A38: 03.01.04 | B38: PILARES, VIGAS E LAJES | C38: 92759 | D38: ARMAÇÃO DE PILAR OU VIGA DE ESTRUTURA CONVENCIONAL DE CONCRETO ARMADO UTILIZANDO AÇO CA-60 DE 5,0 MM - MONTAGEM. AF_06/2022 | E38: KG | F38: =M38*20 -> 1408 | M38: 70.4
A39: 03.01.05 | B39: PILARES, VIGAS E LAJES | C39: 92760 | D39: ARMAÇÃO DE PILAR OU VIGA DE ESTRUTURA CONVENCIONAL DE CONCRETO ARMADO UTILIZANDO AÇO CA-50 DE 6,3 MM - MONTAGEM. AF_06/2022 | E39: KG | F39: =M39*20 -> 300 | M39: 15
A40: 03.01.06 | B40: PILARES, VIGAS E LAJES | C40: 92761 | D40: ARMAÇÃO DE PILAR OU VIGA DE ESTRUTURA CONVENCIONAL DE CONCRETO ARMADO UTILIZANDO AÇO CA-50 DE 8,0 MM - MONTAGEM. AF_06/2022 | E40: KG | F40: =M40*20 -> 1306 | M40: 65.3
...

Sheet CRO
F1: CRONOGRAMA
A3: PROPONENTE: | C3: MUNICIPIO DE CAPETINGA
A4: OBJETO: | C4: CONSTRUÇÃO DE 20 UNIDADES HABITACIONAIS MCMV
A5: RESPONSÁVEL TECNICO: | D5: LUCAS CUSTODIO DE LIMA CAMPOS
A6: CREA: | B6: 241547/D
A8: Falta distribuir: | B8: Item | C8: Descrição | F8: Valor Unit. (R$) | G8: Parcelas: | H8: 1 | I8: 2 | J8: 3 | K8: 4 | L8: 5 | M8: 6 | N8: 7 | O8: 8 | P8: 9 | Q8: 10 | R8: 11 | S8: 12 | T8: Valor 20 Casas (R$)
H9: MÊS 1 | I9: MÊS 2 | J9: MÊS 3 | K9: MÊS 4 | L9: MÊS 5 | M9: MÊS 6 | N9: MÊS 7 | O9: MÊS 8 | P9: MÊS 9 | Q9: MÊS 10 | R9: MÊS 11 | S9: MÊS 6
A10: Linha | B10: 1. | C10: (CONSTRUÇÃO DE 20 UNIDADES HABITACIONAIS MCMV) | F10: =PO!J228 -> 0 | G10: % Período: | H10: =(14.565709226948/2)/100 -> 0.072828546 | I10: =(7.96468529126796/2)/100 -> 0.039823426 | J10: =(15.2166857457531/2)/100 -> 0.076083429 | K10: =(20.7205843000285/2)/100 -> 0.10360292 | L10: =(12.7063744244113/2)/100 -> 0.063531872 | M10: =(28.8259610115912/2)/100 -> 0.14412981 | N10: =(14.565709226948/2)/100 -> 0.072828546 | O10: =(7.96468529126796/2)/100 -> 0.039823426 | P10: =(15.2166857457531/2)/100 -> 0.076083429 | Q10: =(20.7205843000285/2)/100 -> 0.10360292 | R10: =(12.7063744244113/2)/100 -> 0.063531872 | S10: =(28.8259610115912/2)/100 -> 0.14412981 | T10: =F10 -> 0
A11: Linha | B11: 1.1 | C11: (SERVIÇOS PRELIMINARES) | F11: =PO!J9 -> 0 | G11: % Período: | H11: 0.5 | I11: 0 | J11: 0 | K11: 0 | L11: 0 | M11: 0 | N11: 0.5 | O11: 0 | P11: 0 | Q11: 0 | R11: 0 | S11: 0 | T11: =F11 -> 0
A12: Linha | B12: 1.2 | C12: (FUNDAÇÕES) | F12: =PO!J17 -> 0 | G12: % Período: | H12: 0.5 | I12: 0 | J12: 0 | K12: 0 | L12: 0 | M12: 0 | N12: 0.5 | O12: 0 | P12: 0 | Q12: 0 | R12: 0 | S12: 0 | T12: =F12 -> 0
A13: Linha | B13: 1.3 | C13: (SUPRAESTRUTURA) | F13: =PO!J33 -> 0 | G13: % Período: | H13: 0 | I13: 0.5 | J13: 0 | K13: 0 | L13: 0 | M13: 0 | N13: 0 | O13: 0.5 | P13: 0 | Q13: 0 | R13: 0 | S13: 0 | T13: =F13 -> 0
A14: Linha | B14: 1.4 | C14: (PAREDES E PAINEIS) | F14: =PO!J45 -> 0 | G14: % Período: | H14: 0 | I14: 0 | J14: 0.5 | K14: 0 | L14: 0 | M14: 0 | N14: 0 | O14: 0 | P14: 0.5 | Q14: 0 | R14: 0 | S14: 0 | T14: =F14 -> 0
A15: Linha | B15: 1.5 | C15: (COBERTURA E PROTEÇÕES) | F15: =PO!J59 -> 0 | G15: % Período: | H15: 0 | I15: 0 | J15: 0 | K15: 0.5 | L15: 0 | M15: 0 | N15: 0 | O15: 0 | P15: 0 | Q15: 0.5 | R15: 0 | S15: 0 | T15: =F15 -> 0
A16: Linha | B16: 1.6 | C16: (REVESTIMENTOS) | F16: =PO!J68 -> 0 | G16: % Período: | H16: 0 | I16: 0 | J16: 0 | K16: 0 | L16: 0.5 | M16: 0 | N16: 0 | O16: 0 | P16: 0 | Q16: 0 | R16: 0.5 | S16: 0 | T16: =F16 -> 0
A17: Linha | B17: 1.7 | C17: (PAVIMENTAÇÕES) | F17: =PO!J99 -> 0 | G17: % Período: | H17: 0 | I17: 0 | J17: 0 | K17: 0 | L17: 0 | M17: 0.5 | N17: 0 | O17: 0 | P17: 0 | Q17: 0 | R17: 0 | S17: 0.5 | T17: =F17 -> 0
A18: Linha | B18: 1.8 | C18: (INSTALAÇÕES) | F18: =PO!J111 -> 0 | G18: % Período: | H18: 0 | I18: 0 | J18: 0 | K18: 0 | L18: 0 | M18: 0.5 | N18: 0 | O18: 0 | P18: 0 | Q18: 0 | R18: 0 | S18: 0.5 | T18: =F18 -> 0
A19: Linha | B19: 1.9 | C19: (COMPLEMENTAÇÕES) | F19: =PO!J211 -> 0 | G19: % Período: | H19: 0 | I19: 0 | J19: 0 | K19: 0 | L19: 0 | M19: 0.5 | N19: 0 | O19: 0 | P19: 0 | Q19: 0 | R19: 0 | S19: 0.5 | T19: =F19 -> 0
C20: (VALOR UNIDADE) | F20: =F11+F12+F13+F14+F15+F16+F17+F18+F19 -> 0 | T20: =F20 -> 0
B22: Total: R$ 2.838.154,47 | G22: %: | H22: =(14.565709226948/2)/100 -> 0.072828546 | I22: =(7.96468529126796/2)/100 -> 0.039823426 | J22: =(15.2166857457531/2)/100 -> 0.076083429 | K22: =(20.7205843000285/2)/100 -> 0.10360292 | L22: =(12.7063744244113/2)/100 -> 0.063531872 | M22: =(28.8259610115912/2)/100 -> 0.14412981 | N22: =(14.565709226948/2)/100 -> 0.072828546 | O22: =(7.96468529126796/2)/100 -> 0.039823426 | P22: =(15.2166857457531/2)/100 -> 0.076083429 | Q22: =(20.7205843000285/2)/100 -> 0.10360292 | R22: =(12.7063744244113/2)/100 -> 0.063531872 | S22: =(28.8259610115912/2)/100 -> 0.14412981
G23: Repasse:
B24: VALOR L. | C24: 2800000 | E24: Período: | G24: Contrapartida:
B25: VALOR CONTRAP. | D25: 47303.21 | G25: Outros: | H25: =(14.565709226948/2)/100 -> 0.072828546 | I25: =(7.96468529126796/2)/100 -> 0.039823426 | J25: =(15.2166857457531/2)/100 -> 0.076083429 | K25: =(20.7205843000285/2)/100 -> 0.10360292 | L25: =(12.7063744244113/2)/100 -> 0.063531872 | M25: =(28.8259610115912/2)/100 -> 0.14412981 | N25: =(14.565709226948/2)/100 -> 0.072828546 | O25: =(7.96468529126796/2)/100 -> 0.039823426 | P25: =(15.2166857457531/2)/100 -> 0.076083429 | Q25: =(20.7205843000285/2)/100 -> 0.10360292 | R25: =(12.7063744244113/2)/100 -> 0.063531872 | S25: =(28.8259610115912/2)/100 -> 0.14412981
G26: Investimento:
B27: VALOR L. | C27: 2800000 | G27: Contrap. Per.:
B28: VALOR CONTRAP. | D28: =D25 -> 47303.21 | G28: Repasse Ac.:
E29: Acumulado: | G29: Contrapartida Ac.: | H29: =H24 -> 0 | I29: =H24+I24 -> 0 | J29: =H24+I24+J24 -> 0 | K29: =H24+I24+J24+K24 -> 0 | L29: =H24+I24+J24+K24+L24 -> 0 | M29: =H24+I24+J24+K24+L24+M24 -> 0 | N29: =H24+I24+J24+K24+L24+M24+N24 -> 0 | O29: =H24+I24+J24+K24+L24+M24+N24+O24 -> 0 | P29: =H24+I24+J24+K24+L24+M24+N24+O24+P24 -> 0 | Q29: =H24+I24+J24+K24+L24+M24+N24+O24+P24+Q24 -> 0 | R29: =H24+I24+J24+K24+L24+M24+N24+O24+P24+Q24+R24 -> 0 | S29: =H24+I24+J24+K24+L24+M24+N24+O24+P24+Q24+R24+S24 -> 0
G30: Outros: | H30: 0 | I30: 0 | J30: 0 | K30: 0 | L30: 0 | M30: 0 | N30: 0 | O30: 0 | P30: 0 | Q30: 0 | R30: 0 | S30: 0
G31: Investimento: | H31: =H28+H29 -> 0 | I31: =I28+I29 -> 0 | J31: =J28+J29 -> 0 | K31: =K28+K29 -> 0 | L31: =L28+L29 -> 0 | M31: =M28+M29 -> 0 | N31: =N28+N29 -> 0 | O31: =O28+O29 -> 0 | ... S31: =S28+S29 -> 0

Sheet BDI E DECLARAÇÃO - OK
E1: MIN | F1: MED | G1: MAX | O1: ="Quadro de Composição do BDI" -> Quadro de Composição do BDI | R1: Grau de Sigilo
A2: Construção e Reforma de Edifícios | B2: AC | C2: =CONCATENATE(A2,"-",B2) -> Construção e Reforma de Edifícios-AC | E2: 0.03 | F2: 0.04 | G2: 0.055 | R2: #PUBLICO
A3: =A2 -> Construção e Reforma de Edifícios | B3: SG | C3: =CONCATENATE(A3,"-",B3) -> Construção e Reforma de Edifícios-SG | E3: 0.008 | F3: 0.008 | G3: 0.01
A4: =A3 -> Construção e Reforma de Edifícios | B4: R | C4: =CONCATENATE(A4,"-",B4) -> Construção e Reforma de Edifícios-R | E4: 0.0097 | F4: 0.0127 | G4: 0.0127 | J4: Nº OPERAÇÃO | L4: Nº TRANSFEREGOV | N4: PROPONENTE / TOMADOR
A5: =A4 -> Construção e Reforma de Edifícios | B5: DF | C5: =CONCATENATE(A5,"-",B5) -> Construção e Reforma de Edifícios-DF | E5: 0.0059 | F5: 0.0123 | G5: 0.0139 | J5: =Import.CR -> 0 | L5: =Import.TransfereGOV -> 39766/2025 | N5: =Import.Proponente -> 0
A6: =A5 -> Construção e Reforma de Edifícios | B6: L | C6: =CONCATENATE(A6,"-",B6) -> Construção e Reforma de Edifícios-L | E6: 0.0616 | F6: 0.074 | G6: 0.0896 | I6: FILTRO
A7: =A6 -> Construção e Reforma de Edifícios | B7: BDI PAD | C7: =CONCATENATE(A7,"-",B7) -> Construção e Reforma de Edifícios-BDI PAD | E7: 0.2034 | F7: 0.2212 | G7: 0.25 | J7: APELIDO DO EMPREENDIMENTO / DESCRIÇÃO DO LOTE
A8: Construção de Praças Urbanas, Rodovias, Ferrovias e recapeamento e pavimentação de vias urbanas | B8: AC | C8: =CONCATENATE(A8,"-",B8) -> Construção de Praças Urbanas, Rodovias, Ferrovias e recapeamento e pavimentação de vias urbanas-AC | E8: 0.038 | F8: 0.0401 | G8: 0.0467 | J8: =Import.Apelido&" / "&Import.DescLote -> CONSTRUÇÃO DE 20 UNIDADES HABITACIONAIS MCMV / | U8: =IF(U29="FORA DO INTERVALO","BDI 1 fora do intervalo",IF(U69="FORA DO INTERVALO","BDI 2 fora do intervalo",IF(U109="FORA DO INTERVALO","BDI 3 fora do intervalo","")))
A9: Construção de Praças Urbanas, Rodovias, Ferrovias e recapeamento e pavimentação de vias urbanas | B9: SG | C9: =CONCATENATE(A9,"-",B9) -> Construção de Praças Urbanas, Rodovias, Ferrovias e recapeamento e pavimentação de vias urbanas-SG | E9: 0.0032 | F9: 0.004 | G9: 0.0074
A10: Construção de Praças Urbanas, Rodovias, Ferrovias e recapeamento e pavimentação de vias urbanas | B10: R | C10: =CONCATENATE(A10,"-",B10) -> Construção de Praças Urbanas, Rodovias, Ferrovias e recapeamento e pavimentação de vias urbanas-R | E10: 0.005 | F10: 0.0056 | G10: 0.0097 | J10: Conforme legislação tributária municipal, definir estimativa de percentual da base de cálculo para o ISS: | R10: 1 | U10: =IF(R10="","Falta definir a base de cálculo para o ISS","")
A11: Construção de Praças Urbanas, Rodovias, Ferrovias e recapeamento e pavimentação de vias urbanas | B11: DF | C11: =CONCATENATE(A11,"-",B11) -> Construção de Praças Urbanas, Rodovias, Ferrovias e recapeamento e pavimentação de vias urbanas-DF | E11: 0.0102 | F11: 0.0111 | G11: 0.0121 | I11: ↓ | J11: Sobre a base de cálculo, definir a respectiva alíquota do ISS (entre 2% e 5%): | R11: 0.02 | U11: =IF(R11="","Falta definir a alíquota do ISS","")
A12: Construção de Praças Urbanas, Rodovias, Ferrovias e recapeamento e pavimentação de vias urbanas | B12: L | C12: =CONCATENATE(A12,"-",B12) -> Construção de Praças Urbanas, Rodovias, Ferrovias e recapeamento e pavimentação de vias urbanas-L | E12: 0.0664 | F12: 0.073 | G12: 0.0869 | I12: F
A13: Construção de Praças Urbanas, Rodovias, Ferrovias e recapeamento e pavimentação de vias urbanas | B13: BDI PAD | C13: =CONCATENATE(A13,"-",B13) -> Construção de Praças Urbanas, Rodovias, Ferrovias e recapeamento e pavimentação de vias urbanas-BDI PAD | E13: 0.196 | F13: 0.2097 | G13: 0.2423 | I13: F
A14: Construção de Redes de Abastecimento de Água, Coleta de Esgoto | B14: AC | C14: =CONCATENATE(A14,"-",B14) -> Construção de Redes de Abastecimento de Água, Coleta de Esgoto-AC | E14: 0.0343 | F14: 0.0493 | G14: 0.0671 | I14: F | J14: BDI 1
A15: =A14 -> Construção de Redes de Abastecimento de Água, Coleta de Esgoto | B15: SG | C15: =CONCATENATE(A15,"-",B15) -> Construção de Redes de Abastecimento de Água, Coleta de Esgoto-SG | E15: 0.0028 | F15: 0.0049 | G15: 0.0075 | I15: F
A16: =A15 -> Construção de Redes de Abastecimento de Água, Coleta de Esgoto | B16: R | C16: =CONCATENATE(A16,"-",B16) -> Construção de Redes de Abastecimento de Água, Coleta de Esgoto-R | E16: 0.01 | F16: 0.0139 | G16: 0.0174 | I16: F | J16: TIPO DE OBRA
A17: =A16 -> Construção de Redes de Abastecimento de Água, Coleta de Esgoto | B17: DF | C17: =CONCATENATE(A17,"-",B17) -> Construção de Redes de Abastecimento de Água, Coleta de Esgoto-DF | E17: 0.0094 | F17: 0.0099 | G17: 0.0117 | I17: F | J17: Construção e Reforma de Edifícios
A18: =A17 -> Construção de Redes de Abastecimento de Água, Coleta de Esgoto | B18: L | C18: =CONCATENATE(A18,"-",B18) -> Construção de Redes de Abastecimento de Água, Coleta de Esgoto-L | E18: 0.0674 | F18: 0.0804 | G18: 0.094 | I18: F
A19: =A18 -> Construção de Redes de Abastecimento de Água, Coleta de Esgoto | B19: BDI PAD | C19: =CONCATENATE(A19,"-",B19) -> Construção de Redes de Abastecimento de Água, Coleta de Esgoto-BDI PAD | E19: 0.2076 | F19: 0.2418 | G19: 0.2644 | I19: F | J19: Itens | R19: Siglas | S19: % Adotado | U19: Situação | X19: 1º Quartil | Y19: Médio | Z19: 3º Quartil
A20: Construção e Manutenção de Estações e Redes de Distribuição de Energia Elétrica | B20: AC | C20: =CONCATENATE(A20,"-",B20) -> Construção e Manutenção de Estações e Redes de Distribuição de Energia Elétrica-AC | E20: 0.0529 | F20: 0.0592 | G20: 0.0793 | I20: F
A21: =A20 -> Construção e Manutenção de Estações e Redes de Distribuição de Energia Elétrica | B21: SG | C21: =CONCATENATE(A21,"-",B21) -> Construção e Manutenção de Estações e Redes de Distribuição de Energia Elétrica-SG | E21: 0.0025 | F21: 0.0051 | G21: 0.0056 | I21: F | J21: =IF($J$17=$A$146,"Encargos Sociais incidentes sobre a mão de obra","Administração Central") -> Administração Central | R21: =IF($J17=$A$146,"K1","AC") -> AC | S21: 0.03 | U21: =IFERROR(IF(T21="◄","FALTA PREENCHER",IF(AND(OR(S21>=X21,X21="-"),OR(S21<=Z21,Z21="-")),"OK","FORA DO INTERVALO")),"-") -> OK | X21: =VLOOKUP(CONCATENATE(J17,"-",R21),$C$2:$G$136,3,FALSE) -> 0.03 | Y21: =VLOOKUP(CONCATENATE(J17,"-",R21),$C$2:$G$136,4,FALSE) -> 0.04 | Z21: =VLOOKUP(CONCATENATE(J17,"-",R21),$C$2:$G$136,5,FALSE) -> 0.055
A22: =A21 -> Construção e Manutenção de Estações e Redes de Distribuição de Energia Elétrica | B22: R | C22: =CONCATENATE(A22,"-",B22) -> Construção e Manutenção de Estações e Redes de Distribuição de Energia Elétrica-R | E22: 0.01 | F22: 0.0148 | G22: 0.0197 | I22: F | J22: =IF($J$17=$A$146,"Administração Central da empresa ou consultoria - overhead","Seguro e Garantia") -> Seguro e Garantia | R22: =IF($J17=$A$146,"K2","SG") -> SG | S22: 0.009 | U22: =IFERROR(IF(T22="◄","FALTA PREENCHER",IF(AND(OR(S22>=X22,X22="-"),OR(S22<=Z22,Z22="-")),"OK","FORA DO INTERVALO")),"-") -> OK | X22: =VLOOKUP(CONCATENATE(J17,"-",R22),$C$2:$G$136,3,FALSE) -> 0.008 | Y22: =VLOOKUP(CONCATENATE(J17,"-",R22),$C$2:$G$136,4,FALSE) -> 0.008 | Z22: =VLOOKUP(CONCATENATE(J17,"-",R22),$C$2:$G$136,5,FALSE) -> 0.01
A23: =A22 -> Construção e Manutenção de Estações e Redes de Distribuição de Energia Elétrica | B23: DF | C23: =CONCATENATE(A23,"-",B23) -> Construção e Manutenção de Estações e Redes de Distribuição de Energia Elétrica-DF | E23: 0.0101 | F23: 0.0107 | G23: 0.0111 | I23: F | J23: Risco | R23: =IF($J17=$A$146,"","R") -> R | S23: 0.0097 | U23: =IFERROR(IF(T23="◄","FALTA PREENCHER",IF(AND(OR(S23>=X23,X23="-"),OR(S23<=Z23,Z23="-")),"OK","FORA DO INTERVALO")),"-") -> OK | X23: =VLOOKUP(CONCATENATE(J17,"-",R23),$C$2:$G$136,3,FALSE) -> 0.0097 | Y23: =VLOOKUP(CONCATENATE(J17,"-",R23),$C$2:$G$136,4,FALSE) -> 0.0127 | Z23: =VLOOKUP(CONCATENATE(J17,"-",R23),$C$2:$G$136,5,FALSE) -> 0.0127
A24: =A23 -> Construção e Manutenção de Estações e Redes de Distribuição de Energia Elétrica | B24: L | C24: =CONCATENATE(A24,"-",B24) -> Construção e Manutenção de Estações e Redes de Distribuição de Energia Elétrica-L | E24: 0.08 | F24: 0.0831 | G24: 0.0951 | I24: F | J24: Despesas Financeiras | R24: =IF($J17=$A$146,"","DF") -> DF | S24: 0.01 | U24: =IFERROR(IF(T24="◄","FALTA PREENCHER",IF(AND(OR(S24>=X24,X24="-"),OR(S24<=Z24,Z24="-")),"OK","FORA DO INTERVALO")),"-") -> OK | X24: =VLOOKUP(CONCATENATE(J17,"-",R24),$C$2:$G$136,3,FALSE) -> 0.0059 | Y24: =VLOOKUP(CONCATENATE(J17,"-",R24),$C$2:$G$136,4,FALSE) -> 0.0123 | Z24: =VLOOKUP(CONCATENATE(J17,"-",R24),$C$2:$G$136,5,FALSE) -> 0.0139
A25: =A24 -> Construção e Manutenção de Estações e Redes de Distribuição de Energia Elétrica | B25: BDI PAD | C25: =CONCATENATE(A25,"-",B25) -> Construção e Manutenção de Estações e Redes de Distribuição de Energia Elétrica-BDI PAD | E25: 0.24 | F25: 0.2584 | G25: 0.2786 | I25: F | J25: =IF($J$17=$A$146,"Margem bruta da empresa de consultoria","Lucro") -> Lucro | R25: =IF($J17=$A$146,"K3","L") -> L | S25: 0.075 | U25: =IFERROR(IF(T25="◄","FALTA PREENCHER",IF(AND(OR(S25>=X25,X25="-"),OR(S25<=Z25,Z25="-")),"OK","FORA DO INTERVALO")),"-") -> OK | X25: =VLOOKUP(CONCATENATE(J17,"-",R25),$C$2:$G$136,3,FALSE) -> 0.0616 | Y25: =VLOOKUP(CONCATENATE(J17,"-",R25),$C$2:$G$136,4,FALSE) -> 0.074 | Z25: =VLOOKUP(CONCATENATE(J17,"-",R25),$C$2:$G$136,5,FALSE) -> 0.0896
A26: Obras Portuárias, Marítimas e Fluviais | B26: AC | C26: =CONCATENATE(A26,"-",B26) -> Obras Portuárias, Marítimas e Fluviais-AC | E26: 0.04 | F26: 0.0552 | G26: 0.0785 | I26: F | J26: Tributos (impostos COFINS 3%, e PIS 0,65%) | R26: CP | S26: 0.0365 | U26: =IFERROR(IF(T26="◄","FALTA PREENCHER",IF(AND(OR(S26>=X26,X26="-"),OR(S26<=Z26,Z26="-")),"OK","FORA DO INTERVALO")),"-") -> OK | X26: =Y26 -> 0.0365 | Y26: =IF($J17=$A$145,"-",3.65%) -> 0.0365 | Z26: =Y26 -> 0.0365
A27: =A26 -> Obras Portuárias, Marítimas e Fluviais | B27: SG | C27: =CONCATENATE(A27,"-",B27) -> Obras Portuárias, Marítimas e Fluviais-SG | E27: 0.0081 | F27: 0.0122 | G27: 0.0199 | I27: F | J27: Tributos (ISS, variável de acordo com o município) | R27: ISS | S27: =IF(AND($J17<>$A$145,COUNTA(OFFSET(S20,1,0,6))>0),$R$11*$R$10,0) -> 0.02 | U27: =IFERROR(IF(T27="◄","FALTA PREENCHER",IF(AND(OR(S27>=X27,X27="-"),OR(S27<=Z27,Z27="-")),"OK","FORA DO INTERVALO")),"-") -> OK | X27: 0 | Y27: 0.025 | Z27: 0.05
A28: =A27 -> Obras Portuárias, Marítimas e Fluviais | B28: R | C28: =CONCATENATE(A28,"-",B28) -> Obras Portuárias, Marítimas e Fluviais-R | E28: 0.0146 | F28: 0.0232 | G28: 0.0316 | I28: F | J28: Tributos (Contribuição Previdenciária sobre a Receita Bruta - Lei 12.546 de 14/12/2011 - Desoneração) | R28: CPRB | S28: 0.036 | U28: =IFERROR(IF(T28="◄","FALTA PREENCHER",IF(AND(OR(S28>=X28,X28="-"),OR(S28<=Z28,Z28="-")),"OK","FORA DO INTERVALO")),"-") -> OK | X28: =$S28 -> 0.036 | Y28: =$S28 -> 0.036 | Z28: =$S28 -> 0.036
A29: =A28 -> Obras Portuárias, Marítimas e Fluviais | B29: DF | C29: =CONCATENATE(A29,"-",B29) -> Obras Portuárias, Marítimas e Fluviais-DF | E29: 0.0094 | F29: 0.0102 | G29: 0.0133 | I29: F | J29: BDI SEM desoneração (Fórmula Acórdão TCU) | R29: BDI PAD | S29: =IF($J17=$A$145,0,ROUND((((1+S21+S22+S23)*(1+S24)*(1+S25)/(1-(S26+S27)))-1),4)) -> 0.2068 | U29: =IFERROR(IF(AND(OR(S29>=X29,X29="-"),OR(S29<=Z29,Z29="-")),"OK","FORA DO INTERVALO"),IF(S29=0,"OK","Selecione o Tipo de obra")) -> OK | X29: =IF($J17=$A$145,0,VLOOKUP(CONCATENATE($J17,"-",$R29),$C$2:$G$136,3,FALSE)) -> 0.2034 | Y29: =IF($J17=$A$145,0,VLOOKUP(CONCATENATE($J17,"-",$R29),$C$2:$G$136,4,FALSE)) -> 0.2212 | Z29: =IF($J17=$A$145,0,VLOOKUP(CONCATENATE($J17,"-",$R29),$C$2:$G$136,5,FALSE)) -> 0.25
A30: =A29 -> Obras Portuárias, Marítimas e Fluviais | B30: L | C30: =CONCATENATE(A30,"-",B30) -> Obras Portuárias, Marítimas e Fluviais-L | E30: 0.0714 | F30: 0.084 | G30: 0.1043 | I30: F | J30: BDI COM desoneração | R30: BDI DES | S30: =IF($J17=$A$145,0,ROUND((((1+S21+S22+S23)*(1+S24)*(1+S25)/(1-(S26+S27+S28)))-1),4)) -> 0.2547
A31: =A30 -> Obras Portuárias, Marítimas e Fluviais | B31: BDI PAD | C31: =CONCATENATE(A31,"-",B31) -> Obras Portuárias, Marítimas e Fluviais-BDI PAD | E31: 0.228 | F31: 0.2748 | G31: 0.3095 | I31: F
A32: Fornecimento de Materiais e Equipamentos (aquisição indireta - em conjunto com licitação de obras) | B32: AC | C32: =CONCATENATE(A32,"-",B32) -> Fornecimento de Materiais e Equipamentos (aquisição indireta - em conjunto com licitação de obras)-AC | E32: 0.015 | F32: 0.0345 | G32: 0.0449 | I32: F | J32: =IF(U29<>"ok","X","") | K32: =IF(U29<>"ok","Anexo: Relatório Técnico Circunstanciado justificando a adoção do percentual de cada parcela do BDI.","")
A33: =A32 -> Fornecimento de Materiais e Equipamentos (aquisição indireta - em conjunto com licitação de obras) | B33: SG | C33: =CONCATENATE(A33,"-",B33) -> Fornecimento de Materiais e Equipamentos (aquisição indireta - em conjunto com licitação de obras)-SG | E33: 0.003 | F33: 0.0048 | G33: 0.0082 | I33: F | N33: DECLARAÇÃO DA COMPOSIÇÃO ANALÍTICA
A34: =A33 -> Fornecimento de Materiais e Equipamentos (aquisição indireta - em conjunto com licitação de obras) | B34: R | C34: =CONCATENATE(A34,"-",B34) -> Fornecimento de Materiais e Equipamentos (aquisição indireta - em conjunto com licitação de obras)-R | E34: 0.0056 | F34: 0.0085 | G34: 0.0089 | I34: F | J34: Os valores de BDI foram calculados com o emprego da fórmula:
A35: =A34 -> Fornecimento de Materiais e Equipamentos (aquisição indireta - em conjunto com licitação de obras) | B35: DF | C35: =CONCATENATE(A35,"-",B35) -> Fornecimento de Materiais e Equipamentos (aquisição indireta - em conjunto com licitação de obras)-DF | E35: 0.0085 | F35: 0.0085 | G35: 0.0111 | I35: F | M35: BDI = | N35: =IF($J17=$A$146,"(1+K1+K2)*(1+K3)","(1+AC + S + R + G)*(1 + DF)*(1+L)") -> (1+AC + S + R + G)*(1 + DF)*(1+L) | Q35: - 1
A36: =A35 -> Fornecimento de Materiais e Equipamentos (aquisição indireta - em conjunto com licitação de obras) | B36: L | C36: =CONCATENATE(A36,"-",B36) -> Fornecimento de Materiais e Equipamentos (aquisição indireta - em conjunto com licitação de obras)-L | E36: 0.035 | F36: 0.0511 | G36: 0.0622 | I36: F | N36: (1-CP-ISS-CRPB)
A37: =A36 -> Fornecimento de Materiais e Equipamentos (aquisição indireta - em conjunto com licitação de obras) | B37: BDI PAD | C37: =CONCATENATE(A37,"-",B37) -> Fornecimento de Materiais e Equipamentos (aquisição indireta - em conjunto com licitação de obras)-BDI PAD | E37: 0.111 | F37: 0.1402 | G37: 0.168 | I37: F
A38: Fornecimento de Materiais e Equipamentos (aquisição direta) | B38: AC | C38: =CONCATENATE(A38,"-",B38) -> Fornecimento de Materiais e Equipamentos (aquisição direta)-AC | E38: - | F38: - | G38: - | I38: F | J38: =CONCATENATE("Declaro para os devidos fins que, conforme legislação tributária municipal, a base de cálculo deste tipo de obra corresponde à ",$R$10*100,"%, com a respectiva alíquota de ",$R$11*100,"%.") -> Declaro para os devidos fins que, conforme legislação tributária municipal, a base de cálculo deste tipo de obra corresponde à 100%, com a respectiva alíquota de 2%.
A39: Fornecimento de Materiais e Equipamentos (aquisição direta) | B39: SG | C39: =CONCATENATE(A39,"-",B39) -> Fornecimento de Materiais e Equipamentos (aquisição direta)-SG | E39: - | F39: - | G39: - | I39: F
A40: Fornecimento de Materiais e Equipamentos (aquisição direta) | B40: R | C40: =CONCATENATE(A40,"-",B40) -> Fornecimento de Materiais e Equipamentos (aquisição direta)-R | E40: - | F40: - | G40: - | I40: F | J40: "Declaro para os devidos fins que o regime de Contribuição Previdenciária sobre a Receita Bruta adotado para elaboração do orçamento foi COM Desoneração, e que esta é a alternativa mais adequada para a Administração Pública."
...
