Workbook

Sheet BDI 
B1: PREFEITURA MUNICIPAL DE CAREAÇU
B2: AV. SATURNINO DE FARIA, 140, CENTRO, CAREAÇU/MG
B3: CNPJ: 17.935.388/0001-15
A4: COMPOSIÇÃO DE BDI (ACORDÃO TCU Nº2223/2013 - CONSTRUÇÃO DE EDIFICIOS | H4: LIMITES
A5: RT. ORÇ. EDIONE SILVIA FERREIRA CAU A19.326-7 | G5: RRT Nº | H5: SEM DESONERAÇÃO
A6: ITENS COMPONENTES DO BDI | H6: 1º Quartil | I6: 1º Quartil | J6: 1º Quartil
A7: Despesas Indiretas e Lucro | G7: % | H7: % | I7: % | J7: %
A8: 1 | D8: Garantia + Seguro | G8: 1 | H8: 0.8 | I8: 0.8 | J8: 1
A9: 2 | D9: Risco | G9: 1.27 | H9: 0.97 | I9: 1.27 | J9: 1.27
A10: 3 | D10: Administração Central | G10: 5.5 | H10: 3 | I10: 4 | J10: 5.5
A11: Subtotal I = 1+((1+2+3)/100) | G11: =1+((G8+G9+G10)/100) -> 1.0777
A12: 4 | D12: Despesas Financeiras | G12: 0.59 | H12: 0.59 | I12: 1.23 | J12: 1.39
A13: Subtotal II = 1+(4/100) | G13: =1+(G12/100) -> 1.0059
A14: 5 | D14: Lucro | G14: 6.16 | H14: 6.16 | I14: 7.4 | J14: 8.96
A15: Subtotal III = 1+(5/100) | G15: =1+(G14/100) -> 1.0616
A16: Tributos Federais
A17: 6 | D17: Cofins | G17: 3 | H17: 3 | I17: 3 | J17: 3
A18: 7 | D18: Pis/Pasep | G18: 0.65 | H18: 0.65 | I18: 0.65 | J18: 0.65
A19: 8 | D19: IRPJ | H19: Não Incidente
A20: 9 | D20: CSLL | H20: Não Incidente
A21: Tributo Municipal
A22: 10 | D22: ISS | G22: 3 | H22: Conforme Legislação Municipal
A23: Subtotal IV = (6+7+8+9+10)100 | G23: =(G17+G18+G19+G20+G22)/100 -> 0.0665
A24: TOTAL DO BDI SEM A ALIQUOTA DO INSS | G24: =(((G11*G13*G15)/(1-G23))-1)*100 -> 23.281889 | H24: 20.34 | I24: 22.12 | J24: 25
B27: BDI FÓRMULA = | E27: (1+AC+R+G+S)(1+DF)(1+L) -1
E28: (1-I)
A29: ONDE
A30: G+S | B30: Garantia + Seguro
A31: R | B31: Risco
A32: AC | B32: Administração Central
A33: DF | B33: Despesas Financeiras
A34: L | B34: Lucro
A35: I | B35: Impostos
F36: CAREAÇU, 15 DE JANEIRO DE 2026
F41: ARQ. EDIONE SÍLVIA FERREIRA
F42: CAU A19.326-7

Sheet PLANILHA ORÇAMENTÁRIA
B1: PREFEITURA MUNICIPAL DE CAREAÇU CNPJ 17.935.388/0001-15
B4: PLANILHA ORÇAMENTÁRIA DE CUSTOS
B6: PREFEITURA: PREFEITURA MUNICIPAL DE CAREAÇU | G6: FOLHA Nº: 01 | H6: ISS MUNICIPAL: | I6: 0.03
B7: OBRA: AMPLIAÇÃO ESCOLA MUNICIPAL COMENDADOR ANTÔNIO FLORÊNCIO NOGUEIRA | G7: DATA: | H7: =TODAY() -> 46069
B8: LOCAL: AV SATURNINO DE FARIA, 143, CENTRO, CAREAÇU, MG | F8: FORMA DE EXECUÇÃO:
B9: REGIÃO/MÊS DE REFERÊNCIA: SETOP SUL/OUTUBRO 2025/ SEM DESONERAÇÃO / SINAPI 12-2025 - SEM DESONERADO | F9: ( ) | G9: DIRETA | H9: ( X ) | I9: INDIRETA
B10: PRAZO DE EXECUÇÃO: 7 MESES | H10: LDI | I10: 0.2328
B12: ITEM | C12: CÓDIGO | D12: DESCRIÇÃO DOS SERVIÇOS | E12: UN. | F12: QUANT. | G12: PREÇO UNIT. (R$) SEM LDI | H12: PREÇO UNIT. (R$) COM LDI | I12: PREÇO TOTAL (R$)
D13: PLANILHA ORÇAMENTÁRIA - AMPLIAÇÃO
B15: 1 | D15: SERVIÇOS PRELIMINARES
B16: 1.1 | C16: ED-28427 | D16: FORNECIMENTO E COLOCAÇÃO DE PLACA DE OBRA EM CHAPA GALVANIZADA #26, ESP. 0,45MM, DIMENSÃO (3X1,5)M, PLOTADA COM ADESIVO VINÍLICO, AFIXADA COM REBITES 4,8X40MM, EM ESTRUTURA METÁLICA DE METALON 20X20MM, ESP. 1,25MM, INCLUSIVE SUPORTE EM EUCALIPTO AUTOCLAVADO PINTADO COM TINTA PVA DUAS (2) DEMÃOS | E16: UN | F16: 1 | G16: 1179.41 | H16: =ROUND((G16+(G16*$I$10)),2) -> 1453.98 | I16: =ROUND((F16*H16),2) -> 1453.98
B17: 1.2 | C17: ED-50162 | D17: PORTÃO PARA TAPUME FIXO DE PROTEÇÃO COM FECHAMENTO DE OBRA EM CHAPA DE COMPENSADO, ESP. 12MM, COM MÓDULO NA DIMENSÃO DE (110X220)CM, INCLUSIVE FERRAGENS E PINTURA LÁTEX (PVA) COM DUAS (2) DEMÃOS | E17: M2 | F17: =('MEMÓRIA DE CÁLCULO'!H23) -> 2.42 | G17: 169.97 | H17: =ROUND((G17+(G17*$I$10)),2) -> 209.54 | I17: =ROUND((F17*H17),2) -> 507.09
B18: 1.3 | C18: ED-29823 | D18: TAPUME FIXO DE PROTEÇÃO PARA FECHAMENTO DE OBRA EM TELHA METÁLICA GALVANIZADA, TIPO TRAPEZOIDAL, ESP. 0,5MM, COM MÓDULO NA DIMENSÃO DE (300X220)CM, COM REAPROVEITAMENTO, EXCLUSIVE PINTURA ESMALTE, INCLUSIVE PONTALETE E FIXAÇÃO. | E18: M2 | F18: ='MEMÓRIA DE CÁLCULO'!H31 -> 39.6 | G18: 67.23 | H18: =ROUND((G18+(G18*$I$10)),2) -> 82.88 | I18: =ROUND((F18*H18),2) -> 3282.05
B19: 1.4 | C19: ED-17989 | D19: LOCAÇÃO DE OBRA COM GABARITO DE TÁBUAS CORRIDAS PONTALETADAS A CADA 2,00M, REAPROVEITAMENTO (2X), INCLUSIVE ACOMPANHAMENTO DE EQUIPE TOPOGRÁFICA PARA MARCAÇÃO DE PONTO TOPOGRÁFICO | E19: M | F19: =('MEMÓRIA DE CÁLCULO'!H40) -> 62.1 | G19: 62.77 | H19: =ROUND((G19+(G19*$I$10)),2) -> 77.38 | I19: =ROUND((F19*H19),2) -> 4805.3
B20: 1.5 | C20: 98524 | D20: =UPPER("Limpeza Manual de vegetação de terreno com enxada") -> LIMPEZA MANUAL DE VEGETAÇÃO DE TERRENO COM ENXADA | E20: M2 | F20: =('MEMÓRIA DE CÁLCULO'!H47) -> 312 | G20: 5.17 | H20: =ROUND((G20+(G20*$I$10)),2) -> 6.37 | I20: =ROUND((F20*H20),2) -> 1987.44
F21: Subtotal | I21: =SUM(I16:I20) -> 12035.86
B22: 2 | D22: FUNDAÇÃO
B23: 2.1 | D23: ESTACAS
B24: 2.1.1 | C24: ED-29801 | D24: PERFURAÇÃO MANUAL DE ESTACA TIPO BROCA A TRADO, INCLUSIVE AFASTAMENTO, EXCLUSIVE ARMAÇÃO, CONCRETO ESTRUTURAL, TRANSPORTE E RETIRADA DO MATERIAL ESCAVADO | E24: M3 | F24: =('MEMÓRIA DE CÁLCULO'!H60) -> 9.13 | G24: 251.88 | H24: =ROUND((G24+(G24*$I$10)),2) -> 310.52 | I24: =ROUND((F24*H24),2) -> 2835.05
B25: 2.1.2 | C25: ED-49638 | D25: FORNECIMENTO DE CONCRETO ESTRUTURAL, USINADO BOMBEADO, COM FCK 25MPA, INCLUSIVE LANÇAMENTO, ADENSAMENTO E ACABAMENTO | E25: M3 | F25: =('MEMÓRIA DE CÁLCULO'!H69) -> 9.13 | G25: 697.36 | H25: =ROUND((G25+(G25*$I$10)),2) -> 859.71 | I25: =ROUND((F25*H25),2) -> 7849.15
B26: 2.1.3 | C26: 100978 | D26: CARGA, MANOBRA E DESCARGA DE SOLOS E MATERIAIS GRANULARES EM CAMINHÃO BASCULANTE 10 M³ - CARGA COM ESCAVADEIRA HIDRÁULICA (CAÇAMBA DE 1,20 M³ / 155 HP) E DESCARGA LIVRE (UNIDADE: M3). AF_07/2020 | E26: M3 | F26: =('MEMÓRIA DE CÁLCULO'!H76) -> 9.13 | G26: 7.18 | H26: =ROUND((G26+(G26*$I$10)),2) -> 8.85 | I26: =ROUND((F26*H26),2) -> 80.8
B27: 2.1.4 | C27: ED-48298 | D27: CORTE, DOBRA E MONTAGEM DE AÇO CA-50/60, INCLUSIVE ESPAÇADOR | E27: KG | F27: =('MEMÓRIA DE CÁLCULO'!H83) -> 75.19 | G27: 13.68 | H27: =ROUND((G27+(G27*$I$10)),2) -> 16.86 | I27: =ROUND((F27*H27),2) -> 1267.7
B28: 2.2 | D28: BLOCO DE COROAMENTO | H28: =ROUND((G28+(G28*$I$10)),2) -> 0 | I28: =ROUND((F28*H28),2) -> 0
B29: 2.2.1 | C29: ED-49638 | D29: FORNECIMENTO DE CONCRETO ESTRUTURAL, USINADO BOMBEADO, COM FCK 25 MPA, INCLUSIVE LANÇAMENTO, ADENSAMENTO E ACABAMENTO | E29: M3 | F29: =('MEMÓRIA DE CÁLCULO'!H94) -> 6.7 | G29: 697.36 | H29: =ROUND((G29+(G29*$I$10)),2) -> 859.71 | I29: =ROUND((F29*H29),2) -> 5760.06
B30: 2.2.2 | C30: ED-51107 | D30: ESCAVAÇÃO MANUAL DE VALA COM PROFUNDIDADE MENOR OU IGUAL A 1,5M, INCLUSIVE DESCARGA LATERAL | E30: M3 | F30: =('MEMÓRIA DE CÁLCULO'!H103) -> 12.2 | G30: 77.29 | H30: =ROUND((G30+(G30*$I$10)),2) -> 95.28 | I30: =ROUND((F30*H30),2) -> 1162.42
B31: 2.2.3 | C31: ED-49811 | D31: FORMA E DESFORMA DE COMPENSADO RESINADO, ESP. 12 MM, REAPROVEITAMENTO (3X) (FUNDAÇÃO) | E31: M2 | F31: =('MEMÓRIA DE CÁLCULO'!H113) -> 33.48 | G31: 73.45 | H31: =ROUND((G31+(G31*$I$10)),2) -> 90.55 | I31: =ROUND((F31*H31),2) -> 3031.61
B32: 2.2.4 | C32: ED-48298 | D32: CORTE, DOBRA E MONTAGEM DE AÇO CA-50/60, INCLUSIVE ESPAÇADOR | E32: KG | F32: =('MEMÓRIA DE CÁLCULO'!H122) -> 496.61 | G32: 13.68 | H32: =ROUND((G32+(G32*$I$10)),2) -> 16.86 | I32: =ROUND((F32*H32),2) -> 8372.84
B33: 2.2.5 | C33: ED-50764 | D33: REVESTIMENTO COM IMPERMEABILIZANTE EM DUAS (2) CAMADAS SOBREPOSTAS DE ARGAMASSA, TRAÇO 1:3 (CIMENTO E AREIA) COM ADITIVO IMPERMEABILIZANTE, ESP. 20MM, INCLUSIVE PINTURA COM DUAS (2) DEMÃOS COM EMULSÃO ASFÁLTICA | E33: M2 | F33: =('MEMÓRIA DE CÁLCULO'!H133) -> 98.64 | G33: 78.63 | H33: =ROUND((G33+(G33*$I$10)),2) -> 96.94 | I33: =ROUND((F33*H33),2) -> 9562.16
B34: 2.2.6 | C34: ED-51120 | D34: REATERRO MANUAL DE VALA, INCLUSIVE ESPALHAMENTO E COMPACTAÇÃO MANUAL COM SOQUETE | E34: M3 | F34: =('MEMÓRIA DE CÁLCULO'!H142) -> 5.5 | G34: 77.29 | H34: =ROUND((G34+(G34*$I$10)),2) -> 95.28 | I34: =ROUND((F34*H34),2) -> 524.04
B35: 2.2.7 | C35: ED-51093 | D35: APILOAMENTO MANUAL EM FUNDO DE VALA COM SOQUETE, EXCLUSIVE ESCAVAÇÃO | E35: M2 | F35: =('MEMÓRIA DE CÁLCULO'!H151) -> 22.32 | G35: 26.06 | H35: =ROUND((G35+(G35*$I$10)),2) -> 32.13 | I35: =ROUND((F35*H35),2) -> 717.14
B36: 2.2.8 | C36: ED-49812 | D36: LASTRO DE CONCRETO MAGRO, INCLUSIVE TRANSPORTE, LANÇAMENTO E ADENSAMENTO | E36: M3 | F36: =('MEMÓRIA DE CÁLCULO'!H156) -> 1.12 | G36: 618.69 | H36: =ROUND((G36+(G36*$I$10)),2) -> 762.72 | I36: =ROUND((F36*H36),2) -> 854.25
B37: 2.3 | D37: VIGA BALDRAME
B38: 2.3.1 | C38: ED-49638 | D38: FORNECIMENTO DE CONCRETO ESTRUTURAL, USINADO BOMBEADO, COM FCK 25 MPA, INCLUSIVE LANÇAMENTO, ADENSAMENTO E ACABAMENTO | E38: M3 | F38: =('MEMÓRIA DE CÁLCULO'!H198) -> 12.84 | G38: 697.36 | H38: =ROUND((G38+(G38*$I$10)),2) -> 859.71 | I38: =ROUND((F38*H38),2) -> 11038.68
B39: 2.3.2 | C39: ED-49811 | D39: FORMA E DESFORMA DE COMPENSADO RESINADO, ESP. 12 MM, REAPROVEITAMENTO (3X) (FUNDAÇÃO) | E39: M2 | F39: =('MEMÓRIA DE CÁLCULO'!H207) -> 136.29 | G39: 73.45 | H39: =ROUND((G39+(G39*$I$10)),2) -> 90.55 | I39: =ROUND((F39*H39),2) -> 12341.06
B40: 2.3.3 | C40: ED-51107 | D40: ESCAVAÇÃO MANUAL DE VALA COM PROFUNDIDADE MENOR OU IGUAL A 1,5M, INCLUSIVE DESCARGA LATERAL | E40: M3 | F40: =('MEMÓRIA DE CÁLCULO'!H214) -> 11.95 | G40: 77.29 | H40: =ROUND((G40+(G40*$I$10)),2) -> 95.28 | I40: =ROUND((F40*H40),2) -> 1138.6
B41: 2.3.4 | C41: ED-51093 | D41: APILOAMENTO MANUAL EM FUNDO DE VALA COM SOQUETE, EXCLUSIVE ESCAVAÇÃO | E41: M2 | F41: =('MEMÓRIA DE CÁLCULO'!H221) -> 34.16 | G41: 26.06 | H41: =ROUND((G41+(G41*$I$10)),2) -> 32.13 | I41: =ROUND((F41*H41),2) -> 1097.56
B42: 2.3.5 | C42: ED-49812 | D42: LASTRO DE CONCRETO MAGRO, INCLUSIVE TRANSPORTE, LANÇAMENTO E ADENSAMENTO | E42: M3 | F42: =('MEMÓRIA DE CÁLCULO'!H228) -> 1.14 | G42: 618.69 | H42: =ROUND((G42+(G42*$I$10)),2) -> 762.72 | I42: =ROUND((F42*H42),2) -> 869.5
B43: 2.3.6 | C43: ED-48298 | D43: CORTE, DOBRA E MONTAGEM DE AÇO CA-50/60, INCLUSIVE ESPAÇADOR | E43: KG | F43: =('MEMÓRIA DE CÁLCULO'!H238) -> 946.96 | G43: 13.68 | H43: =ROUND((G43+(G43*$I$10)),2) -> 16.86 | I43: =ROUND((F43*H43),2) -> 15965.75
B44: 2.3.7 | C44: ED-50764 | D44: REVESTIMENTO COM IMPERMEABILIZANTE EM DUAS (2) CAMADAS SOBREPOSTAS DE ARGAMASSA, TRAÇO 1:3 (CIMENTO E AREIA) COM ADITIVO IMPERMEABILIZANTE, ESP. 20MM, INCLUSIVE PINTURA COM DUAS (2) DEMÃOS COM EMULSÃO ASFÁLTICA | E44: M2 | F44: =('MEMÓRIA DE CÁLCULO'!H246) -> 68.31 | G44: 78.63 | H44: =ROUND((G44+(G44*$I$10)),2) -> 96.94 | I44: =ROUND((F44*H44),2) -> 6621.97
B45: 2.3.8 | C45: ED-51120 | D45: REATERRO MANUAL DE VALA, INCLUSIVE ESPALHAMENTO E COMPACTAÇÃO MANUAL COM SOQUETE | E45: M3 | F45: =('MEMÓRIA DE CÁLCULO'!H253) -> 5.69 | G45: 77.29 | H45: =ROUND((G45+(G45*$I$10)),2) -> 95.28 | I45: =ROUND((F45*H45),2) -> 542.14
...

Sheet MEMÓRIA DE CÁLCULO
A1: PREFEITURA MUNICIPAL DE CAREÇU Estado de Minas Gerais CNPJ 17.935.288/0001-15
A3: MEMÓRIA DE CÁLCULO
A5: PREFEITURA: PREFEITURA MUNICIPAL DE CAREÇU
A6: OBRA: AMPLIAÇÃO DA ESCOLA MUNICIPAL COMENDADOR ANTÔNIO FLORÊNCIO NOGUEIRA
A7: LOCAL: AV. SATURNINO DE FARIA | G7: DATA: | H7: =TODAY() -> 46069
A10: AMPLIAÇÃO
A12: 1 | B12: SERVIÇOS PRELIMINARES
A14: 1.1 | B14: FORNECIMENTO E COLOCAÇÃO DE PLACA DE OBRA EM CHAPA GALVANIZADA (3,00 X 1,5 0 M) - EM CHAPA GALVANIZADA 0,26 AFIXADAS COM REBITES 540 E PARAFUSOS 3/8, EM ESTRUTURA METÁLICA VIGA U 2" ENRIJECIDA COM METALON 20 X 20, SUPORTE EM EUCALIPTO AUTOCLAVADO PINTADAS
B16: QUANTIDADE | H16: 1 | I16: UNID
A18: 1.2 | B18: PORTÃO PARA TAPUME FIXO DE PROTEÇÃO COM FECHAMENTO DE OBRA EM CHAPA DE COMPENSADO, ESP. 12MM, COM MÓDULO NA DIMENSÃO DE (110X220)CM, INCLUSIVE FERRAGENS E PINTURA LÁTEX (PVA) COM DUAS (2) DEMÃOS
F20: COMPR. | G20: ALT. | H20: TOTAL | I20: UNID
F21: 1.1 | G21: 2.2 | H21: =ROUND((F21*G21),2) -> 2.42 | I21: M2
B23: QUANTIDADE | H23: =SUM(H21) -> 2.42 | I23: M2
A25: 1.3 | B25: TAPUME FIXO DE PROTEÇÃO PARA FECHAMENTO DE OBRA EM TELHA METÁLICA GALVANIZADA, TIPO TRAPEZOIDAL, ESP. 0,5MM, COM MÓDULO NA DIMENSÃO DE (300X220)CM, COM REAPROVEITAMENTO, EXCLUSIVE PINTURA ESMALTE, INCLUSIVE PONTALETE E FIXAÇÃO.
F27: COMPR. | G27: ALT. | H27: TOTAL | I27: UNID
F28: 18 | G28: 2.2 | H28: =ROUND((F28*G28),2) -> 39.6 | I28: M2
B31: QUANTIDADE | H31: =SUM(H28) -> 39.6 | I31: M2
A33: 1.4 | B33: LOCAÇÃO DE OBRA COM GABARITO DE TÁBUAS CORRIDAS PONTALETADAS A CADA 2,00M, REAPROVEITAMENTO (2X), INCLUSIVE ACOMPANHAMENTO DE EQUIPE TOPOGRÁFICA PARA MARCAÇÃO DE PONTO TOPOGRÁFICO
G35: COMPRI. | H35: TOTAL | I35: UNID
G36: 21.75 | H36: =G36 -> 21.75 | I36: M
G37: 21.75 | H37: =G37 -> 21.75 | I37: M
G38: 9.3 | H38: =G38 -> 9.3 | I38: M
G39: 9.3 | H39: =G39 -> 9.3 | I39: M
B40: QUANTIDADE | H40: =SUM(H36:H39) -> 62.1 | I40: M
A42: 1.5 | B42: LIMPEZA MANUAL DE VEGETAÇÃO EM TERRENO COM ENXADA
F44: COMP. | G44: LARG | H44: TOTAL | I44: UNID
F45: 26 | G45: 12 | H45: =ROUND((F45*G45),2) -> 312 | I45: M2
B47: QUANTIDADE | H47: =SUM(H45) -> 312 | I47: M2
A49: 2 | B49: FUNDAÇÃO
A50: 2.1 | B50: ESTACA A TRADO
A53: 2.1.1 | B53: PERFURAÇÃO MANUAL DE ESTACA TIPO BROCA A TRADO, INCLUSIVE AFASTAMENTO, EXCLUSIVE ARMAÇÃO, CONCRETO ESTRUTURAL, TRANSPORTE E RETIRADA DO MATERIAL ESCAVADO
E55: QUANT. | F55: COMPRI. | G55: ÁREA | H55: TOTAL | I55: UNID
E56: 62 | F56: 3 | G56: =(3.14*0.25^2)/4 -> 0.0490625 | H56: =ROUND((G56*F56*E56),2) -> 9.13 | I56: M3
E58: =(E56*F56) -> 186
B60: QUANTIDADE | H60: =SUM(H56) -> 9.13 | I60: M3
A62: 2.1.2 | B62: FORNECIMENTO DE CONCRETO ESTRUTURAL, USINADO BOMBEADO, COM FCK 25MPA, INCLUSIVE LANÇAMENTO, ADENSAMENTO E ACABAMENTO
E64: QUANT. | F64: COMPRI. | G64: ÁREA | H64: TOTAL | I64: UNID
E65: 62 | F65: 3 | G65: =(3.14*0.25^2)/4 -> 0.0490625 | H65: =ROUND((G65*F65*E65),2) -> 9.13 | I65: M3
B69: QUANTIDADE | H69: =SUM(H65) -> 9.13 | I69: M3
A71: 2.1.3 | B71: CARGA, MANOBRA E DESCARGA DE SOLOS E MATERIAIS GRANULARES EM CAMINHÃO BASCULANTE 10 M³ - CARGA COM ESCAVADEIRA HIDRÁULICA (CAÇAMBA DE 1,20 M³ / 155 HP) E DESCARGA LIVRE (UNIDADE: M3). AF_07/2020
...

Sheet CRONOGRAMA
B1: PREFEITURA MUNICIPAL DE CAREAÇU Estado de Minas Gerais CNPJ 17.935.388/0001-15
B5: CRONOGRAMA FÍSICO-FINANCEIRO
B6: ÓRGÃO OU ENTIDADE ESTADUAL CONVENENTE: | F6: LOCAL: AV. SATURNINO DEM FARIA, 143, CEDNTRO CARREAÇU | K6: DATA | L6: =TODAY() -> 46069
B7: OBRA: AMPLIAÇÃO DA ESCOLA MUNICIPAL COMENDADOR ANTÔNIO FLORÊNCIO NOGUEIRA | F7: PRAZO DA OBRA: 7 MESES | I7: V. TOTAL = | J7: =(E41) -> 579488.78
B8: ITEM | C8: CÓDIGO | D8: ETAPAS/DESCRIÇÃO | E8: VALOR (R$) | F8: % ITEM | G8: 1 | H8: 2 | I8: 3 | J8: 4 | K8: 5 | L8: 6 | M8: 7
B9: AMPLIAÇÃO
B10: 1 | D10: SERVIÇOS PRELIMINARES | F10: =(E11/E41) -> 0.020769789 | G10: 1
E11: =('PLANILHA ORÇAMENTÁRIA'!I21) -> 12035.86 | G11: =(E11*G10) -> 12035.86
B12: 2 | D12: FUNDAÇÕES | F12: =(E13/E41) -> 0.15812641 | G12: 0.5 | H12: 0.5
E13: =('PLANILHA ORÇAMENTÁRIA'!I46) -> 91632.48 | G13: =(E13*G12) -> 45816.24 | H13: =(E13*H12) -> 45816.24
B14: 3 | D14: SUPERESTRUTURA | F14: =(E15/E41) -> 0.20722665 | H14: 0.4 | I14: 0.6
E15: =('PLANILHA ORÇAMENTÁRIA'!I62) -> 120085.52 | H15: =(E15*H14) -> 48034.208 | I15: =(I14*E15) -> 72051.312
B16: 4 | D16: SISTEMAS DE VEDAÇÃO VERTICAL | F16: =E17/E41 -> 0.063846033 | I16: 0.2 | J16: 0.4 | K16: 0.4
E17: =('PLANILHA ORÇAMENTÁRIA'!I69) -> 36998.06 | I17: =(I16*E17) -> 7399.612 | J17: =(J16*E17) -> 14799.224 | K17: =(K16*E17) -> 14799.224
B18: 5 | D18: ESQUADRIAS | F18: =E19/E41 -> 0.022307162 | K18: 0.5 | L18: 0.5
E19: =('PLANILHA ORÇAMENTÁRIA'!I73) -> 12926.75 | K19: =(K18*E19) -> 6463.375 | L19: =(L18*E19) -> 6463.375
B20: 6 | D20: SISTEMAS DE COBERTURA | F20: =E21/E41 -> 0.16190029 | J20: 0.5 | K20: 0.5
E21: =('PLANILHA ORÇAMENTÁRIA'!I84) -> 93819.4 | J21: =(J20*E21) -> 46909.7 | K21: =(K20*E21) -> 46909.7
B22: 8 | D22: REVESTIMENTOS INTERNO E EXTERNO | F22: =E23/E41 -> 0.11611317 | K22: 0.2 | L22: 0.6 | M22: 0.2
E23: =('PLANILHA ORÇAMENTÁRIA'!I94) -> 67286.28 | K23: =(K22*E23) -> 13457.256 | L23: =(L22*E23) -> 40371.768 | M23: =(M22*E23) -> 13457.256
B24: 9 | D24: SISTEMAS DE PISOS | F24: =E25/E41 -> 0.097154133 | L24: 0.5 | M24: 0.5
E25: =('PLANILHA ORÇAMENTÁRIA'!I105) -> 56299.73 | L25: =(L24*E25) -> 28149.865 | M25: =(M24*E25) -> 28149.865
B26: 10 | D26: PINTURAS E ACABAMENTOS | F26: =E27/E41 -> 0.037056455 | L26: 0.2 | M26: 0.8
E27: =('PLANILHA ORÇAMENTÁRIA'!I113) -> 21473.8 | L27: =(L26*E27) -> 4294.76 | M27: =(M26*E27) -> 17179.04
B28: 11 | D28: DRENAGEM DE ÁGUAS PLUVIAIS | F28: =E29/E41 -> 0.017382148 | L28: 0.9 | M28: 0.1
E29: =('PLANILHA ORÇAMENTÁRIA'!I118) -> 10072.76 | L29: =(L28*E29) -> 9065.484 | M29: =(M28*E29) -> 1007.276
B30: 12 | D30: SISTEMA DE PROTEÇÃO CONTRA INCÊNCIO | F30: =E31/E41 -> 0.0050769404 | M30: 1
E31: =('PLANILHA ORÇAMENTÁRIA'!I126) -> 2942.03 | M31: =(M30*E31) -> 2942.03
B32: 13 | D32: INSTALAÇÃO ELÉTRICA - (127V) | F32: =E33/E41 -> 0.051575597 | K32: 0.3 | L32: 0.3 | M32: 0.4
E33: =('PLANILHA ORÇAMENTÁRIA'!I144) -> 29887.48 | K33: =(K32*E33) -> 8966.244 | L33: =(L32*E33) -> 8966.244 | M33: =(M32*E33) -> 11954.992
B34: 14 | D34: SISTEMA DE PROTEÇÃO CONTRA DESCARGAS ATMOSFÉRICAS (SPDA) | F34: =E35/E41 -> 0.024923817 | H34: 0.2 | L34: 0.4 | M34: 0.4
E35: =('PLANILHA ORÇAMENTÁRIA'!I157) -> 14443.073 | H35: =(E35*H34) -> 2888.6145 | L35: =(L34*E35) -> 5777.229 | M35: =(M34*E35) -> 5777.229
B36: 15 | D36: SERVIÇOS COMPLEMENTARES | F36: =E37/E41 -> 0.012724681 | J36: 0.1 | L36: 0.3 | M36: 0.6
E37: =('PLANILHA ORÇAMENTÁRIA'!I176) -> 7373.81 | J37: =(J36*E37) -> 737.381 | L37: =(L36*E37) -> 2212.143 | M37: =(M36*E37) -> 4424.286
B38: 16 | D38: SERVIÇOS FINAIS | F38: =E39/E41 -> 0.0038167262 | M38: 1
E39: =('PLANILHA ORÇAMENTÁRIA'!I180) -> 2211.75 | M39: =(M38*E39) -> 2211.75
F40: =E41/E41 -> 1 | G40: =(G41/E41) -> 0.099832994 | H40: =(H41/E41) -> 0.16693863 | I40: =(I41/E41) -> 0.1371052 | J40: =(J41/E41) -> 0.10776102 | K40: =(K41/E41) -> 0.15633745 | L40: =(L41/E41) -> 0.18171338 | M40: =(M41/E41) -> 0.15031132 | N40: =SUM(G40:M40) -> 1
B41: TOTAL AMPLIAÇÃO | E41: =(E11+E13+E15+E17+E19+E21+E23+E25+E27+E29+E31+E33+E35+E37+E39) -> 579488.78 | G41: =(G11+G13+G15+G17+G19+G21+G23+G25+G27+G29+G31+G33+G35+G37+G39) -> 57852.1 | H41: =(H11+H13+H15+H17+H19+H21+H23+H25+H27+H29+H31+H33+H35+H37+H39) -> 96739.063 | I41: =(I11+I13+I15+I17+I19+I21+I23+I25+I27+I29+I31+I33+I35+I37+I39) -> 79450.924 | J41: =(J11+J13+J15+J17+J19+J21+J23+J25+J27+J29+J31+J33+J35+J37+J39) -> 62446.305 | K41: =(K11+K13+K15+K17+K19+K21+K23+K25+K27+K29+K31+K33+K35+K37+K39) -> 90595.799 | L41: =(L11+L13+L15+L17+L19+L21+L23+L25+L27+L29+L31+L33+L35+L37+L39) -> 105300.87 | M41: =(M11+M13+M15+M17+M19+M21+M23+M25+M27+M29+M31+M33+M35+M37+M39) -> 87103.724 | N41: =SUM(G41:M41) -> 579488.78
D52: EDIONE SÍLVIA FERREIRA | H52: EUGÊNIO RIBEIRO DOS SANTOS NETO
D53: CAU A 19.326-7 | H53: PREFEITO MUNICIPAL
