Workbook

Sheet Planilha1
A2: PLANILHA ORÇAMENTÁRIA DE CUSTOS
A3: PREFEITURA: CRISTÁLIA/MG | G3: FOLHA Nº: 01/01
A4: OBRA: RETOMA DA CONSTRUÇÃO DA UNIDADE BÁSICA DE SAÚDE - UBS T1T | G4: 46129
A5: LOCAL: RUA DESVIO, S/N, CENTRO | E5: FORMA DE EXECUÇÃO:
A6: REGIÃO/MÊS DE REFERÊNCIA: SETOP NORTE/JANEIRO 2026/COM DESONERAÇÃO E SINAPI 01/2026 DESONERADO 01/2026 SUDECAP 01/2026 ORSE | E6: ( ) | G6: DIRETA | H6: ( X ) | I6: INDIRETA
A7: PRAZO DE EXECUÇÃO: 06 MESES | H7: LDI | I7: =[1]BDI!B33 -> 0.27039109
A8: ITEM | B8: CÓDIGO | C8: DESCRIÇÃO | D8: UNIDADE | E8: QUANTIDADE | F8: QTD. EXECUTADA | G8: PREÇO UNITÁRIO S/ LDI | H8: PREÇO UNITÁRIO C/ LDI | I8: PREÇO TOTAL | J8: VALOR EXECUTADO | K8: SALDO RESTANTE
A9: 01. | C9: SERVIÇOS PRELIMIARES
A10: 01.01 | B10: ED-50393 | C10: MOBILIZAÇÃO, TRANSPORTE DE PESSOAL E DESMOBILIZAÇÃO DA OBRA | D10: % | E10: =SUM(I358,I353,I349,I344,I337,I330,I316,I312,I298,I291,I284,I258,I244,I237,I213,I203,I187,I142,I127,I117,I48,I40,I33,I28)+I11+I12+I14+I15+I17+I18+I20+I21 -> 1972482.6 | F10: 1972482.6 | G10: 0.003 | H10: =G10 -> 0.003 | I10: =E10*G10 -> 5917.4478 | J10: =F10*H10 -> 5917.4478 | K10: =I10-J10 -> 0 | L10: =ROUND(#REF!*#REF!+#REF!*#REF!+#REF!*#REF!+K373*L359,2) -> #REF! | M10: =ROUND(L10+(L10*$I$7),2) -> #REF! | N10: =ROUND((K10*M10),2) -> #REF!
A11: 01.02 | B11: ED-28427 | C11: PLACA DE OBRA EM CHAPA DE ACO GALVANIZADO | D11: UN | E11: 2 | F11: 1 | G11: 1187.1 | H11: =ROUND(G11+(G11*$I$7),2) -> 1508.08 | I11: =ROUND((E11*H11),2) -> 3016.16 | J11: =F11*H11 -> 1508.08 | K11: =I11-J11 -> 1508.08
A12: 01.03 | B12: ED-50135 | C12: BARRACAO DE OBRA PARA ALOJAMENTO/ESCRITORIO, PISO EM PINHO 3A, PAREDES EM COMPENSADO 10MM, COBERTURA EM TELHA AMIANTO 6MM, INCLUSO INSTALACOES ELETRICAS E ESQUADRIAS | D12: M2 | E12: 60 | F12: 60 | G12: 510 | H12: =ROUND(G12+(G12*$I$7),2) -> 647.9 | I12: =ROUND((E12*H12),2) -> 38874 | J12: =F12*H12 -> 38874 | K12: =I12-J12 -> 0
A13: 01.04 | C13: INSTALAÇÕES PROVISORIAS
A14: 01.04.01 | B14: ED-50150 | C14: INSTALACAO PROVISORIA DE AGUA/ESGOTO INCLUSIVE RESERVATORIO | D14: UN | E14: 1 | F14: 1 | G14: 371.8 | H14: =ROUND(G14+(G14*$I$7),2) -> 472.33 | I14: =ROUND((E14*H14),2) -> 472.33 | J14: =F14*H14 -> 472.33 | K14: =I14-J14 -> 0
A15: 01.04.02 | B15: ED-50151 | C15: INSTALACAO PROVISORIA DE ENERGIA ELETRICA | D15: UN | E15: 1 | F15: 0 | G15: 927.27 | H15: =ROUND(G15+(G15*$I$7),2) -> 1178 | I15: =ROUND((E15*H15),2) -> 1178 | J15: =F15*H15 -> 0 | K15: =I15-J15 -> 1178
A16: 01.05 | C16: MURO DE DIVISA | F16: 0
A17: 01.05.01 | B17: ED-50396 | C17: MURO DIVISÓRIO EM BLOCO DE CONCRETO COM ACABAMENTO APARENTE, ESP.15CM, ALTURA DE 220CM, COM SAPATA EM CONCRETO ARMADO , DIMENSÃO (50X55)CM, FORMA EM CONTRA BARRANCO, INCLUSIVE ESCAVAÇÃO COM TRANSPORTE E RETIRADA DO MATERIAL ESCAVADO (EM CAÇAMBA) E PINGADEIRA EM CONCRETO | D17: M | E17: 82.25 | F17: 82.25 | G17: 476.85 | H17: =ROUND(G17+(G17*$I$7),2) -> 605.79 | I17: =ROUND((E17*H17),2) -> 49826.23 | J17: =F17*H17 -> 49826.227 | K17: =I17-J17 -> 0.0025
A18: 01.05.02 | B18: ED-50453 | C18: PINTURA LATEX ACRILICA AMBIENTES INTERNOS/EXTERNOS, TRES DEMAOS | D18: M2 | E18: 369.6 | G18: 21.88 | H18: =ROUND(G18+(G18*$I$7),2) -> 27.8 | I18: =ROUND((E18*H18),2) -> 10274.88 | J18: =F18*H18 -> 0 | K18: =I18-J18 -> 10274.88
A19: 01.06 | C19: ANDAIME
A20: 01.06.01 | B20: ED-9076 | C20: TORRE DE ANDAIME 2 X 2 M | D20: UNXMÊS | E20: 3 | G20: 21.13 | H20: =ROUND(G20+(G20*$I$7),2) -> 26.84 | I20: =ROUND((E20*H20),2) -> 80.52 | J20: =F20*H20 -> 0 | K20: =I20-J20 -> 80.52
A21: 01.06.02 | B21: ED-48247 | C21: ANDAIME PARA REVESTIMENTO DE FORROS EM MADEIRA DE 3A | D21: M2 | E21: 356.92 | G21: 9.85 | H21: =ROUND(G21+(G21*$I$7),2) -> 12.51 | I21: =ROUND((E21*H21),2) -> 4465.07 | J21: =F21*H21 -> 0 | K21: =I21-J21 -> 4465.07
C22: TOTAL ITEM: 01 | H22: =ROUND(G22+(G22*$I$7),2) -> 0 | I22: =SUM(I10:I21) -> 114104.64 | J22: =SUM(J10:J21) -> 96598.085 | K22: =SUM(K10:K21) -> 17506.553
A23: 02. | C23: ESTRUTURAS METÁLICAS E FECHAMENTOS LIGHT STEEL FRAMING
A24: 02. 01 | B24: COTAÇÃO | C24: FORNECIMENTO, FABRICAÇÃO E MONTAGEM DE ESTRUTURA METÁLICA (AÇO ESTRUTURAL PARA PÓRTICO E CAIXA D'ÁGUA) | D24: KG | E24: 2690 | F24: 2690 | G24: =[1]COTAÇÃO!E5 -> 35.6 | H24: =ROUND(G24+(G24*$I$7),2) -> 45.23 | I24: =ROUND((E24*H24),2) -> 121668.7 | J24: =F24*H24 -> 121668.7 | K24: =I24-J24 -> 0
A25: 02. 02 | B25: COTAÇÃO | C25: FORNECIMENTO E MONTAGEM DE PERFIS METÁLICOS DE PAREDES EXTERNAS E INTERNAS, DE TELHADO, DA LAJE E ESCADA EM ESTRUTURA LIGHT STEEL FRAMING | D25: M2 | E25: 459.33 | G25: =[1]COTAÇÃO!E9 -> 493.07033 | H25: =ROUND(G25+(G25*$I$7),2) -> 626.39 | I25: =ROUND((E25*H25),2) -> 287719.72 | J25: =F25*H25 -> 0 | K25: =I25-J25 -> 287719.72
A26: 02. 03 | B26: COTAÇÃO | C26: FORNECIMENTO E MONTAGEM DOS FECHAMENTOS DAS PAREDES EM LIGHT STEEL FRAMING COM REVESTIMENTO EXTERNO E INTERNO, BARREIRA DE VAPOR DAS PAREDES E TELHADO, ISOLAMENTO TERMO-ACUSTICO DAS PAREDES E FORROS, SUBSTRATOS DOS PISOS DA LAJE E ESCADA E FORRO DE GESSO ESTRUTURADO | D26: M2 | E26: 459.33 | G26: =[1]COTAÇÃO!E13 -> 493.07033 | H26: =ROUND(G26+(G26*$I$7),2) -> 626.39 | I26: =ROUND((E26*H26),2) -> 287719.72 | J26: =F26*H26 -> 0 | K26: =I26-J26 -> 287719.72
A27: 02. 04 | B27: CB9033 | C27: TRANSPORTE DA ESTRUTURA METÁLICA E LIGHT STEEL FRAMING, INCLUIVE REVESTIMENTO E FORRO | D27: CARRETA | E27: 2 | G27: 3604.46 | H27: =ROUND(G27+(G27*$I$7),2) -> 4579.07 | I27: =ROUND((E27*H27),2) -> 9158.14 | J27: =F27*H27 -> 0 | K27: =I27-J27 -> 9158.14
C28: TOTAL ITEM: 02 | H28: =ROUND(G28+(G28*$I$7),2) -> 0 | I28: =SUM(I24:I27) -> 706266.28 | J28: =SUM(J24:J27) -> 121668.7 | K28: =SUM(K24:K27) -> 584597.58
A29: 03. | C29: ALVENARIAS E DIVISÕES
A30: 03. 01 | B30: ED-48231 | C30: ALVENARIA DE TIJOLOS CERAMICOS FURADOS 10X20X20CM, ASSENTADOS COM ARGAMASSA CIMENTO/AREIA 1:10 COM PREPARO MANUAL, ESP. PAREDE = 10CM, COM J UNTAS DE 12MM, CONSIDERANDO 8% DE PERDAS NOS TIJOLOS, SEM PERDAS DE ARGAMASSA | D30: M2 | E30: 2 | G30: 60.39 | H30: =ROUND(G30+(G30*$I$7),2) -> 76.72 | I30: =ROUND((E30*H30),2) -> 153.44 | J30: =F30*H30 -> 0 | K30: =I30-J30 -> 153.44
A31: 03. 02 | B31: ED-48537 | C31: DIVISORIA 35MM PAINEL CEGO MIOLO COLMEIA REVESTIDA C/CHAPA LAMINADA EM CORES FIBRA MADEIRA PRENSADA C/MONTANTES ALUMINIO ANODIZADO NATURAL EM"L" "T" OU "X" INCL PORTAS EXCL SUAS FERRAGENS. | D31: M2 | E31: 12.29 | G31: 101.23 | H31: 101.23 | I31: =ROUND((E31*H31),2) -> 1244.12 | J31: =F31*H31 -> 0 | K31: =I31-J31 -> 1244.12
A32: 03. 03 | B32: ED-48533 | C32: DIVISORIA EM GRANITO CINZA CORUMBÁ POLIDO H= 180 CM, INCLUSIVE FERRAGENS EM LATÃO CROMADO | D32: M2 | E32: 14.58 | G32: 697.77 | H32: =ROUND(G32+(G32*$I$7),2) -> 886.44 | I32: =ROUND((E32*H32),2) -> 12924.3 | J32: =F32*H32 -> 0 | K32: =I32-J32 -> 12924.3
C33: TOTAL ITEM: 03 | H33: =ROUND(G33+(G33*$I$7),2) -> 0 | I33: =SUM(I30:I32) -> 14321.86 | J33: =SUM(J30:J32) -> 0 | K33: =SUM(K30:K32) -> 14321.86
A34: 04. | C34: COBERTURAS
A35: 04. 01 | B35: ED-13852 | C35: COBERTURA COM TELHA CHAPA AÇO ZINCADO ONDULADA 0,5 MM | D35: M2 | E35: 464.37 | G35: 95.33 | H35: =ROUND(G35+(G35*$I$7),2) -> 121.11 | I35: =ROUND((E35*H35),2) -> 56239.85 | J35: =F35*H35 -> 0 | K35: =I35-J35 -> 56239.85
A36: 04. 02 | B36: ED-48402 | C36: FABRICAÇÃO, FORNECIMENTO E INSTALAÇÃO DE CUMEEIRA METÁLICA PARA TELHA | D36: M | E36: 40.71 | G36: 79.43 | H36: =ROUND(G36+(G36*$I$7),2) -> 100.91 | I36: =ROUND((E36*H36),2) -> 4108.05 | J36: =F36*H36 -> 0 | K36: =I36-J36 -> 4108.05
A37: 04. 03 | B37: ED-50667 | C37: FABRICAÇÃO, FORNECIMENTO E INSTALAÇÃO DE CHAPIM EM CHAPA DE AÇO GALVANIZADA CONFORME PROJETO | D37: M | E37: 121.76 | G37: 48.93 | H37: =ROUND(G37+(G37*$I$7),2) -> 62.16 | I37: =ROUND((E37*H37),2) -> 7568.6 | J37: =F37*H37 -> 0 | K37: =I37-J37 -> 7568.6
A38: 04. 04 | B38: ED-50650 | C38: FABRICAÇÃO, FORNECIMENTO E INSTALAÇÃO DE CALHA METÁLICA CONJUGADA EM CHAPIM EM CHAPA DE AÇO GALVANIZADO CONFORME PROJETO | D38: M | E38: 92.04 | G38: 68.75 | H38: =ROUND(G38+(G38*$I$7),2) -> 87.34 | I38: =ROUND((E38*H38),2) -> 8038.77 | J38: =F38*H38 -> 0 | K38: =I38-J38 -> 8038.77
A39: 04. 05 | B39: ED-50675 | C39: FABRICAÇÃO, FORNECIMENTO E INSTALAÇÃO DE RUFOS EM CHAPA DE AÇO GALVANIZADA CONFORME PROJETO | D39: M | E39: 113.2 | G39: 28.77 | H39: =ROUND(G39+(G39*$I$7),2) -> 36.55 | I39: =ROUND((E39*H39),2) -> 4137.46 | J39: =F39*H39 -> 0 | K39: =I39-J39 -> 4137.46
C40: TOTAL ITEM: 04 | H40: =ROUND(G40+(G40*$I$7),2) -> 0 | I40: =SUM(I35:I39) -> 80092.73 | J40: =SUM(J35:J39) -> 0 | K40: =SUM(K35:K39) -> 80092.73
A41: 05. | C41: IMPERMEABILIZAÇÕES E ISOLAMENTO
...
