Workbook

Sheet Motorista 44h
A1: PLANILHA DE CUSTOS E FORMAÇÃO DE PREÇOS DE SERVIÇOS CONTINUADOS COM DEDICAÇÃO EXCLUSIVA DE MÃO DE OBRA (ANEXO III - DECRETOS 52.768 de 15.12.2015)
A2: PROCESSO: | E2: REGIME DE TRIBUTAÇÃO: LUCRO REAL
A3: LICITAÇÃO/EDITAL | E3: ABERTURA:
A5: Cargo/Função: | D5: Motorista | G5: =IF(D6="12x36","Regime de trabalho:","Quantidade de HORAS/MÊS") -> Quantidade de HORAS/MÊS | I5: =IF(D6="12x36",D6,5*D6) -> 220
A6: =IF(D6="12x36","Regime de trabalho:","Regime de trabalho (horas semanais):") -> Regime de trabalho (horas semanais): | D6: 44
A7: Origem do salário e/ou CCT: | G7: INSALUBRIDADE (10%, 20%, 40%) | I7: Não aplicável
A8: Cidade: | D8: Porto Alegre | G8: PERICULOSIDADE (30%) | I8: Não aplicável
A9: Salário Normativo | G9: =IF(D6="12x36","Vlr. Do salário e Regime de trabalho","Vlr. Do salário e nº de horas correspondentes") -> Vlr. Do salário e nº de horas correspondentes | H9: 220 | I9: 2325.27
A10: ISS | G10: =D8 -> Porto Alegre | H10: Alíquota | I10: 0.05
A11: Tarifa Transporte | G11: CCT | H11: Vr. Unitário | I11: 4.8
H12: Dias | I12: 22
H13: Desconto | I13: 0.06
A14: Auxílio Alimentação (Cláusula 10ª da CCT) | G14: CCT | H14: Vr. Unitário | I14: 31.69
H15: Dias | I15: 22
H16: Desconto | I16: 0.2
A17: Cesta Básica (Cláusula 14ª da CCT e fl. 971 do processo) | G17: CCT | H17: Vr. Unitário | I17: 191
H18: Quantidade | I18: 1
H19: Desconto | I19: 0
A20: Outros | G20: CCT | H20: Valor mensal | I20: Não aplicável
A21: Adicional de Supervisor | H21: Porcentagem | I21: Não aplicável
A22: Base de cálculo da insalubridade: salário normativo proporcional conforme Parecer da PGE/RS nº 18200-20. Atentar-se para a observação 2 do Anexo I - Folha de Dados (CGL 12.1.2). | H22: Valor | I22: Não aplicável
A23: Hora Intervalar | H23: Horas por mês | I23: Não aplicável
A24: Sem fornecimento de materiais ou apenas fornecimento de EPIs ou uniformes, utilizar 10%. Com fornecimento de materiais ou equipamentos, utilizar 20%. (Decreto 52.768/2015, alterado pelo Decreto 53.424/2017) | H24: Porcentagem | I24: 0.1
A26: MONTANTE A
A27: I | B27: Remuneração - Grupo I | H27: % | I27: Valor Mensal/unidade de serviço (R$)
A28: 1 | B28: Salário | H28: =I28/$I$37 -> 1 | I28: =IF(D6="12x36",I9,I9/H9*I5) -> 2325.27
A29: =A28+1 -> 2 | B29: Adicional Noturno 20% (Ver súmula 60 TST) | H29: =I29/$I$37 -> 0 | I29: 0
A30: =A29+1 -> 3 | B30: Adicional Periculosidade 30% (Ver súmulas 364, 132 e 191 do TST) | H30: =I30/$I$37 -> 0 | I30: =IF(I8=30%,I28*I8,0) -> 0
A31: =A30+1 -> 4 | B31: Adicional Insalubridade 10% (Ver súmula 228 e 139 TST) | H31: =I31/$I$37 -> 0 | I31: =IF(I7=10%,I22*I7,0) -> 0
A32: =A31+1 -> 5 | B32: Adicional Insalubridade 20% (Ver súmula 228 e 139 TST) | H32: =I32/$I$37 -> 0 | I32: =IF(I7=20%,I22*I7,0) -> 0
A33: =A32+1 -> 6 | B33: Adicional Insalubridade 40% (Ver súmula 228 e 139 TST) | H33: =I33/$I$37 -> 0 | I33: =IF(I7=40%,I22*I7,0) -> 0
A34: =A33+1 -> 7 | B34: Adicional de Supervisor | H34: =I34/$I$37 -> 0 | I34: =IF(I21="Não aplicável",0,I28*I21) -> 0
A35: =A34+1 -> 8 | B35: DSR - Descanso Semanal Remunerado | H35: =I35/$I$37 -> 0 | I35: 0
A36: =A35+1 -> 9 | B36: =IF(D6="12x36","Para postos 12x36 os feriados são considerados compensados, conforme parágrafo único, Art. 59-A da CLT","Outros") -> Outros | H36: =I36/$I$37 -> 0 | I36: 0
A37: Total de Remuneração | H37: =SUM(H28:H36) -> 1 | I37: =SUM(I28:I36) -> 2325.27
A39: II | B39: Encargos Sociais - Grupo II: Obrigações Sociais | H39: % | I39: Valor Mensal/unidade de serviço (R$)
A40: 1 | B40: INSS (art. 22, inc. I, Lei nº 8.212/91) | H40: 0.2 | I40: =$I$37*H40 -> 465.054
A41: 2 | B41: SESI ou SESC (art. 30, Lei nº 8.036/90) | H41: 0.015 | I41: =$I$37*H41 -> 34.87905
A42: 3 | B42: SENAI ou SENAC (Decreto-Lei nº 2.318/86) | H42: 0.01 | I42: =$I$37*H42 -> 23.2527
A43: 4 | B43: INCRA (art. 15I, Lei Complementar nº 011/71) | H43: 0.002 | I43: =$I$37*H43 -> 4.65054
...

Sheet Programador 44h
A1: PLANILHA DE CUSTOS E FORMAÇÃO DE PREÇOS DE SERVIÇOS CONTINUADOS COM DEDICAÇÃO EXCLUSIVA DE MÃO DE OBRA (ANEXO III - DECRETOS 52.768 de 15.12.2015)
A2: PROCESSO: | E2: REGIME DE TRIBUTAÇÃO: LUCRO REAL
A3: LICITAÇÃO/EDITAL | E3: ABERTURA:
A5: Cargo/Função: | D5: Programador | G5: =IF(D6="12x36","Regime de trabalho:","Quantidade de HORAS/MÊS") -> Quantidade de HORAS/MÊS | I5: =IF(D6="12x36",D6,5*D6) -> 220
A6: =IF(D6="12x36","Regime de trabalho:","Regime de trabalho (horas semanais):") -> Regime de trabalho (horas semanais): | D6: 44
A7: Origem do salário e/ou CCT: | G7: INSALUBRIDADE (10%, 20%, 40%) | I7: Não aplicável
A8: Cidade: | D8: Porto Alegre | G8: PERICULOSIDADE (30%) | I8: Não aplicável
A9: Salário Normativo | G9: =IF(D6="12x36","Vlr. Do salário e Regime de trabalho","Vlr. Do salário e nº de horas correspondentes") -> Vlr. Do salário e nº de horas correspondentes | H9: 220 | I9: 2621.76
A10: ISS | G10: =D8 -> Porto Alegre | H10: Alíquota | I10: 0.02
A11: Tarifa Transporte | G11: CCT | H11: Vr. Unitário | I11: 4.8
H12: Dias | I12: 22
H13: Desconto | I13: 0.06
A14: Auxílio Alimentação (Cláusula 14ª da CCT) | G14: CCT | H14: Vr. Unitário | I14: 31.5
H15: Dias | I15: 22
H16: Desconto | I16: 0.2
A17: Auxílio Lanche (Não aplicável) | G17: CCT | H17: Vr. Unitário | I17: 0
H18: Dias | I18: 0
H19: Desconto | I19: 0
A20: PLANO DE BENEFÍCIO SOCIAL FAMILIAR (Não aplicável) | G20: CCT | H20: Valor mensal | I20: Não aplicável
A21: Adicional de Supervisor | H21: Porcentagem | I21: Não aplicável
A22: Base de cálculo da insalubridade: salário normativo proporcional conforme Parecer da PGE/RS nº 18200-20. Atentar-se para a observação 2 do Anexo I - Folha de Dados (CGL 12.1.2). | H22: Valor | I22: Não aplicável
A23: Hora Intervalar | H23: Horas por mês | I23: Não aplicável
A24: Sem fornecimento de materiais ou apenas fornecimento de EPIs ou uniformes, utilizar 10%. Com fornecimento de materiais ou equipamentos, utilizar 20%. (Decreto 52.768/2015, alterado pelo Decreto 53.424/2017) | H24: Porcentagem | I24: 0.1
A26: MONTANTE A
A27: I | B27: Remuneração - Grupo I | H27: % | I27: Valor Mensal/unidade de serviço (R$)
A28: 1 | B28: Salário | H28: =I28/$I$37 -> 1 | I28: =IF(D6="12x36",I9,I9/H9*I5) -> 2621.76
A29: =A28+1 -> 2 | B29: Adicional Noturno 20% (Ver súmula 60 TST) | H29: =I29/$I$37 -> 0 | I29: 0
A30: =A29+1 -> 3 | B30: Adicional Periculosidade 30% (Ver súmulas 364, 132 e 191 do TST) | H30: =I30/$I$37 -> 0 | I30: =IF(I8=30%,I28*I8,0) -> 0
A31: =A30+1 -> 4 | B31: Adicional Insalubridade 10% (Ver súmula 228 e 139 TST) | H31: =I31/$I$37 -> 0 | I31: =IF(I7=10%,I22*I7,0) -> 0
A32: =A31+1 -> 5 | B32: Adicional Insalubridade 20% (Ver súmula 228 e 139 TST) | H32: =I32/$I$37 -> 0 | I32: =IF(I7=20%,I22*I7,0) -> 0
A33: =A32+1 -> 6 | B33: Adicional Insalubridade 40% (Ver súmula 228 e 139 TST) | H33: =I33/$I$37 -> 0 | I33: =IF(I7=40%,I22*I7,0) -> 0
A34: =A33+1 -> 7 | B34: Adicional de Supervisor | H34: =I34/$I$37 -> 0 | I34: =IF(I21="Não aplicável",0,I28*I21) -> 0
A35: =A34+1 -> 8 | B35: DSR - Descanso Semanal Remunerado | H35: =I35/$I$37 -> 0 | I35: 0
A36: =A35+1 -> 9 | B36: =IF(D6="12x36","Para postos 12x36 os feriados são considerados compensados, conforme parágrafo único, Art. 59-A da CLT","Outros") -> Outros | H36: =I36/$I$37 -> 0 | I36: 0
A37: Total de Remuneração | H37: =SUM(H28:H36) -> 1 | I37: =SUM(I28:I36) -> 2621.76
A39: II | B39: Encargos Sociais - Grupo II: Obrigações Sociais | H39: % | I39: Valor Mensal/unidade de serviço (R$)
A40: 1 | B40: INSS (art. 22, inc. I, Lei nº 8.212/91) | H40: ='Motorista 44h'!H40 -> 0.2 | I40: =$I$37*H40 -> 524.352
A41: 2 | B41: SESI ou SESC (art. 30, Lei nº 8.036/90) | H41: 0.015 | I41: =$I$37*H41 -> 39.3264
A42: 3 | B42: SENAI ou SENAC (Decreto-Lei nº 2.318/86) | H42: 0.01 | I42: =$I$37*H42 -> 26.2176
A43: 4 | B43: INCRA (art. 15I, Lei Complementar nº 011/71) | H43: 0.002 | I43: =$I$37*H43 -> 5.24352
...

Sheet An. Banco Dados e de Sist. 44h
A1: PLANILHA DE CUSTOS E FORMAÇÃO DE PREÇOS DE SERVIÇOS CONTINUADOS COM DEDICAÇÃO EXCLUSIVA DE MÃO DE OBRA (ANEXO III - DECRETOS 52.768 de 15.12.2015)
A2: PROCESSO: | E2: REGIME DE TRIBUTAÇÃO: LUCRO REAL
A3: LICITAÇÃO/EDITAL | E3: ABERTURA:
A5: Cargo/Função: | D5: Analista de Banco de Dados e Analista de Desenvolvimento de Sistema | G5: =IF(D6="12x36","Regime de trabalho:","Quantidade de HORAS/MÊS") -> Quantidade de HORAS/MÊS | I5: =IF(D6="12x36",D6,5*D6) -> 220
A6: =IF(D6="12x36","Regime de trabalho:","Regime de trabalho (horas semanais):") -> Regime de trabalho (horas semanais): | D6: 44
A7: Origem do salário e/ou CCT: | G7: INSALUBRIDADE (10%, 20%, 40%) | I7: Não aplicável
A8: Cidade: | D8: Porto Alegre | G8: PERICULOSIDADE (30%) | I8: Não aplicável
A9: Salário Normativo | G9: =IF(D6="12x36","Vlr. Do salário e Regime de trabalho","Vlr. Do salário e nº de horas correspondentes") -> Vlr. Do salário e nº de horas correspondentes | H9: 220 | I9: 4533.66
A10: ISS | G10: =D8 -> Porto Alegre | H10: Alíquota | I10: 0.02
A11: Tarifa Transporte | G11: CCT | H11: Vr. Unitário | I11: 4.8
H12: Dias | I12: 22
H13: Desconto | I13: 0.06
A14: Auxílio Alimentação (Cláusula 14ª da CCT) | G14: CCT | H14: Vr. Unitário | I14: 31.5
H15: Dias | I15: 22
H16: Desconto | I16: 0.2
A17: Auxílio Lanche (Não aplicável) | G17: CCT | H17: Vr. Unitário | I17: 0
H18: Dias | I18: 0
H19: Desconto | I19: 0
A20: PLANO DE BENEFÍCIO SOCIAL FAMILIAR (Não aplicável) | G20: CCT | H20: Valor mensal | I20: Não aplicável
A21: Adicional de Supervisor | H21: Porcentagem | I21: Não aplicável
A22: Base de cálculo da insalubridade: salário normativo proporcional conforme Parecer da PGE/RS nº 18200-20. Atentar-se para a observação 2 do Anexo I - Folha de Dados (CGL 12.1.2). | H22: Valor | I22: Não aplicável
A23: Hora Intervalar | H23: Horas por mês | I23: Não aplicável
A24: Sem fornecimento de materiais ou apenas fornecimento de EPIs ou uniformes, utilizar 10%. Com fornecimento de materiais ou equipamentos, utilizar 20%. (Decreto 52.768/2015, alterado pelo Decreto 53.424/2017) | H24: Porcentagem | I24: 0.1
A26: MONTANTE A
A27: I | B27: Remuneração - Grupo I | H27: % | I27: Valor Mensal/unidade de serviço (R$)
A28: 1 | B28: Salário | H28: =I28/$I$37 -> 1 | I28: =IF(D6="12x36",I9,I9/H9*I5) -> 4533.66
A29: =A28+1 -> 2 | B29: Adicional Noturno 20% (Ver súmula 60 TST) | H29: =I29/$I$37 -> 0 | I29: 0
A30: =A29+1 -> 3 | B30: Adicional Periculosidade 30% (Ver súmulas 364, 132 e 191 do TST) | H30: =I30/$I$37 -> 0 | I30: =IF(I8=30%,I28*I8,0) -> 0
A31: =A30+1 -> 4 | B31: Adicional Insalubridade 10% (Ver súmula 228 e 139 TST) | H31: =I31/$I$37 -> 0 | I31: =IF(I7=10%,I22*I7,0) -> 0
A32: =A31+1 -> 5 | B32: Adicional Insalubridade 20% (Ver súmula 228 e 139 TST) | H32: =I32/$I$37 -> 0 | I32: =IF(I7=20%,I22*I7,0) -> 0
A33: =A32+1 -> 6 | B33: Adicional Insalubridade 40% (Ver súmula 228 e 139 TST) | H33: =I33/$I$37 -> 0 | I33: =IF(I7=40%,I22*I7,0) -> 0
A34: =A33+1 -> 7 | B34: Adicional de Supervisor | H34: =I34/$I$37 -> 0 | I34: =IF(I21="Não aplicável",0,I28*I21) -> 0
A35: =A34+1 -> 8 | B35: DSR - Descanso Semanal Remunerado | H35: =I35/$I$37 -> 0 | I35: 0
A36: =A35+1 -> 9 | B36: =IF(D6="12x36","Para postos 12x36 os feriados são considerados compensados, conforme parágrafo único, Art. 59-A da CLT","Outros") -> Outros | H36: =I36/$I$37 -> 0 | I36: 0
A37: Total de Remuneração | H37: =SUM(H28:H36) -> 1 | I37: =SUM(I28:I36) -> 4533.66
A39: II | B39: Encargos Sociais - Grupo II: Obrigações Sociais | H39: % | I39: Valor Mensal/unidade de serviço (R$)
A40: 1 | B40: INSS (art. 22, inc. I, Lei nº 8.212/91) | H40: ='Programador 44h'!H40 -> 0.2 | I40: =$I$37*H40 -> 906.732
A41: 2 | B41: SESI ou SESC (art. 30, Lei nº 8.036/90) | H41: 0.015 | I41: =$I$37*H41 -> 68.0049
A42: 3 | B42: SENAI ou SENAC (Decreto-Lei nº 2.318/86) | H42: 0.01 | I42: =$I$37*H42 -> 45.3366
A43: 4 | B43: INCRA (art. 15I, Lei Complementar nº 011/71) | H43: 0.002 | I43: =$I$37*H43 -> 9.06732
...

Sheet Tec em Manut e de Rede 44h
A1: PLANILHA DE CUSTOS E FORMAÇÃO DE PREÇOS DE SERVIÇOS CONTINUADOS COM DEDICAÇÃO EXCLUSIVA DE MÃO DE OBRA (ANEXO III - DECRETOS 52.768 de 15.12.2015)
A2: PROCESSO: | E2: REGIME DE TRIBUTAÇÃO: LUCRO REAL
A3: LICITAÇÃO/EDITAL | E3: ABERTURA:
A5: Cargo/Função: | D5: Técnico em Manutenção de Software e Hardware e Técnico em Rede de Computadores | G5: =IF(D6="12x36","Regime de trabalho:","Quantidade de HORAS/MÊS") -> Quantidade de HORAS/MÊS | I5: =IF(D6="12x36",D6,5*D6) -> 220
A6: =IF(D6="12x36","Regime de trabalho:","Regime de trabalho (horas semanais):") -> Regime de trabalho (horas semanais): | D6: 44
A7: Origem do salário e/ou CCT: | G7: INSALUBRIDADE (10%, 20%, 40%) | I7: Não aplicável
A8: Cidade: | D8: Porto Alegre | G8: PERICULOSIDADE (30%) | I8: Não aplicável
A9: Salário Normativo | G9: =IF(D6="12x36","Vlr. Do salário e Regime de trabalho","Vlr. Do salário e nº de horas correspondentes") -> Vlr. Do salário e nº de horas correspondentes | H9: 220 | I9: 2248.03
A10: ISS | G10: =D8 -> Porto Alegre | H10: Alíquota | I10: 2
A11: Tarifa Transporte | G11: CCT | H11: Vr. Unitário | I11: 4.8
H12: Dias | I12: 22
H13: Desconto | I13: 0.06
A14: Auxílio Alimentação (Cláusula 14ª da CCT) | G14: CCT | H14: Vr. Unitário | I14: 31.5
H15: Dias | I15: 22
H16: Desconto | I16: 0.2
A17: Auxílio Lanche (Não aplicável) | G17: CCT | H17: Vr. Unitário | I17: 0
H18: Dias | I18: 0
H19: Desconto | I19: 0
A20: PLANO DE BENEFÍCIO SOCIAL FAMILIAR (Não aplicável) | G20: CCT | H20: Valor mensal | I20: Não aplicável
A21: Adicional de Supervisor | H21: Porcentagem | I21: Não aplicável
A22: Base de cálculo da insalubridade: salário normativo proporcional conforme Parecer da PGE/RS nº 18200-20. Atentar-se para a observação 2 do Anexo I - Folha de Dados (CGL 12.1.2). | H22: Valor | I22: Não aplicável
A23: Hora Intervalar | H23: Horas por mês | I23: Não aplicável
A24: Sem fornecimento de materiais ou apenas fornecimento de EPIs ou uniformes, utilizar 10%. Com fornecimento de materiais ou equipamentos, utilizar 20%. (Decreto 52.768/2015, alterado pelo Decreto 53.424/2017) | H24: Porcentagem | I24: 0.1
A26: MONTANTE A
A27: I | B27: Remuneração - Grupo I | H27: % | I27: Valor Mensal/unidade de serviço (R$)
A28: 1 | B28: Salário | H28: =I28/$I$37 -> 1 | I28: =IF(D6="12x36",I9,I9/H9*I5) -> 2248.03
A29: =A28+1 -> 2 | B29: Adicional Noturno 20% (Ver súmula 60 TST) | H29: =I29/$I$37 -> 0 | I29: 0
A30: =A29+1 -> 3 | B30: Adicional Periculosidade 30% (Ver súmulas 364, 132 e 191 do TST) | H30: =I30/$I$37 -> 0 | I30: =IF(I8=30%,I28*I8,0) -> 0
A31: =A30+1 -> 4 | B31: Adicional Insalubridade 10% (Ver súmula 228 e 139 TST) | H31: =I31/$I$37 -> 0 | I31: =IF(I7=10%,I22*I7,0) -> 0
A32: =A31+1 -> 5 | B32: Adicional Insalubridade 20% (Ver súmula 228 e 139 TST) | H32: =I32/$I$37 -> 0 | I32: =IF(I7=20%,I22*I7,0) -> 0
A33: =A32+1 -> 6 | B33: Adicional Insalubridade 40% (Ver súmula 228 e 139 TST) | H33: =I33/$I$37 -> 0 | I33: =IF(I7=40%,I22*I7,0) -> 0
A34: =A33+1 -> 7 | B34: Adicional de Supervisor | H34: =I34/$I$37 -> 0 | I34: =IF(I21="Não aplicável",0,I28*I21) -> 0
A35: =A34+1 -> 8 | B35: DSR - Descanso Semanal Remunerado | H35: =I35/$I$37 -> 0 | I35: 0
A36: =A35+1 -> 9 | B36: =IF(D6="12x36","Para postos 12x36 os feriados são considerados compensados, conforme parágrafo único, Art. 59-A da CLT","Outros") -> Outros | H36: =I36/$I$37 -> 0 | I36: 0
A37: Total de Remuneração | H37: =SUM(H28:H36) -> 1 | I37: =SUM(I28:I36) -> 2248.03
A39: II | B39: Encargos Sociais - Grupo II: Obrigações Sociais | H39: % | I39: Valor Mensal/unidade de serviço (R$)
A40: 1 | B40: INSS (art. 22, inc. I, Lei nº 8.212/91) | H40: ='An. Banco Dados e de Sist. 44h'!H40 -> 0.2 | I40: =$I$37*H40 -> 449.606
A41: 2 | B41: SESI ou SESC (art. 30, Lei nº 8.036/90) | H41: 0.015 | I41: =$I$37*H41 -> 33.72045
A42: 3 | B42: SENAI ou SENAC (Decreto-Lei nº 2.318/86) | H42: 0.01 | I42: =$I$37*H42 -> 22.4803
A43: 4 | B43: INCRA (art. 15I, Lei Complementar nº 011/71) | H43: 0.002 | I43: =$I$37*H43 -> 4.49606
...

Sheet Supervisor 44h
A1: PLANILHA DE CUSTOS E FORMAÇÃO DE PREÇOS DE SERVIÇOS CONTINUADOS COM DEDICAÇÃO EXCLUSIVA DE MÃO DE OBRA (ANEXO III - DECRETOS 52.768 de 15.12.2015)
A2: PROCESSO: | E2: REGIME DE TRIBUTAÇÃO: LUCRO REAL
A3: LICITAÇÃO/EDITAL | E3: ABERTURA:
A5: Cargo/Função: | D5: Supervisor | G5: =IF(D6="12x36","Regime de trabalho:","Quantidade de HORAS/MÊS") -> Quantidade de HORAS/MÊS | I5: =IF(D6="12x36",D6,5*D6) -> 220
A6: =IF(D6="12x36","Regime de trabalho:","Regime de trabalho (horas semanais):") -> Regime de trabalho (horas semanais): | D6: 44
A7: Origem do salário e/ou CCT: | G7: INSALUBRIDADE (10%, 20%, 40%) | I7: Não aplicável
A8: Cidade: | D8: Porto Alegre | G8: PERICULOSIDADE (30%) | I8: Não aplicável
A9: Salário Normativo | G9: =IF(D6="12x36","Vlr. Do salário e Regime de trabalho","Vlr. Do salário e nº de horas correspondentes") -> Vlr. Do salário e nº de horas correspondentes | H9: 220 | I9: 2161.09
A10: ISS | G10: =D8 -> Porto Alegre | H10: Alíquota | I10: 0.05
A11: Tarifa Transporte | G11: CCT | H11: Vr. Unitário | I11: 4.8
H12: Dias | I12: 22
H13: Desconto | I13: 0.06
A14: Auxílio Alimentação (Cláusula 18ª da CCT) | G14: CCT | H14: Vr. Unitário | I14: 25.42
H15: Dias | I15: 22
H16: Desconto | I16: 0.19
A17: Auxílio Lanche (Não aplicável - Cláusula 19ª da CCT) | G17: CCT | H17: Vr. Unitário | I17: 0
H18: Dias | I18: 0
H19: Desconto | I19: 0
A20: PLANO DE BENEFÍCIO SOCIAL FAMILIAR (Cláusula 29ª da CCT) | G20: CCT | H20: Valor mensal | I20: 24.1
A21: Adicional de Supervisor | H21: Porcentagem | I21: 0.37
A22: Base de cálculo da insalubridade: salário normativo proporcional conforme Parecer da PGE/RS nº 18200-20. Atentar-se para a observação 2 do Anexo I - Folha de Dados (CGL 12.1.2). | H22: Valor | I22: Não aplicável
A23: Hora Intervalar | H23: Horas por mês | I23: Não aplicável
A24: Sem fornecimento de materiais ou apenas fornecimento de EPIs ou uniformes, utilizar 10%. Com fornecimento de materiais ou equipamentos, utilizar 20%. (Decreto 52.768/2015, alterado pelo Decreto 53.424/2017) | H24: Porcentagem | I24: 0.1
A26: MONTANTE A
A27: I | B27: Remuneração - Grupo I | H27: % | I27: Valor Mensal/unidade de serviço (R$)
A28: 1 | B28: Salário | H28: =I28/$I$37 -> 0.72992701 | I28: =IF(D6="12x36",I9,I9/H9*I5) -> 2161.09
A29: =A28+1 -> 2 | B29: Adicional Noturno 20% (Ver súmula 60 TST) | H29: =I29/$I$37 -> 0 | I29: 0
A30: =A29+1 -> 3 | B30: Adicional Periculosidade 30% (Ver súmulas 364, 132 e 191 do TST) | H30: =I30/$I$37 -> 0 | I30: =IF(I8=30%,I28*I8,0) -> 0
A31: =A30+1 -> 4 | B31: Adicional Insalubridade 10% (Ver súmula 228 e 139 TST) | H31: =I31/$I$37 -> 0 | I31: =IF(I7=10%,I22*I7,0) -> 0
A32: =A31+1 -> 5 | B32: Adicional Insalubridade 20% (Ver súmula 228 e 139 TST) | H32: =I32/$I$37 -> 0 | I32: =IF(I7=20%,I22*I7,0) -> 0
A33: =A32+1 -> 6 | B33: Adicional Insalubridade 40% (Ver súmula 228 e 139 TST) | H33: =I33/$I$37 -> 0 | I33: =IF(I7=40%,I22*I7,0) -> 0
A34: =A33+1 -> 7 | B34: Adicional de Supervisor | H34: =I34/$I$37 -> 0.27007299 | I34: =IF(I21="Não aplicável",0,I28*I21) -> 799.6033
A35: =A34+1 -> 8 | B35: DSR - Descanso Semanal Remunerado | H35: =I35/$I$37 -> 0 | I35: 0
A36: =A35+1 -> 9 | B36: =IF(D6="12x36","Para postos 12x36 os feriados são considerados compensados, conforme parágrafo único, Art. 59-A da CLT","Outros") -> Outros | H36: =I36/$I$37 -> 0 | I36: 0
A37: Total de Remuneração | H37: =SUM(H28:H36) -> 1 | I37: =SUM(I28:I36) -> 2960.6933
A39: II | B39: Encargos Sociais - Grupo II: Obrigações Sociais | H39: % | I39: Valor Mensal/unidade de serviço (R$)
A40: 1 | B40: INSS (art. 22, inc. I, Lei nº 8.212/91) | H40: ='Tec em Manut e de Rede 44h'!H40 -> 0.2 | I40: =$I$37*H40 -> 592.13866
A41: 2 | B41: SESI ou SESC (art. 30, Lei nº 8.036/90) | H41: 0.015 | I41: =$I$37*H41 -> 44.410399
A42: 3 | B42: SENAI ou SENAC (Decreto-Lei nº 2.318/86) | H42: 0.01 | I42: =$I$37*H42 -> 29.606933
A43: 4 | B43: INCRA (art. 15I, Lei Complementar nº 011/71) | H43: 0.002 | I43: =$I$37*H43 -> 5.9213866
...

Sheet Aux. de Superv. 44h
A1: PLANILHA DE CUSTOS E FORMAÇÃO DE PREÇOS DE SERVIÇOS CONTINUADOS COM DEDICAÇÃO EXCLUSIVA DE MÃO DE OBRA (ANEXO III - DECRETOS 52.768 de 15.12.2015)
A2: PROCESSO: | E2: REGIME DE TRIBUTAÇÃO: LUCRO REAL
A3: LICITAÇÃO/EDITAL | E3: ABERTURA:
A5: Cargo/Função: | D5: Auxiliar de Supervisor | G5: =IF(D6="12x36","Regime de trabalho:","Quantidade de HORAS/MÊS") -> Quantidade de HORAS/MÊS | I5: =IF(D6="12x36",D6,5*D6) -> 220
A6: =IF(D6="12x36","Regime de trabalho:","Regime de trabalho (horas semanais):") -> Regime de trabalho (horas semanais): | D6: 44
A7: Origem do salário e/ou CCT: | G7: INSALUBRIDADE (10%, 20%, 40%) | I7: Não aplicável
A8: Cidade: | D8: Porto Alegre | G8: PERICULOSIDADE (30%) | I8: Não aplicável
A9: Salário Normativo | G9: =IF(D6="12x36","Vlr. Do salário e Regime de trabalho","Vlr. Do salário e nº de horas correspondentes") -> Vlr. Do salário e nº de horas correspondentes | H9: 220 | I9: 2161.09
A10: ISS | G10: =D8 -> Porto Alegre | H10: Alíquota | I10: 0.05
A11: Tarifa Transporte | G11: CCT | H11: Vr. Unitário | I11: 4.8
H12: Dias | I12: 22
H13: Desconto | I13: 0.06
A14: Auxílio Alimentação (Cláusula 18ª da CCT) | G14: CCT | H14: Vr. Unitário | I14: 25.42
H15: Dias | I15: 22
H16: Desconto | I16: 0.19
A17: Auxílio Lanche (Não aplicável - Cláusula 19ª da CCT) | G17: CCT | H17: Vr. Unitário | I17: 0
H18: Dias | I18: 0
H19: Desconto | I19: 0
A20: PLANO DE BENEFÍCIO SOCIAL FAMILIAR (Cláusula 29ª da CCT) | G20: CCT | H20: Valor mensal | I20: 24.1
A21: Adicional de Supervisor | H21: Porcentagem | I21: 0.3
A22: Base de cálculo da insalubridade: salário normativo proporcional conforme Parecer da PGE/RS nº 18200-20. Atentar-se para a observação 2 do Anexo I - Folha de Dados (CGL 12.1.2). | H22: Valor | I22: Não aplicável
A23: Hora Intervalar | H23: Horas por mês | I23: Não aplicável
A24: Sem fornecimento de materiais ou apenas fornecimento de EPIs ou uniformes, utilizar 10%. Com fornecimento de materiais ou equipamentos, utilizar 20%. (Decreto 52.768/2015, alterado pelo Decreto 53.424/2017) | H24: Porcentagem | I24: 0.1
A26: MONTANTE A
A27: I | B27: Remuneração - Grupo I | H27: % | I27: Valor Mensal/unidade de serviço (R$)
A28: 1 | B28: Salário | H28: =I28/$I$37 -> 0.76923077 | I28: =IF(D6="12x36",I9,I9/H9*I5) -> 2161.09
A29: =A28+1 -> 2 | B29: Adicional Noturno 20% (Ver súmula 60 TST) | H29: =I29/$I$37 -> 0 | I29: 0
A30: =A29+1 -> 3 | B30: Adicional Periculosidade 30% (Ver súmulas 364, 132 e 191 do TST) | H30: =I30/$I$37 -> 0 | I30: =IF(I8=30%,I28*I8,0) -> 0
A31: =A30+1 -> 4 | B31: Adicional Insalubridade 10% (Ver súmula 228 e 139 TST) | H31: =I31/$I$37 -> 0 | I31: =IF(I7=10%,I22*I7,0) -> 0
A32: =A31+1 -> 5 | B32: Adicional Insalubridade 20% (Ver súmula 228 e 139 TST) | H32: =I32/$I$37 -> 0 | I32: =IF(I7=20%,I22*I7,0) -> 0
A33: =A32+1 -> 6 | B33: Adicional Insalubridade 40% (Ver súmula 228 e 139 TST) | H33: =I33/$I$37 -> 0 | I33: =IF(I7=40%,I22*I7,0) -> 0
A34: =A33+1 -> 7 | B34: Adicional de Supervisor | H34: =I34/$I$37 -> 0.23076923 | I34: =IF(I21="Não aplicável",0,I28*I21) -> 648.327
A35: =A34+1 -> 8 | B35: DSR - Descanso Semanal Remunerado | H35: =I35/$I$37 -> 0 | I35: 0
A36: =A35+1 -> 9 | B36: =IF(D6="12x36","Para postos 12x36 os feriados são considerados compensados, conforme parágrafo único, Art. 59-A da CLT","Outros") -> Outros | H36: =I36/$I$37 -> 0 | I36: 0
A37: Total de Remuneração | H37: =SUM(H28:H36) -> 1 | I37: =SUM(I28:I36) -> 2809.417
A39: II | B39: Encargos Sociais - Grupo II: Obrigações Sociais | H39: % | I39: Valor Mensal/unidade de serviço (R$)
A40: 1 | B40: INSS (art. 22, inc. I, Lei nº 8.212/91) | H40: ='Supervisor 44h'!H40 -> 0.2 | I40: =$I$37*H40 -> 561.8834
A41: 2 | B41: SESI ou SESC (art. 30, Lei nº 8.036/90) | H41: 0.015 | I41: =$I$37*H41 -> 42.141255
A42: 3 | B42: SENAI ou SENAC (Decreto-Lei nº 2.318/86) | H42: 0.01 | I42: =$I$37*H42 -> 28.09417
A43: 4 | B43: INCRA (art. 15I, Lei Complementar nº 011/71) | H43: 0.002 | I43: =$I$37*H43 -> 5.618834
...

Sheet Aux Sup 44h Canoas 
A1: PLANILHA DE CUSTOS E FORMAÇÃO DE PREÇOS DE SERVIÇOS CONTINUADOS COM DEDICAÇÃO EXCLUSIVA DE MÃO DE OBRA (ANEXO III - DECRETOS 52.768 de 15.12.2015)
A2: PROCESSO: | E2: REGIME DE TRIBUTAÇÃO: LUCRO REAL
A3: LICITAÇÃO/EDITAL | E3: ABERTURA:
A5: Cargo/Função: | D5: Auxiliar de Serviços Administrativos | G5: =IF(D6="12x36","Regime de trabalho:","Quantidade de HORAS/MÊS") -> Quantidade de HORAS/MÊS | I5: 220
A6: =IF(D6="12x36","Regime de trabalho:","Regime de trabalho (horas semanais):") -> Regime de trabalho (horas semanais): | D6: 40
A7: Origem do salário e/ou CCT: | G7: INSALUBRIDADE (10%, 20%, 40%) | I7: Não aplicável
A8: Cidade: | D8: Canoas | G8: PERICULOSIDADE (30%) | I8: Não aplicável
A9: Salário Normativo | G9: =IF(D6="12x36","Vlr. Do salário e Regime de trabalho","Vlr. Do salário e nº de horas correspondentes") -> Vlr. Do salário e nº de horas correspondentes | H9: 220 | I9: 2161.09
A10: ISS | G10: =D8 -> Canoas | H10: Alíquota | I10: 0.03
A11: Tarifa Transporte | G11: CCT | H11: Vr. Unitário | I11: 4.8
H12: Dias | I12: 22
H13: Desconto | I13: 0.06
A14: Auxílio Alimentação (Cláusula 18ª da CCT) | G14: CCT | H14: Vr. Unitário | I14: 25.42
H15: Dias | I15: 22
H16: Desconto | I16: 0.19
A17: Auxílio Lanche (Não aplicável - Cláusula 19ª da CCT) | G17: CCT | H17: Vr. Unitário | I17: 0
H18: Dias | I18: 0
H19: Desconto | I19: 0
A20: PLANO DE BENEFÍCIO SOCIAL FAMILIAR (Cláusula 29ª da CCT) | G20: CCT | H20: Valor mensal | I20: 24.1
A21: Adicional de Supervisor | H21: Porcentagem | I21: 0.3
A22: Base de cálculo da insalubridade: salário normativo proporcional conforme Parecer da PGE/RS nº 18200-20. Atentar-se para a observação 2 do Anexo I - Folha de Dados (CGL 12.1.2). | H22: Valor | I22: Não aplicável
A23: Hora Intervalar | H23: Horas por mês | I23: Não aplicável
A24: Sem fornecimento de materiais ou apenas fornecimento de EPIs ou uniformes, utilizar 10%. Com fornecimento de materiais ou equipamentos, utilizar 20%. (Decreto 52.768/2015, alterado pelo Decreto 53.424/2017) | H24: Porcentagem | I24: 0.1
A26: MONTANTE A
A27: I | B27: Remuneração - Grupo I | H27: % | I27: Valor Mensal/unidade de serviço (R$)
A28: 1 | B28: Salário | H28: =I28/$I$37 -> 0.76923077 | I28: =IF(D6="12x36",I9,I9/H9*I5) -> 2161.09
A29: =A28+1 -> 2 | B29: Adicional Noturno 20% (Ver súmula 60 TST) | H29: =I29/$I$37 -> 0 | I29: 0
A30: =A29+1 -> 3 | B30: Adicional Periculosidade 30% (Ver súmulas 364, 132 e 191 do TST) | H30: =I30/$I$37 -> 0 | I30: =IF(I8=30%,I28*I8,0) -> 0
A31: =A30+1 -> 4 | B31: Adicional Insalubridade 10% (Ver súmula 228 e 139 TST) | H31: =I31/$I$37 -> 0 | I31: =IF(I7=10%,I22*I7,0) -> 0
A32: =A31+1 -> 5 | B32: Adicional Insalubridade 20% (Ver súmula 228 e 139 TST) | H32: =I32/$I$37 -> 0 | I32: =IF(I7=20%,I22*I7,0) -> 0
A33: =A32+1 -> 6 | B33: Adicional Insalubridade 40% (Ver súmula 228 e 139 TST) | H33: =I33/$I$37 -> 0 | I33: =IF(I7=40%,I22*I7,0) -> 0
A34: =A33+1 -> 7 | B34: Adicional de Supervisor | H34: =I34/$I$37 -> 0.23076923 | I34: =IF(I21="Não aplicável",0,I28*I21) -> 648.327
A35: =A34+1 -> 8 | B35: DSR - Descanso Semanal Remunerado | H35: =I35/$I$37 -> 0 | I35: 0
A36: =A35+1 -> 9 | B36: =IF(D6="12x36","Para postos 12x36 os feriados são considerados compensados, conforme parágrafo único, Art. 59-A da CLT","Outros") -> Outros | H36: =I36/$I$37 -> 0 | I36: 0
A37: Total de Remuneração | H37: =SUM(H28:H36) -> 1 | I37: =SUM(I28:I36) -> 2809.417
A39: II | B39: Encargos Sociais - Grupo II: Obrigações Sociais | H39: % | I39: Valor Mensal/unidade de serviço (R$)
A40: 1 | B40: INSS (art. 22, inc. I, Lei nº 8.212/91) | H40: ='Aux Serv Adm 40h PoA'!H40 -> 0.2 | I40: =$I$37*H40 -> 561.8834
A41: 2 | B41: SESI ou SESC (art. 30, Lei nº 8.036/90) | H41: 0.015 | I41: =$I$37*H41 -> 42.141255
A42: 3 | B42: SENAI ou SENAC (Decreto-Lei nº 2.318/86) | H42: 0.01 | I42: =$I$37*H42 -> 28.09417
A43: 4 | B43: INCRA (art. 15I, Lei Complementar nº 011/71) | H43: 0.002 | I43: =$I$37*H43 -> 5.618834
...

Sheet Aux Serv Adm 40h PoA
A1: PLANILHA DE CUSTOS E FORMAÇÃO DE PREÇOS DE SERVIÇOS CONTINUADOS COM DEDICAÇÃO EXCLUSIVA DE MÃO DE OBRA (ANEXO III - DECRETOS 52.768 de 15.12.2015)
A2: PROCESSO: | E2: REGIME DE TRIBUTAÇÃO: LUCRO REAL
A3: LICITAÇÃO/EDITAL | E3: ABERTURA:
A5: Cargo/Função: | D5: Auxiliar de Serviços Administrativos | G5: =IF(D6="12x36","Regime de trabalho:","Quantidade de HORAS/MÊS") -> Quantidade de HORAS/MÊS | I5: =IF(D6="12x36",D6,5*D6) -> 200
A6: =IF(D6="12x36","Regime de trabalho:","Regime de trabalho (horas semanais):") -> Regime de trabalho (horas semanais): | D6: 40
A7: Origem do salário e/ou CCT: | G7: INSALUBRIDADE (10%, 20%, 40%) | I7: Não aplicável
A8: Cidade: | D8: Porto Alegre | G8: PERICULOSIDADE (30%) | I8: Não aplicável
A9: Salário Normativo | G9: =IF(D6="12x36","Vlr. Do salário e Regime de trabalho","Vlr. Do salário e nº de horas correspondentes") -> Vlr. Do salário e nº de horas correspondentes | H9: 220 | I9: 2161.09
A10: ISS | G10: =D8 -> Porto Alegre | H10: Alíquota | I10: 0.05
A11: Tarifa Transporte | G11: CCT | H11: Vr. Unitário | I11: 4.8
H12: Dias | I12: 22
H13: Desconto | I13: 0.06
A14: Auxílio Alimentação (Cláusula 18ª da CCT) | G14: CCT | H14: Vr. Unitário | I14: 25.42
H15: Dias | I15: 22
H16: Desconto | I16: 0.19
A17: Auxílio Lanche (Não aplicável - Cláusula 19ª da CCT) | G17: CCT | H17: Vr. Unitário | I17: 0
H18: Dias | I18: 0
H19: Desconto | I19: 0
A20: PLANO DE BENEFÍCIO SOCIAL FAMILIAR (Cláusula 29ª da CCT) | G20: CCT | H20: Valor mensal | I20: 24.1
A21: Adicional de Supervisor | H21: Porcentagem | I21: Não aplicável
A22: Base de cálculo da insalubridade: salário normativo proporcional conforme Parecer da PGE/RS nº 18200-20. Atentar-se para a observação 2 do Anexo I - Folha de Dados (CGL 12.1.2). | H22: Valor | I22: Não aplicável
A23: Hora Intervalar | H23: Horas por mês | I23: Não aplicável
A24: Sem fornecimento de materiais ou apenas fornecimento de EPIs ou uniformes, utilizar 10%. Com fornecimento de materiais ou equipamentos, utilizar 20%. (Decreto 52.768/2015, alterado pelo Decreto 53.424/2017) | H24: Porcentagem | I24: 0.1
A26: MONTANTE A
A27: I | B27: Remuneração - Grupo I | H27: % | I27: Valor Mensal/unidade de serviço (R$)
A28: 1 | B28: Salário | H28: =I28/$I$37 -> 1 | I28: =IF(D6="12x36",I9,I9/H9*I5) -> 1964.6273
A29: =A28+1 -> 2 | B29: Adicional Noturno 20% (Ver súmula 60 TST) | H29: =I29/$I$37 -> 0 | I29: 0
A30: =A29+1 -> 3 | B30: Adicional Periculosidade 30% (Ver súmulas 364, 132 e 191 do TST) | H30: =I30/$I$37 -> 0 | I30: =IF(I8=30%,I28*I8,0) -> 0
A31: =A30+1 -> 4 | B31: Adicional Insalubridade 10% (Ver súmula 228 e 139 TST) | H31: =I31/$I$37 -> 0 | I31: =IF(I7=10%,I22*I7,0) -> 0
A32: =A31+1 -> 5 | B32: Adicional Insalubridade 20% (Ver súmula 228 e 139 TST) | H32: =I32/$I$37 -> 0 | I32: =IF(I7=20%,I22*I7,0) -> 0
A33: =A32+1 -> 6 | B33: Adicional Insalubridade 40% (Ver súmula 228 e 139 TST) | H33: =I33/$I$37 -> 0 | I33: =IF(I7=40%,I22*I7,0) -> 0
A34: =A33+1 -> 7 | B34: Adicional de Supervisor | H34: =I34/$I$37 -> 0 | I34: =IF(I21="Não aplicável",0,I28*I21) -> 0
A35: =A34+1 -> 8 | B35: DSR - Descanso Semanal Remunerado | H35: =I35/$I$37 -> 0 | I35: 0
A36: =A35+1 -> 9 | B36: =IF(D6="12x36","Para postos 12x36 os feriados são considerados compensados, conforme parágrafo único, Art. 59-A da CLT","Outros") -> Outros | H36: =I36/$I$37 -> 0 | I36: 0
A37: Total de Remuneração | H37: =SUM(H28:H36) -> 1 | I37: =SUM(I28:I36) -> 1964.6273
A39: II | B39: Encargos Sociais - Grupo II: Obrigações Sociais | H39: % | I39: Valor Mensal/unidade de serviço (R$)
A40: 1 | B40: INSS (art. 22, inc. I, Lei nº 8.212/91) | H40: 0.2 | I40: =$I$37*H40 -> 392.92545
A41: 2 | B41: SESI ou SESC (art. 30, Lei nº 8.036/90) | H41: 0.015 | I41: =$I$37*H41 -> 29.469409
A42: 3 | B42: SENAI ou SENAC (Decreto-Lei nº 2.318/86) | H42: 0.01 | I42: =$I$37*H42 -> 19.646273
A43: 4 | B43: INCRA (art. 15I, Lei Complementar nº 011/71) | H43: 0.002 | I43: =$I$37*H43 -> 3.9292545
...

Sheet Aux Serv Adm 40h Canoas
A1: PLANILHA DE CUSTOS E FORMAÇÃO DE PREÇOS DE SERVIÇOS CONTINUADOS COM DEDICAÇÃO EXCLUSIVA DE MÃO DE OBRA (ANEXO III - DECRETOS 52.768 de 15.12.2015)
A2: PROCESSO: | E2: REGIME DE TRIBUTAÇÃO: LUCRO REAL
A3: LICITAÇÃO/EDITAL | E3: ABERTURA:
A5: Cargo/Função: | D5: Auxiliar de Serviços Administrativos | G5: =IF(D6="12x36","Regime de trabalho:","Quantidade de HORAS/MÊS") -> Quantidade de HORAS/MÊS | I5: =IF(D6="12x36",D6,5*D6) -> 200
A6: =IF(D6="12x36","Regime de trabalho:","Regime de trabalho (horas semanais):") -> Regime de trabalho (horas semanais): | D6: 40
A7: Origem do salário e/ou CCT: | G7: INSALUBRIDADE (10%, 20%, 40%) | I7: Não aplicável
A8: Cidade: | D8: Canoas | G8: PERICULOSIDADE (30%) | I8: Não aplicável
A9: Salário Normativo | G9: =IF(D6="12x36","Vlr. Do salário e Regime de trabalho","Vlr. Do salário e nº de horas correspondentes") -> Vlr. Do salário e nº de horas correspondentes | H9: 220 | I9: 2161.09
A10: ISS | G10: =D8 -> Canoas | H10: Alíquota | I10: 0.03
A11: Tarifa Transporte | G11: CCT | H11: Vr. Unitário | I11: 4.8
H12: Dias | I12: 22
H13: Desconto | I13: 0.06
A14: Auxílio Alimentação (Cláusula 18ª da CCT) | G14: CCT | H14: Vr. Unitário | I14: 25.42
H15: Dias | I15: 22
H16: Desconto | I16: 0.19
A17: Auxílio Lanche (Não aplicável - Cláusula 19ª da CCT) | G17: CCT | H17: Vr. Unitário | I17: 0
H18: Dias | I18: 0
H19: Desconto | I19: 0
A20: PLANO DE BENEFÍCIO SOCIAL FAMILIAR (Cláusula 29ª da CCT) | G20: CCT | H20: Valor mensal | I20: 24.1
A21: Adicional de Supervisor | H21: Porcentagem | I21: Não aplicável
A22: Base de cálculo da insalubridade: salário normativo proporcional conforme Parecer da PGE/RS nº 18200-20. Atentar-se para a observação 2 do Anexo I - Folha de Dados (CGL 12.1.2). | H22: Valor | I22: Não aplicável
A23: Hora Intervalar | H23: Horas por mês | I23: Não aplicável
A24: Sem fornecimento de materiais ou apenas fornecimento de EPIs ou uniformes, utilizar 10%. Com fornecimento de materiais ou equipamentos, utilizar 20%. (Decreto 52.768/2015, alterado pelo Decreto 53.424/2017) | H24: Porcentagem | I24: 0.1
A26: MONTANTE A
A27: I | B27: Remuneração - Grupo I | H27: % | I27: Valor Mensal/unidade de serviço (R$)
A28: 1 | B28: Salário | H28: =I28/$I$37 -> 1 | I28: =IF(D6="12x36",I9,I9/H9*I5) -> 1964.6273
A29: =A28+1 -> 2 | B29: Adicional Noturno 20% (Ver súmula 60 TST) | H29: =I29/$I$37 -> 0 | I29: 0
A30: =A29+1 -> 3 | B30: Adicional Periculosidade 30% (Ver súmulas 364, 132 e 191 do TST) | H30: =I30/$I$37 -> 0 | I30: =IF(I8=30%,I28*I8,0) -> 0
A31: =A30+1 -> 4 | B31: Adicional Insalubridade 10% (Ver súmula 228 e 139 TST) | H31: =I31/$I$37 -> 0 | I31: =IF(I7=10%,I22*I7,0) -> 0
A32: =A31+1 -> 5 | B32: Adicional Insalubridade 20% (Ver súmula 228 e 139 TST) | H32: =I32/$I$37 -> 0 | I32: =IF(I7=20%,I22*I7,0) -> 0
A33: =A32+1 -> 6 | B33: Adicional Insalubridade 40% (Ver súmula 228 e 139 TST) | H33: =I33/$I$37 -> 0 | I33: =IF(I7=40%,I22*I7,0) -> 0
A34: =A33+1 -> 7 | B34: Adicional de Supervisor | H34: =I34/$I$37 -> 0 | I34: =IF(I21="Não aplicável",0,I28*I21) -> 0
A35: =A34+1 -> 8 | B35: DSR - Descanso Semanal Remunerado | H35: =I35/$I$37 -> 0 | I35: 0
A36: =A35+1 -> 9 | B36: =IF(D6="12x36","Para postos 12x36 os feriados são considerados compensados, conforme parágrafo único, Art. 59-A da CLT","Outros") -> Outros | H36: =I36/$I$37 -> 0 | I36: 0
A37: Total de Remuneração | H37: =SUM(H28:H36) -> 1 | I37: =SUM(I28:I36) -> 1964.6273
A39: II | B39: Encargos Sociais - Grupo II: Obrigações Sociais | H39: % | I39: Valor Mensal/unidade de serviço (R$)
A40: 1 | B40: INSS (art. 22, inc. I, Lei nº 8.212/91) | H40: ='Aux Serv Adm 40h PoA'!H40 -> 0.2 | I40: =$I$37*H40 -> 392.92545
A41: 2 | B41: SESI ou SESC (art. 30, Lei nº 8.036/90) | H41: 0.015 | I41: =$I$37*H41 -> 29.469409
A42: 3 | B42: SENAI ou SENAC (Decreto-Lei nº 2.318/86) | H42: 0.01 | I42: =$I$37*H42 -> 19.646273
A43: 4 | B43: INCRA (art. 15I, Lei Complementar nº 011/71) | H43: 0.002 | I43: =$I$37*H43 -> 3.9292545
...

Sheet Telefonista 30h
A1: PLANILHA DE CUSTOS E FORMAÇÃO DE PREÇOS DE SERVIÇOS CONTINUADOS COM DEDICAÇÃO EXCLUSIVA DE MÃO DE OBRA (ANEXO III - DECRETOS 52.768 de 15.12.2015)
A2: PROCESSO: | E2: REGIME DE TRIBUTAÇÃO: LUCRO REAL
A3: LICITAÇÃO/EDITAL | E3: ABERTURA:
A5: Cargo/Função: | D5: Telefonista | G5: =IF(D6="12x36","Regime de trabalho:","Quantidade de HORAS/MÊS") -> Quantidade de HORAS/MÊS | I5: =IF(D6="12x36",D6,5*D6) -> 150
A6: =IF(D6="12x36","Regime de trabalho:","Regime de trabalho (horas semanais):") -> Regime de trabalho (horas semanais): | D6: 30
A7: Origem do salário e/ou CCT: | G7: INSALUBRIDADE (10%, 20%, 40%) | I7: Não aplicável
A8: Cidade: | D8: Porto Alegre | G8: PERICULOSIDADE (30%) | I8: Não aplicável
A9: Salário Normativo | G9: =IF(D6="12x36","Vlr. Do salário e Regime de trabalho","Vlr. Do salário e nº de horas correspondentes") -> Vlr. Do salário e nº de horas correspondentes | H9: 180 | I9: 1869.5
A10: ISS | G10: =D8 -> Porto Alegre | H10: Alíquota | I10: 0.05
A11: Tarifa Transporte | G11: CCT | H11: Vr. Unitário | I11: 4.8
H12: Dias | I12: 22
H13: Desconto | I13: 0.06
A14: Auxílio Alimentação (Cláusula 18ª da CCT) | G14: CCT | H14: Vr. Unitário | I14: 0
H15: Dias | I15: 0
H16: Desconto | I16: 0
A17: Auxílio Lanche (Cláusula 19ª da CCT) | G17: CCT | H17: Vr. Unitário | I17: 12.71
H18: Dias | I18: 22
H19: Desconto | I19: 0.19
A20: PLANO DE BENEFÍCIO SOCIAL FAMILIAR (Cláusula 29ª da CCT) | G20: CCT | H20: Valor mensal | I20: 19.42
A21: Adicional de Supervisor | H21: Porcentagem | I21: Não aplicável
A22: Base de cálculo da insalubridade: salário normativo proporcional conforme Parecer da PGE/RS nº 18200-20. Atentar-se para a observação 2 do Anexo I - Folha de Dados (CGL 12.1.2). | H22: Valor | I22: Não aplicável
A23: Hora Intervalar | H23: Horas por mês | I23: Não aplicável
A24: Sem fornecimento de materiais ou apenas fornecimento de EPIs ou uniformes, utilizar 10%. Com fornecimento de materiais ou equipamentos, utilizar 20%. (Decreto 52.768/2015, alterado pelo Decreto 53.424/2017) | H24: Porcentagem | I24: 0.1
A26: MONTANTE A
A27: I | B27: Remuneração - Grupo I | H27: % | I27: Valor Mensal/unidade de serviço (R$)
A28: 1 | B28: Salário | H28: =I28/$I$37 -> 1 | I28: =IF(D6="12x36",I9,I9/H9*I5) -> 1557.9167
A29: =A28+1 -> 2 | B29: Adicional Noturno 20% (Ver súmula 60 TST) | H29: =I29/$I$37 -> 0 | I29: 0
A30: =A29+1 -> 3 | B30: Adicional Periculosidade 30% (Ver súmulas 364, 132 e 191 do TST) | H30: =I30/$I$37 -> 0 | I30: =IF(I8=30%,I28*I8,0) -> 0
A31: =A30+1 -> 4 | B31: Adicional Insalubridade 10% (Ver súmula 228 e 139 TST) | H31: =I31/$I$37 -> 0 | I31: =IF(I7=10%,I22*I7,0) -> 0
A32: =A31+1 -> 5 | B32: Adicional Insalubridade 20% (Ver súmula 228 e 139 TST) | H32: =I32/$I$37 -> 0 | I32: =IF(I7=20%,I22*I7,0) -> 0
A33: =A32+1 -> 6 | B33: Adicional Insalubridade 40% (Ver súmula 228 e 139 TST) | H33: =I33/$I$37 -> 0 | I33: =IF(I7=40%,I22*I7,0) -> 0
A34: =A33+1 -> 7 | B34: Adicional de Supervisor | H34: =I34/$I$37 -> 0 | I34: =IF(I21="Não aplicável",0,I28*I21) -> 0
A35: =A34+1 -> 8 | B35: DSR - Descanso Semanal Remunerado | H35: =I35/$I$37 -> 0 | I35: 0
A36: =A35+1 -> 9 | B36: =IF(D6="12x36","Para postos 12x36 os feriados são considerados compensados, conforme parágrafo único, Art. 59-A da CLT","Outros") -> Outros | H36: =I36/$I$37 -> 0 | I36: 0
A37: Total de Remuneração | H37: =SUM(H28:H36) -> 1 | I37: =SUM(I28:I36) -> 1557.9167
A39: II | B39: Encargos Sociais - Grupo II: Obrigações Sociais | H39: % | I39: Valor Mensal/unidade de serviço (R$)
A40: 1 | B40: INSS (art. 22, inc. I, Lei nº 8.212/91) | H40: ='Aux Serv Adm 40h Canoas'!H40 -> 0.2 | I40: =$I$37*H40 -> 311.58333
A41: 2 | B41: SESI ou SESC (art. 30, Lei nº 8.036/90) | H41: 0.015 | I41: =$I$37*H41 -> 23.36875
A42: 3 | B42: SENAI ou SENAC (Decreto-Lei nº 2.318/86) | H42: 0.01 | I42: =$I$37*H42 -> 15.579167
A43: 4 | B43: INCRA (art. 15I, Lei Complementar nº 011/71) | H43: 0.002 | I43: =$I$37*H43 -> 3.1158333
...

Sheet Resumo
A3: Função | B3: Cidade | C3: Carga Horária Diária | D3: Dias da semana | E3: Valor Unitário | F3: Nº de Postos | G3: Valor Mensal | I3: Descrição | J3: Horas Semanais | K3: Remuneração | L3: Montante A | M3: Montante B | N3: Montante C | O3: Total A+B+C | P3: Postos | Q3: Montante A | R3: Montante B | S3: Montante C | T3: Total A+B+C
A4: Telefonista | B4: Porto Alegre | C4: 6h | D4: seg-sex | E4: ='Telefonista 30h'!I169 -> 3685.4427 | F4: 2 | G4: =F4*E4 -> 7370.8853 | I4: =A4 -> Telefonista | J4: 30 | K4: ='Telefonista 30h'!I37 -> 1557.9167 | L4: ='Telefonista 30h'!I153 -> 3072.9971 | M4: ='Telefonista 30h'!I159 -> 87.27 | N4: ='Telefonista 30h'!I163 -> 525.17558 | O4: =SUM(L4:N4) -> 3685.4427 | P4: =F4 -> 2 | Q4: =+L4*P4 -> 6145.9942 | R4: =+M4*P4 -> 174.54 | S4: =+N4*P4 -> 1050.3512 | T4: =SUM(Q4:S4) -> 7370.8853
A5: Auxiliar de Serviços Administrativos | B5: Canoas | C5: 8h | D5: seg-sex | E5: ='Aux Serv Adm 40h Canoas'!I169 -> 4544.1179 | F5: 5 | G5: =F5*E5 -> 22720.59 | I5: Auxiliar de Serviços Administrativos Canoas | J5: 40 | K5: ='Aux Serv Adm 40h Canoas'!I37 -> 1964.6273 | L5: ='Aux Serv Adm 40h Canoas'!I153 -> 3987.4635 | M5: ='Aux Serv Adm 40h Canoas'!I159 -> 0 | N5: ='Aux Serv Adm 40h Canoas'!I163 -> 556.65444 | O5: =SUM(L5:N5) -> 4544.1179 | P5: 5 | Q5: =+L5*P5 -> 19937.317 | R5: =+M5*P5 -> 0 | S5: =+N5*P5 -> 2783.2722 | T5: =SUM(Q5:S5) -> 22720.59
A6: Auxiliar de Serviços Administrativos | B6: Porto Alegre | C6: 8h | D6: seg-sex | E6: ='Aux Serv Adm 40h PoA'!I169 -> 4650.1032 | F6: 75 | G6: =F6*E6 -> 348757.74 | I6: Auxiliar de Serviços Administrativos Poa | J6: 40 | K6: ='Aux Serv Adm 40h PoA'!I37 -> 1964.6273 | L6: ='Aux Serv Adm 40h PoA'!I153 -> 3987.4635 | M6: ='Aux Serv Adm 40h PoA'!I159 -> 0 | N6: ='Aux Serv Adm 40h PoA'!I163 -> 662.6397 | O6: =SUM(L6:N6) -> 4650.1032 | P6: 75 | Q6: =+L6*P6 -> 299059.76 | R6: =+M6*P6 -> 0 | S6: =+N6*P6 -> 49697.978 | T6: =SUM(Q6:S6) -> 348757.74
A7: Supervisor | B7: Porto Alegre | C7: 8h48min | D7: seg-sex | E7: ='Supervisor 44h'!I169 -> 6670.9529 | F7: 1 | G7: =F7*E7 -> 6670.9529 | I7: =A7 -> Supervisor | J7: 44 | K7: ='Supervisor 44h'!I37 -> 2960.6933 | L7: ='Supervisor 44h'!I153 -> 5720.3421 | M7: ='Supervisor 44h'!I159 -> 0 | N7: ='Supervisor 44h'!I163 -> 950.61079 | O7: =SUM(L7:N7) -> 6670.9529 | P7: =F7 -> 1 | Q7: =+L7*P7 -> 5720.3421 | R7: =+M7*P7 -> 0 | S7: =+N7*P7 -> 950.61079 | T7: =SUM(Q7:S7) -> 6670.9529
A8: Auxiliar de Supervisor – Líder | B8: Canoas | C8: 8h48min | D8: seg-sex | E8: ='Aux Sup 44h Canoas '!I169 -> 6216.9494 | F8: 1 | G8: =F8*E8 -> 6216.9494 | I8: Auxiliar de Supervisor – Líder Canoas | J8: 44 | K8: ='Aux Sup 44h Canoas '!I37 -> 2809.417 | L8: ='Aux Sup 44h Canoas '!I153 -> 5455.3731 | M8: ='Aux Sup 44h Canoas '!I159 -> 0 | N8: ='Aux Sup 44h Canoas '!I163 -> 761.5763 | O8: =SUM(L8:N8) -> 6216.9494 | P8: =F8 -> 1 | Q8: =+L8*P8 -> 5455.3731 | R8: =+M8*P8 -> 0 | S8: =+N8*P8 -> 761.5763 | T8: =SUM(Q8:S8) -> 6216.9494
A9: Auxiliar de Supervisor – Líder | B9: Porto Alegre | C9: 8h48min | D9: seg-sex | E9: ='Aux. de Superv. 44h'!I169 -> 6361.9511 | F9: 13 | G9: =F9*E9 -> 82705.364 | I9: Auxiliar de Supervisor – Líder Poa | J9: 44 | K9: ='Aux. de Superv. 44h'!I37 -> 2809.417 | L9: ='Aux. de Superv. 44h'!I153 -> 5455.3731 | M9: ='Aux. de Superv. 44h'!I159 -> 0 | N9: ='Aux. de Superv. 44h'!I163 -> 906.57803 | O9: =SUM(L9:N9) -> 6361.9511 | P9: =F9 -> 13 | Q9: =+L9*P9 -> 70919.85 | R9: =+M9*P9 -> 0 | S9: =+N9*P9 -> 11785.514 | T9: =SUM(Q9:S9) -> 82705.364
A10: Técnico em manutenção de software e hardware | B10: Porto Alegre | C10: 8h48min | D10: seg-sex | E10: ='Tec em Manut e de Rede 44h'!I169 -> 5147.3475 | F10: 2 | G10: =F10*E10 -> 10294.695 | I10: =A10 -> Técnico em manutenção de software e hardware | J10: 44 | K10: ='Tec em Manut e de Rede 44h'!I37 -> 2248.03 | L10: ='Tec em Manut e de Rede 44h'!I153 -> 4568.2709 | M10: ='Tec em Manut e de Rede 44h'!I159 -> 0 | N10: ='Tec em Manut e de Rede 44h'!I163 -> 579.0766 | O10: =SUM(L10:N10) -> 5147.3475 | P10: =F10 -> 2 | Q10: =+L10*P10 -> 9136.5419 | R10: =+M10*P10 -> 0 | S10: =+N10*P10 -> 1158.1532 | T10: =SUM(Q10:S10) -> 10294.695
A11: Analista de Banco de Dados | B11: Porto Alegre | C11: 8h48min | D11: seg-sex | E11: ='An. Banco Dados e de Sist. 44h'!I169 -> 9572.2411 | F11: 1 | G11: =F11*E11 -> 9572.2411 | I11: =A11 -> Analista de Banco de Dados | J11: 44 | K11: ='An. Banco Dados e de Sist. 44h'!I37 -> 4533.66 | L11: ='An. Banco Dados e de Sist. 44h'!I153 -> 8495.364 | M11: ='An. Banco Dados e de Sist. 44h'!I159 -> 0 | N11: ='An. Banco Dados e de Sist. 44h'!I163 -> 1076.8771 | O11: =SUM(L11:N11) -> 9572.2411 | P11: =F11 -> 1 | Q11: =+L11*P11 -> 8495.364 | R11: =+M11*P11 -> 0 | S11: =+N11*P11 -> 1076.8771 | T11: =SUM(Q11:S11) -> 9572.2411
A12: Analista de Desenvolvimento de Sistemas | B12: Porto Alegre | C12: 8h48min | D12: seg-sex | E12: ='An. Banco Dados e de Sist. 44h'!I169 -> 9572.2411 | F12: 2 | G12: =F12*E12 -> 19144.482 | I12: =A12 -> Analista de Desenvolvimento de Sistemas | J12: 44 | K12: ='An. Banco Dados e de Sist. 44h'!I37 -> 4533.66 | L12: ='An. Banco Dados e de Sist. 44h'!I153 -> 8495.364 | M12: ='An. Banco Dados e de Sist. 44h'!I159 -> 0 | N12: ='An. Banco Dados e de Sist. 44h'!I163 -> 1076.8771 | O12: =SUM(L12:N12) -> 9572.2411 | P12: =F12 -> 2 | Q12: =+L12*P12 -> 16990.728 | R12: =+M12*P12 -> 0 | S12: =+N12*P12 -> 2153.7543 | T12: =SUM(Q12:S12) -> 19144.482
A13: Técnico em Rede de Computadores | B13: Porto Alegre | C13: 8h48min | D13: seg-sex | E13: ='Tec em Manut e de Rede 44h'!I169 -> 5147.3475 | F13: 1 | G13: =F13*E13 -> 5147.3475 | I13: =A13 -> Técnico em Rede de Computadores | J13: 44 | K13: ='Tec em Manut e de Rede 44h'!I37 -> 2248.03 | L13: ='Tec em Manut e de Rede 44h'!I153 -> 4568.2709 | M13: ='Tec em Manut e de Rede 44h'!I159 -> 0 | N13: ='Tec em Manut e de Rede 44h'!I163 -> 579.0766 | O13: =SUM(L13:N13) -> 5147.3475 | P13: =F13 -> 1 | Q13: =+L13*P13 -> 4568.2709 | R13: =+M13*P13 -> 0 | S13: =+N13*P13 -> 579.0766 | T13: =SUM(Q13:S13) -> 5147.3475
A14: Programador | B14: Porto Alegre | C14: 8h48min | D14: seg-sex | E14: ='Programador 44h'!I169 -> 5859.6693 | F14: 1 | G14: =F14*E14 -> 5859.6693 | I14: =A14 -> Programador | J14: 44 | K14: ='Programador 44h'!I37 -> 2621.76 | L14: ='Programador 44h'!I153 -> 5200.4565 | M14: ='Programador 44h'!I159 -> 0 | N14: ='Programador 44h'!I163 -> 659.2128 | O14: =SUM(L14:N14) -> 5859.6693 | P14: =F14 -> 1 | Q14: =+L14*P14 -> 5200.4565 | R14: =+M14*P14 -> 0 | S14: =+N14*P14 -> 659.2128 | T14: =SUM(Q14:S14) -> 5859.6693
A15: Motorista | B15: Porto Alegre | C15: 8h48min | D15: seg-sex | E15: ='Motorista 44h'!I170 -> 5706.4383 | F15: 3 | G15: =F15*E15 -> 17119.315 | I15: =A15 -> Motorista | J15: 44 | K15: ='Motorista 44h'!I37 -> 2325.27 | L15: ='Motorista 44h'!I154 -> 4893.2708 | M15: ='Motorista 44h'!I160 -> 0 | N15: ='Motorista 44h'!I164 -> 813.16745 | O15: =SUM(L15:N15) -> 5706.4383 | P15: =F15 -> 3 | Q15: =+L15*P15 -> 14679.812 | R15: =+M15*P15 -> 0 | S15: =+N15*P15 -> 2439.5024 | T15: =SUM(Q15:S15) -> 17119.315
A16: TOTAL MENSAL | F16: =SUM(F4:F15) -> 107 | G16: =SUM(G4:G15) -> 541580.23 | I16: TOTAL | K16: =SUM(K4:K15) -> 32577.109 | L16: =SUM(L4:L15) -> 63900.01 | M16: =SUM(M4:M15) -> 87.27 | N16: =SUM(N4:N15) -> 9147.5226 | O16: =SUM(O4:O15) -> 73134.802 | P16: =SUM(P4:P15) -> 107 | Q16: =SUM(Q4:Q15) -> 466309.81 | R16: =SUM(R4:R15) -> 174.54 | ... T16: =SUM(T4:T15) -> 541580.23
