Workbook
Name ___sub1: #REF!
Name ___sub2: #REF!
Name ___sub3: #REF!
Name _sub1: #REF!
Name _sub2: #REF!
Name _sub3: #REF!
Name a: #REF!
Name AREA: #REF!
Name B: #REF!
Name BDI: #REF!
Name DOLAR: [1]INSUMOS!$G$8
Name ersdcefgbrnghrbgbrgfbgfwbvbfgvwfv: #REF!
Name Excel_BuiltIn_Print_Area_2: #REF!
Name Excel_BuiltIn_Print_Area_2_1: #REF!
Name Excel_BuiltIn_Print_Area_2_1_1: #REF!
Name Excel_BuiltIn_Print_Area_2_1_1_1: #REF!
Name Excel_BuiltIn_Print_Area_4: #REF!
Name leosde: #REF!
Name NCOMPOSICOES: 7
Name NCOTACOES: 15
Name obra: #REF!
Name obra1: #REF!
Name obra2: #REF!
Name obra3: #REF!
Name obra4: #REF!
Name obra5: #REF!
Name P.1: #REF!
Name P.10: #REF!
Name P.11: #REF!
Name P.12: #REF!
Name P.13: #REF!
Name P.14: #REF!
Name P.15: #REF!
Name P.2: #REF!
Name P.3: #REF!
Name P.4: #REF!
Name P.5: #REF!
Name P.6: #REF!
Name P.7: #REF!
Name P.8: #REF!
Name P.9: #REF!
Name Pedreiro_de_acabamento: [1]INSUMOS!$B$11
Name PP1.1: #REF!
Name PP1.10: #REF!
Name PP1.11: #REF!
Name PP1.12: #REF!
Name PP1.13: #REF!
Name PP1.14: #REF!
Name PP1.15: #REF!
Name PP1.2: #REF!
Name PP1.3: #REF!
Name PP1.4: #REF!
Name PP1.5: #REF!
Name PP1.6: #REF!
Name PP1.7: #REF!
Name PP1.8: #REF!
Name PP1.9: #REF!
Name T.1: #REF!
Name T.10: #REF!
Name T.11: #REF!

Sheet Memória de Cálculo
A1: PREFEITURA MUNICIPAL DE SÃO FRANCISCO DO GLÓRIA
A2: MEMÓRIA DE CÁLCULO DE QUANTITATIVOS
A3: PREFEITURA MUNICIPAL DE SÃO FRANCISCO DO GLÓRIA
A4: OBRA: PINTURA DE SINALIZAÇÃO VIÁRIA EM VIAS URBANAS | E4: FOLHA Nº: | F4: 01/01.
A5: LOCAL: DIVERSOS LOGRADOUROS - SÃO FRANCISCO DO GLÓRIA/MG | E5: DATA: | F5: =TODAY() -> 45531
A7: ITEM | B7: CÓDIGO | C7: DESCRIÇÃO | D7: UNIDADE | E7: QUANTIDADE | F7: FÓRMULA DO CÁLCULO
A8: ='Planilha Orcamentária'!A11 -> 1.0 | C8: ='Planilha Orcamentária'!C11 -> PINTURA DE SINALIZAÇÃO VIÁRIA
A9: ='Planilha Orcamentária'!A12 -> 1.1 | B9: ='Planilha Orcamentária'!B12 -> 102501 | C9: ='Planilha Orcamentária'!C12 -> PINTURA DE FAIXA DE PEDESTRE OU ZEBRADA COM TINTA ACRÍLICA, E = 30 CM, APLICAÇÃO MANUAL. AF_05/2021 | D9: m² | E9: =((11.6+9.3+6.3)*3) + ((6.6+6.4)*3) +((8.3+8+7+7.25+7.3)*3)+ ( (9.1+9.1)*3)+((8.1+8.9)*3) -> 339.75 | F9: Rua 1º de Fevereiro= (11,60+9,30+6,30)*3,00 + Rua Coronel Brandão= (6,60+6,40)*3,00 + Praça São Francisco de Assis: (8,30+8,00+7,00+7,25+7,30)*3,00+ Rua Nª Senhora Aparecida (enfrente ao colégio): (9,10+9,10)*3,00 + Rua Professor Jose Mesquita: (8,10+8,90)*3,00
A10: ='Planilha Orcamentária'!A13 -> 1.2 | B10: ='Planilha Orcamentária'!B13 -> 102500 | C10: ='Planilha Orcamentária'!C13 -> PINTURA DE DEMARCAÇÃO DE VAGA COM TINTA ACRÍLICA, E = 10 CM, APLICAÇÃO MANUAL. AF_05/2021 | D10: m | E10: =(18.7+15+13.8+29+10.4+3.1+19.7+17.2+5+13.7+12.7+10.1+7.4+19.5+3.5+8.1+16.5)+(2.2*35)+((3*17)+(4*8)) -> 383.4 | F10: Rua 1º de Fevereiro: (18,70+15,00+13,80+29+10,40+3,10+19,70+17,20+5+13,70++12,70+10,10+7,40+19,50+3,50+8,10+16,50)+(2,20*35) + Estacionamento Praça São Francisco de Assis: (3,00*17)+(4,00*8)
A11: ='Planilha Orcamentária'!A14 -> 1.3 | B11: ='Planilha Orcamentária'!B14 -> COMPOSIÇÃO- 001 | C11: ='Planilha Orcamentária'!C14 -> PINTURA DE FAIXA COM TINTA ACRÍLICA, E = 10 CM, APLICAÇÃO MANUAL | D11: m | E11: 5000 | F11: Faixa de eixo viário em diversos logradouros: 2500m * 2 = 5000m
A12: ='Planilha Orcamentária'!A15 -> 1.4 | B12: ='Planilha Orcamentária'!B15 -> 5219643 | C12: ='Planilha Orcamentária'!C15 -> Tachão refletivo em resina sintética - bidirecional - fornecimento e colocação | D12: uni | E12: 150 | F12: 150 unidades - Rua 1º de Fevereiro e Tenente Estevan
C17: Suane Evelyn dos Reis Soares
C18: Engenheira Civil
C19: CREA/MG Nº: 200.214/D
C23: Walace Ferreira Pedrosa
C24: Prefeito Municipal

Sheet Planilha Orcamentária
A1: PREFEITURA MUNICIPAL DE SÃO FRANCISCO DO GLÓRIA
A2: PLANILHA ORÇAMENTÁRIA DE CUSTOS
A3: PREFEITURA MUNICIPAL DE SÃO FRANCISCO DO GLÓRIA | E3: FOLHA Nº: | G3: 01/01.
A4: OBRA: PINTURA DE SINALIZAÇÃO VIÁRIA EM VIAS URBANAS | E4: DATA: | G4: =TODAY() -> 45531
A5: LOCAL: DIVERSOS LOGRADOUROS - SÃO FRANCISCO DO GLÓRIA/MG | E5: FORMA DE EXECUÇÃO:
A6: REGIÃO/MÊS DE REFERÊNCIA: TABELA SINAPI - MG - 06/2024 - NÃO DESONERADA E SICRO MG-04/2024 | E6: ( ) | F6: DIRETA | G6: ( X ) | H6: INDIRETA
A7: COMPOSIÇÃO/DEMONSTRATIVO DE BDI - EM ANEXO | E7: % ISS MUNICIPAL: | F7: 0.05 | G7: BDI: | H7: 0.2338
A9: ITEM | B9: CÓDIGO | C9: DESCRIÇÃO | D9: UNIDADE | E9: QUANTIDADE | F9: PREÇO UNITÁRIO S/ BDI | G9: PREÇO UNITÁRIO C/ BDI | H9: PREÇO TOTAL
A11: 1.0 | C11: PINTURA DE SINALIZAÇÃO VIÁRIA | G11: =ROUND(F11+(F11*$H$7),2) -> 0
A12: 1.1 | B12: 102501 | C12: PINTURA DE FAIXA DE PEDESTRE OU ZEBRADA COM TINTA ACRÍLICA, E = 30 CM, APLICAÇÃO MANUAL. AF_05/2021 | D12: ='Memória de Cálculo'!D9 -> m² | E12: ='Memória de Cálculo'!E9 -> 339.75 | F12: 24.96 | G12: =ROUND(F12+(F12*$H$7),2) -> 30.8 | H12: =ROUND((E12*G12),2) -> 10464.3
A13: 1.2 | B13: 102500 | C13: PINTURA DE DEMARCAÇÃO DE VAGA COM TINTA ACRÍLICA, E = 10 CM, APLICAÇÃO MANUAL. AF_05/2021 | D13: m | E13: ='Memória de Cálculo'!E10 -> 383.4 | F13: 4.42 | G13: =ROUND(F13+(F13*$H$7),2) -> 5.45 | H13: =ROUND((E13*G13),2) -> 2089.53
A14: 1.3 | B14: COMPOSIÇÃO- 001 | C14: PINTURA DE FAIXA COM TINTA ACRÍLICA, E = 10 CM, APLICAÇÃO MANUAL | D14: m | E14: ='Memória de Cálculo'!E11 -> 5000 | F14: =F13 -> 4.42 | G14: =ROUND(F14+(F14*$H$7),2) -> 5.45 | H14: =ROUND((E14*G14),2) -> 27250
A15: 1.4 | B15: 5219643 | C15: Tachão refletivo em resina sintética - bidirecional - fornecimento e colocação | D15: uni | E15: 150 | F15: 83.03 | G15: =ROUND(F15+(F15*$H$7),2) -> 102.44 | H15: =ROUND((E15*G15),2) -> 15366
A17: VALOR TOTAL DA OBRA | H17: =H12+H13+H14+H15 -> 55169.83
C23: ='Memória de Cálculo'!C17 -> Suane Evelyn dos Reis Soares
C24: ='Memória de Cálculo'!C18 -> Engenheira Civil
C25: ='Memória de Cálculo'!C19 -> CREA/MG Nº: 200.214/D
C30: ='Memória de Cálculo'!C23 -> Walace Ferreira Pedrosa
C31: ='Memória de Cálculo'!C24 -> Prefeito Municipal
A36: Observações: Os textos destacados na cor vermelho deverão ser preenchidos e revisados de acordo com a aplicabilidade de cada obra, no tocante à: região da Tabela de Referencial de Preços Unitários a ser adotada; percentuais de ISS e dos parâmetros adotados no demonstrativo/composição BDI a ser apresentado pelo(a) Responsável Técnico(a) do Município dos quais deverão estar em conformidade com os critérios vigentes e aplicáveis; quantitativos; preços vigentes da Tabela Referencial de Preços Unitários e demais informações pertinentes aos serviços para execução das obras.

Sheet Cronograma
A1: PREFEITURA MUNICIPAL DE SÃO FRANCISCO DO GLÓRIA
A2: CRONOGRAMA FÍSICO-FINANCEIRO
A3: ='Planilha Orcamentária'!A3 -> PREFEITURA MUNICIPAL DE SÃO FRANCISCO DO GLÓRIA | C3: VALOR : | D3: =D10 -> 55169.83 | E3: DATA: 27/08/2024 | F3: FOLHA Nº: 01/01
A4: ='Planilha Orcamentária'!A4 -> OBRA: PINTURA DE SINALIZAÇÃO VIÁRIA EM VIAS URBANAS | E4: PREVISÃO DE EXECUÇÃO: 01 MÊS
A5: ='Planilha Orcamentária'!A5 -> LOCAL: DIVERSOS LOGRADOUROS - SÃO FRANCISCO DO GLÓRIA/MG
A6: ITENS | B6: ETAPAS/DESCRIÇÃO | C6: FÍSICO/ FINANCEIRO | D6: TOTAL ETAPAS | E6: MÊS 1 | F6: ACUMULADO
A7: 1.0 | B7: ='Planilha Orcamentária'!C11 -> PINTURA DE SINALIZAÇÃO VIÁRIA | C7: Físico % | D7: =D8/$D$10 -> 1 | E7: 1 | F7: =E7 -> 1
C8: Financeiro | D8: ='Planilha Orcamentária'!H17 -> 55169.83 | E8: =D8 -> 55169.83 | F8: =E8 -> 55169.83
A9: TOTAL | C9: Físico % | D9: =D7 -> 1 | E9: =E10/D10 -> 1 | F9: =E9 -> 1
C10: Financeiro | D10: =D8 -> 55169.83 | E10: =E8 -> 55169.83 | F10: =E10 -> 55169.83
B13: ='Memória de Cálculo'!C17 -> Suane Evelyn dos Reis Soares
B14: ='Memória de Cálculo'!C18 -> Engenheira Civil
B15: ='Memória de Cálculo'!C19 -> CREA/MG Nº: 200.214/D
B18: ='Memória de Cálculo'!C23 -> Walace Ferreira Pedrosa
B19: ='Memória de Cálculo'!C24 -> Prefeito Municipal

Sheet COMPOSIÇÃO
A1: PREFEITURA MUNICIPAL DE SÃO FRANCISCO DO GLÓRIA
A2: ='[2]MM CALC'!A3 -> PREFEITURA MUNICIPAL DE SÃO FRANCISCO DO GLÓRIA | H2: DATA: 27/08/2024
A3: ='Planilha Orcamentária'!A4:D4 -> OBRA: PINTURA DE SINALIZAÇÃO VIÁRIA EM VIAS URBANAS
A4: ='Planilha Orcamentária'!A5:D5 -> LOCAL: DIVERSOS LOGRADOUROS - SÃO FRANCISCO DO GLÓRIA/MG
A5: ='Planilha Orcamentária'!A6:D6 -> REGIÃO/MÊS DE REFERÊNCIA: TABELA SINAPI - MG - 06/2024 - NÃO DESONERADA E SICRO MG-04/2024
A7: COMPOSIÇÃO DE CUSTO UNITÁRIO
A10: COMPOSIÇÃO | B10: 001 | C10: PINTURA DE FAIXA COM TINTA ACRÍLICA, E = 10 CM, APLICAÇÃO MANUAL | E10: m
A11: TIPO | B11: FONTE | C11: CÓDIGO | D11: DESCRIÇÃO | E11: UNIDADE | F11: ÍNDICE | G11: CUSTO UNITARIO | H11: CUSTO TOTAL
A12: MATERIAL | B12: SINAPI-I | C12: 7348 | D12: TINTA ACRILICA PREMIUM PARA PISO | E12: L | F12: 0.043 | G12: 19.62 | H12: 0.84
A13: MATERIAL | B13: SINAPI-I | C13: 12815 | D13: FITA CREPE ROLO DE 25 MM X 50 M | E13: un | F13: 0.04 | G13: 10.7 | H13: 0.42
A14: SERVIÇO | B14: SINAPI | C14: 88310 | D14: PINTOR COM ENCARGOS COMPLEMENTARES | E14: H | F14: 0.083 | G14: 29.63 | H14: 2.45
A15: SERVIÇO | B15: SINAPI | C15: 88316 | D15: SERVENTE COM ENCARGOS COMPLEMENTARES | E15: H | F15: 0.035 | G15: 20.41 | H15: 0.71
G16: TOTAL | H16: =SUM(H12:H15) -> 4.42
D18: Suane Evelyn dos Reis Soares
D19: Engenheira Civil
D20: CREA/MG Nº: 200.214/D
