Workbook
Name BuiltIn_Print_Area___0: #REF!
Name BuiltIn_Print_Titles___0: #REF!
Name DOCAS: #REF!
Name ESTACIONAMENTO: #REF!
Name PONTE: #REF!

Sheet Sintético
C1: PLANILHA DE ORÇAMENTO SINTÉTICO
A2: Cliente | C2: : MINISTÉRIO DA SAÚDE. | I2: BDI: | J2: 0.2619 | K2: =J2 -> 0.2619
A3: Título | C3: : CENTRO DE ATENÇÃO PSICOSSOCIAL. | I3: Leis Sociais: | J3: 0
A4: Tipo | C4: : I, II, AD, i | I4: Revisão : | J4: Rev.0 - 10/09/2014
A5: Base do Orçamento | C5: : SINAPI-DF (Julho 2014), FDE (Julho 2024), CPOS (Setembro), Composições e Cotações (DESONERADO) | I5: Área : | J5: 608,16 m2
A6: ITEM | B6: REFERÊNCIA | D6: SERVIÇO | E6: U N | F6: QUANT. | G6: VALORES UNITÁRIOS - R$ | I6: VALORES TOTAIS - R$
B7: FONTE | C7: ITEM | G7: MAT+MDO | H7: BDI | I7: TOTAL UNIT | J7: TOTAL GERAL
G8: =IF($C8="","",VLOOKUP($C8,#REF!,8,FALSE)) | H8: =IF($C8="","",VLOOKUP($C8,#REF!,10,FALSE))
A9: 1.0 | D9: Serviços Preliminares | G9: =IF($C9="","",VLOOKUP($C9,#REF!,8,FALSE)) | H9: =IF($C9="","",VLOOKUP($C9,#REF!,10,FALSE))
A10: 1.1 | D10: Movimento de Terra | H10: =IF($C10="","",VLOOKUP($C10,#REF!,10,FALSE))
A11: 1.1.1 | B11: SINAPI | C11: 98525 | D11: LIMPEZA MECANIZADA DE CAMADA VEGETAL, VEGETAÇÃO E PEQUENAS ÁRVORES (DIÂMETRO DE TRONCO MENOR QUE 0,20 M), COM TRATOR DE ESTEIRAS. AF_03/2024 | E11: m² | F11: 1260 | G11: 0.64 | H11: =G11*$J$2 -> 0.167616 | I11: =SUM(G11:H11) -> 0.807616 | J11: =I11*F11 -> 1017.5962
A12: 1.1.2 | B12: SEINFRA | C12: ED-29229 | D12: TRANSPORTE DE MATERIAL DE QUALQUER NATUREZA EM CAMINHÃO, DISTÂNCIA MENOR OU IGUAL A 1KM, DENTRO DO PERÍMETRO URBANO, EXCLUSIVE CARGA, INCLUSIVE DESCARGA | E12: m³ | F12: 378 | G12: 6.02 | H12: =G12*$J$2 -> 1.576638 | I12: =SUM(G12:H12) -> 7.596638 | J12: =I12*F12 -> 2871.5292
H13: Sub total | J13: =SUM(J11:J12) -> 3889.1253
A14: 1.2 | D14: Serviços Iniciais | G14: =IF($C14="","",VLOOKUP($C14,#REF!,8,FALSE)) | H14: =IF($C14="","",VLOOKUP($C14,#REF!,10,FALSE))
A15: 1.2.1 | B15: SINAPI | C15: 98459 | D15: TAPUME COM TELHA METÁLICA. AF_03/2024 | E15: m² | F15: 90 | G15: 75.7 | H15: =G15*$J$2 -> 19.82583 | I15: =SUM(G15:H15) -> 95.52583 | J15: =I15*F15 -> 8597.3247
A16: 1.2.2 | B16: SINAPI | C16: 103689 | D16: FORNECIMENTO E INSTALAÇÃO DE PLACA DE OBRA COM CHAPA GALVANIZADA E ESTRUTURA DE MADEIRA. AF_03/2022_PS | E16: m² | F16: 10 | G16: 304.61 | H16: =G16*$J$2 -> 79.777359 | I16: =SUM(G16:H16) -> 384.38736 | J16: =I16*F16 -> 3843.8736
A17: 1.2.3 | B17: SEINFRA | C17: ED-50135 | D17: BARRACÃO DE OBRA, EM CHAPA DE COMPENSADO RESINADO, INCLUSIVE INSTALAÇÕES SANITÁRIAS E MOBILIÁRIO - PADRÃO DER-MG | E17: m² | F17: 45 | G17: 549.9 | H17: =G17*$J$2 -> 144.01881 | I17: =SUM(G17:H17) -> 693.91881 | J17: =I17*F17 -> 31226.346
A18: 1.2.4 | B18: SINAPI | C18: 105009 | D18: LOCAÇÃO CONVENCIONAL DE OBRA, UTILIZANDO GABARITO DE TÁBUAS CORRIDAS PONTALETADAS A CADA 1,50M - 2 UTILIZAÇÕES. AF_03/2024 | E18: m² | F18: 608.16 | G18: 80.99 | H18: =G18*$J$2 -> 21.211281 | I18: =SUM(G18:H18) -> 102.20128 | J18: =I18*F18 -> 62154.731
H19: Sub total | J19: =SUM(J15:J18) -> 105822.28
A20: 1.3 | D20: Projetos Complementares | G20: =IF($C20="","",VLOOKUP($C20,#REF!,8,FALSE)) | H20: =IF($C20="","",VLOOKUP($C20,#REF!,10,FALSE))
A21: 1.3.1 | B21: Cotação | C21: 001 | D21: Projeto Executivo de Estruturas de Concreto e Fundações | E21: m² | F21: =F18 -> 608.16 | G21: 10 | H21: =G21*$J$2 -> 2.619 | I21: =SUM(G21:H21) -> 12.619 | J21: =I21*F21 -> 7674.371
A22: 1.3.2 | B22: Cotação | C22: 002 | D22: Projeto Executivo de Instalações Elétricas, Telefonia e Lógica | E22: m² | F22: =F21 -> 608.16 | G22: 6 | H22: =G22*$J$2 -> 1.5714 | I22: =SUM(G22:H22) -> 7.5714 | J22: =I22*F22 -> 4604.6226
A23: 1.3.3 | B23: Cotação | C23: 003 | D23: Projeto Executivo de Instalações Hidraulicas e Bombeiros | E23: m² | F23: =F22 -> 608.16 | G23: 5 | H23: =G23*$J$2 -> 1.3095 | I23: =SUM(G23:H23) -> 6.3095 | J23: =I23*F23 -> 3837.1855
A24: 1.3.4 | B24: Cotação | C24: 004 | D24: Projeto Legais para aprovações nos orgãos públicos municipais | E24: m² | F24: =F23 -> 608.16 | G24: 16 | H24: =G24*$J$2 -> 4.1904 | I24: =SUM(G24:H24) -> 20.1904 | J24: =I24*F24 -> 12278.994
H25: Sub total | J25: =SUM(J21:J24) -> 28395.173
A26: Total do Item 1.0 | J26: =SUM(J11:J25)/2 -> 138106.57 | K26: =J26/$J$338 -> 0.060976907
H27: =IF($C27="","",VLOOKUP($C27,#REF!,10,FALSE))
A28: 2.0 | D28: Fundações | H28: =IF($C28="","",VLOOKUP($C28,#REF!,10,FALSE))
A29: 2.1 | D29: Estacas Escavadas | H29: =IF($C29="","",VLOOKUP($C29,#REF!,10,FALSE))
A30: 2.1.1 | B30: FDE | C30: 02.02.100 | D30: ESTACA ESCAVADA MECANICAMENTE DIAM 25CM | E30: m | F30: 837.33 | G30: 47.9 | H30: =G30*$J$2 -> 12.54501 | I30: =SUM(G30:H30) -> 60.44501 | J30: =I30*F30 -> 50612.42
A31: 2.1.2 | B31: FDE | C31: 95578 | D31: MONTAGEM DE ARMADURA DE ESTACAS, DIÂMETRO = 12,5 MM. AF_09/2021_PS | E31: kg | F31: 1233.08 | G31: 8.11 | H31: =G31*$J$2 -> 2.124009 | I31: =SUM(G31:H31) -> 10.234009 | J31: =I31*F31 -> 12619.352
A32: 2.1.3 | B32: SINAPI | C32: 02.50.001 | D32: DEMOLIÇÃO DE CONCRETO SIMPLES (MANUAL) | E32: m³ | F32: 1.5 | G32: 176.9 | H32: =G32*$J$2 -> 46.33011 | I32: =SUM(G32:H32) -> 223.23011 | J32: =I32*F32 -> 334.84517
A33: 2.1.4 | B33: SINAPI | C33: ED-29229 | D33: TRANSPORTE DE MATERIAL DE QUALQUER NATUREZA EM CAMINHÃO, DISTÂNCIA MENOR OU IGUAL A 1KM, DENTRO DO PERÍMETRO URBANO, EXCLUSIVE CARGA, INCLUSIVE DESCARGA | E33: m³ | F33: 32.07 | G33: 6.02 | H33: =G33*$J$2 -> 1.576638 | I33: =SUM(G33:H33) -> 7.596638 | J33: =I33*F33 -> 243.62418
H34: Sub total | J34: =SUM(J30:J33) -> 63810.241
A35: 2.2 | D35: Blocos e Vigas Baldrames | H35: =IF($C35="","",VLOOKUP($C35,#REF!,10,FALSE))
A36: 2.2.1 | B36: SINAPI | C36: 79517/001 | D36: ESCAVAÇÃO MANUAL PARA VIGA BALDRAME OU SAPATA CORRIDA (INCLUINDO ESCAVAÇÃO PARA COLOCAÇÃO DE FÔRMAS). AF_01/2024 | E36: m³ | F36: 185.96 | G36: 90.5 | H36: =G36*$J$2 -> 23.70195 | I36: =SUM(G36:H36) -> 114.20195 | J36: =I36*F36 -> 21236.995
A37: 2.2.2 | B37: SINAPI | C37: 5622 | D37: REGULARIZAÇÃO E COMPACTAÇÃO DE TERRENO MANUAL COM SOQUETE, EXCLUSIVE DESMATAMENTO, DESTOCAMENTO, LIMPEZA/ROÇADA DO TERRENO | E37: m² | F37: 244.79 | G37: 8.87 | H37: =G37*$J$2 -> 2.323053 | I37: =SUM(G37:H37) -> 11.193053 | J37: =I37*F37 -> 2739.9474
A38: 2.2.3 | B38: SINAPI | C38: 74048/007 | D38: LASTRO DE CONCRETO MAGRO, APLICADO EM BLOCOS DE COROAMENTO OU SAPATAS, ESPESSURA DE 3 CM. AF_01/2024 | E38: m² | F38: 12.24 | G38: 19.56 | H38: =G38*$J$2 -> 5.122764 | I38: =SUM(G38:H38) -> 24.682764 | J38: =I38*F38 -> 302.11703
A39: 2.2.4 | B39: SINAPI | C39: 5651 | D39: FABRICAÇÃO, MONTAGEM E DESMONTAGEM DE FÔRMA PARA VIGA BALDRAME, EM MADEIRA SERRADA, E=25 MM, 4 UTILIZAÇÕES. AF_01/2024 | E39: m² | F39: 269.62 | G39: 62.15 | H39: =G39*$J$2 -> 16.277085 | I39: =SUM(G39:H39) -> 78.427085 | J39: =I39*F39 -> 21145.511
A40: 2.2.5 | B40: SINAPI | C40: 74254/002 | D40: ARMAÇÃO AÇO CA-50, DIAM. 6,3 (1/4) À 12,5 MM (1/2) - FORNECIMENTO / CORTE (PERDA DE 10%) / DOBRA / COLOCAÇÃO | E40: kg | F40: 2728.2 | G40: 11.95 | H40: =G40*$J$2 -> 3.129705 | I40: =SUM(G40:H40) -> 15.079705 | J40: =I40*F40 -> 41140.451
...

Sheet Cronograma
B1: CRONOGRAMA - FÍSICO FINANCEIRO PRELIMINAR
A2: =Sintético!A2 -> Cliente | B2: =Sintético!C2 -> : MINISTÉRIO DA SAÚDE. | U2: BDI: | W2: =Sintético!J2 -> 0.2619
A3: =Sintético!A3 -> Título | B3: =Sintético!C3 -> : CENTRO DE ATENÇÃO PSICOSSOCIAL. | U3: Leis Sociais: | W3: =Sintético!J3 -> 0
A4: =Sintético!A4 -> Tipo | B4: =Sintético!C4 -> : I, II, AD, i | U4: Revisão : | W4: =Sintético!J4 -> Rev.0 - 10/09/2014
A5: =Sintético!A5 -> Base do Orçamento | B5: =Sintético!C5 -> : SINAPI-DF (Julho 2014), FDE (Julho 2024), CPOS (Setembro), Composições e Cotações (DESONERADO) | U5: Área : | W5: =Sintético!J5 -> 608,16 m2
A7: ITEM | B7: SERVIÇO | C7: VALORES | E7: MÊS 1 | G7: MÊS 2 | I7: MÊS 3 | K7: MÊS 4 | M7: MÊS 5 | O7: MÊS 6 | Q7: MÊS 7 | S7: MÊS 8 | U7: MÊS 9 | W7: MÊS 10
C8: R$ | D8: % | E8: R$ | F8: % | G8: R$ | H8: % | I8: R$ | J8: % | K8: R$ | L8: % | M8: R$ | N8: % | O8: R$ | P8: % | Q8: R$ | R8: % | S8: R$ | T8: % | U8: R$ | V8: % | W8: R$ | X8: %
A9: 1.0 | B9: =Sintético!D9 -> Serviços Preliminares | C9: =Sintético!J26 -> 138106.57 | D9: =C9/$C$25 -> 0.060976907 | E9: =F9*$C$9 -> 138106.57 | F9: 1 | G9: =H9*$C$9 -> 0 | I9: =J9*$C$9 -> 0 | K9: =L9*$C$9 -> 0 | M9: =N9*$C$9 -> 0 | O9: =P9*$C$9 -> 0 | Q9: =R9*$C$9 -> 0 | S9: =T9*$C$9 -> 0 | U9: =V9*$C$9 -> 0 | W9: =X9*$C$9 -> 0 | Z9: =X9+V9+T9+R9+P9+N9+L9+J9+H9+F9 -> 1
A10: 2.0 | B10: =Sintético!D28 -> Fundações | C10: =Sintético!J46 -> 194614.78 | D10: =C10/$C$25 -> 0.085926447 | E10: =F10*$C$10 -> 48653.695 | F10: 0.25 | G10: =H10*$C$10 -> 48653.695 | H10: 0.25 | I10: =J10*$C$10 -> 58384.433 | J10: 0.3 | K10: =L10*$C$10 -> 38922.956 | L10: 0.2 | M10: =N10*$C$10 -> 0 | O10: =P10*$C$10 -> 0 | Q10: =R10*$C$10 -> 0 | S10: =T10*$C$10 -> 0 | U10: =V10*$C$10 -> 0 | W10: =X10*$C$10 -> 0 | Z10: =X10+V10+T10+R10+P10+N10+L10+J10+H10+F10 -> 1
A11: 3.0 | B11: =Sintético!D48 -> Superestrutura | C11: =Sintético!J60 -> 296121.33 | D11: =C11/$C$25 -> 0.13074369 | E11: =F11*$C$11 -> 0 | G11: =H11*$C$11 -> 29612.133 | H11: 0.1 | I11: =J11*$C$11 -> 88836.4 | J11: 0.3 | K11: =L11*$C$11 -> 88836.4 | L11: 0.3 | M11: =N11*$C$11 -> 88836.4 | N11: 0.3 | O11: =P11*$C$11 -> 0 | Q11: =R11*$C$11 -> 0 | S11: =T11*$C$11 -> 0 | U11: =V11*$C$11 -> 0 | W11: =X11*$C$11 -> 0 | Z11: =X11+V11+T11+R11+P11+N11+L11+J11+H11+F11 -> 1
A12: 4.0 | B12: =Sintético!D62 -> Coberturas | C12: =Sintético!J72 -> 177419.78 | D12: =C12/$C$25 -> 0.078334498 | E12: =F12*$C$12 -> 0 | G12: =H12*$C$12 -> 0 | I12: =J12*$C$12 -> 0 | K12: =L12*$C$12 -> 0 | M12: =N12*$C$12 -> 53225.933 | N12: 0.3 | O12: =P12*$C$12 -> 53225.933 | P12: 0.3 | Q12: =R12*$C$12 -> 53225.933 | R12: 0.3 | S12: =T12*$C$12 -> 17741.978 | T12: 0.1 | U12: =V12*$C$12 -> 0 | W12: =X12*$C$12 -> 0 | Z12: =X12+V12+T12+R12+P12+N12+L12+J12+H12+F12 -> 1
A13: 5.0 | B13: =Sintético!D74 -> Alvenaria e Divisórias | C13: =Sintético!J79 -> 108032.11 | D13: =C13/$C$25 -> 0.047698408 | E13: =F13*$C$13 -> 0 | G13: =H13*$C$13 -> 10803.211 | H13: 0.1 | I13: =J13*$C$13 -> 32409.632 | J13: 0.3 | K13: =L13*$C$13 -> 32409.632 | L13: 0.3 | M13: =N13*$C$13 -> 32409.632 | N13: 0.3 | O13: =P13*$C$13 -> 0 | Q13: =R13*$C$13 -> 0 | S13: =T13*$C$13 -> 0 | U13: =V13*$C$13 -> 0 | W13: =X13*$C$13 -> 0 | Z13: =X13+V13+T13+R13+P13+N13+L13+J13+H13+F13 -> 1
A14: 6.0 | B14: =Sintético!D81 -> Impermeabilizações | C14: =Sintético!J98 -> 108633.2 | D14: =C14/$C$25 -> 0.047963804 | E14: =F14*$C$14 -> 0 | G14: =H14*$C$14 -> 32589.96 | H14: 0.3 | I14: =J14*$C$14 -> 32589.96 | J14: 0.3 | K14: =L14*$C$14 -> 32589.96 | L14: 0.3 | M14: =N14*$C$14 -> 0 | O14: =P14*$C$14 -> 0 | Q14: =R14*$C$14 -> 0 | S14: =T14*$C$14 -> 0 | U14: =V14*$C$14 -> 0 | W14: =X14*$C$14 -> 10863.32 | X14: 0.1 | Z14: =X14+V14+T14+R14+P14+N14+L14+J14+H14+F14 -> 1
A15: 7.0 | B15: =Sintético!D100 -> Revestimento | C15: =Sintético!J119 -> 251855.6 | D15: =C15/$C$25 -> 0.11119945 | E15: =F15*$C$15 -> 0 | G15: =H15*$C$15 -> 0 | I15: =J15*$C$15 -> 50371.119 | J15: 0.2 | K15: =L15*$C$15 -> 50371.119 | L15: 0.2 | M15: =N15*$C$15 -> 50371.119 | N15: 0.2 | O15: =P15*$C$15 -> 50371.119 | P15: 0.2 | Q15: =R15*$C$15 -> 50371.119 | R15: 0.2 | S15: =T15*$C$15 -> 0 | U15: =V15*$C$15 -> 0 | W15: =X15*$C$15 -> 0 | Z15: =X15+V15+T15+R15+P15+N15+L15+J15+H15+F15 -> 1
A16: 8.0 | B16: =Sintético!D121 -> Pisos | C16: =Sintético!J146 -> 153334.1 | D16: =C16/$C$25 -> 0.067700173 | E16: =F16*$C$16 -> 0 | G16: =H16*$C$16 -> 0 | I16: =J16*$C$16 -> 0 | K16: =L16*$C$16 -> 30666.819 | L16: 0.2 | M16: =N16*$C$16 -> 30666.819 | N16: 0.2 | O16: =P16*$C$16 -> 30666.819 | P16: 0.2 | Q16: =R16*$C$16 -> 30666.819 | R16: 0.2 | S16: =T16*$C$16 -> 30666.819 | T16: 0.2 | U16: =V16*$C$16 -> 0 | W16: =X16*$C$16 -> 0 | Z16: =X16+V16+T16+R16+P16+N16+L16+J16+H16+F16 -> 1
A17: 9.0 | B17: =Sintético!D148 -> Esquadrias | C17: =Sintético!J176 -> 331528.62 | D17: =C17/$C$25 -> 0.14637674 | E17: =F17*$C$17 -> 0 | G17: =H17*$C$17 -> 0 | I17: =J17*$C$17 -> 0 | K17: =L17*$C$17 -> 82882.155 | L17: 0.25 | M17: =N17*$C$17 -> 82882.155 | N17: 0.25 | O17: =P17*$C$17 -> 82882.155 | P17: 0.25 | Q17: =R17*$C$17 -> 82882.155 | R17: 0.25 | S17: =T17*$C$17 -> 0 | U17: =V17*$C$17 -> 0 | W17: =X17*$C$17 -> 0 | Z17: =X17+V17+T17+R17+P17+N17+L17+J17+H17+F17 -> 1
A18: 10.0 | B18: =Sintético!D178 -> Instalações Hidráulicas | C18: =Sintético!J220 -> 106168.4 | D18: =C18/$C$25 -> 0.046875545 | E18: =F18*$C$18 -> 0 | G18: =H18*$C$18 -> 0 | I18: =J18*$C$18 -> 0 | K18: =L18*$C$18 -> 26542.101 | L18: 0.25 | M18: =N18*$C$18 -> 26542.101 | N18: 0.25 | O18: =P18*$C$18 -> 26542.101 | P18: 0.25 | Q18: =R18*$C$18 -> 26542.101 | R18: 0.25 | S18: =T18*$C$18 -> 0 | U18: =V18*$C$18 -> 0 | W18: =X18*$C$18 -> 0 | Z18: =X18+V18+T18+R18+P18+N18+L18+J18+H18+F18 -> 1
A19: 11.0 | B19: =Sintético!D222 -> Louças e Metais | C19: =Sintético!J254 -> 56761.22 | D19: =C19/$C$25 -> 0.025061252 | E19: =F19*$C$19 -> 0 | G19: =H19*$C$19 -> 0 | I19: =J19*$C$19 -> 0 | K19: =L19*$C$19 -> 0 | M19: =N19*$C$19 -> 0 | O19: =P19*$C$19 -> 0 | Q19: =R19*$C$19 -> 28380.61 | R19: 0.5 | S19: =T19*$C$19 -> 28380.61 | T19: 0.5 | U19: =V19*$C$19 -> 0 | W19: =X19*$C$19 -> 0 | Z19: =X19+V19+T19+R19+P19+N19+L19+J19+H19+F19 -> 1
A20: 12.0 | B20: =Sintético!D256 -> Instalações Elétricas | C20: =Sintético!J278 -> 48920.34 | D20: =C20/$C$25 -> 0.021599341 | E20: =F20*$C$20 -> 0 | G20: =H20*$C$20 -> 0 | I20: =J20*$C$20 -> 0 | K20: =L20*$C$20 -> 0 | M20: =N20*$C$20 -> 0 | O20: =P20*$C$20 -> 0 | Q20: =R20*$C$20 -> 19568.136 | R20: 0.4 | S20: =T20*$C$20 -> 19568.136 | T20: 0.4 | U20: =V20*$C$20 -> 4892.034 | V20: 0.1 | W20: =X20*$C$20 -> 4892.034 | X20: 0.1 | Z20: =X20+V20+T20+R20+P20+N20+L20+J20+H20+F20 -> 1
A21: 13.0 | B21: =Sintético!D280 -> Pintura | C21: =Sintético!J296 -> 103905.86 | D21: =C21/$C$25 -> 0.045876586 | E21: =F21*$C$21 -> 0 | G21: =H21*$C$21 -> 0 | I21: =J21*$C$21 -> 0 | K21: =L21*$C$21 -> 25976.466 | L21: 0.25 | M21: =N21*$C$21 -> 25976.466 | N21: 0.25 | O21: =P21*$C$21 -> 15585.879 | P21: 0.15 | Q21: =R21*$C$21 -> 15585.879 | R21: 0.15 | S21: =T21*$C$21 -> 15585.879 | T21: 0.15 | U21: =V21*$C$21 -> 0 | W21: =X21*$C$21 -> 5195.2931 | X21: 0.05 | Z21: =X21+V21+T21+R21+P21+N21+L21+J21+H21+F21 -> 1
A22: 14.0 | B22: =Sintético!D298 -> Muro de Divisa / Base Gradil Metálico | C22: =Sintético!J323 -> 174839.84 | D22: =C22/$C$25 -> 0.077195402 | E22: =F22*$C$22 -> 0 | G22: =H22*$C$22 -> 0 | I22: =J22*$C$22 -> 0 | K22: =L22*$C$22 -> 0 | M22: =N22*$C$22 -> 0 | O22: =P22*$C$22 -> 0 | Q22: =R22*$C$22 -> 43709.959 | R22: 0.25 | S22: =T22*$C$22 -> 43709.959 | T22: 0.25 | U22: =V22*$C$22 -> 43709.959 | V22: 0.25 | W22: =X22*$C$22 -> 43709.959 | X22: 0.25 | Z22: =X22+V22+T22+R22+P22+N22+L22+J22+H22+F22 -> 1
A23: 15.0 | B23: =Sintético!D325 -> Serviços Complementares | C23: =Sintético!J336 -> 14657.883 | D23: =C23/$C$25 -> 0.0064717584 | E23: =F23*$C$23 -> 0 | G23: =H23*$C$23 -> 0 | I23: =J23*$C$23 -> 0 | K23: =L23*$C$23 -> 0 | M23: =N23*$C$23 -> 0 | O23: =P23*$C$23 -> 3664.4708 | P23: 0.25 | Q23: =R23*$C$23 -> 3664.4708 | R23: 0.25 | S23: =T23*$C$23 -> 2931.5766 | T23: 0.2 | U23: =V23*$C$23 -> 2931.5766 | V23: 0.2 | W23: =X23*$C$23 -> 1465.7883 | X23: 0.1 | Z23: =X23+V23+T23+R23+P23+N23+L23+J23+H23+F23 -> 1
A25: SUB-TOTAIS | C25: =SUM(C9:C23) -> 2264899.6 | D25: =SUM(D9:D23) -> 1 | E25: =SUM(E9:E23) -> 186760.27 | F25: =E25/$C$25 -> 0.082458519 | G25: =SUM(G9:G23) -> 121659 | H25: =G25/$C$25 -> 0.053714963 | I25: =SUM(I9:I23) -> 262591.55 | J25: =I25/$C$25 -> 0.11593959 | K25: =SUM(K9:K23) -> 409197.61 | L25: =K25/$C$25 -> 0.1806692 | M25: =SUM(M9:M23) -> 390910.62 | N25: =M25/$C$25 -> 0.17259512 | O25: =SUM(O9:O23) -> 262938.48 | P25: =O25/$C$25 -> 0.11609277 | Q25: =SUM(Q9:Q23) -> 354597.18 | R25: =Q25/$C$25 -> 0.15656199 | S25: =SUM(S9:S23) -> 158584.96 | T25: =S25/$C$25 -> 0.070018537 | U25: =SUM(U9:U23) -> 51533.57 | V25: =U25/$C$25 -> 0.022753136 | W25: =SUM(W9:W23) -> 66126.395 | X25: =W25/$C$25 -> 0.02919617
A27: MEDIÇÕES MENSAIS | E27: =E25 -> 186760.27 | F27: =F25 -> 0.082458519 | G27: =G25 -> 121659 | H27: =H25 -> 0.053714963 | I27: =I25 -> 262591.55 | J27: =J25 -> 0.11593959 | K27: =K25 -> 409197.61 | L27: =L25 -> 0.1806692 | ... X27: =X25 -> 0.02919617
A28: PREVISTO / ACUMULADO | E28: =0+E27 -> 186760.27 | F28: =F27 -> 0.082458519 | G28: =E28+G27 -> 308419.27 | H28: =F28+H27 -> 0.13617348 | I28: =G28+I27 -> 571010.81 | J28: =H28+J27 -> 0.25211308 | K28: =I28+K27 -> 980208.42 | L28: =J28+L27 -> 0.43278228 | M28: =K28+M27 -> 1371119 | N28: =L28+N27 -> 0.6053774 | ... X28: =V28+X27 -> 1
