Workbook

Sheet PLANILHA
B2: PREFEITURA MUNICIPAL DE DIVINÉSIA - MG | F2: Data Base: SINAPI 09/2025
B6: OBRA: CONSTRUÇÃO CRECHE PROINFÂNCIA TIPO 1 | F6: DATA: 22/01/2026
B8: MUNICÍPIO DE DIVINÉSIA - MG
K12: 1.277
B13: PLANILHA
G14: Licitado
B15: ITEM | C15: CÓDIGO | D15: FONTE | E15: DESCRIÇÃO DOS SERVIÇOS | F15: UN. | G15: QUANT. | H15: PREÇO (R$) | I15: PREÇO C/ BDI (R$) | J15: TOTAL (R$)
B17: 1 | E17: SERVIÇOS PRELIMINARES
G18: 0
B19: 2 | E19: MOVIMENTO DE TERRA PARA FUNDAÇÕES
B20: 2.3 | E20: CASTELO D'ÁGUA
B21: 2.3.1 | C21: 93358 | D21: SINAPI | E21: Escavação manual de valas em qualquer terreno exceto rocha até h=2,0 m | F21: m³ | G21: 9.6 | I21: =H21*$K$12 -> 0 | J21: =SUM(G21*I21) -> 0
B22: 2.3.2 | C22: 105597 | D22: SINAPI | E22: REGULARIZAÇÃO E COMPACTAÇÃO DE SUBLEITO DE SOLO PREDOMINANTEMENTE ARGILOSO, PARA OBRAS DE RECONSTRUÇÃO DE PAVIMENTOS. AF_09/2024 | F22: m² | G22: 12.96 | I22: =H22*$K$12 -> 0 | J22: =SUM(G22*I22) -> 0
B23: 2.3.3 | C23: 93382 | D23: SINAPI | E23: REATERRO MANUAL DE VALAS, COM COMPACTADOR DE SOLOS DE PERCUSSÃO. AF_08/2023 | F23: m³ | G23: 1.82 | I23: =H23*$K$12 -> 0 | J23: =SUM(G23*I23) -> 0
H24: Subtotal | J24: =SUM(J21:J23) -> 0
B26: 3 | E26: FUNDAÇÕES
B27: 3.3 | E27: FUNDAÇÃO DO CASTELO D'ÁGUA
B28: 3.3.1 | C28: 101174 | D28: SINAPI | E28: ESTACA BROCA DE CONCRETO, DIÂMETRO DE 25CM, ESCAVAÇÃO MANUAL COM TRADO CONCHA, COM ARMADURA DE ARRANQUE. AF_05/2020 | F28: m | G28: 63 | I28: =H28*$K$12 -> 0 | J28: =SUM(G28*I28) -> 0
B29: 3.3.3 | C29: 95241 | D29: SINAPI | E29: Lastro de concreto não-estrutural, espessura 5cm | F29: m² | G29: 12.96 | I29: =H29*$K$12 -> 0 | J29: =SUM(G29*I29) -> 0
B30: 3.3.4 | C30: 96534 | D30: SINAPI | E30: FABRICAÇÃO, MONTAGEM E DESMONTAGEM DE FÔRMA PARA BLOCO DE COROAMENTO, EM MADEIRA SERRADA, E=25 MM, 4 UTILIZAÇÕES. AF_01/2024 | F30: m² | G30: 8.64 | I30: =H30*$K$12 -> 0 | J30: =SUM(G30*I30) -> 0
B31: 3.3.5 | C31: 92919 | D31: SINAPI | E31: Armação de aço CA-50 Ø 10mm; incluso fornecimento, corte, dobra e colocação | F31: kg | G31: 238.29 | I31: =H31*$K$12 -> 0 | J31: =SUM(G31*I31) -> 0
B32: 3.3.6 | C32: 92921 | D32: SINAPI | E32: Armação de aço CA-50 Ø 12,5mm; incluso fornecimento, corte, dobra e colocação | F32: kg | G32: 199.34 | I32: =H32*$K$12 -> 0 | J32: =SUM(G32*I32) -> 0
B33: 3.3.7 | C33: 92924 | D33: SINAPI | E33: Armação de aço CA-50 Ø 25mm; incluso fornecimento, corte, dobra e colocação | F33: kg | G33: 18.49 | I33: =H33*$K$12 -> 0 | J33: =SUM(G33*I33) -> 0
B34: 3.3.8 | C34: 92915 | D34: SINAPI | E34: Armação de aço CA-60 Ø 4,2mm; incluso fornecimento, corte, dobra e colocação | F34: kg | G34: 23.54 | I34: =H34*$K$12 -> 0 | J34: =SUM(G34*I34) -> 0
B35: 3.3.9 | C35: 34493 | D35: SINAPI | E35: CONCRETO USINADO BOMBEAVEL, CLASSE DE RESISTENCIA C25, COM BRITA 0 E 1, SLUMP = 100 +/- 20 MM, EXCLUI SERVICO DE BOMBEAMENTO (NBR 8953) | F35: m³ | G35: 10.87 | I35: =H35*$K$12 -> 0 | J35: =SUM(G35*I35) -> 0
H36: Subtotal | J36: =SUM(J28:J35) -> 0
G37: 0
B38: 4 | E38: SUPERESTRUTURA
G39: 0
B40: 5 | E40: SISTEMA DE VEDAÇÃO VERTICAL
B41: 5.1 | E41: ELEMENTOS VAZADOS | G41: 0
B42: 5.1.1 | C42: 101161 | D42: SINAPI | E42: ALVENARIA DE VEDAÇÃO COM ELEMENTO VAZADO DE CONCRETO (COBOGÓ) DE 7X50X50CM E ARGAMASSA DE ASSENTAMENTO COM PREPARO EM BETONEIRA. AF_05/2020 | F42: m² | G42: 6.1 | I42: =H42*$K$12 -> 0 | J42: =SUM(G42*I42) -> 0
B43: 5.2 | E43: ALVENARIA DE VEDAÇÃO | G43: 0
B44: 5.2.7 | C44: C4495 | D44: SEINFRA | E44: Fechamento de shafts em gesso acartonado | F44: m² | G44: 7.2 | I44: =H44*$K$12 -> 0 | J44: =SUM(G44*I44) -> 0
H45: Subtotal | J45: =SUM(J42:J44) -> 0
G46: 0
B47: 6 | E47: ESQUADRIAS
B48: 6.1 | E48: PORTAS DE MADEIRA | G48: 0
B49: 6.1.6 | C49: 90841 | D49: SINAPI | E49: KIT DE PORTA DE MADEIRA PARA PINTURA, SEMI-OCA (LEVE OU MÉDIA), PADRÃO MÉDIO, 60X210CM, ESPESSURA DE 3,5CM, ITENS INCLUSOS: DOBRADIÇAS, MONTAGEM E INSTALAÇÃO DO BATENTE, FECHADURA COM EXECUÇÃO DO FURO - FORNECIMENTO E INSTALAÇÃO. AF_12/2019 | F49: un | G49: 8 | I49: =H49*$K$12 -> 0 | J49: =SUM(G49*I49) -> 0
B50: 6.2 | E50: FERRAGENS E ACESSÓRIOS
B51: 6.2.1 | C51: 38153 | D51: SINAPI | E51: FECHADURA ESPELHO PARA PORTA DE BANHEIRO, EM ACO INOX (MAQUINA, TESTA E CONTRA-TESTA) E EM ZAMAC (MACANETA, LINGUETA E TRINCOS) COM ACABAMENTO CROMADO, MAQUINA DE 40 MM, INCLUINDO CHAVE TIPO TRANQUETA | F51: un | G51: 8 | I51: =H51*$K$12 -> 0 | J51: =SUM(G51*I51) -> 0
B52: 6.2.2 | D52: COTAÇÃO | E52: Peças de apoio para deficientes em aço inox, 60cm reta NBR9050 JACKWAL nas portas PM3 e PM5 | F52: m | G52: 8.4 | I52: =H52*$K$12 -> 0 | J52: =SUM(G52*I52) -> 0
B53: 6.2.3 | D53: COTAÇÃO | E53: Chapa metalica (alumínio) 0,80m x 0,4m, e= 1mm para as portas - fornecimento e instalação | F53: m² | G53: 19.2 | I53: =H53*$K$12 -> 0 | J53: =SUM(G53*I53) -> 0
B54: 6.3 | E54: PORTAS EM ALUMÍNIO | G54: 0 | J54: =SUM(G54*I54) -> 0
B55: 6.3.1 | D55: COTAÇÃO | E55: Porta de abrir - PA1 - 100x210 em chapa de alumínio com veneziana e vidro mini boreal- conforme projeto de esquadrias, inclusive ferragens e vidro | F55: m² | G55: 2.1 | I55: =H55*$K$12 -> 0 | J55: =SUM(G55*I55) -> 0
B56: 6.3.2 | D56: COTAÇÃO | E56: Porta de abrir - PA2 - 80x210 em chapa de alumínio com veneziana e vidro mini boreal- conforme projeto de esquadrias, inclusive ferragens e vidro | F56: m² | G56: 1.68 | I56: =H56*$K$12 -> 0 | J56: =SUM(G56*I56) -> 0
B57: 6.3.3 | D57: COTAÇÃO | E57: Porta de abrir - PA3 - 160x210 em chapa de alumínio com veneziana- conforme projeto de esquadrias, inclusive ferragens e vidro | F57: m² | G57: 6.72 | I57: =H57*$K$12 -> 0 | J57: =SUM(G57*I57) -> 0
B58: 6.3.4 | C58: 100702 | D58: SINAPI | E58: Porta de correr - PA4 - 450x270 PORTA DE CORRER DE ALUMÍNIO, COM DUAS FOLHAS PARA VIDRO, INCLUSO VIDRO LISO INCOLOR, FECHADURA E PUXADOR, SEM ALIZAR. AF_12/2019 | F58: m² | G58: 98.19 | I58: =H58*$K$12 -> 0 | J58: =SUM(G58*I58) -> 0
B59: 6.3.5 | C59: 100702 | D59: SINAPI | E59: Porta de correr - PA5 - 240x210 -PORTA DE CORRER DE ALUMÍNIO, COM DUAS FOLHAS PARA VIDRO, INCLUSO VIDRO LISO INCOLOR, FECHADURA E PUXADOR, SEM ALIZAR. AF_12/2019 | F59: m² | G59: 5.04 | I59: =H59*$K$12 -> 0 | J59: =SUM(G59*I59) -> 0
B60: 6.3.6 | C60: 91341 | D60: SINAPI | E60: Porta de abrir - PA6 - 120x185 - veneziana- conforme projeto de esquadrias, inclusive ferragens | F60: m² | G60: 4.44 | I60: =H60*$K$12 -> 0 | J60: =SUM(G60*I60) -> 0
B61: 6.3.7 | C61: 91341 | D61: SINAPI | E61: Porta de abrir - PA7 - 160+90x210 - veneziana- conforme projeto de esquadrias, inclusive ferragens | F61: m² | G61: 5.25 | I61: =H61*$K$12 -> 0 | J61: =SUM(G61*I61) -> 0
B62: 6.4 | E62: PORTAS DE VIDRO - PV | G62: 0
B63: 6.4.1 | C63: 102183 | D63: SINAPI | E63: PORTA PIVOTANTE DE VIDRO TEMPERADO, 2 FOLHAS DE 90X210 CM, ESPESSURA DE 10MM, INCLUSIVE ACESSÓRIOS. AF_01/2021 conforme projeto de esquadrias - PV1 - 175x230 | F63: un | G63: 1 | I63: =H63*$K$12 -> 0 | J63: =SUM(G63*I63) -> 0
B64: 6.4.2 | C64: 102183 | D64: SINAPI | E64: PORTA PIVOTANTE DE VIDRO TEMPERADO, 2 FOLHAS DE 90X210 CM, ESPESSURA DE 10MM, INCLUSIVE ACESSÓRIOS. AF_01/2021 conforme projeto de esquadrias - PV1 - 175x231 | F64: un | G64: 1 | I64: =H64*$K$12 -> 0 | J64: =SUM(G64*I64) -> 0
B65: 6.4.3 | C65: 102235 | D65: SINAPI | E65: DIVISÓRIA FIXA EM VIDRO TEMPERADO 10 MM, SEM ABERTURA. AF_01/2021_PS Bandeiras fixas de vidro 175x35 para porta PV2, conforme projeto de esquadria | F65: m² | G65: 3.53 | I65: =H65*$K$12 -> 0 | J65: =SUM(G65*I65) -> 0
B66: 6.5 | E66: JANELAS DE ALUMÍNIO - JA | G66: 0
B67: 6.5.1 | C67: 94559 | D67: SINAPI | E67: Janela de Alumínio - JA-01, 70x125, completa conforme projeto de esquadrias - Guilhotina | F67: m² | G67: 1.75 | I67: =H67*$K$12 -> 0 | J67: =SUM(G67*I67) -> 0
B68: 6.5.2 | C68: 94559 | D68: SINAPI | E68: Janela de Alumínio - JA-02, 110x145, completa conforme projeto de esquadrias - Guilhotina | F68: m² | G68: 1.6 | I68: =H68*$K$12 -> 0 | J68: =SUM(G68*I68) -> 0
B69: 6.5.3 | C69: 599 | D69: SINAPI | E69: Janela de Alumínio - JA-03, 140x115, JANELA FIXA, EM ALUMINIO PERFIL 20, 60 X 80 CM (A X L), BATENTE/REQUADRO DE 3 A 14 CM, COM VIDRO 4 MM, SEM GUARNICAO/ALIZAR, ACABAMENTO ALUM BRANCO OU BRILHANTE | F69: m² | G69: 3.22 | I69: =H69*$K$12 -> 0 | J69: =SUM(G69*I69) -> 0
B70: 6.5.4 | C70: 94559 | D70: SINAPI | E70: Janela de Alumínio - JA-04, 140x145, completa conforme projeto de esquadrias - Guilhotina | F70: m² | G70: 2.03 | I70: =H70*$K$12 -> 0 | J70: =SUM(G70*I70) -> 0
B71: 6.5.5 | C71: 599 | D71: SINAPI | E71: Janela de Alumínio - JA-05, 200x105, JANELA FIXA, EM ALUMINIO PERFIL 20, 60 X 80 CM (A X L), BATENTE/REQUADRO DE 3 A 14 CM, COM VIDRO 4 MM, SEM GUARNICAO/ALIZAR, ACABAMENTO ALUM BRANCO OU BRILHANTE | F71: m² | G71: 2.16 | I71: =H71*$K$12 -> 0 | J71: =SUM(G71*I71) -> 0
B72: 6.5.6 | C72: 94569 | D72: SINAPI | E72: Janela de Alumínio - JA-06, 210x50, completa conforme projeto de esquadrias - Maxim-ar - incluso vidro liso incolor, espessura 6mm | F72: m² | G72: 2.1 | I72: =H72*$K$12 -> 0 | J72: =SUM(G72*I72) -> 0
B73: 6.5.7 | C73: 94569 | D73: SINAPI | E73: Janela de Alumínio - JA-07, 210x75, completa conforme projeto de esquadrias - Maxim-ar - incluso vidro liso incolor, espessura 6mm | F73: m² | G73: 12.6 | I73: =H73*$K$12 -> 0 | J73: =SUM(G73*I73) -> 0
B74: 6.5.8 | C74: 94569 | D74: SINAPI | E74: Janela de Alumínio - JA-08, 210x100, completa conforme projeto de esquadrias - Maxim-ar - incluso vidro liso incolor, espessura 6mm | F74: m² | G74: 6.3 | I74: =H74*$K$12 -> 0 | J74: =SUM(G74*I74) -> 0
B75: 6.5.9 | C75: 94569 | D75: SINAPI | E75: Janela de Alumínio - JA-09, 210x150, completa conforme projeto de esquadrias - Maxim-ar - incluso vidro liso incolor, espessura 6mm | F75: m² | G75: 18.9 | I75: =H75*$K$12 -> 0 | J75: =SUM(G75*I75) -> 0
B76: 6.5.10 | C76: 94569 | D76: SINAPI | E76: Janela de Alumínio - JA-10, 140x150, completa conforme projeto de esquadrias - Maxim-ar - incluso vidro liso incolor, espessura 6mm | F76: m² | G76: 2.1 | I76: =H76*$K$12 -> 0 | J76: =SUM(G76*I76) -> 0
B77: 6.5.11 | C77: 94569 | D77: SINAPI | E77: Janela de Alumínio - JA-11, 140x75, completa conforme projeto de esquadrias - Maxim-ar - incluso vidro liso incolor, espessura 6mm | F77: m² | G77: 6.3 | I77: =H77*$K$12 -> 0 | J77: =SUM(G77*I77) -> 0
B78: 6.5.12 | C78: 94569 | D78: SINAPI | E78: Janela de Alumínio - JA-12, 420x50, completa conforme projeto de esquadrias - Maxim-ar - incluso vidro liso incolor, espessura 6mm | F78: m² | G78: 8.4 | I78: =H78*$K$12 -> 0 | J78: =SUM(G78*I78) -> 0
... B82: 6.5.16 | C82: 599 | D82: SINAPI | E82: Janela de Alumínio - JA-16, 160x0,85, JANELA FIXA, EM ALUMINIO PERFIL 20, 60 X 80 CM (A X L), BATENTE/REQUADRO DE 3 A 14 CM, COM VIDRO 4 MM, SEM GUARNICAO/ALIZAR, ACABAMENTO ALUM BRANCO OU BRILHANTE | F82: m² | G82: 5.44 | I82: =H82*$K$12 -> 0 | J82: =SUM(G82*I82) -> 0
B83: 6.5.17 | D83: COTAÇÃO | E83: Tela de nylon de proteção- fixada na esquadria | F83: m² | G83: 19.38 | I83: =H83*$K$12 -> 0 | J83: =SUM(G83*I83) -> 0
B84: 6.6 | E84: VIDROS | G84: 0
B85: 6.6.1 | C85: 10505 | D85: SINAPI | E85: VIDRO TEMPERADO INCOLOR E = 6 MM, SEM COLOCACAO para janelas | F85: m² | G85: 16.2 | I85: =H85*$K$12 -> 0 | J85: =SUM(G85*I85) -> 0
B86: 6.6.2 | C86: 10505 | D86: SINAPI | E86: VIDRO TEMPERADO INCOLOR E = 6 MM, SEM COLOCACAO para porta PM5 | F86: m² | G86: 2.18 | I86: =H86*$K$12 -> 0 | J86: =SUM(G86*I86) -> 0
B87: 6.6.3 | C87: 102180 | D87: SINAPI | E87: INSTALAÇÃO DE VIDRO TEMPERADO, E = 8 MM, ENCAIXADO EM PERFIL U. AF_01/2021_PS com altura de 1,80m | F87: m² | G87: 7.2 | I87: =H87*$K$12 -> 0 | J87: =SUM(G87*I87) -> 0
B88: 6.6.4 | C88: 34385 | D88: SINAPI | E88: VIDRO LISO INCOLOR 8MM - SEM COLOCACAO com altura de 1,80m | F88: m² | G88: 7.2 | I88: =H88*$K$12 -> 0 | J88: =SUM(G88*I88) -> 0
B89: 6.6.5 | C89: 102236 | D89: SINAPI | E89: DIVISÓRIA EM VIDRO TEMPERADO 10 MM COM PORTA DE CORRER, INCLUSIVE FERRAGENS. AF_01/2021 | F89: m² | G89: 3.57 | I89: =H89*$K$12 -> 0 | J89: =SUM(G89*I89) -> 0
B90: 6.6.6 | C90: 11186 | D90: SINAPI | E90: ESPELHO CRISTAL E = 4 MM | F90: m² | G90: 16.9 | I90: =H90*$K$12 -> 0 | J90: =SUM(G90*I90) -> 0
B91: 6.7 | E91: ESQUADRIA - GRADIL METÁLICO | G91: 0
B92: 6.7.1 | D92: COTAÇÃO | E92: Gradil metalico e tela de aço galvanizado , inclusive pintura - fornecimento e instalação (GR1, GR2, GR3, GR4) | F92: m² | G92: 69.79 | I92: =H92*$K$12 -> 0 | J92: =SUM(G92*I92) -> 0
B93: 6.7.2 | D93: COTAÇÃO | E93: Portão de abrir em chapa de aço perfurada, inclusive pintura - fornecimento e instalação (PF1 e PF2) | F93: m² | G93: 20.52 | I93: =H93*$K$12 -> 0 | J93: =SUM(G93*I93) -> 0
B94: 6.7.3 | D94: COTAÇÃO | E94: Fechamento com chapa de aço perfurada, inclusive perfis metálicos para suporte e pintura - fornecimento e instalação | F94: m² | G94: 164.44 | I94: =H94*$K$12 -> 0 | J94: =SUM(G94*I94) -> 0
B95: 6.7.4 | D95: COTAÇÃO | E95: Portão de abrir com gradil metálico e tela de aço galvanizado, inclusive pintura - fornecimento e instalação | F95: m² | G95: 13.5 | I95: =H95*$K$12 -> 0 | J95: =SUM(G95*I95) -> 0
H96: Subtotal | J96: =SUM(J49:J95) -> 0
B98: 7 | E98: SISTEMAS DE COBERTURA
G99: 0
B100: 8 | E100: IMPERMEABILIZAÇÃO
G101: 0
B102: 9 | E102: REVESTIMENTOS INTERNO E EXTERNO
B104: 10 | E104: SISTEMAS DE PISOS
B105: 10.1 | E105: PAVIMENTAÇÃO INTERNA
B106: 10.1.4 | C106: 102494 | D106: SINAPI | E106: PINTURA DE PISO COM TINTA EPÓXI, APLICAÇÃO MANUAL, 2 DEMÃOS, INCLUSO PRIMER EPÓXI. AF_05/2021 | F106: m² | G106: 23.72 | I106: =H106*$K$12 -> 0 | J106: =SUM(G106*I106) -> 0
B107: 10.1.7 | C107: 101727 | D107: SINAPI | E107: PISO VINÍLICO SEMI-FLEXÍVEL EM PLACAS, PADRÃO LISO, ESPESSURA 3,2 MM, FIXADO COM COLA. AF_09/2020 | F107: m² | G107: 394.65 | I107: =H107*$K$12 -> 0 | J107: =SUM(G107*I107) -> 0
B108: 10.1.8 | C108: C4623 | D108: SEINFRA | E108: Piso podotátil de alerta em borracha integrado 30x30cm, assentamento com argamassa (fornecimento e assentamento) | F108: m² | G108: 3.06 | I108: =H108*$K$12 -> 0 | J108: =SUM(G108*I108) -> 0
B109: 10.1.9 | C109: C4623 | D109: SEINFRA | E109: Piso podotátil direcional em borracha integrado 30x30cm, assentamento com argamassa (fornecimento e assentamento) | F109: m² | G109: 0.99 | I109: =H109*$K$12 -> 0 | J109: =SUM(G109*I109) -> 0
B110: 10.1.11 | C110: C4505 | D110: SEINFRA | E110: Rodapé vinilico de 7cm de altura | F110: m | G110: 238.6 | I110: =H110*$K$12 -> 0 | J110: =SUM(G110*I110) -> 0
B111: 10.2 | E111: PAVIMENTAÇÃO EXTERNA
B112: 10.2.1 | C112: 94992 | D112: SINAPI | E112: Passeio em concreto desempenado com junta plastica a cada 1,20m e=10cm | F112: m² | G112: 349 | I112: =H112*$K$12 -> 0 | J112: =SUM(G112*I112) -> 0
B113: 10.2.2 | C113: 105004 | D113: SINAPI | E113: RAMPA DE ACESSIBILIDADE EM CONCRETO MOLDADO IN LOCO, EM CALÇADA NOVA COM LARGURA MENOR À 3,00 M, FCK 25MPA, COM PISO PODOTÁTIL. AF_03/2024 | F113: m² | G113: 22.06 | I113: =H113*$K$12 -> 0 | J113: =SUM(G113*I113) -> 0
B114: 10.2.3 | C114: 92393 | D114: SINAPI | E114: EXECUÇÃO DE PAVIMENTO EM PISO INTERTRAVADO, COM BLOCO SEXTAVADO DE 25 X 25 CM, ESPESSURA 6 CM. AF_10/2022 | F114: m² | G114: 68.26 | I114: =H114*$K$12 -> 0 | J114: =SUM(G114*I114) -> 0
B115: 10.2.4 | C115: C4624 | D115: SEINFRA | E115: Piso tátil de alerta em placas pré-moldadas - 5MPa | F115: m² | G115: 1.98 | I115: =H115*$K$12 -> 0 | J115: =SUM(G115*I115) -> 0
...

Sheet CRONOGRAMA
A1: PREFEITURA MUNICIPAL DE DIVINÉSIA - MG
A2: COMISSÃO PERMANENTE DE LICITAÇÕES
A3: OBRA: CONSTRUÇÃO CRECHE PROINFÂNCIA TIPO 1
A4: MUNICÍPIO DE DIVINÉSIA - MG | I4: =PLANILHA!F6 -> DATA: 22/01/2026
A5: CRONOGRAMA FÍSICO FINANCEIRO - SERVIÇOS A FINALIZAR
A6: ITEM | B6: DESCRIÇÃO DOS SERVIÇOS | C6: VALOR (R$) | D6: % ITEM | E6: 1 | F6: 2 | G6: 3 | H6: 4 | I6: 5 | J6: 6
A8: 2 | B8: =PLANILHA!E19 -> MOVIMENTO DE TERRA PARA FUNDAÇÕES | C8: =PLANILHA!J24 -> 0 | D8: =(C8/C40) -> #DIV/0! | E8: 1
E9: =E8*$C$8 -> 0 | F9: =F8*$C$8 -> 0 | G9: =G8*$C$8 -> 0 | H9: =H8*$C$8 -> 0 | I9: =I8*$C$8 -> 0 | J9: =J8*$C$8 -> 0
A10: 3 | B10: =PLANILHA!E26 -> FUNDAÇÕES | C10: =PLANILHA!J36 -> 0 | D10: =(C10/C40) -> #DIV/0! | E10: 0.6 | F10: 0.4
E11: =E10*$C$10 -> 0 | F11: =F10*$C$10 -> 0 | G11: =G10*$C$10 -> 0 | H11: =H10*$C$10 -> 0 | I11: =I10*$C$10 -> 0 | J11: =J10*$C$10 -> 0
A12: 5 | B12: =PLANILHA!E40 -> SISTEMA DE VEDAÇÃO VERTICAL | C12: =PLANILHA!J45 -> 0 | D12: =(C12/C40) -> #DIV/0! | F12: 1
E13: =E12*$C$12 -> 0 | F13: =F12*$C$12 -> 0 | G13: =G12*$C$12 -> 0 | H13: =H12*$C$12 -> 0 | I13: =I12*$C$12 -> 0 | J13: =J12*$C$12 -> 0
A14: 6 | B14: =PLANILHA!E47 -> ESQUADRIAS | C14: =PLANILHA!J96 -> 0 | D14: =(C14/C40) -> #DIV/0! | G14: 0.1 | H14: 0.6 | I14: 0.3
E15: =E14*$C$14 -> 0 | F15: =F14*$C$14 -> 0 | G15: =G14*$C$14 -> 0 | H15: =H14*$C$14 -> 0 | I15: =I14*$C$14 -> 0 | J15: =J14*$C$14 -> 0
A16: 10 | B16: =PLANILHA!E104 -> SISTEMAS DE PISOS | C16: =PLANILHA!J120 -> 0 | D16: =(C16/C40) -> #DIV/0! | H16: 0.4 | I16: 0.6
E17: =E16*$C$16 -> 0 | F17: =F16*$C$16 -> 0 | G17: =G16*$C$16 -> 0 | H17: =H16*$C$16 -> 0 | I17: =I16*$C$16 -> 0 | J17: =J16*$C$16 -> 0
A18: 11 | B18: =PLANILHA!E122 -> PINTURAS E ACABAMENTOS | C18: =PLANILHA!J131 -> 0 | D18: =(C18/C40) -> #DIV/0! | H18: 0.1 | I18: 0.7 | J18: 0.2
E19: =E18*$C$18 -> 0 | F19: =F18*$C$18 -> 0 | G19: =G18*$C$18 -> 0 | H19: =H18*$C$18 -> 0 | I19: =I18*$C$18 -> 0 | J19: =J18*$C$18 -> 0
A20: 14 | B20: =PLANILHA!E137 -> INSTALAÇÃO SANITÁRIA | C20: =PLANILHA!J140 -> 0 | D20: =(C20/C40) -> #DIV/0! | E20: 0.3 | F20: 0.4 | G20: 0.3
E21: =E20*$C$20 -> 0 | F21: =F20*$C$20 -> 0 | G21: =G20*$C$20 -> 0 | H21: =H20*$C$20 -> 0 | I21: =I20*$C$20 -> 0 | J21: =J20*$C$20 -> 0
A22: 15 | B22: =PLANILHA!E142 -> LOUÇAS, ACESSÓRIOS E METAIS | C22: =PLANILHA!J171 -> 0 | D22: =(C22/C40) -> #DIV/0! | H22: 0.2 | I22: 0.6 | J22: 0.2
E23: =E22*$C$22 -> 0 | F23: =F22*$C$22 -> 0 | G23: =G22*$C$22 -> 0 | H23: =H22*$C$22 -> 0 | I23: =I22*$C$22 -> 0 | J23: =J22*$C$22 -> 0
A24: 16 | B24: =PLANILHA!E173 -> INSTALAÇÃO DE GÁS COMBUSTÍVEL | C24: =PLANILHA!J181 -> 0 | D24: =(C24/C40) -> #DIV/0! | F24: 0.5 | G24: 0.5
E25: =E24*$C$24 -> 0 | F25: =F24*$C$24 -> 0 | G25: =G24*$C$24 -> 0 | H25: =H24*$C$24 -> 0 | I25: =I24*$C$24 -> 0 | J25: =J24*$C$24 -> 0
A26: 17 | B26: =PLANILHA!E183 -> SISTEMA DE PROTEÇÃO CONTRA INCÊNDIO | C26: =PLANILHA!J209 -> 0 | D26: =(C26/C40) -> #DIV/0! | F26: 0.2 | G26: 0.5 | H26: 0.3
E27: =E26*$C$26 -> 0 | F27: =F26*$C$26 -> 0 | G27: =G26*$C$26 -> 0 | H27: =H26*$C$26 -> 0 | I27: =I26*$C$26 -> 0 | J27: =J26*$C$26 -> 0
A28: 18 | B28: =PLANILHA!E211 -> INSTALAÇÃO ELÉTRICA - 127V | C28: =PLANILHA!J256 -> 0 | D28: =(C28/C40) -> #DIV/0! | E28: 0.2 | F28: 0.3 | G28: 0.4 | H28: 0.1
E29: =E28*$C$28 -> 0 | F29: =F28*$C$28 -> 0 | G29: =G28*$C$28 -> 0 | H29: =H28*$C$28 -> 0 | I29: =I28*$C$28 -> 0 | J29: =J28*$C$28 -> 0
A30: 20 | B30: =PLANILHA!E260 -> INSTALAÇÕES DE REDE ESTRUTURADA | C30: =PLANILHA!J288 -> 0 | D30: =(C30/C40) -> #DIV/0! | G30: 0.7 | H30: 0.3
E31: =E30*$C$30 -> 0 | F31: =F30*$C$30 -> 0 | G31: =G30*$C$30 -> 0 | H31: =H30*$C$30 -> 0 | I31: =I30*$C$30 -> 0 | J31: =J30*$C$30 -> 0
A32: 21 | B32: =PLANILHA!E290 -> SISTEMA DE EXAUSTÃO MECÂNICA | C32: =PLANILHA!J296 -> 0 | D32: =(C32/C40) -> #DIV/0! | G32: 0.6 | H32: 0.4
E33: =E32*$C$32 -> 0 | F33: =F32*$C$32 -> 0 | G33: =G32*$C$32 -> 0 | H33: =H32*$C$32 -> 0 | I33: =I32*$C$32 -> 0 | J33: =J32*$C$32 -> 0
A34: 22 | B34: =PLANILHA!E298 -> SISTEMA DE PROTEÇÃO CONTRA DESCARGAS ATMOSFÉRICAS (SPDA) | C34: =PLANILHA!J308 -> 0 | D34: =(C34/C40) -> #DIV/0! | G34: 1
E35: =E34*$C$34 -> 0 | F35: =F34*$C$34 -> 0 | G35: =G34*$C$34 -> 0 | H35: =H34*$C$34 -> 0 | I35: =I34*$C$34 -> 0 | J35: =J34*$C$34 -> 0
A36: 23 | B36: =PLANILHA!E310 -> SERVIÇOS COMPLEMENTARES | C36: =PLANILHA!J333 -> 0 | D36: =(C36/C40) -> #DIV/0! | H36: 0.3 | I36: 0.5 | J36: 0.2
E37: =E36*$C$36 -> 0 | F37: =F36*$C$36 -> 0 | G37: =G36*$C$36 -> 0 | H37: =H36*$C$36 -> 0 | I37: =I36*$C$36 -> 0 | J37: =J36*$C$36 -> 0
A38: 24 | B38: =PLANILHA!E335 -> SERVIÇOS FINAIS | C38: =PLANILHA!J338 -> 0 | D38: =(C38/C40) -> #DIV/0! | J38: 1
E39: =E38*$C$38 -> 0 | F39: =F38*$C$38 -> 0 | G39: =G38*$C$38 -> 0 | H39: =H38*$C$38 -> 0 | I39: =I38*$C$38 -> 0 | J39: =J38*$C$38 -> 0
A40: VALORES TOTAIS | C40: =SUM(C8:C39) -> 0 | D40: =SUM(D8:D39) -> #DIV/0! | E40: =E9+E11+E13+E15+E17+E19+E21+E23+E25+E27+E29+E31+E33+E35+E37+E39 -> 0 | F40: =F9+F11+F13+F15+F17+F19+F21+F23+F25+F27+F29+F31+F33+F35+F37+F39 -> 0 | G40: =G9+G11+G13+G15+G17+G19+G21+G23+G25+G27+G29+G31+G33+G35+G37+G39 -> 0 | H40: =H9+H11+H13+H15+H17+H19+H21+H23+H25+H27+H29+H31+H33+H35+H37+H39 -> 0 | I40: =I9+I11+I13+I15+I17+I19+I21+I23+I25+I27+I29+I31+I33+I35+I37+I39 -> 0 | J40: =J9+J11+J13+J15+J17+J19+J21+J23+J25+J27+J29+J31+J33+J35+J37+J39 -> 0
B42: =PLANILHA!E343 -> Divinésia, 22 de janeiro de 2026
B44: ___________________________________________
B45: =PLANILHA!E347 -> 0
