Workbook

Sheet PLANILHA
B2: PREFEITURA MUNICIPAL DE DIVINÉSIA - MG | F2: Data Base: SINAPI 09/2025
B6: OBRA: CONSTRUÇÃO CRECHE PROINFÂNCIA TIPO 1 | F6: DATA: 22/01/2026
B8: MUNICÍPIO DE DIVINÉSIA - MG
K12: 1.277
B13: PLANILHA
G14: Licitado
B15: ITEM | C15: CÓDIGO | D15: FONTE | E15: DESCRIÇÃO DOS SERVIÇOS | F15: UN. | G15: QUANT. | H15: PREÇO (R$) | I15: PREÇO C/ BDI (R$) | J15: TOTAL (R$)
B17: 1 | E17: SERVIÇOS PRELIMINARES
G18: 0
B19: 2 | E19: MOVIMENTO DE TERRA PARA FUNDAÇÕES
B20: 2.3 | E20: CASTELO D'ÁGUA
B21: 2.3.1 | C21: 93358 | D21: SINAPI | E21: Escavação manual de valas em qualquer terreno exceto rocha até h=2,0 m | F21: m³ | G21: 9.6 | I21: =H21*$K$12 -> 0 | J21: =SUM(G21*I21) -> 0
B22: 2.3.2 | C22: 105597 | D22: SINAPI | E22: REGULARIZAÇÃO E COMPACTAÇÃO DE SUBLEITO DE SOLO PREDOMINANTEMENTE ARGILOSO, PARA OBRAS DE RECONSTRUÇÃO DE PAVIMENTOS. AF_09/2024 | F22: m² | G22: 12.96 | I22: =H22*$K$12 -> 0 | J22: =SUM(G22*I22) -> 0
B23: 2.3.3 | C23: 93382 | D23: SINAPI | E23: REATERRO MANUAL DE VALAS, COM COMPACTADOR DE SOLOS DE PERCUSSÃO. AF_08/2023 | F23: m³ | G23: 1.82 | I23: =H23*$K$12 -> 0 | J23: =SUM(G23*I23) -> 0
H24: Subtotal | J24: =SUM(J21:J23) -> 0
B26: 3 | E26: FUNDAÇÕES
B27: 3.3 | E27: FUNDAÇÃO DO CASTELO D'ÁGUA
B28: 3.3.1 | C28: 101174 | D28: SINAPI | E28: ESTACA BROCA DE CONCRETO, DIÂMETRO DE 25CM, ESCAVAÇÃO MANUAL COM TRADO CONCHA, COM ARMADURA DE ARRANQUE. AF_05/2020 | F28: m | G28: 63 | I28: =H28*$K$12 -> 0 | J28: =SUM(G28*I28) -> 0
B29: 3.3.3 | C29: 95241 | D29: SINAPI | E29: Lastro de concreto não-estrutural, espessura 5cm | F29: m² | G29: 12.96 | I29: =H29*$K$12 -> 0 | J29: =SUM(G29*I29) -> 0
B30: 3.3.4 | C30: 96534 | D30: SINAPI | E30: FABRICAÇÃO, MONTAGEM E DESMONTAGEM DE FÔRMA PARA BLOCO DE COROAMENTO, EM MADEIRA SERRADA, E=25 MM, 4 UTILIZAÇÕES. AF_01/2024 | F30: m² | G30: 8.64 | I30: =H30*$K$12 -> 0 | J30: =SUM(G30*I30) -> 0
B31: 3.3.5 | C31: 92919 | D31: SINAPI | E31: Armação de aço CA-50 Ø 10mm; incluso fornecimento, corte, dobra e colocação | F31: kg | G31: 238.29 | I31: =H31*$K$12 -> 0 | J31: =SUM(G31*I31) -> 0
B32: 3.3.6 | C32: 92921 | D32: SINAPI | E32: Armação de aço CA-50 Ø 12,5mm; incluso fornecimento, corte, dobra e colocação | F32: kg | G32: 199.34 | I32: =H32*$K$12 -> 0 | J32: =SUM(G32*I32) -> 0
B33: 3.3.7 | C33: 92924 | D33: SINAPI | E33: Armação de aço CA-50 Ø 25mm; incluso fornecimento, corte, dobra e colocação | F33: kg | G33: 18.49 | I33: =H33*$K$12 -> 0 | J33: =SUM(G33*I33) -> 0
B34: 3.3.8 | C34: 92915 | D34: SINAPI | E34: Armação de aço CA-60 Ø 4,2mm; incluso fornecimento, corte, dobra e colocação | F34: kg | G34: 23.54 | I34: =H34*$K$12 -> 0 | J34: =SUM(G34*I34) -> 0
B35: 3.3.9 | C35: 34493 | D35: SINAPI | E35: CONCRETO USINADO BOMBEAVEL, CLASSE DE RESISTENCIA C25, COM BRITA 0 E 1, SLUMP = 100 +/- 20 MM, EXCLUI SERVICO DE BOMBEAMENTO (NBR 8953) | F35: m³ | G35: 10.87 | I35: =H35*$K$12 -> 0 | J35: =SUM(G35*I35) -> 0
H36: Subtotal | J36: =SUM(J28:J35) -> 0
G37: 0
B38: 4 | E38: SUPERESTRUTURA
G39: 0
B40: 5 | E40: SISTEMA DE VEDAÇÃO VERTICAL
B41: 5.1 | E41: ELEMENTOS VAZADOS | G41: 0
B42: 5.1.1 | C42: 101161 | D42: SINAPI | E42: ALVENARIA DE VEDAÇÃO COM ELEMENTO VAZADO DE CONCRETO (COBOGÓ) DE 7X50X50CM E ARGAMASSA DE ASSENTAMENTO COM PREPARO EM BETONEIRA. AF_05/2020 | F42: m² | G42: 6.1 | I42: =H42*$K$12 -> 0 | J42: =SUM(G42*I42) -> 0
B43: 5.2 | E43: ALVENARIA DE VEDAÇÃO | G43: 0
B44: 5.2.7 | C44: C4495 | D44: SEINFRA | E44: Fechamento de shafts em gesso acartonado | F44: m² | G44: 7.2 | I44: =H44*$K$12 -> 0 | J44: =SUM(G44*I44) -> 0
H45: Subtotal | J45: =SUM(J42:J44) -> 0
G46: 0
B47: 6 | E47: ESQUADRIAS
B48: 6.1 | E48: PORTAS DE MADEIRA | G48: 0
B49: 6.1.6 | C49: 90841 | D49: SINAPI | E49: KIT DE PORTA DE MADEIRA PARA PINTURA, SEMI-OCA (LEVE OU MÉDIA), PADRÃO MÉDIO, 60X210CM, ESPESSURA DE 3,5CM, ITENS INCLUSOS: DOBRADIÇAS, MONTAGEM E INSTALAÇÃO DO BATENTE, FECHADURA COM EXECUÇÃO DO FURO - FORNECIMENTO E INSTALAÇÃO. AF_12/2019 | F49: un | G49: 8 | I49: =H49*$K$12 -> 0 | J49: =SUM(G49*I49) -> 0
B50: 6.2 | E50: FERRAGENS E ACESSÓRIOS
...

Sheet CRONOGRAMA
A1: PREFEITURA MUNICIPAL DE DIVINÉSIA - MG
A2: COMISSÃO PERMANENTE DE LICITAÇÕES
A3: OBRA: CONSTRUÇÃO CRECHE PROINFÂNCIA TIPO 1
A4: MUNICÍPIO DE DIVINÉSIA - MG | I4: =PLANILHA!F6 -> DATA: 22/01/2026
A5: CRONOGRAMA FÍSICO FINANCEIRO - SERVIÇOS A FINALIZAR
A6: ITEM | B6: DESCRIÇÃO DOS SERVIÇOS | C6: VALOR (R$) | D6: % ITEM | E6: 1 | F6: 2 | G6: 3 | H6: 4 | I6: 5 | J6: 6
A8: 2 | B8: =PLANILHA!E19 -> MOVIMENTO DE TERRA PARA FUNDAÇÕES | C8: =PLANILHA!J24 -> 0 | D8: =(C8/C40) -> #DIV/0! | E8: 1
E9: =E8*$C$8 -> 0 | F9: =F8*$C$8 -> 0 | G9: =G8*$C$8 -> 0 | H9: =H8*$C$8 -> 0 | I9: =I8*$C$8 -> 0 | J9: =J8*$C$8 -> 0
A10: 3 | B10: =PLANILHA!E26 -> FUNDAÇÕES | C10: =PLANILHA!J36 -> 0 | D10: =(C10/C40) -> #DIV/0! | E10: 0.6 | F10: 0.4
E11: =E10*$C$10 -> 0 | F11: =F10*$C$10 -> 0 | G11: =G10*$C$10 -> 0 | H11: =H10*$C$10 -> 0 | I11: =I10*$C$10 -> 0 | J11: =J10*$C$10 -> 0
A12: 5 | B12: =PLANILHA!E40 -> SISTEMA DE VEDAÇÃO VERTICAL | C12: =PLANILHA!J45 -> 0 | D12: =(C12/C40) -> #DIV/0! | F12: 1
E13: =E12*$C$12 -> 0 | F13: =F12*$C$12 -> 0 | G13: =G12*$C$12 -> 0 | H13: =H12*$C$12 -> 0 | I13: =I12*$C$12 -> 0 | J13: =J12*$C$12 -> 0
A14: 6 | B14: =PLANILHA!E47 -> ESQUADRIAS | C14: =PLANILHA!J96 -> 0 | D14: =(C14/C40) -> #DIV/0! | G14: 0.1 | H14: 0.6 | I14: 0.3
E15: =E14*$C$14 -> 0 | F15: =F14*$C$14 -> 0 | G15: =G14*$C$14 -> 0 | H15: =H14*$C$14 -> 0 | I15: =I14*$C$14 -> 0 | J15: =J14*$C$14 -> 0
A16: 10 | B16: =PLANILHA!E104 -> SISTEMAS DE PISOS | C16: =PLANILHA!J120 -> 0 | D16: =(C16/C40) -> #DIV/0! | H16: 0.4 | I16: 0.6
E17: =E16*$C$16 -> 0 | F17: =F16*$C$16 -> 0 | G17: =G16*$C$16 -> 0 | H17: =H16*$C$16 -> 0 | I17: =I16*$C$16 -> 0 | J17: =J16*$C$16 -> 0
A18: 11 | B18: =PLANILHA!E122 -> PINTURAS E ACABAMENTOS | C18: =PLANILHA!J131 -> 0 | D18: =(C18/C40) -> #DIV/0! | H18: 0.1 | I18: 0.7 | J18: 0.2
E19: =E18*$C$18 -> 0 | F19: =F18*$C$18 -> 0 | G19: =G18*$C$18 -> 0 | H19: =H18*$C$18 -> 0 | I19: =I18*$C$18 -> 0 | J19: =J18*$C$18 -> 0
A20: 14 | B20: =PLANILHA!E137 -> INSTALAÇÃO SANITÁRIA | C20: =PLANILHA!J140 -> 0 | D20: =(C20/C40) -> #DIV/0! | E20: 0.3 | F20: 0.4 | G20: 0.3
E21: =E20*$C$20 -> 0 | F21: =F20*$C$20 -> 0 | G21: =G20*$C$20 -> 0 | H21: =H20*$C$20 -> 0 | I21: =I20*$C$20 -> 0 | J21: =J20*$C$20 -> 0
A22: 15 | B22: =PLANILHA!E142 -> LOUÇAS, ACESSÓRIOS E METAIS | C22: =PLANILHA!J171 -> 0 | D22: =(C22/C40) -> #DIV/0! | H22: 0.2 | I22: 0.6 | J22: 0.2
E23: =E22*$C$22 -> 0 | F23: =F22*$C$22 -> 0 | G23: =G22*$C$22 -> 0 | H23: =H22*$C$22 -> 0 | I23: =I22*$C$22 -> 0 | J23: =J22*$C$22 -> 0
A24: 16 | B24: =PLANILHA!E173 -> INSTALAÇÃO DE GÁS COMBUSTÍVEL | C24: =PLANILHA!J181 -> 0 | D24: =(C24/C40) -> #DIV/0! | F24: 0.5 | G24: 0.5
E25: =E24*$C$24 -> 0 | F25: =F24*$C$24 -> 0 | G25: =G24*$C$24 -> 0 | H25: =H24*$C$24 -> 0 | I25: =I24*$C$24 -> 0 | J25: =J24*$C$24 -> 0
A26: 17 | B26: =PLANILHA!E183 -> SISTEMA DE PROTEÇÃO CONTRA INCÊNDIO | C26: =PLANILHA!J209 -> 0 | D26: =(C26/C40) -> #DIV/0! | F26: 0.2 | G26: 0.5 | H26: 0.3
E27: =E26*$C$26 -> 0 | F27: =F26*$C$26 -> 0 | G27: =G26*$C$26 -> 0 | H27: =H26*$C$26 -> 0 | I27: =I26*$C$26 -> 0 | J27: =J26*$C$26 -> 0
A28: 18 | B28: =PLANILHA!E211 -> INSTALAÇÃO ELÉTRICA - 127V | C28: =PLANILHA!J256 -> 0 | D28: =(C28/C40) -> #DIV/0! | E28: 0.2 | F28: 0.3 | G28: 0.4 | H28: 0.1
E29: =E28*$C$28 -> 0 | F29: =F28*$C$28 -> 0 | G29: =G28*$C$28 -> 0 | H29: =H28*$C$28 -> 0 | I29: =I28*$C$28 -> 0 | J29: =J28*$C$28 -> 0
A30: 20 | B30: =PLANILHA!E260 -> INSTALAÇÕES DE REDE ESTRUTURADA | C30: =PLANILHA!J288 -> 0 | D30: =(C30/C40) -> #DIV/0! | G30: 0.7 | H30: 0.3
E31: =E30*$C$30 -> 0 | F31: =F30*$C$30 -> 0 | G31: =G30*$C$30 -> 0 | H31: =H30*$C$30 -> 0 | I31: =I30*$C$30 -> 0 | J31: =J30*$C$30 -> 0
A32: 21 | B32: =PLANILHA!E290 -> SISTEMA DE EXAUSTÃO MECÂNICA | C32: =PLANILHA!J296 -> 0 | D32: =(C32/C40) -> #DIV/0! | G32: 0.6 | H32: 0.4
E33: =E32*$C$32 -> 0 | F33: =F32*$C$32 -> 0 | G33: =G32*$C$32 -> 0 | H33: =H32*$C$32 -> 0 | I33: =I32*$C$32 -> 0 | J33: =J32*$C$32 -> 0
A34: 22 | B34: =PLANILHA!E298 -> SISTEMA DE PROTEÇÃO CONTRA DESCARGAS ATMOSFÉRICAS (SPDA) | C34: =PLANILHA!J308 -> 0 | D34: =(C34/C40) -> #DIV/0! | G34: 1
E35: =E34*$C$34 -> 0 | F35: =F34*$C$34 -> 0 | G35: =G34*$C$34 -> 0 | H35: =H34*$C$34 -> 0 | I35: =I34*$C$34 -> 0 | J35: =J34*$C$34 -> 0
A36: 23 | B36: =PLANILHA!E310 -> SERVIÇOS COMPLEMENTARES | C36: =PLANILHA!J333 -> 0 | D36: =(C36/C40) -> #DIV/0! | H36: 0.3 | I36: 0.5 | J36: 0.2
E37: =E36*$C$36 -> 0 | F37: =F36*$C$36 -> 0 | G37: =G36*$C$36 -> 0 | H37: =H36*$C$36 -> 0 | I37: =I36*$C$36 -> 0 | J37: =J36*$C$36 -> 0
A38: 24 | B38: =PLANILHA!E335 -> SERVIÇOS FINAIS | C38: =PLANILHA!J338 -> 0 | D38: =(C38/C40) -> #DIV/0! | J38: 1
E39: =E38*$C$38 -> 0 | F39: =F38*$C$38 -> 0 | G39: =G38*$C$38 -> 0 | H39: =H38*$C$38 -> 0 | I39: =I38*$C$38 -> 0 | J39: =J38*$C$38 -> 0
A40: VALORES TOTAIS | C40: =SUM(C8:C39) -> 0 | D40: =SUM(D8:D39) -> #DIV/0! | E40: =E9+E11+E13+E15+E17+E19+E21+E23+E25+E27+E29+E31+E33+E35+E37+E39 -> 0 | F40: =F9+F11+F13+F15+F17+F19+F21+F23+F25+F27+F29+F31+F33+F35+F37+F39 -> 0 | G40: =G9+G11+G13+G15+G17+G19+G21+G23+G25+G27+G29+G31+G33+G35+G37+G39 -> 0 | H40: =H9+H11+H13+H15+H17+H19+H21+H23+H25+H27+H29+H31+H33+H35+H37+H39 -> 0 | I40: =I9+I11+I13+I15+I17+I19+I21+I23+I25+I27+I29+I31+I33+I35+I37+I39 -> 0 | J40: =J9+J11+J13+J15+J17+J19+J21+J23+J25+J27+J29+J31+J33+J35+J37+J39 -> 0
B42: =PLANILHA!E343 -> Divinésia, 22 de janeiro de 2026
...
