Workbook

Sheet Planilha1
A1: Prefeitura Municipal de Visconde do Rio Branco Estado de Minas Gerais
A3: PLANILHA ORÇAMENTÁRIA
A4: OBRA: Cobertura da quadra Cel Joaquim Lopes
A5: BDI=25,36%
A6: Fontes | B6: Localizade
A7: SETOP- agosto/2023 s/ desoneração | B7: Avenida Presidente Arthur da Silva Bernardes | G7: BDI 1: | H7: 0.2536
B8: Data: 15/03/2024
A10: ITEM | B10: FONTE | C10: CÓDIGO | D10: DESCRIÇÃO | E10: UN | F10: QUANT. | G10: CUSTO UNITÁRIO (SEM BDI) (R$) | H10: BDI 1= 25,36% | I10: PREÇO UNITÁRIO (COM BDI) (R$) | J10: PREÇO TOTAL (R$)
A11: 1. | B11: Cobertura da quadra | J11: =SUM(J12,J14,J23,J27,J31,J35) -> 382693.48
A12: 1.1 | B12: Serviços Preliminares | J12: =J13 -> 1750.24
A13: 1.1.1 | B13: SETOP | C13: ED-28427 | D13: FORNECIMENTO E COLOCAÇÃO DE PLACA DE OBRA EM CHAPA GALVANIZADA #26, ESP. 0,45MM, DIMENSÃO (3X1,5)M, PLOTADA COM ADESIVO VINÍLICO, AFIXADA COM REBITES 4,8X40MM, EM ESTRUTURA METÁLICA DE METALON 20X20MM, ESP. 1,25MM, INCLUSIVE SUPORTE EM EUCALIPTO AUTOCLAVADO PINTADO COM TINTA PVA DUAS (2) DEMÃOS | E13: und. | F13: 1 | G13: 1396.17 | H13: BDI 1 | I13: =ROUND(G13+(G13*$H$7),2) -> 1750.24 | J13: =ROUNDDOWN(I13*F13,2) -> 1750.24
A14: 1.2 | B14: Fundação cobertura | J14: =SUM(J15:J22) -> 30114.73
A15: 1.2.1 | B15: SETOP | C15: ED-51108 | D15: ESCAVAÇÃO MANUAL PARA BLOCO DE COROAMENTO OU SAPATA (INCLUINDO ESCAVAÇÃO PARA COLOCAÇÃO DE FÔRMAS). AF_06/2017 | E15: m³ | F15: 17.64 | G15: 88.89 | H15: BDI 1 | I15: =ROUND(G15+(G15*$H$7),2) -> 111.43 | J15: =ROUNDUP(I15*F15,2) -> 1965.63
A16: 1.2.2 | B16: SETOP | C16: ED-51097 | D16: COMPACTAÇÃO MANUAL DE ATERRO COM SOQUETE, INCLUSIVE ESPALHAMENTO MANUAL | E16: m³ | F16: 9.06 | G16: 67.39 | H16: BDI 1 | I16: =ROUND(G16+(G16*$H$7),2) -> 84.48 | J16: =ROUNDDOWN(I16*F16,2) -> 765.38
A17: 1.2.3 | B17: SETOP | C17: ED-26522 | D17: EXECUÇÃO DE ESTACA TIPO STRAUSS, DIÂMETRO 25CM, EXCLUSIVE ARMAÇÃO E CONCRETO ESTRUTURAL | E17: m | F17: 42 | G17: 41.66 | H17: BDI 1 | I17: =ROUND(G17+(G17*$H$7),2) -> 52.22 | J17: =ROUNDUP(I17*F17,2) -> 2193.24
A18: 1.2.4 | B18: SETOP | C18: ED-48298 | D18: CORTE, DOBRA E MONTAGEM DE AÇO CA-50/60, INCLUSIVE ESPAÇADOR (STRAUSS) | E18: KG | F18: 158.02 | G18: 11.89 | H18: BDI 1 | I18: =ROUND(G18+(G18*$H$7),2) -> 14.91 | J18: =ROUNDUP(I18*F18,2) -> 2356.08
A19: 1.2.5 | B19: SETOP | C19: ED-49619 | D19: FORNECIMENTO DE CONCRETO ESTRUTURAL, PREPARADO EM OBRA, COM FCK 25MPA, INCLUSIVE LANÇAMENTO, ADENSAMENTO E ACABAMENTO (STRAUSS) | E19: m³ | F19: 2.1 | G19: 750.67 | H19: BDI 1 | I19: =ROUND(G19+(G19*$H$7),2) -> 941.04 | J19: =ROUNDUP(I19*F19,2) -> 1976.19
A20: 1.2.6 | B20: SETOP | C20: ED-48298 | D20: CORTE, DOBRA E MONTAGEM DE AÇO CA-50/60, INCLUSIVE ESPAÇADOR (SAPATAS E ARRANQUES) | E20: KG | F20: =576+270 -> 846 | G20: 11.89 | H20: BDI 1 | I20: =ROUND(G20+(G20*$H$7),2) -> 14.91 | J20: =ROUNDUP(I20*F20,2) -> 12613.86
A21: 1.2.7 | B21: SETOP | C21: ED-49619 | D21: FORNECIMENTO DE CONCRETO ESTRUTURAL, PREPARADO EM OBRA, COM FCK 25MPA, INCLUSIVE LANÇAMENTO, ADENSAMENTO E ACABAMENTO (STRAUSS) | E21: m³ | F21: =F15-F16 -> 8.58 | G21: 750.67 | H21: BDI 1 | I21: =ROUND(G21+(G21*$H$7),2) -> 941.04 | J21: =ROUNDUP(I21*F21,2) -> 8074.13
A22: 1.2.8 | B22: SETOP | C22: ED-49643 | D22: FÔRMA E DESFORMA DE TÁBUA E SARRAFO, REAPROVEITAMENTO (3X), EXCLUSIVE ESCORAMENTO | E22: m² | F22: =0.4*0.4*1.05*14 -> 2.352 | G22: 57.73 | H22: BDI 1 | I22: =ROUND(G22+(G22*$H$7),2) -> 72.37 | J22: =ROUNDUP(I22*F22,2) -> 170.22
A23: 1.3 | B23: Cobertura | J23: =SUM(J24:J26) -> 305864.51
A24: 1.3.1 | B24: SETOP | C24: ED-20573 | D24: FORNECIMENTO DE ESTRUTURA METÁLICA E ENGRADAMENTO METÁLICO PARA TELHADO EM ARCO DE QUADRA POLIESPORTIVA EM AÇO, COBERTURA EM ARCO PADRÃO DA QUADRA ESCOLAR, EXCLUSIVE TELHA, INCLUSIVE PILAR METÁLICO, FABRICAÇÃO, TRANSPORTE, MONTAGEM, APLICAÇÃO DE FUNDO PREPARADOR ANTICORROSIVO, UMA (1) DEMÃO E PINTURA ESMALTE, DUAS (2) DEMÃOS | E24: m² | F24: 673 | G24: 249.69 | H24: BDI 1 | I24: =ROUND(G24+(G24*$H$7),2) -> 313.01 | J24: =ROUNDUP(I24*F24,2) -> 210655.73
A25: 1.3.2 | B25: SETOP | C25: ED-13852 | D25: COBERTURA EM TELHA METÁLICA GALVANIZADA ONDULADA, TIPO SIMPLES, ESP. 0,50MM, ACABAMENTO NATURAL, INCLUSIVE ACESSÓRIOS PARA FIXAÇÃO, FORNECIMENTO E INSTALAÇÃO | E25: m² | F25: =673 +28 -> 701 | G25: 97.98 | H25: BDI 1 | I25: =ROUND(G25+(G25*$H$7),2) -> 122.83 | J25: =ROUNDUP(I25*F25,2) -> 86103.83
A26: 1.3.3 | B26: SETOP | C26: ED-50657 | D26: CALHA EM CHAPA GALVANIZADA, ESP. 0,65MM (GSG-24), COM DESENVOLVIMENTO DE 60CM, INCLUSIVE IÇAMENTO MANUAL VERTICAL | E26: m | F26: 76.48 | G26: 94.97 | H26: BDI 1 | I26: =ROUND(G26+(G26*$H$7),2) -> 119.05 | J26: =ROUNDUP(I26*F26,2) -> 9104.95
A27: 1.4 | B27: Drenagem | J27: =SUM(J28:J30) -> 17428.56
A28: 1.4.1 | B28: SETOP | C28: ED-49170 | D28: CAIXA DE PASSAGEM EM ALVENARIA E TAMPA DE CONCRETO, FUNDO DE BRITA, TIPO 1, 50 X 50 X 60 CM, INCLUSIVE ESCAVAÇÃO, REATERRO E BOTA-FORA | E28: und. | F28: 4 | G28: 369 | H28: BDI 1 | I28: =ROUND(G28+(G28*$H$7),2) -> 462.58 | J28: =ROUNDUP(I28*F28,2) -> 1850.32
A29: 1.4.2 | B29: SETOP | C29: ED-50668 | D29: CONDUTOR DE AP DO TELHADO EM TUBO PVC ESGOTO, INCLUSIVE CONEXÕES E SUPORTES, 100 MM | E29: m | F29: =(5+38.24+12)*2 -> 110.48 | G29: 88.09 | H29: BDI 1 | I29: =ROUND(G29+(G29*$H$7),2) -> 110.43 | J29: =ROUNDDOWN(I29*F29,2) -> 12200.3
A30: 1.4.3 | B30: SETOP | C30: ED-50106 | D30: FORNECIMENTO E ASSENTAMENTO DE TUBO PVC RÍGIDO, COLETOR DE ESGOTO LISO (JEI), DN 150 MM (6"), INCLUSIVE CONEXÕES | E30: m | F30: =14.72*2 -> 29.44 | G30: 91.53 | H30: BDI 1 | I30: =ROUND(G30+(G30*$H$7),2) -> 114.74 | J30: =ROUNDDOWN(I30*F30,2) -> 3377.94
A31: 1.5 | B31: Pintura do piso e alambrado | J31: =SUM(J32:J34) -> 21787.855
A32: 1.5.1 | B32: SETOP | C32: ED-50461 | D32: PINTURA ACRÍLICA PARA PISO EM QUADRAS ESPORTIVA, DUAS (2) DEMÃOS | E32: m² | F32: 638.56 | G32: 11.66 | H32: BDI 1 | I32: =G32*1.2536 -> 14.616976 | J32: =ROUNDUP(I32*F32,2) -> 9333.82
A33: 1.5.2 | B33: SETOP | C33: ED-50460 | D33: PINTURA ACRÍLICA PARA PISO EM FAIXA DE DEMARCAÇÃO DE QUADRA, DUAS (2) DEMÃOS, FAIXA COM LARGURA DE 5 CM | E33: m | F33: 189 | G33: 3.52 | H33: BDI 1 | I33: =G33*1.2536 -> 4.412672 | J33: =ROUNDDOWN(I33*F33,2) -> 833.99
A34: 1.5.3 | B34: SETOP | C34: ED-9100 | D34: ALAMBRADO PARA QUADRA ESPORTIVA, EM TELA DE ARAME GALVANIZADO COM TRAMA LOSANGULAR DE 2" (50,8MM) E FIO BWG12 (2,77MM), EXCLUSIVE PINTURA, INCLUSIVE FIXAÇÃO E FORNECIMENTO EM QUADROS DE TUBOS DE AÇO CARBONO GALVANIZADO DIÂMETRO DE 50MM (2") | E34: m² | F34: =17.3*3 -> 51.9 | G34: 178.6 | H34: BDI 1 | I34: =G34*1.2536 -> 223.89296 | J34: =I34*F34 -> 11620.045
A35: 1.6 | B35: Serviços Complementares | J35: =J36 -> 5747.59
A36: 1.6.1 | B36: SETOP | C36: ED-50266 | D36: LIMPEZA FINAL PARA ENTREGA DA OBRA | E36: m² | F36: 638.56 | G36: 7.18 | H36: BDI 1 | I36: =G36*1.2536 -> 9.000848 | J36: =ROUNDUP(I36*F36,2) -> 5747.59
I38: TOTAL COM BDI | J38: =J12+J14+J23+J27+J31+J35 -> 382693.48
B39: Visconde do Rio Branco, 15 de março de 2024.
E42: ______________________________________
E43: Thainá Pessata de Souza
E44: Engenheira Civil – CREA: 225519/D

Sheet Planilha2
A1: CRONOGRAMA FÍSICO/FINANCEIRO
A3: PREFEITURA MUNICIPAL DE VISCONDE DO RIO BRANCO
A4: COBERTURA DA QUADRA CORONEL JOAQUIM LOPES
A5: Localidade: Avenida Presidente Arthur Bernardes, Visconde do Rio Branco- MG
A8: ITEM | B8: DESCRIÇÃO | C8: TOTAL DO ITEM | D8: % | E8: 1ª Etapa | G8: 2ª Etapa | I8: 3ª Etapa | K8: 4ª Etapa
A9: 1 | B9: =Planilha1!B12 -> Serviços Preliminares | C9: =Planilha1!J12 -> 1750.24 | D9: =C9/C15 -> 0.0045734774 | E9: 1 | F9: =E9*C9 -> 1750.24
A10: 2 | B10: =Planilha1!B14 -> Fundação cobertura | C10: =Planilha1!J14 -> 30114.73 | D10: =C10/C15 -> 0.078691515 | E10: 0.8 | F10: =C10*E10 -> 24091.784 | G10: 0.2 | H10: =G10*C10 -> 6022.946
A11: 3 | B11: =Planilha1!B23 -> Cobertura | C11: =Planilha1!J23 -> 305864.51 | D11: =C11/C15 -> 0.79924149 | G11: 0.5 | H11: =G11*C11 -> 152932.26 | I11: 0.5 | J11: =I11*C11 -> 152932.26
A12: 4 | B12: =Planilha1!B27 -> Drenagem | C12: =Planilha1!J27 -> 17428.56 | D12: =C12/C15 -> 0.045541826 | K12: 1 | L12: =K12*C12 -> 17428.56
A13: 5 | B13: =Planilha1!B31 -> Pintura do piso e alambrado | C13: =Planilha1!J31 -> 21787.855 | D13: =C13/C15 -> 0.056932912 | K13: 1 | L13: =K13*C13 -> 21787.855
A14: 6 | B14: =Planilha1!B35 -> Serviços Complementares | C14: =Planilha1!J35 -> 5747.59 | D14: =C14/C15 -> 0.015018782 | K14: 1 | L14: =K14*C14 -> 5747.59
A15: VALOR TOTAL DOS SERVIÇOS | C15: =(SUM(C9:C14)) -> 382693.48 | D15: =SUM(D9:D14) -> 1 | E15: =F15/C15 -> 0.067526689 | F15: =SUM(F9:F12) -> 25842.024 | G15: =H15/C15 -> 0.41535905 | H15: =SUM(H9:H12) -> 158955.2 | I15: =J15/C15 -> 0.39962074 | J15: =SUM(J9:J12) -> 152932.26 | K15: =L15/C15 -> 0.11749352 | L15: =SUM(L9:L14) -> 44964.005
E16: TOTAL DO MÊS | G16: TOTAL DO MÊS | I16: TOTAL DO MÊS | K16: TOTAL DO MÊS
E17: =E15 -> 0.067526689 | F17: =F15 -> 25842.024 | G17: =H17/C15 -> 0.48288574 | H17: =H15+F17 -> 184797.23 | I17: =J17/C15 -> 0.88250648 | J17: =J15+H17 -> 337729.48 | K17: =L17/C15 -> 1 | L17: =L15+J17 -> 382693.48
E18: TOTAL ACUMULADO | G18: TOTAL ACUMULADO | I18: TOTAL ACUMULADO | K18: TOTAL ACUMULADO
A20: Visconde do Rio Branco, 15 de março de 2024.
A23: _____________________________________
A24: Thainá Pessata de Souza
A25: Engenheira Civil - CREA MG: 225.519/D

Sheet Planilha3
A1: Prefeitura Municipal de Visconde do Rio Branco Estado de Minas Gerais
A3: PLANILHA ORÇAMENTÁRIA
A4: OBRA: Cobertura da quadra Cel Joaquim Lopes
A5: BDI=25,36%
A6: Fontes | B6: Localizade
A7: SETOP- agosto/2023 s/ desoneração | B7: Avenida Presidente Arthur da Silva Bernardes | G7: BDI 1: | H7: 0.2536
B8: Data: 15/03/2024
A10: ITEM | B10: FONTE | C10: CÓDIGO | D10: DESCRIÇÃO | E10: UN | F10: QUANT. | G10: MEMORIAL DE CÁLCULO
A11: 1. | B11: Cobertura da quadra
A12: 1.1 | B12: Serviços Preliminares
A13: 1.1.1 | B13: SETOP | C13: ED-28427 | D13: FORNECIMENTO E COLOCAÇÃO DE PLACA DE OBRA EM CHAPA GALVANIZADA #26, ESP. 0,45MM, DIMENSÃO (3X1,5)M, PLOTADA COM ADESIVO VINÍLICO, AFIXADA COM REBITES 4,8X40MM, EM ESTRUTURA METÁLICA DE METALON 20X20MM, ESP. 1,25MM, INCLUSIVE SUPORTE EM EUCALIPTO AUTOCLAVADO PINTADO COM TINTA PVA DUAS (2) DEMÃOS | E13: und. | F13: 1 | G13: 01 unidade de placa de indentificação
A15: 1.2 | B15: Fundação cobertura
A16: 1.2.1 | B16: SETOP | C16: ED-51108 | D16: ESCAVAÇÃO MANUAL PARA BLOCO DE COROAMENTO OU SAPATA (INCLUINDO ESCAVAÇÃO PARA COLOCAÇÃO DE FÔRMAS). AF_06/2017 | E16: m³ | F16: 17.64 | G16: 1,16x0,7(dimensões da sapata)x1,5(profundidade)x14(sapatas)
A17: 1.2.2 | B17: SETOP | C17: ED-51097 | D17: COMPACTAÇÃO MANUAL DE ATERRO COM SOQUETE, INCLUSIVE ESPALHAMENTO MANUAL | E17: m³ | F17: 9.06 | G17: volume de escavação - volume da sapata
A18: 1.2.3 | B18: SETOP | C18: ED-26522 | D18: EXECUÇÃO DE ESTACA TIPO STRAUSS, DIÂMETRO 25CM, EXCLUSIVE ARMAÇÃO E CONCRETO ESTRUTURAL | E18: m | F18: 42 | G18: 3m de profundidade x 14 estacas
A19: 1.2.4 | B19: SETOP | C19: ED-48298 | D19: CORTE, DOBRA E MONTAGEM DE AÇO CA-50/60, INCLUSIVE ESPAÇADOR (STRAUSS) | E19: KG | F19: 158.02 | G19: (estribos: (comprimento 0,85m a cada 15cm) = 20 estribos x0,85=17.0mx0,154 kg/m= 2,62kg/estacax14 estacas=36,68kg) + (barras longitudinais: 3 de 12,5mm=3x3mx0,963kg/m=8,667kg x14 estacas= 121,34kg) = 158,02kg
A20: 1.2.5 | B20: SETOP | C20: ED-49619 | D20: FORNECIMENTO DE CONCRETO ESTRUTURAL, PREPARADO EM OBRA, COM FCK 25MPA, INCLUSIVE LANÇAMENTO, ADENSAMENTO E ACABAMENTO (STRAUSS) | E20: m³ | F20: 2.1 | G20: área x profundadide x nº de estacas= 3,14x0,125x0,125x3x14
A21: 1.2.6 | B21: SETOP | C21: ED-48298 | D21: CORTE, DOBRA E MONTAGEM DE AÇO CA-50/60, INCLUSIVE ESPAÇADOR (SAPATAS E ARRANQUES) | E21: KG | F21: =576+270 -> 846 | G21: 576+270(tabela em projeto)
A22: 1.2.7 | B22: SETOP | C22: ED-49619 | D22: FORNECIMENTO DE CONCRETO ESTRUTURAL, PREPARADO EM OBRA, COM FCK 25MPA, INCLUSIVE LANÇAMENTO, ADENSAMENTO E ACABAMENTO (STRAUSS) | E22: m³ | F22: =F16-F17 -> 8.58 | G22: dimensões dos pilares x arranque + base sapata (área x profundidade)= (0,4x0,4x1,5+0,45x0,7x1,16)x14
A23: 1.2.8 | B23: SETOP | C23: ED-49643 | D23: FÔRMA E DESFORMA DE TÁBUA E SARRAFO, REAPROVEITAMENTO (3X), EXCLUSIVE ESCORAMENTO | E23: m² | F23: =0.4*0.4*1.05*14 -> 2.352 | G23: (0,4x0,4x1,05x14)= forma no arranque do pilar da sapata
A24: 1.3 | B24: Cobertura
A25: 1.3.1 | B25: SETOP | C25: ED-20573 | D25: FORNECIMENTO DE ESTRUTURA METÁLICA E ENGRADAMENTO METÁLICO PARA TELHADO EM ARCO DE QUADRA POLIESPORTIVA EM AÇO, COBERTURA EM ARCO PADRÃO DA QUADRA ESCOLAR, EXCLUSIVE TELHA, INCLUSIVE PILAR METÁLICO, FABRICAÇÃO, TRANSPORTE, MONTAGEM, APLICAÇÃO DE FUNDO PREPARADOR ANTICORROSIVO, UMA (1) DEMÃO E PINTURA ESMALTE, DUAS (2) DEMÃOS | E25: m² | F25: 673 | G25: área de cobertura
A26: 1.3.2 | B26: SETOP | C26: ED-13852 | D26: COBERTURA EM TELHA METÁLICA GALVANIZADA ONDULADA, TIPO SIMPLES, ESP. 0,50MM, ACABAMENTO NATURAL, INCLUSIVE ACESSÓRIOS PARA FIXAÇÃO, FORNECIMENTO E INSTALAÇÃO | E26: m² | F26: =673 +28 -> 701 | G26: área de cobertura + 28,00m² de fechamento lateral acima do alambrado na parede de divisa com o PSF
A27: 1.3.3 | B27: SETOP | C27: ED-50657 | D27: CALHA EM CHAPA GALVANIZADA, ESP. 0,65MM (GSG-24), COM DESENVOLVIMENTO DE 60CM, INCLUSIVE IÇAMENTO MANUAL VERTICAL | E27: m | F27: 76.48 | G27: 38,24x2
A28: 1.4 | B28: Drenagem
A29: 1.4.1 | B29: SETOP | C29: ED-49170 | D29: CAIXA DE PASSAGEM EM ALVENARIA E TAMPA DE CONCRETO, FUNDO DE BRITA, TIPO 1, 50 X 50 X 60 CM, INCLUSIVE ESCAVAÇÃO, REATERRO E BOTA-FORA | E29: und. | F29: 4 | G29: 04 unidades de caixas conforme projeto
A30: 1.4.2 | B30: SETOP | C30: ED-50668 | D30: CONDUTOR DE AP DO TELHADO EM TUBO PVC ESGOTO, INCLUSIVE CONEXÕES E SUPORTES, 100 MM | E30: m | F30: =(5+38.24+12)*2 -> 110.48 | G30: considerar que os tubos centrais descem aproximadamente 1,00m e ligam nos tubos laterias= (5,00m dos tubos centrais+38,24m (distância de uma caixa de passagem na outra)+12,00m de descida dos dois tubos laterais)*2 lados
A31: 1.4.3 | B31: SETOP | C31: ED-50106 | D31: FORNECIMENTO E ASSENTAMENTO DE TUBO PVC RÍGIDO, COLETOR DE ESGOTO LISO (JEI), DN 150 MM (6"), INCLUSIVE CONEXÕES | E31: m | F31: =14.72*2 -> 29.44 | G31: 14,72x2
A32: 1.5 | B32: Pintura do piso e alambrado
A33: 1.5.1 | B33: SETOP | C33: ED-50461 | D33: PINTURA ACRÍLICA PARA PISO EM QUADRAS ESPORTIVA, DUAS (2) DEMÃOS | E33: m² | F33: 638.56 | G33: área obtida em projeto: piso onde haverá pintura
A34: 1.5.2 | B34: SETOP | C34: ED-50460 | D34: PINTURA ACRÍLICA PARA PISO EM FAIXA DE DEMARCAÇÃO DE QUADRA, DUAS (2) DEMÃOS, FAIXA COM LARGURA DE 5 CM | E34: m | F34: 189 | G34: metragem obtida em projeto (marcações)
A35: 1.5.3 | B35: SETOP | C35: ED-50461 | D35: ALAMBRADO PARA QUADRA ESPORTIVA, EM TELA DE ARAME GALVANIZADO COM TRAMA LOSANGULAR DE 2" (50,8MM) E FIO BWG12 (2,77MM), EXCLUSIVE PINTURA, INCLUSIVE FIXAÇÃO E FORNECIMENTO EM QUADROS DE TUBOS DE AÇO CARBONO GALVANIZADO DIÂMETRO DE 50MM (2") | E35: m² | F35: =17.3*3 -> 51.9 | G35: inserir 3,00m de altura de alambrado na divisa com o PSF = 17,30 (largura parede de divisa PSF) x 3,00 (altura)
A36: 1.6 | B36: Serviços Complementares
A37: 1.6.1 | B37: SETOP | C37: ED-50266 | D37: LIMPEZA FINAL PARA ENTREGA DA OBRA | E37: m² | F37: 638.56 | G37: área obtida em projeto
B40: Visconde do Rio Branco, 15 de março de 2024.
E43: ______________________________________
E44: Thainá Pessata de Souza
E45: Engenheira Civil – CREA: 225519/D
