Workbook

Sheet PLAN. ORÇAMENTARIA
A1: PLANILHA ORÇAMENTÁRIA
A2: PREFEITURA MUNICIPAL DE SACRAMENTO - MG | G2: PRAZO DE EXECUÇÃO DA PONTE : 4 MESES
A3: OBRA: CONSTRUÇÃO DE PONTE NO MUNICÍPIO DE SACRAMENTO | G3: FORMA DE EXECUÇÃO:
A4: LOCAL: ZONA RURAL DE SACRAMENTO | G4: ( ) DIRETA | I4: ( X ) INDIRETA | M4: 1.2474
A5: REFERÊNCIA/COMPOSIÇÃO: SICRO 07/2024 - SINAPI 10/2024 | G5: BDI = 24,74%
G6: PREÇO GLOBAL TOTAL S/ BDI | H6: =H8 -> 899552.79 | I6: PREÇO GLOBAL TOTAL C/ BDI | J6: =J8 -> 1123722.9
A7: PONTE CÓRREGO DA JOANA
G8: PREÇO TOTAL S/ BDI | H8: =SUM(I11,I13,I15,I22,I25,I35,I43,I47) -> 899552.79 | I8: PREÇO TOTAL C/ BDI | J8: =SUM(J11,J13,J15,J22,J25,J35,J43,J47) -> 1123722.9
A10: ITEM | B10: FONTE | C10: CÓDIGO | D10: DESCRIÇÃO DOS SERVIÇOS | E10: UND. | F10: QUANT. | G10: PREÇO UNITÁRIO S/ BDI | H10: PREÇO UNITÁRIO C/ BDI | I10: PREÇO TOTAL S/ BDI | J10: PREÇO TOTAL C/ BDI
A11: 1.0 | E11: TOTAL | I11: =I12 -> 0 | J11: =J12 -> 0
H12: =G12*$M$4 -> 0 | I12: =G12*F12 -> 0 | J12: =H12*F12 -> 0
A13: 1.0 | D13: ADMINISTRAÇÃO DE OBRA | E13: TOTAL | I13: =SUM(I14:I14) -> 68357.37 | J13: =SUM(J14:J14) -> 85268.96
A14: 1.1 | B14: COMPOSIÇÃO | C14: COMP01 | D14: ADMINISTRAÇÃO LOCAL DE OBRA | E14: MÊS | F14: 4 | G14: =COMPOSIÇÃO!I14 -> 17089.342 | H14: 21317.24 | I14: =G14*F14 -> 68357.37 | J14: =H14*F14 -> 85268.96
A15: 2.0 | D15: INSTALAÇÕES CANTEIRO DE OBRA | E15: TOTAL | I15: =SUM(I16:I21) -> 12017.566 | J15: =SUM(J16:J21) -> 14990.637
A16: 2.1 | B16: SICRO | C16: 4915744 | D16: CAPINA MANUAL DO TERRENO | E16: M2 | F16: 51 | G16: 0.73 | H16: 0.91 | I16: =G16*F16 -> 37.23 | J16: =H16*F16 -> 46.41
A17: 2.2 | B17: SICRO | C17: 5501702 | D17: DESTOCAMENTO DE ÁRVORES COM DIÂMETRO MAIOR QUE 0,30 m | E17: UND. | F17: 18 | G17: 97.5 | H17: 121.62 | I17: =G17*F17 -> 1755 | J17: =H17*F17 -> 2189.16
A18: 2.3 | B18: SINAPI | C18: 10779 | D18: LOCACAO DE CONTAINER 2,30 X 4,30 M, ALT. 2,50 M, P/ SANITARIO, C/ 5 BACIAS, 1 LAVATORIO E 4 MICTORIOS (NAO INCLUI MOBILIZACAO/DESMOBILIZACAO) | E18: MÊS | F18: 4 | G18: 1218.75 | H18: =G18*$M$4 -> 1520.2688 | I18: =G18*F18 -> 4875 | J18: =H18*F18 -> 6081.075
A19: 2.4 | B19: COMPOSIÇÃO | C19: COMP02 | D19: MOBILIZAÇÃO E DESMOBILIZAÇÃO DE CONTAINER, INCLUSIVE CARGA, DESCARGA E TRANSPORTE EM CAMINHÃO CARROCERIA COM GUINDAUTO (MUNCK), EXCLUSIVE LOCAÇÃO DO CONTAINER | E19: UN | F19: 2 | G19: =COMPOSIÇÃO!I39 -> 1537.8832 | H19: 1918.35 | I19: =G19*F19 -> 3075.7664 | J19: =H19*F19 -> 3836.7
A20: 2.5 | B20: SINAPI | C20: 4813 | D20: PLACA DE OBRA (PARA CONSTRUCAO CIVIL) EM CHAPA GALVANIZADA *N. 22*, ADESIVADA, DE *2,4 X 1,2* M (SEM POSTES PARA FIXACAO) | E20: M2 | F20: 2.88 | G20: 439.5 | H20: 548.23 | I20: =G20*F20 -> 1265.76 | J20: =H20*F20 -> 1578.9024
A21: 2.6 | B21: SICRO | C21: 5213467 | D21: PLACA DE ADVERTÊNCIA " PONTE TOTALMENTE INTERDITADA " EM AÇO, LADO DE 1,20m - PELICULA RETRORREFLETIVA TIPO III + SI - FORNECIMENTO E IMPLANTAÇÃO | E21: UND. | F21: 1 | G21: 1008.81 | H21: 1258.3895 | I21: =G21*F21 -> 1008.81 | J21: =H21*F21 -> 1258.3895
A22: 3.0 | D22: MÁQUINAS E EQUIPAMENTOS | E22: TOTAL | I22: =SUM(I23:I24) -> 31730.6 | J22: =SUM(J23:J24) -> 39581.44
A23: 3.1 | B23: SINAPI | C23: 83765 | D23: GRUPO DE SOLDAGEM COM GERADOR A DIESEL 60 CV PARA SOLDA ELÉTRICA, SOBRE 04 RODAS, COM MOTOR 4 CILINDROS 600 A - CHP DIURNO. AF_02/2016. TEMPO DE OBRA COM USO DE GERADOR 1 MESES X 220 HORAS DE TRABALHO POR MÊS CONFORMES CLT. DEVENDO SER EMPREGADA PARA SOLDAR A ESTRUTURA DA LONGARINAS, TRANSVERSINAS, CHAPAS, STUD BOLT, GUARDA CORPO, POSTES DE SINALIZAÇÃO, PINTURA E DESMONTAGEM DA ANTIGA PONTE | E23: CHP | F23: 220 | G23: 104.47 | H23: 130.32 | I23: =G23*F23 -> 22983.4 | J23: =H23*F23 -> 28670.4
A24: 3.2 | B24: SINAPI | C24: 91467 | D24: GUINDAUTO HIDRÁULICO, CAPACIDADE MÁXIMA DE CARGA 6200 KG, MOMENTO MÁXIMO DE CARGA 11,7 TM, ALCANCE MÁXIMO HORIZONTAL 9,70 M, INCLUSIVE CAMINHÃO TOCO PBT 16.000 KG, POTÊNCIA DE 189 CV - MATERIAIS NA OPERAÇÃO. AF_08/2015. DEVERA SER EMPREGADO PARA RETIRAS AS LONGARINAS EXISTENTES, BEM COMO A PISTA DE ROLAMENTO EXISTENTE, DEVERÁ AUXILIAR NA DESCARGAR DO MATERIAL NO CANTEIRO DE OBRA, MATERIAS DO TIPO PERFIL E AÇO CA50/60, BEM COMO O STEEL DECK E DEMAIS ITENS. CALCULO DE 07 DIAS X 8 HORAS POR DIA DE TRABALHO TOTALIZANDO 160 HORAS A SEREM DISTRIBUIDAS AO LONGO DE TODA A OBRA | E24: H | F24: 56 | G24: 156.2 | H24: 194.84 | I24: =G24*F24 -> 8747.2 | J24: =F24*H24 -> 10911.04
A25: 4.0 | D25: FUNDAÇÃO | E25: TOTAL | I25: =SUM(I26:I34) -> 86982.472 | J25: 108513.52
A26: 4.1 | B26: COMPOSIÇÃO | C26: COMP03 | D26: LOCAÇÃO TOPOGRÁFICA DE VINTE UM (21) ATÉ CINQUENTA (50) PONTOS REFERENCIAIS, INCLUSIVE ESTACA (PIQUETE) DE MARCAÇÃO | E26: UN | F26: 21 | G26: =COMPOSIÇÃO!I31 -> 60.906981 | H26: 75.98 | I26: =G26*F26 -> 1279.0466 | J26: =H26*F26 -> 1595.58
A27: 4.2 | B27: SICRO | C27: 5501706 | D27: ESCAVAÇÃO MECÂNICA COM RETROESCAVADEIRA EM MATERIAL DE 1ª CATEGORIA | E27: M3 | F27: 36.54 | G27: 6.55 | H27: 8.17 | I27: =G27*F27 -> 239.337 | J27: =H27*F27 -> 298.5318
A28: 4.3 | B28: SICRO | C28: 4815671 | D28: REATERRO E COMPACTAÇÃO COMSOQUETE VIBRATÓRIO | E28: M2 | F28: 19.35 | G28: 16.69 | H28: 20.82 | I28: =G28*F28 -> 322.9515 | J28: =H28*F28 -> 402.867
A29: 4.4 | B29: SINAPI | C29: 100897 | D29: ESTACA ESCAVADA MECANICAMENTE, SEM FLUIDO ESTABILIZANTE, COM 40CM DE DIÂMETRO, CONCRETO LANÇADO POR CAMINHÃO BETONEIRA (EXCLUSIVE MOBILIZAÇÃO E DESMOBILIZAÇÃO). AF_01/2020_PA | E29: M | F29: 32 | G29: 128.05 | H29: 159.73 | I29: =G29*F29 -> 4097.6 | J29: =H29*F29 -> 5111.36
A30: 4.5 | B30: SINAPI | C30: 100896 | D30: ESTACA ESCAVADA MECANICAMENTE, SEM FLUIDO ESTABILIZANTE, COM 25CM DE DIÂMETRO, CONCRETO LANÇADO POR CAMINHÃO BETONEIRA (EXCLUSIVE MOBILIZAÇÃO E DESMOBILIZAÇÃO). AF_01/2020_PA | E30: M | F30: 24 | G30: 64.59 | H30: 80.57 | I30: =G30*F30 -> 1550.16 | J30: =H30*F30 -> 1933.68
A31: 4.6 | B31: SICRO | C31: 407819 | D31: CORTE, DOBRA E MONTAGEM DE AÇO CA-50/60, INCLUSIVE ESPAÇADOR | E31: KG | F31: 3656.89 | G31: 12.76 | H31: 15.92 | I31: =G31*F31 -> 46661.916 | J31: =H31*F31 -> 58217.689
A32: 4.7 | B32: SICRO | C32: 3108005 | D32: FÔRMA DE COMPENSADO RESINADO 14 mm -USO GERAL - UTILIZAÇÃO DE 3 VEZES - CONFECÇÃO, INSTALAÇÃO E RETIRADA | E32: M2 | F32: 92.1 | G32: 80.29 | H32: 100.15 | I32: =G32*F32 -> 7394.709 | J32: =H32*F32 -> 9223.815
A33: 4.8 | B33: SINAPI | C33: 1525 | D33: CONCRETO USINADO BOMBEAVEL, CLASSE DE RESISTENCIA C30, BRITA 0 E 1, SLUMP = 100 +/- 20 MM, COM BOMBEAMENTO (DISPONIBILIZACAO DE BOMBA), SEM O LANCAMENTO (NBR 8953) | E33: M3 | F33: 37.63 | G33: 631.47 | H33: 787.7 | I33: =G33*F33 -> 23762.216 | J33: =H33*F33 -> 29641.151
A34: 4.9 | B34: SINAPI | C34: 103673 | D34: LANÇAMENTO COM USO DE BOMBA, ADENSAMENTO E ACABAMENTO DE CONCRETO EM ESTRUTURAS. AF_02/2022 | E34: M3 | F34: 37.63 | G34: 44.5 | H34: 55.51 | I34: =G34*F34 -> 1674.535 | J34: =H34*F34 -> 2088.8413
A35: 5.0 | D35: MESO ESTRUTURA | E35: TOTAL | I35: =SUM(I36:I41) -> 567837.93 | J35: 709924.85
A36: 5.1 | B36: SICRO | C36: 1600990 | D36: DEMOLIÇÃO DE CONCRETO ARMADO COM MARTELETE E CORTE OXIACETILINO | E36: M2 | F36: 94.5 | G36: 752.44 | H36: 938.59 | I36: =G36*F36 -> 71105.58 | J36: =H36*F36 -> 88696.755
A37: 5.2 | B37: SICRO | C37: 2408149 | D37: ESTRUTURA EM PERFIL DE AÇO ASTM A36 CORTE, SOLDA EMONTAGEM - FORNECIMENTO E INSTALAÇÃO | E37: KG | F37: 25888.23 | G37: 16.69 | H37: 20.82 | I37: =G37*F37 -> 432074.56 | J37: =H37*F37 -> 538992.95
A38: 5.3 | B38: SINAPI | C38: 43125 | D38: CHAPA EM ACO GALVANIZADO PARA STEEL DECK, COM NERVURAS TRAPEZOIDAIS, LARGURA UTIL DE 915 MM E ESPESSURA DE 1,25 MM | E38: M2 | F38: 94.5 | G38: 130.28 | H38: 162.51 | I38: =G38*F38 -> 12311.46 | J38: =H38*F38 -> 15357.195
A39: 5.4 | B39: COMPOSIÇÃO | C39: COMP04 | D39: FORNECIMENTO E INSTALAÇÃO DE PINO CONECTORES DE CISALHAMENTO (STUD BOLT) MEIDA DE 19mmX32mm COM ANEL CERAMICO CONECTOR. CALCULO DEMOSNTRADO EM PROJETO ESTRUTURAL | E39: UND | F39: 94.5 | G39: =COMPOSIÇÃO!I21 -> 58.2484 | H39: 72.66 | I39: =G39*F39 -> 5504.4738 | J39: =H39*F39 -> 6866.37
A40: 5.5 | B40: SICRO | C40: 407819 | D40: CORTE, DOBRA E MONTAGEM DE AÇO CA-50/60, INCLUSIVE ESPAÇADOR | E40: KG | F40: 2268 | G40: 12.76 | H40: 15.92 | I40: =G40*F40 -> 28939.68 | J40: =H40*F40 -> 36106.56
A41: 5.6 | B41: SINAPI | C41: 1525 | D41: CONCRETO USINADO BOMBEAVEL, CLASSE DE RESISTENCIA C30, BRITA 0 E 1, SLUMP = 100 +/- 20 MM, COM BOMBEAMENTO (DISPONIBILIZACAO DE BOMBA), SEM O LANCAMENTO (NBR 8953) | E41: M3 | F41: 28.35 | G41: 631.47 | H41: 787.7 | I41: =G41*F41 -> 17902.175 | J41: =H41*F41 -> 22331.295
...

Sheet COMPOSIÇÃO
B4: PLANILHA DE COMPOSIÇÕES
B6: PREFEITURA MUNICIPAL DE SACRAMENTO - MG
B7: OBRA: CONSTRUÇÃO DE PONTE NO MUNICÍPIO DE SACRAMENTO
B8: LOCAL: ZONA RURAL DE SACRAMENTO
B9: REFERÊNCIA/COMPOSIÇÃO: SICRO 07/2024 - SINAPI 10/2024
B10: ADMINISTRAÇÃO LOCAL
B11: COMP01 | C11: FONTE | D11: CÓDIGO | E11: DESCRIÇÃO | F11: UND. | G11: QUANTIDADE | H11: VALOR UNIT. | I11: TOTAL
B12: MÃO DE OBRA | C12: SICRO | D12: P9812 | E12: ENGENHEIRO CIVIL DE OBRA JUNIOR (MENSALISTA) | F12: MÊS | G12: 0.2 | H12: 25807.602 | I12: =G12*H12 -> 5161.5203
B13: MÃO DE OBRA | C13: SICRO | D13: P9840 | E13: ENCARREGADO GERAL DE OBRAS (MENSALISTA) | F13: MÊS | G13: 1 | H13: 11927.822 | I13: =G13*H13 -> 11927.822
B14: TOTAL GERAL | I14: =SUM(I12:I13) -> 17089.342
B16: FORNECIMENTO E INSTALAÇÃO DE PINO CONECTORES DE CISALHAMENTO (STUD BOLT) MEIDA DE 19mmX32mm COM ANEL CERAMICO CONECTOR. CALCULO DEMOSNTRADO EM PROJETO ESTRUTURAL
B17: COMP04 | C17: FONTE | D17: CÓDIGO | E17: DESCRIÇÃO | F17: UND. | G17: QUANTIDADE | H17: VALOR UNIT. | I17: TOTAL
B18: MÃO DE OBRA | C18: SICRO | D18: P9824 | E18: SERVENTE DE OBRAS (HORISTA) | F18: H | G18: 0.5 | H18: 21.2605 | I18: =G18*H18 -> 10.63025
B19: MÃO DE OBRA | C19: SICRO | D19: P9830 | E19: MONTADOR DE ESTRUTURAS METALICAS HORISTA | F19: H | G19: 0.5 | H19: 37.0171 | I19: =G19*H19 -> 18.50855
B20: INSUMO | C20: SICRO | D20: M0965 | E20: Pino conector de cisalhamento para laje steel deck - D=19,00mm C=80mm | F20: UND. | G20: 4 | H20: 7.2774 | I20: =G20*H20 -> 29.1096
B21: TOTAL GERAL | I21: =SUM(I18:I20) -> 58.2484
B22: CONSIDERADO 04 PINOS CONECTORES POR METRO QUADRADO
B25: LOCAÇÃO TOPOGRÁFICA DE VINTE UM (21) ATÉ CINQUENTA (50) PONTOS DE REFERÊNCIAS, INCLUSIVE ESTACA (PIQUETE) DE MARCAÇÃO
B26: COMP03 | C26: FONTE | D26: CÓDIGO | E26: DESCRIÇÃO | F26: UND. | G26: QUANTIDADE | H26: VALOR UNIT. | I26: TOTAL
B27: INSUMO | C27: SINAPI-I | D27: 20247 | E27: PREGO DE ACO POLIDO COM CABECA 15 X 15 (1 1/4 X 13) | F27: KG | G27: 0.0013514 | H27: 20.21 | I27: =G27*H27 -> 0.027311794
B28: INSUMO | C28: SINAPI-I | D28: 4509 | E28: SARRAFO *2,5 X 10* CM EM PINUS, MISTA OU EQUIVALENTE DA REGIAO - BRUTA | F28: M | G28: 0.2625 | H28: 4.24 | I28: =G28*H28 -> 1.113
B29: MÃO DE OBRA | C29: SINAPI-I | D29: 7592 | E29: TOPOGRAFO (HORISTA) | F29: H | G29: 0.9166667 | H29: 44.98 | I29: =G29*H29 -> 41.231668
B30: MÃO DE OBRA | C30: SINAPI-I | D30: 244 | E30: AUXILIAR DE TOPOGRAFO (HORISTA) | F30: H | G30: 0.9166667 | H30: 20.22 | I30: =G30*H30 -> 18.535001
B31: TOTAL GERAL | I31: =SUM(I27:I30) -> 60.906981
B34: MOBILIZAÇÃO E DESMOBILIZAÇÃO DE CONTAINER, INCLUSIVE CARGA, DESCARGA E TRANSPORTE EM CAMINHÃO CARROCERIA COM GUINDAUTO (MUNCK), EXCLUSIVE LOCAÇÃO DO CONTAINER
B35: COMP02 | C35: FONTE | D35: CÓDIGO | E35: DESCRIÇÃO | F35: UND. | G35: QUANTIDADE | H35: VALOR UNIT. | I35: TOTAL
B36: MÃO DE OBRA | C36: SICRO | D36: P9824 | E36: SERVENTE DE OBRAS (HORISTA) | F36: H | G36: 9.76 | H36: 21.26 | I36: =G36*H36 -> 207.4976
B37: EQUIPAMENTO | C37: SINAPI | D37: 93402 | E37: GUINDAUTO HIDRÁULICO, CAPACIDADE MÁXIMA DE CARGA 3300 KG, MOMENTO MÁXIMO DE CARGA 5,8 TM, ALCANCE MÁXIMO HORIZONTAL 7,60 M, INCLUSIVE CAMINHÃO TOCO PBT 16.000 KG, POTÊNCIA DE 189 CV - CHP DIURNO. AF_03/2016 | F37: CHP | G37: 4.88 | H37: 272.62 | I37: =G37*H37 -> 1330.3856
B39: TOTAL GERAL | I39: =SUM(I36:I38) -> 1537.8832
B42: ESTRUTURA EM TUBO MECANICO EM AÇO-CARBONO CORTE, SOLDA E MONTAGEM - FORNECIMENTO E INSTALAÇÃO DE GUARDA RODA, PE DO GUARDA RODA, POSTE DE SINALIZAÇÃO, CHAPA BASE DO POSTE DE SINALIZAÇÃO E CHUMBADOR DO POSTE DE SINALIZAÇÃO.
B43: COMP05 | C43: FONTE | D43: CÓDIGO | E43: DESCRIÇÃO | F43: UND. | G43: QUANTIDADE | H43: VALOR UNIT. | I43: TOTAL
B44: EQUIPAMENTO | C44: SICRO | D44: E9686 | E44: CAMINHÃO CARROCERIA CO GUINDAUTO COM CAPACIDADE DE 20 t.m -136 Kw | F44: CHP | G44: =0.0753/15 -> 0.00502 | H44: 314.474 | I44: =G44*H44 -> 1.5786595
B45: MÃO DE OBRA | C45: SICRO | D45: P9801 | E45: AJUDANTE | F45: H | G45: =1/15 -> 0.066666667 | H45: 23.7145 | I45: =G45*H45 -> 1.5809667
B46: MÃO DE OBRA | C46: SICRO | D46: P9830 | E46: MONTADOR | F46: H | G46: =1/15 -> 0.066666667 | H46: 37.0171 | I46: =G46*H46 -> 2.4678067
B47: MATERIAL | C47: SICRO | D47: M3530 | E47: TUBO MECÂNICO EM AÇO-CARBONO | F47: KG | G47: 1.03 | H47: 32.4489 | I47: =G47*H47 -> 33.422367
B48: COMPOSIÇÃO | C48: SICRO | D48: 1408173 | E48: CORTE DE PERFIS METÁLICOS COM MAÇARICO OXIACETILENO | F48: CM² | G48: 1 | H48: 0.06 | I48: =G48*H48 -> 0.06
B49: COMPOSIÇÃO | C49: SICRO | D49: 2408058 | E49: SOLDA ELÉTRICA DE PERFIS METÁLICOS E CHAPAS DE AÇO COM ELETRODO E70XX | F49: KG | G49: 0.015 | H49: 68.56 | I49: =G49*H49 -> 1.0284
I50: =G50*H50 -> 0
B51: TOTAL GERAL | I51: =SUM(I44:I50) -> 40.1382
E56: _______________________________________________________
...

Sheet CRONOGRAMA FISICO FINANCEIRO
A2: CRONOGRAMA FÍSICO-FINANCEIRO
A4: PREFEITURA MUNICIPAL DE SACRAMENTO-MG | E4: PRAZO DE EXECUÇÃO: 8 MESES
A5: OBRA: CONSTRUÇÃO DE PONTE NO MUNICÍPIO DE SACRAMENTO | E5: FORMA DE EXECUÇÃO:
A6: LOCAL: ZONA RURAL DE SACRAMENTO - MG | E6: ( ) IDIRETA | G6: ( X ) INDIRETA
A7: ='PLAN. ORÇAMENTARIA'!A7:J7 -> PONTE CÓRREGO DA JOANA
A8: ITEM | B8: ETAPAS / DESCRIÇÃO | C8: FÍSICO / FINANCEIRO | D8: TOTAL ETAPAS | E8: 1 MÊS | F8: 2 MÊS | G8: 3 MÊS | H8: 4 MÊS
A9: 1 | B9: MOBILIZAÇÃO E DESMOBILIZAÇÃO DE OBRA | C9: Físico % | D9: 1 | E9: 0.25 | F9: 0.25 | G9: 0.25 | H9: 0.25
C10: Financeiro | D10: ='PLAN. ORÇAMENTARIA'!J11 -> 0 | E10: =$D$10*E9 -> 0 | F10: =$D$10*F9 -> 0 | G10: =$D$10*G9 -> 0 | H10: =$D$10*H9 -> 0
A11: 1 | B11: ADMINISTRAÇÃO DE OBRA | C11: Físico % | D11: 1 | E11: 0.1008 | F11: 0.0872 | G11: 0.3303 | H11: 0.4817
C12: Financeiro | D12: ='PLAN. ORÇAMENTARIA'!J13 -> 85268.96 | E12: =$D$12*E11 -> 8595.1112 | F12: =$D$12*F11 -> 7435.4533 | G12: =$D$12*G11 -> 28164.337 | H12: =$D$12*H11 -> 41074.058
A13: 2 | B13: ='PLAN. ORÇAMENTARIA'!D15 -> INSTALAÇÕES CANTEIRO DE OBRA | C13: Físico % | D13: 1 | E13: 1 | F13: 0 | G13: 0 | H13: 0
C14: Financeiro | D14: ='PLAN. ORÇAMENTARIA'!J15 -> 14990.637 | E14: =D14*E13 -> 14990.637 | F14: =E14*F13 -> 0 | G14: =F14*G13 -> 0 | H14: =G14*H13 -> 0
A15: 3 | B15: MAQUINAS E EQUIPAMENTOS | C15: Físico % | D15: 1 | E15: 0.25 | F15: 0.25 | G15: 0.25 | H15: 0.25
C16: Financeiro | D16: ='PLAN. ORÇAMENTARIA'!J22 -> 39581.44 | E16: =$D$16*E15 -> 9895.36 | F16: =$D$16*F15 -> 9895.36 | G16: =$D$16*G15 -> 9895.36 | H16: =$D$16*H15 -> 9895.36
A17: 4 | B17: FUNDAÇÃO | C17: Físico % | D17: 1 | E17: 0.5 | F17: 0.5 | G17: 0 | H17: 0
C18: Financeiro | D18: ='PLAN. ORÇAMENTARIA'!J25 -> 108513.52 | E18: =$D$18*E17 -> 54256.76 | F18: =$D$18*F17 -> 54256.76 | G18: =$D$18*G17 -> 0 | H18: =$D$18*H17 -> 0
A19: 5 | B19: MESO ESTRUTURA | C19: Físico % | D19: 1 | E19: 0 | F19: 0 | G19: 0.5 | H19: 0.5
C20: Financeiro | D20: ='PLAN. ORÇAMENTARIA'!J35 -> 709924.85 | E20: =$D$20*E19 -> 0 | F20: =$D$20*F19 -> 0 | G20: =$D$20*G19 -> 354962.42 | H20: =$D$20*H19 -> 354962.42
A21: 6 | B21: SINNALIZAÇÃO VIARIA | C21: Físico % | D21: 1 | E21: 0 | F21: 0 | G21: 0 | H21: 1
C22: Financeiro | D22: ='PLAN. ORÇAMENTARIA'!J43 -> 160323.01 | E22: =$D$22*E21 -> 0 | F22: =$D$22*F21 -> 0 | G22: =$D$22*G21 -> 0 | H22: =$D$22*H21 -> 160323.01
A23: 7 | B23: MOBILIZAÇÃO E DESMOBILIZAÇÃO | C23: Físico % | D23: 1 | E23: 0.25 | F23: 0.25 | G23: 0.25 | H23: 0.25
C24: Financeiro | D24: ='PLAN. ORÇAMENTARIA'!J47 -> 5120.44 | E24: =$D$24*E23 -> 1280.11 | F24: =$D$24*F23 -> 1280.11 | G24: =$D$24*G23 -> 1280.11 | H24: =$D$24*H23 -> 1280.11
A25: TOTAL GERAL | C25: Físico % | D25: 1 | E25: =E27/$D$27 -> 0.079217022 | F25: =F27/$D$27 -> 0.064844889 | G25: =G27/$D$27 -> 0.35088922 | H25: =H27/$D$27 -> 0.50504887
C27: Financeiro | D27: =D12+D14+D16+D18+D20+D22+D24 -> 1123722.9 | E27: =E12+E14+E16+E18+E20+E22+E24 -> 89017.978 | F27: =F12+F14+F16+F18+F20+F22+F24 -> 72867.683 | G27: =G12+G14+G16+G18+G20+G22+G24 -> 394302.23 | H27: =H12+H14+H16+H18+H20+H22+H24 -> 567534.96
A29: TOTAL ACUMULADO | C29: Físico % Acumulado | D29: 1 | E29: =E31/$D$27 -> 0.079217022 | F29: =F31/$D$27 -> 0.14406191 | G29: =G31/$D$27 -> 0.49495113 | H29: =H31/$D$27 -> 1
C31: Financeiro Acumulado | D31: 0 | E31: =E10+E12+E14+E16+E18+E20+E22+E24 -> 89017.978 | F31: =F10+F12+F14+F16+F18+F20+F22+E31+F24 -> 161885.66 | G31: =G10+G12+G14+G16+G18+G20+G22+F31+G24 -> 556187.89 | H31: =H10+H12+H14+H16+H18+H20+H22+G31+H24 -> 1123722.9
B36: _______________________________________________________
B37: Resposável Técnico pelo Orçamento
B38: Engenheiro Civil Arthur Passos Alves - CREA 249058/D

Sheet COMPOSIÇÃO BDI
A1: QUADRO DE COMPOSIÇÃO DO BDI - PADRÃO
A2: PREFEITURA MUNICIPAL DE SACRAMENTO - MG
A3: OBRA: CONSTRUÇÃO DE PONTE NO MUNICÍPIO DE SACRAMENTO
A4: TIPO DE OBRA (CONFORME ACÓRDÃO 2622/2013 - TCU)
A5: ITENS | B5: SIGLAS | C5: % ADOTADO
A6: Administração Central | B6: AC | C6: 0.038
A7: Seguro e Garantia | B7: SG | C7: 0.0032
A8: Risco | B8: R | C8: 0.005
A9: Despesas Financeiras | B9: DF | C9: 0.0102
A10: Lucro | B10: L | C10: 0.0664
A11: Tributos PIS 0,65% | B11: I | C11: 0.0065
A12: Tributos COFINS 3,00% | B12: I | C12: 0.03
A13: Tributos ISS (Legislação Municipal) | C13: 0.015
A14: BDI Conforme Acórdão 2622/2013 - TCU | C14: 0.2474
A16: BDI = (1+AC+S+R+G) * (1+DF) * (1+L) - 1
A17: (1 - I)
A19: Declaro para os devidos fins que, conforme legislação tributária municipal, a base de cálculo para Construção de Rodovias e Ferrovias, é de 50%, com a respectiva alíquota de 3%.
A23: _______________________________________________________
A24: Resposável Técnico pelo Orçamento
A25: Engenheiro Civil Arthur Passos Alves - CREA 249058/D

Sheet MEMORIAL CÁLCULO
A1: PONTE CORREGO DA JOANA
A2: VERGALHÃO CA50
A3: ENCABEÇAMENTO + ALA/ASA + BLOCO + BROCA
A4: IDENTIFICAÇÃO | B4: MATERIAL | C4: MEMORIA DE CALCULO | D4: TOTAL | E4: UND
A5: N1 | B5: Ø 16,00mm (CA50) | C5: 18und/Pegão x 6,15m x 2 Pegões x 1,58kg/m* | D5: 349.82 | E5: Kg
A6: N2 | B6: Ø 16,00mm (CA50) | C6: 24und/Pegão x 6,85m x 2 Pegões x 1,58kg/m* | D6: 519.51 | E6: Kg
A7: N3 | B7: Ø 16,00mm (CA50) | C7: 16und/Pegão x 5,20m x 2 Pegões x 1,58kg/m* | D7: 262.92 | E7: Kg
A8: N4 | B8: Ø 16,00mm (CA50) | C8: 24und/Pegão x 3,20m x 2 Pegões x 1,58kg/m* | D8: 242.69 | E8: Kg
A9: N5 | B9: Ø 16,00mm (CA50) | C9: 32und/Pegão x 3,30m x 2 Pegões x 1,58kg/m* | D9: 333.7 | E9: Kg
A10: E1 | B10: Ø 16,00mm (CA50) | C10: 42und/Pegão x 3,50m x 2 Pegões x 1,58kg/m* | D10: 464.52 | E10: Kg
A11: E2 | B11: Ø 16,00mm (CA50) | C11: 42und/Pegão x 5,20m x 2 Pegões x 1,58kg/m* | D11: 690.15 | E11: Kg
A12: E3 | B12: Ø 6,30mm (CA50) | C12: 128und/Pegão x 0,90m x 2 Pegões x 0,25kg/m* | D12: 57.6 | E12: Kg
A13: E4 | B13: Ø 6,30mm (CA50) | C13: 102und/Pegão x 0,75m x 2 Pegões x 0,25kg/m* | D13: 38.25 | E13: Kg
A14: E5 | B14: Ø 16,00mm (CA50) | C14: 48und/Pegão x 4,60m x 2 Pegões x 1,58kg/m* | D14: 697.73 | E14: Kg
A15: STEEL DECK
A16: IDENTIFICAÇÃO | B16: MATERIAL | C16: MEMORIA DE CALCULO | D16: TOTAL | E16: UND
A17: N6 | B17: Ø 12,50mm (CA50) | C17: 22und/m x 18,00m x 5,25m x 0,99kg/m* | D17: =22*12*5.25*0.99 -> 1372.14 | E17: Kg
A18: E6 | B18: Ø 6,30mm (CA50) | C18: 84und/m x 18,00m x 0,55m x 0,25kg/m* | D18: =84*18*0.55*0.25 -> 207.9 | E18: Kg | G18: =SUM(D17:D20) -> 2268
A19: E6'' | B19: Ø 6,30mm (CA50) | C19: 84und/m x 18,00m x 0,70m x 0,25kg/m* | D19: =84*18*0.7*0.25 -> 264.6 | E19: Kg
A20: TELA SOLDADA | B20: Q283 (CA60) | C20: Comp. 18,00m x Larg 5,25m x 4,48kg/m* | D20: =18*5.25*4.48 -> 423.36 | E20: Kg
A22: CONCRETO USINADO BOMBEADO
A23: ENCABEÇAMENTO + ALA/ASA + BLOCO + BROCA
A24: IDENTIFICAÇÃO | B24: MATERIAL | C24: MEMORIA DE CALCULO | D24: TOTAL | E24: UND
A25: ENCABEÇAMENTO | B25: CONCRETO Fck = 30 Mpa | C25: 1und/Pegão x 2 Pegões x [ 5,25m x 0,90m x 0,60m ] | D25: 5.67 | E25: m3
A26: BROCA Ø 40cm | B26: CONCRETO Fck = 30 Mpa | C26: 4und/Pegão x 2 Pegões x [ 4,00m x π x 0,20² ] | D26: 4 | E26: m3
A27: BROCA Ø 30cm | B27: CONCRETO Fck = 30 Mpa | C27: 6und/Pegão x 2 Pegões x [ 2,00m x π x 0,15² ] | D27: 1.7 | E27: m3
A28: ASA/ALA LATERAL | B28: CONCRETO Fck = 30 Mpa | C28: 2und/Pegãox 2 Pegões x [ 3,00m x 2,00m x 0,30m ] | D28: 7.2 | E28: m3
A29: BLOCO | B29: CONCRETO Fck = 30 Mpa | C29: 1und/Pegão x 2 Pegões x [ 5,25m x 1,20m x 1,50m ] | D29: 19.06 | E29: m3
A30: STEEL DECK
A31: ENCABEÇAMENTO + ALA/ASA + BLOCO + BROCA
A32: IDENTIFICAÇÃO | B32: MATERIAL | C32: MEMORIA DE CALCULO | D32: TOTAL | E32: UND
A33: STEEL DECK | B33: CONCRETO Fck = 30 Mpa | C33: Comp. 18,00m x Larg. 5,25m x Altura 0,30m | D33: =18*5.25*0.3 -> 28.35 | E33: m3
A35: COMPENSADO PLASTIFICADO
A36: ENCABEÇAMENTO + ALA/ASA + BLOCO + BROCA
A37: IDENTIFICAÇÃO | B37: MATERIAL | C37: MEMORIA DE CALCULO | D37: TOTAL | E37: UND
A38: ENCABEÇAMENTO | B38: COMP. PLASTIFICADO 18mm | C38: 1und/Pegão x 2 Pegões x [ 0,90m x 5,25m ] x 2 Lados | D38: 18.9 | E38: m2
A39: ASA/ALA LATERAL | B39: COMP. PLASTIFICADO 18mm | C39: 2und/Pegão x 2 Pegões x [ 3,00m x 2,00m ] x 2 Lados | D39: 48 | E39: m2
A40: BLOCO | B40: COMP. PLASTIFICADO 18mm | C40: 1und/Pegão x 2 Pegões x [ 1,20m x 5,25m ] x 2 Lados | D40: 25.2 | E40: m2
A42: AÇO
A43: PISTA DE ROLAMENTO
...
