Workbook

Sheet Orçamento Sintético
D1: OBRA: CONSTRUÇÃO DE GALERIA PLUVIAL NO BAIRRO JOÃO XXIII | F1: DATA | G1: 46050 | H1: Valor Final do Orçamento | J1: =I5+I7+I9+I21+I23+I28 -> 833842
B2: PLANILHA ORÇAMENTÁRIA
B3: REGIÃO/MÊS DE REFERÊNCIA: SICOR-SEINFRA REGIÃO ALTO PARANAIBA - OUTUBRO DE 2025 - SEM DESONERAÇÃO / SICRO-MG - 2025 - SEM DESONERAÇÃO. / ATA DE REGISTRO DE PREÇOS ARP 211/2025 - DER-MG - OUTUBRO DE 2025 / TABELA DE FRETE DE MATERIAL BETUMINOSO - DER/MG - OUTUBRO DE 2025. | I3: BDI | J3: 0.2073
A4: Item | B4: Código | C4: Banco | D4: Descrição | E4: Und | F4: Quant. | G4: Valor Unit | H4: Valor Unit com BDI | I4: Total | J4: Peso (%)
A5: 1 | D5: SERVIÇOS PRELIMINARES | I5: =SUM(I6) -> 1423.9 | J5: =I5 / J1 -> 0.0017076377
A6: 1.1 | B6: ED-28427 | C6: SETOP | D6: FORNECIMENTO E COLOCAÇÃO DE PLACA DE OBRA EM CHAPA GALVANIZADA #26, ESP. 0,45MM, DIMENSÃO (3X1,5)M, PLOTADA COM ADESIVO VINÍLICO, AFIXADA COM REBITES 4,8X40MM, EM ESTRUTURA METÁLICA DE METALON 20X20MM, ESP. 1,25MM, INCLUSIVE SUPORTE EM EUCALIPTO AUTOCLAVADO PINTADO COM TINTA PVA DUAS (2) DEMÃOS | E6: un | F6: 1 | G6: 1179.412 | H6: =TRUNC(TRUNC(G6 * J3, 2) + G6, 2) -> 1423.9 | I6: =TRUNC(F6 * H6,2) -> 1423.9
A7: 2 | D7: MOBILIZAÇÃO E DESMOBILIZAÇÃO DE OBRA | I7: =SUM(I8) -> 39706.76 | J7: =I7/J1 -> 0.047619045
A8: 2.1 | B8: SICOR/ SEINFRA | C8: ED-50392 / ED-50393 / ED-50394 | D8: MOBILIZAÇÃO E DESMOBILIZAÇÃO DE OBRA EM CENTRO URBANO | E8: % | F8: 0.05 | H8: 794135.24 | I8: =ROUND((F8*H8),2) -> 39706.76
A9: 3 | D9: CONSTRUÇÃO DE GALERIA PLUVIAL | I9: =SUM(I10:I20) -> 601099.25 | J9: =I9/J1 -> 0.72087908
A10: 3.1 | B10: ED-51112 | C10: SETOP | D10: ESCAVAÇÃO MECÂNICA DE VALAS COM PROFUNDIDADE MAIOR QUE 1,5M E MENOR OU IGUAL 3,0M, INCLUSIVE DESCARGA LATERAL, EXCLUSIVE CARGA, TRANSPORTE E DESCARGA (DIAM. 1000 MM) | E10: m³ | F10: =F11*1.5*2 -> 1483.35 | G10: 8.21 | H10: =TRUNC(TRUNC(G10 * J3, 2) + G10, 2) -> 9.91 | I10: =TRUNC(F10 * H10,2) -> 14699.99
A11: 3.2 | B11: ED-9211 | C11: SETOP | D11: TUBO DE CONCRETO ARMADO, CLASSE PA1, DIÂMETRO DE 1000MM, INCLUSIVE CARGA E DESCARGA MECÂNICA EM CAMINHÃO, ASSENTAMENTO E REJUNTAMENTO, EXCLUSIVE ESCAVAÇÃO E TRANSPORTE | E11: m | F11: 494.45 | G11: 641.87 | H11: =TRUNC(TRUNC(G11 * J3, 2) + G11, 2) -> 774.92 | I11: =TRUNC(F11 * H11,2) -> 383159.19
A12: 3.3 | B12: ED-51112 | C12: SETOP | D12: ESCAVAÇÃO MECÂNICA DE VALAS COM PROFUNDIDADE MAIOR QUE 1,5M E MENOR OU IGUAL 3,0M, INCLUSIVE DESCARGA LATERAL, EXCLUSIVE CARGA, TRANSPORTE E DESCARGA (DIAM. 400 MM RAMAIS) | E12: m³ | F12: =F13*1.5*0.8 -> 121.08 | G12: 8.21 | H12: =TRUNC(TRUNC(G12 * J3, 2) + G12, 2) -> 9.91 | I12: =TRUNC(F12 * H12,2) -> 1199.9
A13: 3.4 | B13: ED-9207 | C13: SETOP | D13: TUBO DE CONCRETO ARMADO, CLASSE PA1, DIÂMETRO DE 400MM, INCLUSIVE CARGA E DESCARGA MECÂNICA EM CAMINHÃO, ASSENTAMENTO E REJUNTAMENTO, EXCLUSIVE ESCAVAÇÃO E TRANSPORTE | E13: m | F13: 100.9 | G13: 177.07 | H13: =TRUNC(TRUNC(G13 * J3, 2) + G13, 2) -> 213.77 | I13: =TRUNC(F13 * H13,2) -> 21569.39
A14: 3.5 | B14: ED-51121 | C14: SETOP | D14: REATERRO MANUAL DE VALA, INCLUSIVE ESPALHAMENTO E COMPACTAÇÃO MECANIZADA COM PLACA VIBRATÓRIA | E14: m³ | F14: =(F10+F12)/3 -> 534.81 | G14: 48.41 | H14: =TRUNC(TRUNC(G14 * J3, 2) + G14, 2) -> 58.44 | I14: =TRUNC(F14 * H14,2) -> 31254.29
A15: 3.6 | B15: ED-51094 | C15: SETOP | D15: APILOAMENTO MECANIZADO EM FUNDO DE VALA COM PLACA VIBRATÓRIA, EXCLUSIVE ESCAVAÇÃO | E15: m² | F15: =F14*1.5*1.3 -> 1042.8795 | G15: 14.653 | H15: =TRUNC(TRUNC(G15 * J3, 2) + G15, 2) -> 17.68 | I15: =TRUNC(F15 * H15,2) -> 18438.1
A16: 3.7 | B16: ED-48152 | C16: SETOP | D16: ABERTURA MANUAL DE POÇO COM PROFUNDIDADE MAIOR QUE 2,0M, DIÂMETRO DE 1,20M, INCLUSIVE AFASTAMENTO DO MATERIAL ESCAVADO | E16: m | F16: 10 | G16: 263.48 | H16: =TRUNC(TRUNC(G16 * J3, 2) + G16, 2) -> 318.09 | I16: =TRUNC(F16 * H16,2) -> 3180.9
A17: 3.8 | B17: ED-48636 | C17: SETOP | D17: POÇO DE VISITA PARA REDE TUBULAR TIPO A DN 1000, EXCLUSIVE ESCAVAÇÃO, REATERRO E BOTA FORA | E17: U | F17: 10 | G17: 3525.86 | H17: =TRUNC(TRUNC(G17 * J3, 2) + G17, 2) -> 4256.77 | I17: =TRUNC(F17 * H17,2) -> 42567.7
A18: 3.9 | B18: ED-48568 | C18: SETOP | D18: CHAMINÉ DE POÇO DE VISITA TIPO "A", EM ALVENARIA COM DEGRAUS DE AÇO CA 50 | E18: m | F18: 10 | G18: 1042.6 | H18: =TRUNC(TRUNC(G18 * J3, 2) + G18, 2) -> 1258.73 | I18: =TRUNC(F18 * H18,2) -> 12587.3
A19: 3.10 | B19: ED-48666 | C19: SETOP | D19: TAMPÃO CIRCULAR EM FERRO FUNDIDO PARA POÇO DE VISITA, ARTICULADO COM DIÂMETRO DE 60CM, CLASSE 400, INCLUSIVE ASSENTAMENTO, EXCLUSIVE POÇO DE VISITA | E19: un | F19: 10 | G19: 685.3 | H19: =TRUNC(TRUNC(G19 * J3, 2) + G19, 2) -> 827.36 | I19: =TRUNC(F19 * H19,2) -> 8273.6
A20: 3.11 | B20: ED-48549 | C20: SETOP | D20: BOCA DE LOBO SIMPLES (TIPO A FERRO FUNDIDO), QUADRO, GRELHA E CANTONEIRA, INCLUSIVE ESCAVAÇÃO, REATERRO E BOTA FORA | E20: U | F20: 19 | G20: 2797.41 | H20: =TRUNC(TRUNC(G20 * J3, 2) + G20, 2) -> 3377.31 | I20: =TRUNC(F20 * H20,2) -> 64168.89
A21: 4 | D21: DISSIPADOR DE ENERGIA | I21: =SUM(I22) -> 6773.54 | J21: =I21 / J1 -> 0.0081232895
A22: 4.1 | B22: 2003217 | C22: SICRO3 | D22: Dissipador de energia - DED 09 B - areia e brita comerciais | E22: un | F22: 1 | G22: 5610.49 | H22: =TRUNC(TRUNC(G22 * J3, 2) + G22, 2) -> 6773.54 | I22: =TRUNC(F22 * H22,2) -> 6773.54
A23: 5 | D23: TERRAPLENAGEM | I23: =SUM(I24:I27) -> 63641.88 | J23: =I23/J1 -> 0.076323668
A24: x | B24: 4011209 | C24: SICRO/DNIT | D24: REGULARIZAÇÃO DO SUBLEITO | E24: m² | F24: =F11*3 -> 1483.35 | G24: 1.89 | H24: =TRUNC(TRUNC(G24 * J3, 2) + G24, 2) -> 2.28 | I24: =ROUND((F24*H24),2) -> 3382.04
A25: 5.2 | B25: 4011219 | C25: SICRO/DNIT | D25: BASE DE SOLO ESTABILIZADO GRANULOMETRICAMENTE SEM MISTURA COM MATERIAL DE JAZIDA | E25: m³ | F25: =F24*0.15 -> 222.5025 | G25: 17.21 | H25: =TRUNC(TRUNC(G25 * J3, 2) + G25, 2) -> 20.77 | I25: =ROUND((F25*H25),2) -> 4621.38
A26: 5.3 | C26: COTAÇÕES | D26: AQUISIÇÃO DE MATERIAL PARA BASE | E26: m³ | F26: 222.5 | G26: 170 | H26: =TRUNC(TRUNC(G26 * J3, 2) + G26, 2) -> 205.24 | I26: =ROUND((F26*H26),2) -> 45665.9
A27: 5.4 | B27: 5915321 | C27: SICRO/DNIT | D27: TRANSPORTE COM CAMINHÃO BASCULANTE DE 14 M³ - RODOVIA PAVIMENTADA | E27: TxKm | F27: ='Orçamento Sintético'!F25*1.8*30 -> 12015.135 | G27: 0.69 | H27: =TRUNC(TRUNC(G27 * J3, 2) + G27, 2) -> 0.83 | I27: =ROUND((F27*H27),2) -> 9972.56
A28: 6 | D28: PAVIMENTAÇÃO ASFÁLTICA | I28: =SUM(I29:I36) -> 121196.67 | J28: =I28/J1 -> 0.14534728
A29: 6.1 | B29: 4011352 | C29: SICRO/DNIT | D29: IMPRIMAÇÃO COM EMULSÃO ASFÁLTICA (EAI) | E29: m² | F29: =F11*3 -> 1483.35 | G29: 0.66 | H29: =TRUNC(TRUNC(G29 * J3, 2) + G29, 2) -> 0.79 | I29: =ROUND((F29*H29),2) -> 1171.85
A30: 6.2 | B30: ARP 365/2023 (Preço Unit. com ICMS) | C30: DER-MG - CÓDIGO 321370 | D30: FORNECIMENTO DE MATERIAL BETUMINOSO EAI - EMULSÃO ASFÁLTICA PARA IMPRIMAÇÃO | E30: T | F30: =F24*0.8/1000 -> 1.18668 | G30: 5844.47 | H30: =TRUNC(TRUNC(G30 * J3, 2) + G30, 2) -> 7056.02 | I30: =ROUND((F30*H30),2) -> 8373.24
A31: 6.3 | B31: 5914622 | C31: SICRO/DNIT | D31: TRANSPORTE DE MATERIAL BETUMINOSO COM CAMINHÃO TANQUE DISTRIBUIDOR - RODOVIA PAVIMENTADA | E31: TxKm | F31: 95.2 | G31: 2.24 | H31: =TRUNC(TRUNC(G31 * J3, 2) + G31, 2) -> 2.7 | I31: =ROUND((F31*H31),2) -> 257.04
A32: 6.4 | B32: 4011353 | C32: SICRO/DNIT | D32: PINTURA DE LIGAÇÃO (RR-1C) | E32: m² | F32: =F29 -> 1483.35 | G32: 0.46 | H32: =TRUNC(TRUNC(G32 * J3, 2) + G32, 2) -> 0.55 | I32: =ROUND((F32*H32),2) -> 815.84
A33: 6.5 | B33: ARP 365/2023 (Preço Unit. com ICMS) | C33: DER-MG - CÓDIGO 312371 | D33: FORNECIMENTO DE MATERIAL BETUMINOSO RR-1C | E33: T | F33: =F32*0.8/1000 -> 1.18668 | G33: 3058.61 | H33: =TRUNC(TRUNC(G33 * J3, 2) + G33, 2) -> 3692.65 | I33: =ROUND((F33*H33),2) -> 4381.99
A34: 6.6 | B34: 5914622 | C34: SICRO/DNIT | D34: TRANSPORTE DE MATERIAL BETUMINOSO COM CAMINHÃO TANQUE DISTRIBUIDOR - RODOVIA PAVIMENTADA | E34: Txkm | F34: 95.2 | G34: 2.24 | H34: =TRUNC(TRUNC(G34 * J3, 2) + G34, 2) -> 2.7 | I34: =ROUND((F34*H34),2) -> 257.04
A35: 6.7 | B35: ED-7623 | C35: SICOR/ SEINFRA | D35: EXECUÇÃO E APLICAÇÃO DE CONCRETO BETUMINOSO USINADO A QUENTE (CBUQ), MASSA COMERCIAL, INCLUINDO FORNECIMENTO E TRANSPORTE DOS AGREGADOS E ATERIAL BETUMINOSO, EXCLUSIVE TRANSPORTE DA MASSA ASFÁLTICA ATÉ A PISTA | E35: m³ | F35: =F32*0.03 -> 44.5005 | G35: 1800.12 | H35: =TRUNC(TRUNC(G35 * J3, 2) + G35, 2) -> 2173.28 | I35: =ROUND((F35*H35),2) -> 96712.05
A36: 6.8 | B36: 5914612 | C36: SICRO/DNIT | D36: TRANSPORTE DE MISTURA BETUMINOSA A QUENTE COM CAMINHÃO COM CAÇAMBA TÉRMICA DE 6 M³ - RODOVIA PAVIMENTADA (USINA-OBRA) | E36: TxKm | F36: =F35*2.4*80 -> 8544.096 | G36: 0.9 | H36: =TRUNC(TRUNC(G36 * J3, 2) + G36, 2) -> 1.08 | I36: =ROUND((F36*H36),2) -> 9227.62
B39: Sacramento (MG), | E39: Nome: SEBASTIÃO GARCIA DONADELLI | I39: Nome: OSMAR TREVISAN JÚNIOR
B40: Local | E40: Titulo: ENGENHEIRO CIVIL | I40: PREFEITO MUNICIPAL DE SACRAMENTO
B41: 28 DE JANEIRO DE 2026 | E41: CREA: 92091/D
B42: Data | E42: ART/RRT

Sheet CRONO
D1: CFF - CRONOGRAMA FÍSICO FINANCEIRO
D2: CRONOGRAMA BASE PARA LICITAÇÃO
C3: OBRA: CONSTRUÇÃO DE GALERIA PLUVIAL NO BAIRRO JOÃO XXIII
E5: VALOR DA OBRA...: | G5: ='Orçamento Sintético'!J1 -> 833842
A7: =[1]P.ORÇ.!A6 -> ITEM | B7: =[1]P.ORÇ.!C6 -> DESCRIÇÃO | C7: VLR. TOTAL | D7: INÍCIO OBRA | E7: 1º MÊS | F7: 2º MÊS | G7: 3º MÊS | H7: 4º MÊS | J7: TOTAL
A8: =[1]P.ORÇ.!A7 -> 1 | B8: =[2]PLANILHA!F14 -> SERVIÇOS PRELIMINARES | C8: ='Orçamento Sintético'!I5 -> 1423.9 | D8: PARCELA (R$) | E8: =C8*E9 -> 1423.9 | F8: =C8*G9 -> 0 | G8: =E8*G9 -> 0 | H8: =E8*I9 -> 0 | J8: =SUM(E8:H8) -> 1423.9
D9: ACUMULADO (%) | E9: 1 | F9: 0 | G9: 0 | H9: 0 | J9: =SUM(E9:G9) -> 1
D10: ACUMULADO (R$) | E10: =E8 -> 1423.9 | G10: =G8 -> 0
A11: =[1]P.ORÇ.!A10 -> 2 | B11: ='Orçamento Sintético'!D7 -> MOBILIZAÇÃO E DESMOBILIZAÇÃO DE OBRA | C11: ='Orçamento Sintético'!I7 -> 39706.76 | D11: PARCELA (R$) | E11: =C11*E12 -> 9926.69 | F11: =C11*F12 -> 9926.69 | G11: =C11*G12 -> 9926.69 | H11: =C11*H12 -> 9926.69 | J11: =SUM(E11:H11) -> 39706.76
D12: ACUMULADO (%) | E12: 0.25 | F12: 0.25 | G12: 0.25 | H12: 0.25 | J12: =SUM(E12:H12) -> 1
D13: ACUMULADO (R$) | E13: =E11 -> 9926.69 | F13: =F11+E13 -> 19853.38 | G13: =F13+G11 -> 29780.07 | H13: =H11+G13 -> 39706.76
A14: =[2]PLANILHA!C18 -> 3 | B14: ='Orçamento Sintético'!D9 -> CONSTRUÇÃO DE GALERIA PLUVIAL | C14: ='Orçamento Sintético'!I9 -> 601099.25 | D14: PARCELA (R$) | E14: =C14*E15 -> 150274.81 | F14: =C14*F15 -> 150274.81 | G14: =C14*G15 -> 150274.81 | H14: =C14*H15 -> 150274.81 | J14: =SUM(E14:H14) -> 601099.25
D15: ACUMULADO (%) | E15: 0.25 | F15: 0.25 | G15: 0.25 | H15: 0.25 | J15: =SUM(E15:H15) -> 1
D16: ACUMULADO (R$) | E16: =E14 -> 150274.81 | F16: =F14+E16 -> 300549.62 | G16: =G14+F16 -> 450824.44 | H16: =H14+G16 -> 601099.25
A17: 4 | B17: ='Orçamento Sintético'!D21 -> DISSIPADOR DE ENERGIA | C17: ='Orçamento Sintético'!I21 -> 6773.54 | D17: PARCELA (R$) | E17: =C17*E18 -> 6773.54 | H17: =E17*H18 -> 0 | J17: =SUM(E17:H17) -> 6773.54
D18: ACUMULADO (%) | E18: 1 | F18: 0 | G18: 0 | H18: 0 | J18: =SUM(E18:H18) -> 1
D19: ACUMULADO (R$) | E19: =E17 -> 6773.54 | H19: =H17+G19 -> 0
A20: 5 | B20: ='Orçamento Sintético'!D23 -> TERRAPLENAGEM | C20: ='Orçamento Sintético'!I23 -> 63641.88 | D20: PARCELA (R$) | E20: =C20*E21 -> 0 | H20: =C20*H21 -> 63641.88 | J20: =SUM(E20:H20) -> 63641.88
D21: ACUMULADO (%) | E21: 0 | F21: 0 | G21: 0 | H21: 1 | J21: =SUM(E21:H21) -> 1
D22: ACUMULADO (R$) | E22: =E20 -> 0 | H22: =H20+G22 -> 63641.88
A23: 6 | B23: ='Orçamento Sintético'!D28 -> PAVIMENTAÇÃO ASFÁLTICA | C23: ='Orçamento Sintético'!I28 -> 121196.67 | D23: PARCELA (R$) | E23: =C23*E24 -> 0 | F23: =C23*F24 -> 0 | G23: =C23*G24 -> 60598.335 | H23: =C23*H24 -> 60598.335 | J23: =SUM(E23:H23) -> 121196.67
D24: ACUMULADO (%) | E24: 0 | F24: 0 | G24: 0.5 | H24: 0.5 | J24: =SUM(E24:H24) -> 1
D25: ACUMULADO (R$) | E25: =E23 -> 0 | G25: =G23 -> 60598.335 | H25: =H23+G25 -> 121196.67
B26: TOTAL ...................................: | C26: =SUM(C8:C25) -> 833842 | E26: =E8+E11+E14+E17+E20+E23 -> 168398.94 | F26: =F8+F11+F14+F17+F20+F23 -> 160201.5 | G26: =G8+G11+G14+G17+G20+G23 -> 220799.84 | H26: =H8+H11+H14+H17+H20+H23 -> 284441.72 | J26: =J14+J11+J8+J23+J20+J17 -> 833842
L27: =J26-'Orçamento Sintético'!J1 -> 0 | M27: =SUM(E26:H26) -> 833842
B30: Sacramento (MG), | E30: =[2]PLANILHA!F34 -> Nome: SEBASTIÃO GARCIA DONADELLI | H30: Nome: OSMAR TREVISAN JÚNIOR
B31: Local | E31: =[2]PLANILHA!F35 -> Titulo: ENGENHEIRO CIVIL | H31: PREFEITO MUNICIPAL DE SACRAMENTO
B32: =TODAY() -> 46204 | E32: =[2]PLANILHA!F36 -> CREA/CAU: 92091/D
B33: Data | E33: =[2]PLANILHA!F37 -> ART/RRT
E35: Nome: SEBASTIÃO GARCIA DONADELLI
E36: Titulo: ENGENHEIRO CIVIL
E37: CREA: 92091/D
E38: ART/RRT

Sheet memória
C1: OBRA: CONSTRUÇÃO DE GALERIA PLUVIAL NO BAIRRO JOÃO XXIII | E1: DATA | F1: 46048 | H1: Valor Final do Orçamento | J1: ='Orçamento Sintético'!J1 -> 833842
B2: MEMÓRIA DE CÁLCULO
A3: Item | B3: Código | C3: Banco | D3: Descrição | E3: Und | F3: Quant.
A4: 1 | D4: SERVIÇOS PRELIMINARES
A5: 1.1 | B5: ED-28427 | C5: SETOP | D5: FORNECIMENTO E COLOCAÇÃO DE PLACA DE OBRA EM CHAPA GALVANIZADA #26, ESP. 0,45MM, DIMENSÃO (3X1,5)M, PLOTADA COM ADESIVO VINÍLICO, AFIXADA COM REBITES 4,8X40MM, EM ESTRUTURA METÁLICA DE METALON 20X20MM, ESP. 1,25MM, INCLUSIVE SUPORTE EM EUCALIPTO AUTOCLAVADO PINTADO COM TINTA PVA DUAS (2) DEMÃOS | E5: un | F5: 1
A6: 2 | D6: MOBILIZAÇÃO E DESMOBILIZAÇÃO DE OBRA
A7: 2.1 | B7: SICOR/ SEINFRA | C7: ED-50392 / ED-50393 / ED-50394 | D7: MOBILIZAÇÃO E DESMOBILIZAÇÃO DE OBRA EM CENTRO URBANO | E7: % | F7: 0.05 | G7: 170.575,35 X 5%
A8: 3 | D8: CONSTRUÇÃO DE GALERIA PLUVIAL
A9: 2.1 | B9: ED-51112 | C9: SETOP | D9: ESCAVAÇÃO MECÂNICA DE VALAS COM PROFUNDIDADE MAIOR QUE 1,5M E MENOR OU IGUAL 3,0M, INCLUSIVE DESCARGA LATERAL, EXCLUSIVE CARGA, TRANSPORTE E DESCARGA (DIAM. 1000 MM) | E9: m³ | F9: ='Orçamento Sintético'!F10 -> 1483.35 | G9: 494,45 X PROF. 1,50 X LARG. 2.00
A10: 2.2 | B10: ED-9211 | C10: SETOP | D10: TUBO DE CONCRETO ARMADO, CLASSE PA1, DIÂMETRO DE 1000MM, INCLUSIVE CARGA E DESCARGA MECÂNICA EM CAMINHÃO, ASSENTAMENTO E REJUNTAMENTO, EXCLUSIVE ESCAVAÇÃO E TRANSPORTE | E10: m | F10: ='Orçamento Sintético'!F11 -> 494.45 | G10: COMPRIMENTO PROJETO
A11: 2.3 | B11: ED-51112 | C11: SETOP | D11: ESCAVAÇÃO MECÂNICA DE VALAS COM PROFUNDIDADE MAIOR QUE 1,5M E MENOR OU IGUAL 3,0M, INCLUSIVE DESCARGA LATERAL, EXCLUSIVE CARGA, TRANSPORTE E DESCARGA (DIAM. 400 MM RAMAIS) | E11: m³ | F11: ='Orçamento Sintético'!F12 -> 121.08 | G11: 100,90 X PROF. 1,50 X LARG. 0,80
A12: 2.4 | B12: ED-9207 | C12: SETOP | D12: TUBO DE CONCRETO ARMADO, CLASSE PA1, DIÂMETRO DE 400MM, INCLUSIVE CARGA E DESCARGA MECÂNICA EM CAMINHÃO, ASSENTAMENTO E REJUNTAMENTO, EXCLUSIVE ESCAVAÇÃO E TRANSPORTE | E12: m | F12: ='Orçamento Sintético'!F13 -> 100.9 | G12: COMPRIMENTO PROJETO RAMAIS
A13: 2.5 | B13: ED-51121 | C13: SETOP | D13: REATERRO MANUAL DE VALA, INCLUSIVE ESPALHAMENTO E COMPACTAÇÃO MECANIZADA COM PLACA VIBRATÓRIA | E13: m³ | F13: ='Orçamento Sintético'!F14 -> 534.81 | G13: 1.483,35 +121,08 / 3
A14: 2.6 | B14: ED-51094 | C14: SETOP | D14: APILOAMENTO MECANIZADO EM FUNDO DE VALA COM PLACA VIBRATÓRIA, EXCLUSIVE ESCAVAÇÃO | E14: m² | F14: ='Orçamento Sintético'!F15 -> 1042.8795 | G14: 534,81 X 1,50 X 1,30
A15: 2.7 | B15: ED-48152 | C15: SETOP | D15: ABERTURA MANUAL DE POÇO COM PROFUNDIDADE MAIOR QUE 2,0M, DIÂMETRO DE 1,20M, INCLUSIVE AFASTAMENTO DO MATERIAL ESCAVADO | E15: m | F15: ='Orçamento Sintético'!F16 -> 10 | G15: PROJETO
A16: 2.8 | B16: ED-48636 | C16: SETOP | D16: POÇO DE VISITA PARA REDE TUBULAR TIPO A DN 1000, EXCLUSIVE ESCAVAÇÃO, REATERRO E BOTA FORA | E16: U | F16: ='Orçamento Sintético'!F17 -> 10 | G16: PROJETO
A17: 2.9 | B17: ED-48568 | C17: SETOP | D17: CHAMINÉ DE POÇO DE VISITA TIPO "A", EM ALVENARIA COM DEGRAUS DE AÇO CA 50 | E17: m | F17: ='Orçamento Sintético'!F18 -> 10 | G17: PROJETO
A18: 2.10 | B18: ED-48666 | C18: SETOP | D18: TAMPÃO CIRCULAR EM FERRO FUNDIDO PARA POÇO DE VISITA, ARTICULADO COM DIÂMETRO DE 60CM, CLASSE 400, INCLUSIVE ASSENTAMENTO, EXCLUSIVE POÇO DE VISITA | E18: un | F18: ='Orçamento Sintético'!F19 -> 10 | G18: PROJETO
A19: 2.11 | B19: ED-48549 | C19: SETOP | D19: BOCA DE LOBO SIMPLES (TIPO A FERRO FUNDIDO), QUADRO, GRELHA E CANTONEIRA, INCLUSIVE ESCAVAÇÃO, REATERRO E BOTA FORA | E19: U | F19: ='Orçamento Sintético'!F20 -> 19 | G19: PROJETO
A20: 4 | D20: DISSIPADOR DE ENERGIA
A21: 3.1 | B21: 2003217 | C21: SICRO3 | D21: Dissipador de energia - DED 09 B - areia e brita comerciais | E21: un | F21: 1 | G21: PROJETO
A22: 5 | D22: TERRAPLENAGEM
A23: 5.1 | B23: 4011209 | C23: SICRO/DNIT | D23: REGULARIZAÇÃO DO SUBLEITO | E23: m² | F23: 1483.35 | G23: COMPRIMENTO =494,45 X LARGURA =3,00
A24: 5.2 | B24: 4011219 | C24: SICRO/DNIT | D24: BASE DE SOLO ESTABILIZADO GRANULOMETRICAMENTE SEM MISTURA COM MATERIAL DE JAZIDA | E24: m³ | F24: 222.5 | G24: ÁREA = 1483,35 X ESPESSURA = 0,15 =222,50 m3
A25: 5.3 | C25: COTAÇÕES | D25: AQUISIÇÃO DE MATERIAL PARA BASE | E25: m³ | F25: 222.5 | G25: ÁREA = 1483,35 X ESPESSURA = 0,15 =222,50 m3
A26: 5.4 | B26: 5915321 | C26: SICRO/DNIT | D26: TRANSPORTE COM CAMINHÃO BASCULANTE DE 14 M³ - RODOVIA PAVIMENTADA | E26: TxKm | F26: =F25*1.8*30 -> 12015 | G26: VOLUME=222,50 x 1,8 X 30 km
A27: 6 | D27: PAVIMENTAÇÃO ASFÁLTICA
A28: 6.1 | B28: 4011352 | C28: SICRO/DNIT | D28: IMPRIMAÇÃO COM EMULSÃO ASFÁLTICA (EAI) | E28: m² | F28: =F23 -> 1483.35 | G28: COMPRIMENTO =494,45 X LARGURA =3,00
A29: 6.2 | B29: ARP 365/2023 (Preço Unit. com ICMS) | C29: DER-MG | D29: FORNECIMENTO DE MATERIAL BETUMINOSO EAI - EMULSÃO ASFÁLTICA PARA IMPRIMAÇÃO | E29: T | F29: =F23*0.8/1000 -> 1.18668 | G29: ÁREA = 1.483,35 X ESPESSURA = RENDIMENTO LITRO 0,80/ 1000
A30: 6.3 | B30: 5914622 | C30: SICRO/DNIT | D30: TRANSPORTE DE MATERIAL BETUMINOSO COM CAMINHÃO TANQUE DISTRIBUIDOR - RODOVIA PAVIMENTADA | E30: TxKm | F30: 95.2 | G30: TON = 106,80 X 80 KM (UBERABA)
A31: 6.4 | B31: 4011353 | C31: SICRO/DNIT | D31: PINTURA DE LIGAÇÃO (RR-1C) | E31: m² | F31: =F28 -> 1483.35 | G31: COMPRIMENTO =494,45 X LARGURA =3,00
A32: 6.5 | B32: ARP 365/2023 (Preço Unit. com ICMS) | C32: DER-MG | D32: FORNECIMENTO DE MATERIAL BETUMINOSO RR-1C | E32: T | F32: =F31*0.8/1000 -> 1.18668 | G32: ÁREA = 1.483,35 X RENDIMENTO LITRO 0,80/ 1000
A33: 6.6 | B33: 5914622 | C33: SICRO/DNIT | D33: TRANSPORTE DE MATERIAL BETUMINOSO COM CAMINHÃO TANQUE DISTRIBUIDOR - RODOVIA PAVIMENTADA | E33: Txkm | F33: 95.2 | G33: TON= 106,80 X 80 KM = 8.544,10
A34: 6.7 | B34: ED-7623 | C34: SICOR/ SEINFRA | D34: EXECUÇÃO E APLICAÇÃO DE CONCRETO BETUMINOSO USINADO A QUENTE (CBUQ), MASSA COMERCIAL, INCLUINDO FORNECIMENTO E TRANSPORTE DOS AGREGADOS E ATERIAL BETUMINOSO, EXCLUSIVE TRANSPORTE DA MASSA ASFÁLTICA ATÉ A PISTA | E34: m³ | F34: =F31*0.03 -> 44.5005 | G34: ÁREA = 1.483,35 X ESPESSURA 0,03
A35: 6.8 | B35: 5914612 | C35: SICRO/DNIT | D35: TRANSPORTE DE MISTURA BETUMINOSA A QUENTE COM CAMINHÃO COM CAÇAMBA TÉRMICA DE 6 M³ - RODOVIA PAVIMENTADA (USINA-OBRA) | E35: TxKm | F35: =F34*2.4*80 -> 8544.096 | G35: 44,50 m3 x 2,4 x 80 km 8.544,10
