Workbook

Sheet PLANILHA
C1: PLANILHA ORÇAMENTÁRIA
A3: MUNICÍPIO: | B3: PIRANGUINHO ISS=2%
A4: OBRA: | B4: PAVIMENTAÇÃO EM TRECHOS DA ESTRADA DO CAPOTE
A5: DATA: | B5: ABRIL DE 2024 | G5: Revisão n.º 0 (23/04/2024)
A6: REF.: | B6: SINAPI BH MARÇO/2024 E SEINFRA/SETOP SUL AGOSTO/2023 (NÃO-DESONERADOS) | G6: BDI | H6: 0.216
A8: ITEM | B8: FONTE | C8: REFERÊNCIA | D8: DESCRIÇÃO | E8: UND. | F8: QTE. | G8: V. UNIT. | H8: V. UNIT. COM BDI | I8: V. TOTAL
D9: =B4 -> PAVIMENTAÇÃO EM TRECHOS DA ESTRADA DO CAPOTE | I9: =I10+I18 -> 175736.12
A10: 1.0 | D10: TRECHO 01 | I10: =I11+I13 -> 98658.38
A11: 1.1 | D11: SERVIÇOS INICIAIS | I11: =SUM(I12:I12) -> 754.56
A12: 1.1.1 | B12: SEINFRA | C12: ED-16660 | D12: FORNECIMENTO E COLOCAÇÃO DE PLACA DE OBRA EM CHAPA GALVANIZADA #26, ESP. 0,45 MM, PLOTADA COM ADESIVO VINÍLICO, AFIXADA COM REBITES 4,8X40 MM, EM ESTRUTURA METÁLICA DE METALON 20X20 MM, ESP. 1,25 MM, INCLUSIVE SUPORTE EM EUCALIPTO AUTOCLAVADO PINTADO COM TINTA PVA DUAS (2) DEMÃOS | E12: m² | F12: 2 | G12: 310.26 | H12: =ROUND(G12*(1+$H$6),2) -> 377.28 | I12: =ROUND(H12*F12,2) -> 754.56
A13: 1.2 | D13: SERVIÇOS PARA CALÇAMENTO | I13: =SUM(I14:I17) -> 97903.82
A14: 1.2.1 | B14: SINAPI | C14: 92404 | D14: EXECUÇÃO DE PAVIMENTO EM PISO INTERTRAVADO, COM BLOCO 16 FACES DE 22 X 11 CM, ESPESSURA 8 CM. AF_10/2022 | E14: m² | F14: 666.31 | G14: 82.38 | H14: =ROUND(G14*(1+$H$6),2) -> 100.17 | I14: =ROUND(H14*F14,2) -> 66744.27
A15: 1.2.2 | B15: SINAPI | C15: 94273 | D15: ASSENTAMENTO DE GUIA (MEIO-FIO) EM TRECHO RETO, CONFECCIONADA EM CONCRETO PRÉ-FABRICADO, DIMENSÕES 100X15X13X30 CM (COMPRIMENTO X BASE INFERIOR X BASE SUPERIOR X ALTURA), PARA VIAS URBANAS (USO VIÁRIO). AF_01/2024 | E15: m | F15: 258.78 | G15: 62.33 | H15: =ROUND(G15*(1+$H$6),2) -> 75.79 | I15: =ROUND(H15*F15,2) -> 19612.94
A16: 1.2.3 | B16: SINAPI | C16: 94287 | D16: EXECUÇÃO DE SARJETA DE CONCRETO USINADO, MOLDADA IN LOCO EM TRECHO RETO, 30 CM BASE X 10 CM ALTURA. AF_01/2024 | E16: m | F16: 246.78 | G16: 34.7 | H16: =ROUND(G16*(1+$H$6),2) -> 42.2 | I16: =ROUND(H16*F16,2) -> 10414.12
A17: 1.2.4 | B17: SEINFRA | C17: RO-41082 | D17: REGULARIZAÇÃO DO SUB-LEITO (PROCTOR INTERMEDIÁRO) | E17: m² | F17: 740.19 | G17: 1.26 | H17: =ROUND(G17*(1+$H$6),2) -> 1.53 | I17: =ROUND(H17*F17,2) -> 1132.49
A18: 2.0 | D18: TRECHO 02 | I18: 77077.74
A19: 2.1 | D19: SERVIÇOS INICIAIS | I19: 754.56
A20: 2.1.1 | B20: SEINFRA | C20: ED-16660 | D20: FORNECIMENTO E COLOCAÇÃO DE PLACA DE OBRA EM CHAPA GALVANIZADA #26, ESP. 0,45 MM, PLOTADA COM ADESIVO VINÍLICO, AFIXADA COM REBITES 4,8X40 MM, EM ESTRUTURA METÁLICA DE METALON 20X20 MM, ESP. 1,25 MM, INCLUSIVE SUPORTE EM EUCALIPTO AUTOCLAVADO PINTADO COM TINTA PVA DUAS (2) DEMÃOS | E20: m² | F20: 2 | G20: 310.26 | H20: 377.28 | I20: 754.56
A21: 2.2 | D21: SERVIÇOS PARA CALÇAMENTO | I21: 76323.18
A22: 2.2.1 | B22: SINAPI | C22: 92394 | D22: EXECUÇÃO DE PAVIMENTO EM PISO INTERTRAVADO, COM BLOCO SEXTAVADO DE 25 X 25 CM, ESPESSURA 8 CM. AF_10/2022 | E22: m² | F22: 497.93 | G22: 80.41 | H22: 97.78 | I22: 48687.6
A23: 2.2.2 | B23: SINAPI | C23: 94273 | D23: ASSENTAMENTO DE GUIA (MEIO-FIO) EM TRECHO RETO, CONFECCIONADA EM CONCRETO PRÉ-FABRICADO, DIMENSÕES 100X15X13X30 CM (COMPRIMENTO X BASE INFERIOR X BASE SUPERIOR X ALTURA), PARA VIAS URBANAS (USO VIÁRIO). AF_01/2024 | E23: m | F23: 226.88 | G23: 62.33 | H23: 75.79 | I23: 17195.24
A24: 2.2.3 | B24: SINAPI | C24: 94287 | D24: EXECUÇÃO DE SARJETA DE CONCRETO USINADO, MOLDADA IN LOCO EM TRECHO RETO, 30 CM BASE X 10 CM ALTURA. AF_01/2024 | E24: m | F24: 226.88 | G24: 34.7 | H24: 42.2 | I24: 9574.34
A25: 2.2.4 | B25: SEINFRA | C25: RO-41082 | D25: REGULARIZAÇÃO DO SUB-LEITO (PROCTOR INTERMEDIÁRO) | E25: m² | F25: 566.01 | G25: 1.26 | H25: 1.53 | I25: 866
B28: Nome legível do responsável técnico pela elaboração da planilha: ELEONÁRA RAMOS REIS - CREA MG 250684
B30: Assinatura do Responsável Técnico:
B31: Piranguinho, 23 de abril de 2024

Sheet BDI
A2: MUNICÍPIO: | B2: PIRANGUINHO ISS=2%
A3: OBRA: | B3: =PLANILHA!B4 -> PAVIMENTAÇÃO EM TRECHOS DA ESTRADA DO CAPOTE
A4: DATA: | B4: =PLANILHA!B5 -> ABRIL DE 2024 | G4: =PLANILHA!G5 -> Revisão n.º 0 (23/04/2024)
A6: DEMONSTRATIVO DO BDI - SEM DESONERAÇÃO - OBRA RODOVIÁRIA
A8: BDI (CONFORME ACÓRDÃO Nº 2622/13 e LEI Nº 13.161 DE 31/08/15)
A9: DISCRIMINAÇÃO DAS PARCELAS | B9: SIG. (1) | C9: CONSTRUÇÃO DE RODOVIAS E FERROVIAS | J9: INC. (6)
C10: ISS (2) | G10: DIFERENCIADO
C11: 0.02 | D11: 0.03 | E11: 0.04 | F11: 0.05 | G11: MATERIAL (5) | H11: SERVIÇO TERCEIRIZADO (4) (ISS=5%) | I11: EQUIPAMENTO (3) (ISS=5%)
A12: CUSTO DIRETO | B12: CD | C12: 1 | D12: 1 | E12: 1 | F12: 1 | G12: 1 | H12: 1 | I12: 1
A13: ADMINISTRAÇÃO CENTRAL | B13: AC | C13: 0.0467 | D13: 0.0467 | E13: 0.0467 | F13: 0.0467 | G13: 0.0342 | H13: 0.0401 | I13: 0.0342 | J13: CD
A14: LUCRO BRUTO | B14: L | C14: 0.0753 | D14: 0.0753 | E14: 0.0753 | F14: 0.0753 | G14: 0.0494 | H14: 0.0664 | I14: 0.0494 | J14: CD
A15: DESPESAS FINANCEIRAS | B15: DF | C15: 0.0093 | D15: 0.0093 | E15: 0.0093 | F15: 0.0093 | G15: 0.0093 | H15: 0.0093 | I15: 0.0093 | J15: CD
A16: SEGUROS, GARANTIAS E RISCO | C16: 0.0171 | D16: 0.0171 | E16: 0.0171 | F16: 0.0171 | G16: 0.0129 | H16: 0.0082 | I16: 0.0129 | J16: CD
A17: SEGUROS + GARANTIAS | B17: S | C17: 0.0074 | D17: 0.0074 | E17: 0.0074 | F17: 0.0074 | G17: 0.0053 | H17: 0.0032 | I17: 0.0053 | J17: CD
A18: RISCO(*) | B18: R | C18: 0.0097 | D18: 0.0097 | E18: 0.0097 | F18: 0.0097 | G18: 0.0076 | H18: 0.005 | I18: 0.0076 | J18: CD
A19: TRIBUTOS | B19: I | C19: 0.0505 | D19: 0.0575 | E19: 0.0645 | F19: 0.0715 | G19: 0.0365 | H19: 0.0615 | I19: 0.0615 | J19: PV
A20: ISS | B20: ISS(2) | C20: 0.014 | D20: 0.021 | E20: 0.028 | F20: 0.035 | G20: - | H20: 0.025 | I20: 0.025 | J20: PV
A21: PIS | B21: PIS | C21: 0.0065 | D21: 0.0065 | E21: 0.0065 | F21: 0.0065 | G21: 0.0065 | H21: 0.0065 | I21: 0.0065 | J21: PV
A22: COFINS | B22: - | C22: 0.03 | D22: 0.03 | E22: 0.03 | F22: 0.03 | G22: 0.03 | H22: 0.03 | I22: 0.03 | J22: PV
A23: CPRB | B23: INSS | J23: PV
A25: FÓRMULA DO BDI | C25: (1 + (AC + S + G + R)) x (1 + DF) x (1 + L)
C26: (1 - (I + CPRB))
A27: BDI (NUMERADOR) | C27: 0.1546 | D27: 0.1546 | E27: 0.1546 | F27: 0.1546 | G27: 0.1091 | H27: 0.1283 | I27: 0.1091
A28: BDI (DENOMINADOR) | C28: 0.9495 | D28: 0.9425 | E28: 0.9355 | F28: 0.9285 | G28: 0.9635 | H28: 0.9385 | I28: 0.9385
A29: BDI | C29: 0.216 | D29: 0.225 | E29: 0.2342 | F29: 0.2435 | G29: 0.1511 | H29: 0.2023 | I29: 0.1817
A31: OBSERVAÇÕES
A32: (1) SIGLA. (2) INCIDÊNCIA DE ISS EM 70% DO PREÇO DE VENDA, COM PERCENTUAIS DE 2%, 3%, 4% E 5%. (3) BDI DIFERENCIADO A SER APLICADO EM LOCAÇÃO DE CUSTO HORÁRIO DE EQUIPAMENTO. (4) BDI DIFERENCIADO A SER APLICADO PARA SERVIÇOS TERCEIRIZADOS. (5) BDI DIFERENCIADO A SER APLICADO PARA FORNECIMENTO DE MATERIAL BETUMINOSO E MATERIAL DE JAZIDA. (6) INCIDÊNCIA.
A34: Nome legível do responsável técnico pela elaboração da planilha: ELEONÁRA RAMOS REIS - CREA MG 250684
A36: Assinatura do Responsável Técnico:
A37: Piranguinho, 23 de abril de 2024

Sheet CRONOGRAMA
F2: =PLANILHA!G5 -> Revisão n.º 0 (23/04/2024)
A3: A N E X O I I I
A5: CRONOGRAMA FÍSICO-FINANCEIRO
A6: CONVENENTE:PREFEITURA MUNICIPAL DE PIRANGUINHO | F6: =F18 -> 175736.12
A7: =PLANILHA!B4 -> PAVIMENTAÇÃO EM TRECHOS DA ESTRADA DO CAPOTE
A8: ETAPAS | B8: Físico / Financeiro | C8: Mês 1 | D8: Mês 2 | E8: Mês 2 | F8: Total
A9: TRECHO 1 - SERVIÇOS PRELIMINARES | B9: Físico % | C9: 1 | F9: =SUM(C9:E9) -> 1
B10: Financeiro | C10: =PLANILHA!I11*C9 -> 754.56 | F10: =SUM(C10:E10) -> 754.56
A11: TRECHO 1 - SERVIÇOS PARA CALÇAMENTO | B11: Físico % | C11: 0.67 | D11: 0.33 | F11: =SUM(C11:E11) -> 1
B12: Financeiro | C12: =PLANILHA!I13*C11 -> 65595.559 | D12: =PLANILHA!I13*D11 -> 32308.261 | F12: =SUM(C12:D12) -> 97903.82
A13: TRECHO 2 - SERVIÇOS PRELIMINARES | B13: Físico % | C13: 1 | F13: =C13 -> 1
B14: Financeiro | C14: =PLANILHA!I19 -> 754.56 | F14: =C14 -> 754.56
A15: TRECHO 2 - SERVIÇOS PARA CALÇAMENTO | B15: Físico % | D15: 0.33 | E15: 0.67 | F15: =D15+E15 -> 1
B16: Financeiro | D16: =PLANILHA!I21*CRONOGRAMA!D15 -> 25186.649 | E16: =PLANILHA!I21*CRONOGRAMA!E15 -> 51136.531 | F16: =D16+E16 -> 76323.18
A17: TOTAL | B17: Físico % | C17: =C18/F18 -> 0.3818491 | D17: =D18/F18 -> 0.32716615 | E17: =E18/F18 -> 0.29098475 | F17: =SUM(C17:E17) -> 1
B18: Financeiro | C18: =C12+C10+C14 -> 67104.679 | D18: =D16+D12 -> 57494.91 | E18: =E16 -> 51136.531 | F18: =F10+F12+F14+F16 -> 175736.12
A22: Nome legível do responsável técnico pela elaboração da planilha: ELEONÁRA RAMOS REIS - CREA MG 250684
A24: Assinatura do Responsável Técnico:
A25: Piranguinho, 23 de abril de 2024

Sheet QUANTITATIVO
A1: MEMÓRIA DE CALCULO DE QUANTITATIVO
A3: =PLANILHA!A3 -> MUNICÍPIO: | B3: =PLANILHA!B3 -> PIRANGUINHO ISS=2% | D3: =PLANILHA!G5 -> Revisão n.º 0 (23/04/2024)
A4: =PLANILHA!A4 -> OBRA: | B4: =PLANILHA!B4 -> PAVIMENTAÇÃO EM TRECHOS DA ESTRADA DO CAPOTE
A5: =PLANILHA!A5 -> DATA: | B5: =PLANILHA!B5 -> ABRIL DE 2024
A7: ITEM | B7: DESCRIÇÃO | C7: UNID. | D7: MEMÓRIA DE CALCULO | E7: QUANTIDADE TOTAL
B8: =PLANILHA!D9 -> PAVIMENTAÇÃO EM TRECHOS DA ESTRADA DO CAPOTE
A9: =PLANILHA!A10 -> 1.0 | B9: =PLANILHA!D10 -> TRECHO 01
A10: =PLANILHA!A11 -> 1.1 | B10: SERVIÇOS PRELIMINARES
A11: =PLANILHA!A12 -> 1.1.1 | B11: FORNECIMENTO E COLOCAÇÃO DE PLACA DE OBRA EM CHAPA GALVANIZADA #26, ESP. 0,45 MM, PLOTADA COM ADESIVO VINÍLICO, AFIXADA COM REBITES 4,8X40 MM, EM ESTRUTURA METÁLICA DE METALON 20X20 MM, ESP. 1,25 MM, INCLUSIVE SUPORTE EM EUCALIPTO AUTOCLAVADO PINTADO COM TINTA PVA DUAS (2) DEMÃOS | C11: m² | D11: 3X1,50M | E11: =PLANILHA!F12 -> 2
A12: =PLANILHA!A13 -> 1.2 | B12: SERVIÇOS PARA CALÇAMENTO
A13: =PLANILHA!A14 -> 1.2.1 | B13: =PLANILHA!D14 -> EXECUÇÃO DE PAVIMENTO EM PISO INTERTRAVADO, COM BLOCO 16 FACES DE 22 X 11 CM, ESPESSURA 8 CM. AF_10/2022 | C13: m² | D13: ÁREA DA VIA - ÁREA DE SARJETAS | E13: =PLANILHA!F14 -> 666.31
A14: =PLANILHA!A15 -> 1.2.2 | B14: ASSENTAMENTO DE GUIA (MEIO-FIO) EM TRECHO RETO, CONFECCIONADA EM CONCRETO PRÉ-FABRICADO, DIMENSÕES 100X15X13X30 CM (COMPRIMENTO X BASE INFERIOR X BASE SUPERIOR X ALTURA), PARA VIAS URBANAS (USO VIÁRIO). AF_01/2024 | C14: m | D14: CONFORME PROJETO, SOMA DOS TRECHOS DOS MEIO-FIOS LATERAIS E DE TRAVAMENTO (EXCETO OS MEIO-FIOS EXISTENTES) | E14: =PLANILHA!F15 -> 258.78
A15: =PLANILHA!A16 -> 1.2.3 | B15: EXECUÇÃO DE SARJETA DE CONCRETO USINADO, MOLDADA IN LOCO EM TRECHO RETO, 30 CM BASE X 10 CM ALTURA. AF_01/2024 | C15: m | D15: CONFORME PROJETO, SOMA DOS TRECHOS DE SARJETAS | E15: =PLANILHA!F16 -> 246.78
A16: =PLANILHA!A17 -> 1.2.4 | B16: REGULARIZAÇÃO DO SUB-LEITO (PROCTOR INTERMEDIÁRO) | C16: m² | D16: CONFORME PROJETO, ÁREA EXTRAÍDA DO ARQUIVO .dwg | E16: =PLANILHA!F17 -> 740.19
A17: =PLANILHA!A18 -> 2.0 | B17: =PLANILHA!D18 -> TRECHO 02 | E17: =PLANILHA!F18 -> 0
A18: =PLANILHA!A19 -> 2.1 | B18: =PLANILHA!D19 -> SERVIÇOS INICIAIS
A19: =PLANILHA!A20 -> 2.1.1 | B19: =PLANILHA!D20 -> FORNECIMENTO E COLOCAÇÃO DE PLACA DE OBRA EM CHAPA GALVANIZADA #26, ESP. 0,45 MM, PLOTADA COM ADESIVO VINÍLICO, AFIXADA COM REBITES 4,8X40 MM, EM ESTRUTURA METÁLICA DE METALON 20X20 MM, ESP. 1,25 MM, INCLUSIVE SUPORTE EM EUCALIPTO AUTOCLAVADO PINTADO COM TINTA PVA DUAS (2) DEMÃOS | C19: m² | D19: 3X1,50M | E19: =PLANILHA!F20 -> 2
A20: =PLANILHA!A21 -> 2.2 | B20: =PLANILHA!D21 -> SERVIÇOS PARA CALÇAMENTO
A21: =PLANILHA!A22 -> 2.2.1 | B21: =PLANILHA!D22 -> EXECUÇÃO DE PAVIMENTO EM PISO INTERTRAVADO, COM BLOCO SEXTAVADO DE 25 X 25 CM, ESPESSURA 8 CM. AF_10/2022 | C21: m² | D21: ÁREA DA VIA - ÁREA DE SARJETAS | E21: =PLANILHA!F22 -> 497.93
A22: =PLANILHA!A23 -> 2.2.2 | B22: =PLANILHA!D23 -> ASSENTAMENTO DE GUIA (MEIO-FIO) EM TRECHO RETO, CONFECCIONADA EM CONCRETO PRÉ-FABRICADO, DIMENSÕES 100X15X13X30 CM (COMPRIMENTO X BASE INFERIOR X BASE SUPERIOR X ALTURA), PARA VIAS URBANAS (USO VIÁRIO). AF_01/2024 | C22: m | D22: CONFORME PROJETO, SOMA DOS TRECHOS DOS MEIO-FIOS LATERAIS E DE TRAVAMENTO (EXCETO OS MEIO-FIOS EXISTENTES) | E22: =PLANILHA!F23 -> 226.88
A23: =PLANILHA!A24 -> 2.2.3 | B23: =PLANILHA!D24 -> EXECUÇÃO DE SARJETA DE CONCRETO USINADO, MOLDADA IN LOCO EM TRECHO RETO, 30 CM BASE X 10 CM ALTURA. AF_01/2024 | C23: m | D23: CONFORME PROJETO, SOMA DOS TRECHOS DE SARJETAS | E23: =PLANILHA!F24 -> 226.88
A24: =PLANILHA!A25 -> 2.2.4 | B24: =PLANILHA!D25 -> REGULARIZAÇÃO DO SUB-LEITO (PROCTOR INTERMEDIÁRO) | C24: m² | D24: CONFORME PROJETO, ÁREA EXTRAÍDA DO ARQUIVO .dwg | E24: =PLANILHA!F25 -> 566.01
A26: Nome legível do responsável técnico pela elaboração da planilha: ELEONÁRA RAMOS REIS - CREA MG 250684
A28: Assinatura do Responsável Técnico:
A29: Piranguinho, 23 de abril de 2024

Sheet MATERIAL
A4: ASSOCIAÇÃO DOS MUNICÍPIOS DA MICRORREGIÃO DO ALTO SAPUCAÍ
A5: Av. Henriqueto Cardinalli, 931 – Bairro Varginha - TELEFAX ( 35 ) 3622-4211
A6: ITAJUBÁ/MG
E7: PLANILHA ORÇAMENTÁRIA - MATERIAL
A9: MUNICÍPIO: | B9: MARMELÓPOLIS | F9: CONTRATO
A10: OBRA: | B10: CALÇAMENTO E DRENAGEM PLUVIAL - BAIRRO CUBATÃO DE CIMA | F10: ART
A11: DATA: | B11: OUTUBRO DE 2015 | F11: REVISÃO ZERO
A12: REF.: | B12: SINAPI BH - SETEMBRO DE 2015
A13: CLASSE/TIPO | B13: CÓDIGOS | C13: DESCRIÇÃO | D13: UNIDADE | E13: QUANTIDADE | F13: COEFICIENTE | G13: CUSTO UNITÁRIO | H13: CUSTO TOTAL
A14: 1.0 | C14: SERVIÇOS PRELIMINARES
A15: 1.1 | B15: 74209/1 | C15: PLACA DE OBRA EM CHAPA DE ACO GALVANIZADO | D15: M2 | E15: 4.5
A16: 1.1.1 | B16: 4417 | C16: PECA DE MADEIRA DE LEI *2,5 X 7,5* CM (1" X 3"), NÃO APARELHADA | D16: M | E16: 4.5 | F16: 1 | G16: 4.97 | H16: =ROUND(G16*E16,2) -> 22.37
A17: 1.1.2 | B17: 4491 | C17: PECA DE MADEIRA NATIVA / REGIONAL 7,5 X 7,5CM (3X3) NAO APARELHADA (P/FORMA) | D17: M | E17: 18 | F17: 4 | G17: 6.24 | H17: =ROUND(G17*E17,2) -> 112.32
A18: 1.1.3 | B18: 4813 | C18: PLACA DE OBRA (PARA CONSTRUCAO CIVIL) EM CHAPA GALVANIZADA *Nº 22*, DE *2,0 X 1,125* M | D18: M2 | E18: 4.5 | F18: 1 | G18: 240 | H18: =ROUND(G18*E18,2) -> 1080
A19: 1.1.4 | B19: 5075 | C19: PREGO POLIDO COM CABECA 18 X 30 | D19: KG | E19: 0.5 | F19: 0.11 | G19: 6.97 | H19: =ROUND(G19*E19,2) -> 3.49
A20: 2.0 | C20: SERVIÇOS PARA CALÇAMENTO
A21: 2.1 | B21: 74223/1 | C21: MEIO-FIO (GUIA) DE CONCRETO PRE-MOLDADO, DIMENSÕES 12X15X30X100CM ,REJUNTADO C/ARGAMASSA 1:4 CIMENTO:AREIA | D21: M | E21: 890.7
A22: 2.1.1 | B22: 370 | C22: AREIA MEDIA - POSTO JAZIDA/FORNECEDOR (SEM FRETE) | D22: M3 | E22: =F22*E21 -> 1.4242293 | F22: =1.23*0.0013 -> 0.001599 | G22: 58.33 | H22: =ROUND(G22*E22,2) -> 83.08
A23: 2.1.2 | B23: 1379 | C23: CIMENTO PORTLAND COMPOSTO CP II-32 | D23: SC | E23: =F23*E21 -> 8.2220873 | F23: =355.04*0.0013/50 -> 0.00923104 | G23: =0.43*50 -> 21.5 | H23: =ROUND(G23*E23,2) -> 176.77
A24: 2.1.3 | B24: MERCADO | C24: MEIO-FIO OU GUIA DE CONCRETO, PRE-MOLDADO, COMP 1 M, *30 X 15/ 12* CM (H X L1/L2) | D24: M | E24: 891 | F24: 1 | G24: 13 | H24: =ROUND(G24*E24,2) -> 11583
A25: 2.2 | B25: 73972/1 | C25: CONCRETO PARA SARJETAS | D25: M3 | E25: 33.36
A26: 2.2.1 | B26: 370 | C26: AREIA MEDIA - POSTO JAZIDA/FORNECEDOR (SEM FRETE) | D26: M3 | E26: 28.92 | F26: 0.8669 | G26: 58.33 | H26: =ROUND(G26*E26,2) -> 1686.9
A27: 2.2.2 | B27: 1379 | C27: CIMENTO PORTLAND COMPOSTO CP II-32 | D27: SC | E27: 232.88 | F27: =349/50 -> 6.98 | G27: =0.43*50 -> 21.5 | H27: =ROUND(G27*E27,2) -> 5006.92
A28: 2.2.3 | B28: 4718 | C28: PEDRA BRITADA N. 2 (19 A 38 MM) POSTO PEDREIRA/FORNECEDOR, SEM FRETE | D28: M3 | E28: 6.97 | F28: 0.209 | G28: 58.8 | H28: =ROUND(G28*E28,2) -> 409.84
A29: 2.2.4 | B29: 4721 | C29: PEDRA BRITADA N. 1 (9,5 a 19 MM) POSTO PEDREIRA/FORNECEDOR, SEM FRETE | D29: M3 | E29: 20.92 | F29: 0.627 | G29: 58.8 | H29: =ROUND(G29*E29,2) -> 1230.1
A30: 2.3 | B30: 73764/5 | C30: PAVIMENTACAO EM BLOCOS DE CONCRETO SEXTAVADO, ESPESSURA 8CM, FCK 35MPA, ASSENTADOS SOBRE COLCHAO DE AREIA. | D30: M2 | E30: 1606.36
A31: 2.3.1 | B31: 367 | C31: AREIA GROSSA - POSTO JAZIDA/FORNECEDOR (SEM FRETE) | D31: M3 | E31: 128.51 | F31: 0.08 | G31: 70 | H31: =ROUND(G31*E31,2) -> 8995.7
A32: 2.3.2 | B32: MERCADO | C32: PISO INTERTRAVADO DE CONCRETO - MODELO SEXTAVADO, 25 X 25 X 08 CM, RESISTENCIA 35 MPA (NBR 9781) | D32: M2 | E32: 1607 | F32: 1 | G32: 32.4 | H32: =ROUND(G32*E32,2) -> 52066.8
A33: 3.0 | C33: SERVIÇOS PARA DRENAGEM PLUVIAL
A34: 3.1 | B34: 83659 | C34: BOCA DE LOBO EM ALVENARIA TIJOLO MACICO, REVESTIDA C/ ARGAMASSA DE CIMENTO E AREIA 1:3, SOBRE LASTRO DE CONCRETO 10CM | D34: UN | E34: 14
A35: 3.1.1 | B35: 34 | C35: ACO CA-50, 10,0 MM, VERGALHAO | D35: KG | E35: 59.64 | F35: 4.26 | G35: 3.68 | H35: =ROUND(G35*E35,2) -> 219.48
A36: 3.1.2 | B36: 337 | C36: ARAME RECOZIDO 18 BWG, 1,25 MM (0,01 KG/M) | D36: KG | E36: 1.01 | F36: 0.072 | G36: 6.34 | H36: =ROUND(G36*E36,2) -> 6.4
A37: 3.1.3 | B37: 367 | C37: AREIA GROSSA - POSTO JAZIDA/FORNECEDOR (SEM FRETE) | D37: M3 | E37: 5.17 | F37: 0.369 | G37: 70 | H37: =ROUND(G37*E37,2) -> 361.9
A38: 3.1.4 | B38: 1106 | C38: CAL HIDRATADA CH-I PARA ARGAMASSAS | D38: SC | E38: 17.42 | F38: =24.888/20 -> 1.2444 | G38: =0.5*20 -> 10 | H38: =ROUND(G38*E38,2) -> 174.2
A39: 3.1.5 | B39: 1350 | C39: CHAPA DE MADEIRA COMPENSADA RESINADA PARA FORMA DE CONCRETO, DE *2,2 X 1,1* M, E = 10 MM | D39: UN | E39: 2 | F39: 0.1338843 | G39: 24.8 | H39: =ROUND(G39*E39,2) -> 49.6
A40: 3.1.6 | B40: 1379 | C40: CIMENTO PORTLAND COMPOSTO CP II-32 | D40: SC | E40: 24.41 | F40: =87.186/50 -> 1.74372 | G40: =0.43*50 -> 21.5 | H40: =ROUND(G40*E40,2) -> 524.82
A41: 3.1.7 | B41: 4718 | C41: PEDRA BRITADA N. 2 (19 A 38 MM) POSTO PEDREIRA/FORNECEDOR, SEM FRETE | D41: M3 | E41: 1.76 | F41: 0.126 | G41: 58.8 | H41: =ROUND(G41*E41,2) -> 103.49
A42: 3.1.8 | B42: 4721 | C42: PEDRA BRITADA N. 1 (9,5 a 19 MM) POSTO PEDREIRA/FORNECEDOR, SEM FRETE | D42: M3 | E42: 0.45 | F42: 0.032 | G42: 58.8 | H42: =ROUND(G42*E42,2) -> 26.46
A43: 3.1.9 | B43: 6189 | C43: TABUA MADEIRA 2A QUALIDADE 2,5 X 30,0CM (1 X 12") NAO APARELHADA | D43: M | E43: 4.3 | F43: 0.30749 | G43: 10.22 | H43: =ROUND(G43*E43,2) -> 43.95
A44: 3.1.10 | B44: 7258 | C44: TIJOLO CERAMICO MACICO *5 X 10 X 20* CM | D44: UN | E44: 5342 | F44: 381.6 | G44: 0.28 | H44: =ROUND(G44*E44,2) -> 1495.76
...
