Workbook
Name ___sub1: #REF!
Name ___sub2: #REF!
Name ___sub3: #REF!
Name _sub1: #REF!
Name _sub2: #REF!
Name _sub3: #REF!
Name a: #REF!
Name AREA: #REF!
Name B: #REF!
Name BDI: #REF!
Name DOLAR: [5]INSUMOS!$G$8
Name ersdcefgbrnghrbgbrgfbgfwbvbfgvwfv: #REF!
Name Excel_BuiltIn_Print_Area_2: #REF!
Name Excel_BuiltIn_Print_Area_2_1: #REF!
Name Excel_BuiltIn_Print_Area_2_1_1: #REF!
Name Excel_BuiltIn_Print_Area_2_1_1_1: #REF!
Name Excel_BuiltIn_Print_Area_4: #REF!
Name Fonte: #REF!
Name Fonte: #REF!
Name Fonte: #N/A
Name INSUMOS: #REF!
Name leosde: #REF!
Name NCOMPOSICOES: 7
Name NCOTACOES: 15
Name obra: #REF!
Name obra1: #REF!
Name obra2: #REF!
Name obra3: #REF!
Name obra4: #REF!
Name obra5: #REF!
Name P.1: #REF!
Name P.10: #REF!
Name P.11: #REF!
Name P.12: #REF!
Name P.13: #REF!
Name P.14: #REF!
Name P.15: #REF!
Name P.2: #REF!
Name P.3: #REF!
Name P.4: #REF!
Name P.5: #REF!
Name P.6: #REF!
Name P.7: #REF!
Name P.8: #REF!
Name P.9: #REF!
Name Pedreiro_de_acabamento: [5]INSUMOS!$B$11
Name PP1.1: #REF!
Name PP1.10: #REF!
Name PP1.11: #REF!
Name PP1.12: #REF!
Name PP1.13: #REF!
Name PP1.14: #REF!
Name PP1.15: #REF!
Name PP1.2: #REF!
Name PP1.3: #REF!
Name PP1.4: #REF!
Name PP1.5: #REF!
Name PP1.6: #REF!
Name PP1.7: #REF!
Name PP1.8: #REF!

Sheet BM 01
A1: ANEXO X - BOLETIM DE MEDIÇÃO
A3: PREFEITURA: PREFEITURA MUNICIPAL DE BOCAINA DE MINAS | E3: BOLETIM DE MEDIÇÃO Nº: | H3: CONVÊNIO Nº: | J3: CONCEDENTE: | M3: MEDIÇÃO Nº: | P3: nº Folha
E4: 01 | H4: RECURSO PROPRIO | J4: RECURSO PROPRIO | M4: 01 | P4: 01
A5: CONTRATADA: JRC ENGENHARIA E CONSTRUÇÃO LTDA | E5: LICITAÇÃO Nº: 101/2021 | H5: ORDEM DE SERVIÇO: | J5: DATA DA EMISSÃO: 06 DE MAIO DE 2022
J6: PERIODO DE EXECUÇÃO: 17/03/2022 A 06/05/2022
A7: OBRA: CALÇAMENTO EM BLOQUETE | E7: CONTRATO Nº: 015/2021 | H7: 44637 | J7: Valor CT/ TA: | L7: Saldo Anterior: | N7: Esta medição: | P7: Saldo:
J8: 536144.83 | L8: =J8 -> 536144.83 | N8: =N48 -> #REF! | P8: =L8-N8 -> #REF!
A9: ITEM | B9: SERVIÇOS EXECUTADOS | E9: QUANT. | H9: QUANTIDADES EXECUTADAS | K9: UNID. | M9: VALOR UNIT. | N9: VALORES EXECUTADOS R$
E10: PREVISTA (Plano de Trabalho) | H10: Anterior | I10: No período | J10: Acumulado | N10: No período | P10: Acumulado
A11: 1 | B11: INSTALAÇÕES INICIAIS DA OBRA | P11: =P12+P13 -> 14593.217
A12: 1.1 | B12: FORNECIMENTO E COLOCAÇÃO DE PLACA DE OBRA EM CHAPA GALVANIZADA #26, ESP. 0,45 MM, PLOTADA COM ADESIVO VINÍLICO, AFIXADA COM REBITES 4,8X40 MM, EM ESTRUTURA METÁLICA DE METALON 20X20 MM, ESP. 1,25 MM, INCLUSIVE SUPORTE EM EUCALIPTO AUTOCLAVADO PINTADO COM TINTA PVA DUAS (2) DEMÃOS | E12: 2 | H12: 0 | I12: 2 | J12: =H12+I12 -> 2 | K12: M2 | M12: 236.24917 | N12: =I12*M12 -> 472.49834 | P12: =J12*M12 -> 472.49834
A13: 1.2 | B13: BARRACÃO DE OBRA, EM CHAPA DE COMPENSADO RESINADO, INCLUSIVE INSTALAÇÕES SANITÁRIAS E MOBILIADO - PADRÃO DER-MG | E13: 25 | H13: 0 | I13: 25 | J13: =H13+I13 -> 25 | K13: M2 | M13: 564.82874 | N13: =I13*M13 -> 14120.718 | P13: =J13*M13 -> 14120.718
A14: MIRANTÃO (SAÍDA PARA RESENDE)
A15: 2 | B15: CALÇAMENTO EM BLOQUETE | P15: =P16+P17+P18+P19 -> 0
A16: 2.1 | B16: REGULARIZAÇÃO E COMPACTAÇÃO DE TERRENO COM ROLO VIBRATÓRIO | E16: 0 | H16: 0 | I16: 0 | J16: 0 | K16: M2 | M16: 1.5 | N16: =I16*M16 -> 0 | P16: =J16*M16 -> 0
A17: 2.2 | B17: GUIA DE MEIO FIO, EM CONCRETO COM FCK 20 MPA, PRÉ MOLDADA, MFC-01 PADRÃO DER-MG, DIMENSÕES (12X16,7X35)CM, EXCLUSIVE SARJETA, INCLUSIVE ESCAVAÇÃO, APILOAMENTO E TRANSPORTE COM RETIRADA DO MATERIAL ESCAVADO (EM CAÇAMBA) | E17: 0 | H17: 0 | I17: 0 | J17: 0 | K17: M | M17: 53.36 | N17: =I17*M17 -> 0 | P17: =J17*M17 -> 0
A18: 2.3 | B18: EXECUÇÃO DE CALÇAMENTO EM BLOQUETE - E=8 CM - FCK=35MPA, INCLUINDO FORNECIMENTO E TRANSPORTE DE TODOS OS MATERIAIS, COLCHÃO DE ASSENTAMENTO E= 6CM | E18: 0 | H18: 0 | I18: 0 | J18: 0 | K18: M2 | M18: 87.28 | N18: =I18*M18 -> 0 | P18: =J18*M18 -> 0
A19: 2.4 | B19: EXECUÇÃO DE SARJETA DE CONCRETO USINADO, MOLDADA IN LOCO, EM TRECHO RETO, 30 CM DE BASE X 10 CM DE ALTURA. AF: _06/2016 | E19: 0 | H19: 0 | I19: 0 | J19: 0 | K19: M | M19: 42.72 | N19: =I19*M19 -> 0 | P19: =J19*M19 -> 0
B20: MIRANTÃO (SAÍDA PARA BOCAINA)
A21: 3 | B21: CALÇAMENTO EM BLOQUETE | P21: =P22+P23+P24+P25 -> 0
A22: 3.1 | B22: REGULARIZAÇÃO E COMPACTAÇÃO DE TERRENO COM ROLO VIBRATÓRIO | E22: 0 | H22: 0 | I22: 0 | J22: 0 | K22: M2 | M22: 1.5 | N22: =I22*M22 -> 0 | P22: =J22*M22 -> 0
A23: 3.2 | B23: GUIA DE MEIO FIO, EM CONCRETO COM FCK 20 MPA, PRÉ MOLDADA, MFC-01 PADRÃO DER-MG, DIMENSÕES (12X16,7X35)CM, EXCLUSIVE SARJETA, INCLUSIVE ESCAVAÇÃO, APILOAMENTO E TRANSPORTE COM RETIRADA DO MATERIAL ESCAVADO (EM CAÇAMBA) | E23: 0 | H23: 0 | I23: 0 | J23: 0 | K23: M | M23: 53.36 | N23: =I23*M23 -> 0 | P23: =J23*M23 -> 0
A24: 3.3 | B24: EXECUÇÃO DE CALÇAMENTO EM BLOQUETE - E=8 CM - FCK=35MPA, INCLUINDO FORNECIMENTO E TRANSPORTE DE TODOS OS MATERIAIS, COLCHÃO DE ASSENTAMENTO E= 6CM | E24: 0 | H24: 0 | I24: 0 | J24: 0 | K24: M2 | M24: 87.28 | N24: =I24*M24 -> 0 | P24: =J24*M24 -> 0
A25: 3.4 | B25: EXECUÇÃO DE SARJETA DE CONCRETO USINADO, MOLDADA IN LOCO, EM TRECHO RETO, 30 CM DE BASE X 10 CM DE ALTURA. AF: _06/2016 | E25: 0 | H25: 0 | I25: 0 | J25: 0 | K25: M | M25: 42.72 | N25: =I25*M25 -> 0 | P25: =J25*M25 -> 0
A26: SANTO ANTÔNIO ( RUA ABAIXO DA CAIXA D'ÁGUA) > TRECHO 1 E 2
A27: 4 | B27: CALÇAMENTO EM BLOQUETE | P27: =SUM(P28,P29,P30,P31) -> #REF!
A28: 4.1 | B28: REGULARIZAÇÃO E COMPACTAÇÃO DE TERRENO COM ROLO VIBRATÓRIO | E28: 1160 | H28: 0 | I28: 1160 | J28: =H28+I28 -> 1160 | K28: M2 | M28: #REF! | N28: =I28*M28 -> #REF! | P28: =J28*M28 -> #REF!
A29: 4.2 | B29: GUIA DE MEIO FIO, EM CONCRETO COM FCK 20 MPA, PRÉ MOLDADA, MFC-01 PADRÃO DER-MG, DIMENSÕES (12X16,7X35)CM, EXCLUSIVE SARJETA, INCLUSIVE ESCAVAÇÃO, APILOAMENTO E TRANSPORTE COM RETIRADA DO MATERIAL ESCAVADO (EM CAÇAMBA) | E29: 469 | H29: 0 | I29: 469 | J29: =H29+I29 -> 469 | K29: M | M29: #REF! | N29: =I29*M29 -> #REF! | P29: =J29*M29 -> #REF!
A30: 4.3 | B30: EXECUÇÃO DE CALÇAMENTO EM BLOQUETE - E=8 CM - FCK=35MPA, INCLUINDO FORNECIMENTO E TRANSPORTE DE TODOS OS MATERIAIS, COLCHÃO DE ASSENTAMENTO E | E30: 1020.8 | H30: 0 | I30: 1020.8 | J30: =H30+I30 -> 1020.8 | K30: M2 | M30: #REF! | N30: =I30*M30 -> #REF! | P30: =J30*M30 -> #REF!
A31: 4.4 | B31: EXECUÇÃO DE SARJETA DE CONCRETO USINADO, MOLDADA IN LOCO, EM TRECHO RETO, 30 CM DE BASE X 10 CM DE ALTURA. AF: _06/2016 | E31: 464 | H31: 0 | I31: 464 | J31: =H31+I31 -> 464 | K31: M | M31: #REF! | N31: =I31*M31 -> #REF! | P31: =J31*M31 -> #REF!
A32: SANTO ANTÔNIO (SAÍDA SENTIDO COMUNIDADE PAIOL)
A33: 5 | B33: DRENAGEM | P33: =P34+P35+P36+P37+P38 -> 0
A34: 5.1 | B34: ESCAVAÇÃO E CARGA MECANIZADA EM MATERIAL DE 1ª CATEGORIA | E34: 0 | H34: 0 | I34: 0 | J34: 0 | K34: M3 | M34: 4.1 | N34: =I34*M34 -> 0 | P34: =J34*M34 -> 0
A35: 5.2 | B35: TUBO DE CONCETO SIMPLES, CLASSE PS1, DIAMETRO 400MM, INCLUSIVE FORNECIMENTO, ASSENTAMENTO E REJUNTAMENTO | E35: 0 | H35: 0 | I35: 0 | J35: 0 | K35: M | M35: 101.32 | N35: =I35*M35 -> 0 | P35: =J35*M35 -> 0
A36: 5.3 | B36: CAIXA DE CAPTAÇÃO E DRENAGEM TIPO A (120X120X150 CM), D=500 MM A 1500 MM, INCLUSIVE ESCAVAÇÃO, REATERRO E BOTA-FORA | E36: 0 | H36: 0 | I36: 0 | J36: 0 | K36: UNID. | M36: 2231.38 | N36: =I36*M36 -> 0 | P36: =J36*M36 -> 0
A37: 5.4 | B37: BOCA DE LOBO SIMPLES (TIPO B - CONCRETO), QUADRO, GRELHA E CANTONEIRA, INCLUSIVE ESCAVAÇÃO, REATERRO E BOTA-FORA | E37: 0 | H37: 0 | I37: 0 | J37: 0 | K37: UNID. | M37: 1245.59 | N37: =I37*M37 -> 0 | P37: =J37*M37 -> 0
A38: 5.5 | B38: REATERRO COMPACTADO DE VALA COM EQUIPAMENTO PLACA VIBRATÓRIA | E38: 0 | H38: 0 | I38: 0 | J38: 0 | K38: M3 | M38: 39.43 | N38: =I38*M38 -> 0 | P38: =J38*M38 -> 0
A39: 6 | B39: CALÇAMENTO EM BLOQUETE | P39: =P40+P41+P42+P43 -> 0
A40: 6.1 | B40: REGULARIZAÇÃO E COMPACTAÇÃO DE TERRENO COM ROLO VIBRATÓRIO | E40: 0 | H40: 0 | I40: 0 | J40: 0 | K40: M2 | M40: 1.5 | N40: =I40*M40 -> 0 | P40: =J40*M40 -> 0
A41: 6.2 | B41: GUIA DE MEIO FIO, EM CONCRETO COM FCK 20 MPA, PRÉ MOLDADA, MFC-01 PADRÃO DER-MG, DIMENSÕES (12X16,7X35)CM, EXCLUSIVE SARJETA, INCLUSIVE ESCAVAÇÃO, APILOAMENTO E TRANSPORTE COM RETIRADA DO MATERIAL ESCAVADO (EM CAÇAMBA) | E41: 0 | H41: 0 | I41: 0 | J41: 0 | K41: M | M41: 53.36 | N41: =I41*M41 -> 0 | P41: =J41*M41 -> 0
...

Sheet BM 02
A1: ANEXO X - BOLETIM DE MEDIÇÃO
A3: PREFEITURA: PREFEITURA MUNICIPAL DE BOCAINA DE MINAS | E3: BOLETIM DE MEDIÇÃO Nº: | H3: CONVÊNIO Nº: | J3: CONCEDENTE: | M3: MEDIÇÃO Nº: | P3: nº Folha
E4: 02 | H4: RECURSO PROPRIO | J4: RECURSO PROPRIO | M4: 02 | P4: 01
A5: CONTRATADA: JRC ENGENHARIA E CONSTRUÇÃO LTDA | E5: LICITAÇÃO Nº: 101/2021 | H5: ORDEM DE SERVIÇO: | J5: DATA DA EMISSÃO: 23 DE JUNHO DE 2022
J6: PERIODO DE EXECUÇÃO: 07/05/2022 A 23/06/2022
A7: OBRA: CALÇAMENTO EM BLOQUETE | E7: CONTRATO Nº: 015/2021 | H7: 44637 | J7: Valor CT/ TA: | L7: Saldo Anterior: | N7: Esta medição: | P7: Saldo:
J8: 536144.83 | L8: 385867.69 | N8: =P44 -> 104243.75 | P8: =L8-N8 -> 281623.94
A9: ITEM | B9: SERVIÇOS EXECUTADOS | E9: QUANT. | H9: QUANTIDADES EXECUTADAS | K9: UNID. | M9: VALOR UNIT. | N9: VALORES EXECUTADOS R$
E10: PREVISTA (Plano de Trabalho) | H10: Anterior | I10: No período | J10: Acumulado | N10: No período | P10: Acumulado
A11: 1 | B11: INSTALAÇÕES INICIAIS DA OBRA | P11: =P12+P13 -> 14593.217
A12: 1.1 | B12: FORNECIMENTO E COLOCAÇÃO DE PLACA DE OBRA EM CHAPA GALVANIZADA #26, ESP. 0,45 MM, PLOTADA COM ADESIVO VINÍLICO, AFIXADA COM REBITES 4,8X40 MM, EM ESTRUTURA METÁLICA DE METALON 20X20 MM, ESP. 1,25 MM, INCLUSIVE SUPORTE EM EUCALIPTO AUTOCLAVADO PINTADO COM TINTA PVA DUAS (2) DEMÃOS | E12: 2 | H12: 2 | I12: 0 | J12: =H12+I12 -> 2 | K12: M2 | M12: 236.24917 | N12: =I12*M12 -> 0 | P12: =J12*M12 -> 472.49834
A13: 1.2 | B13: BARRACÃO DE OBRA, EM CHAPA DE COMPENSADO RESINADO, INCLUSIVE INSTALAÇÕES SANITÁRIAS E MOBILIADO - PADRÃO DER-MG | E13: 25 | H13: 25 | I13: 0 | J13: =H13+I13 -> 25 | K13: M2 | M13: 564.82874 | N13: =I13*M13 -> 0 | P13: =J13*M13 -> 14120.718
A14: MIRANTÃO (SAÍDA PARA RESENDE)
A15: 2 | B15: CALÇAMENTO EM BLOQUETE | P15: =N16+N17+N18+N19 -> 63575.274
A16: 2.1 | B16: REGULARIZAÇÃO E COMPACTAÇÃO DE TERRENO COM ROLO VIBRATÓRIO | E16: 570.15 | H16: 0 | I16: 570.15 | J16: =I16+H16 -> 570.15 | K16: M2 | M16: 1.5 | N16: =I16*M16 -> 855.225 | P16: =J16*M16 -> 855.225
A17: 2.2 | B17: GUIA DE MEIO FIO, EM CONCRETO COM FCK 20 MPA, PRÉ MOLDADA, MFC-01 PADRÃO DER-MG, DIMENSÕES (12X16,7X35)CM, EXCLUSIVE SARJETA, INCLUSIVE ESCAVAÇÃO, APILOAMENTO E TRANSPORTE COM RETIRADA DO MATERIAL ESCAVADO (EM CAÇAMBA) | E17: 186.8 | H17: 0 | I17: 186.8 | J17: =I17+H17 -> 186.8 | K17: M | M17: 53.36 | N17: =I17*M17 -> 9967.648 | P17: =J17*M17 -> 9967.648
A18: 2.3 | B18: EXECUÇÃO DE CALÇAMENTO EM BLOQUETE - E=8 CM - FCK=35MPA, INCLUINDO FORNECIMENTO E TRANSPORTE DE TODOS OS MATERIAIS, COLCHÃO DE ASSENTAMENTO E= 6CM | E18: 515.91 | H18: 0 | I18: 515.91 | J18: =I18+H18 -> 515.91 | K18: M2 | M18: 87.28 | N18: =I18*M18 -> 45028.625 | P18: =J18*M18 -> 45028.625
A19: 2.4 | B19: EXECUÇÃO DE SARJETA DE CONCRETO USINADO, MOLDADA IN LOCO, EM TRECHO RETO, 30 CM DE BASE X 10 CM DE ALTURA. AF: _06/2016 | E19: 180.8 | H19: 0 | I19: 180.8 | J19: =I19+H19 -> 180.8 | K19: M | M19: 42.72 | N19: =I19*M19 -> 7723.776 | P19: =J19*M19 -> 7723.776
B20: MIRANTÃO (SAÍDA PARA BOCAINA)
A21: 3 | B21: CALÇAMENTO EM BLOQUETE | P21: =N22+N23+N24+N25 -> 40668.48
A22: 3.1 | B22: REGULARIZAÇÃO E COMPACTAÇÃO DE TERRENO COM ROLO VIBRATÓRIO | E22: 360 | H22: 0 | I22: 360 | J22: =I22+H22 -> 360 | K22: M2 | M22: 1.5 | N22: =I22*M22 -> 540 | P22: =J22*M22 -> 540
A23: 3.2 | B23: GUIA DE MEIO FIO, EM CONCRETO COM FCK 20 MPA, PRÉ MOLDADA, MFC-01 PADRÃO DER-MG, DIMENSÕES (12X16,7X35)CM, EXCLUSIVE SARJETA, INCLUSIVE ESCAVAÇÃO, APILOAMENTO E TRANSPORTE COM RETIRADA DO MATERIAL ESCAVADO (EM CAÇAMBA) | E23: 126 | H23: 0 | I23: 126 | J23: =I23+H23 -> 126 | K23: M | M23: 53.36 | N23: =I23*M23 -> 6723.36 | P23: =J23*M23 -> 6723.36
A24: 3.3 | B24: EXECUÇÃO DE CALÇAMENTO EM BLOQUETE - E=8 CM - FCK=35MPA, INCLUINDO FORNECIMENTO E TRANSPORTE DE TODOS OS MATERIAIS, COLCHÃO DE ASSENTAMENTO E= 6CM | E24: 324 | H24: 0 | I24: 324 | J24: =I24+H24 -> 324 | K24: M2 | M24: 87.28 | N24: =I24*M24 -> 28278.72 | P24: =J24*M24 -> 28278.72
A25: 3.4 | B25: EXECUÇÃO DE SARJETA DE CONCRETO USINADO, MOLDADA IN LOCO, EM TRECHO RETO, 30 CM DE BASE X 10 CM DE ALTURA. AF: _06/2016 | E25: 120 | H25: 0 | I25: 120 | J25: =I25+H25 -> 120 | K25: M | M25: 42.72 | N25: =I25*M25 -> 5126.4 | P25: =J25*M25 -> 5126.4
A26: SANTO ANTÔNIO ( RUA ABAIXO DA CAIXA D'ÁGUA) > TRECHO 1 E 2
A27: 4 | B27: CALÇAMENTO EM BLOQUETE | P27: =SUM(P28,P29,P30,P31) -> #REF!
A28: 4.1 | B28: REGULARIZAÇÃO E COMPACTAÇÃO DE TERRENO COM ROLO VIBRATÓRIO | E28: 1160 | H28: 1160 | I28: 0 | J28: =H28+I28 -> 1160 | K28: M2 | M28: #REF! | N28: =I28*M28 -> #REF! | P28: =J28*M28 -> #REF!
A29: 4.2 | B29: GUIA DE MEIO FIO, EM CONCRETO COM FCK 20 MPA, PRÉ MOLDADA, MFC-01 PADRÃO DER-MG, DIMENSÕES (12X16,7X35)CM, EXCLUSIVE SARJETA, INCLUSIVE ESCAVAÇÃO, APILOAMENTO E TRANSPORTE COM RETIRADA DO MATERIAL ESCAVADO (EM CAÇAMBA) | E29: 469 | H29: 469 | I29: 0 | J29: =H29+I29 -> 469 | K29: M | M29: #REF! | N29: =I29*M29 -> #REF! | P29: =J29*M29 -> #REF!
A30: 4.3 | B30: EXECUÇÃO DE CALÇAMENTO EM BLOQUETE - E=8 CM - FCK=35MPA, INCLUINDO FORNECIMENTO E TRANSPORTE DE TODOS OS MATERIAIS, COLCHÃO DE ASSENTAMENTO E= 6CM | E30: 1020.8 | H30: 1020.8 | I30: 0 | J30: =H30+I30 -> 1020.8 | K30: M2 | M30: #REF! | N30: =I30*M30 -> #REF! | P30: =J30*M30 -> #REF!
A31: 4.4 | B31: EXECUÇÃO DE SARJETA DE CONCRETO USINADO, MOLDADA IN LOCO, EM TRECHO RETO, 30 CM DE BASE X 10 CM DE ALTURA. AF: _06/2016 | E31: 464 | H31: 464 | I31: 0 | J31: =H31+I31 -> 464 | K31: M | M31: #REF! | N31: =I31*M31 -> #REF! | P31: =J31*M31 -> #REF!
A32: SANTO ANTÔNIO (SAÍDA SENTIDO COMUNIDADE PAIOL)
A33: 5 | B33: DRENAGEM | P33: =P34+P35+P36+P37+P38 -> 0
A34: 5.1 | B34: ESCAVAÇÃO E CARGA MECANIZADA EM MATERIAL DE 1ª CATEGORIA | E34: 282.56 | H34: 0 | I34: 0 | J34: =H34+I34 -> 0 | K34: M3 | M34: 4.1 | N34: =I34*M34 -> 0 | P34: =J34*M34 -> 0
A35: 5.2 | B35: TUBO DE CONCETO SIMPLES, CLASSE PS1, DIAMETRO 400MM, INCLUSIVE FORNECIMENTO, ASSENTAMENTO E REJUNTAMENTO | E35: 310.5 | H35: 0 | I35: 0 | J35: =H35+I35 -> 0 | K35: M | M35: 101.32 | N35: =I35*M35 -> 0 | P35: =J35*M35 -> 0
A36: 5.3 | B36: CAIXA DE CAPTAÇÃO E DRENAGEM TIPO A (120X120X150 CM), D=500 MM A 1500 MM, INCLUSIVE ESCAVAÇÃO, REATERRO E BOTA-FORA | E36: 1 | H36: 0 | I36: 0 | J36: =H36+I36 -> 0 | K36: UNID. | M36: 2231.38 | N36: =I36*M36 -> 0 | P36: =J36*M36 -> 0
A37: 5.4 | B37: BOCA DE LOBO SIMPLES (TIPO B - CONCRETO), QUADRO, GRELHA E CANTONEIRA, INCLUSIVE ESCAVAÇÃO, REATERRO E BOTA-FORA | E37: 18 | H37: 0 | I37: 0 | J37: =H37+I37 -> 0 | K37: UNID. | M37: 1245.59 | N37: =I37*M37 -> 0 | P37: =J37*M37 -> 0
A38: 5.5 | B38: REATERRO COMPACTADO DE VALA COM EQUIPAMENTO PLACA VIBRATÓRIA | E38: 204.56 | H38: 0 | I38: 0 | J38: =H38+I38 -> 0 | K38: M3 | M38: 39.43 | N38: =I38*M38 -> 0 | P38: =J38*M38 -> 0
A39: 6 | B39: CALÇAMENTO EM BLOQUETE | P39: =P40+P41+P42+P43 -> 0
A40: 6.1 | B40: REGULARIZAÇÃO E COMPACTAÇÃO DE TERRENO COM ROLO VIBRATÓRIO | E40: 1871.09 | H40: 0 | I40: 0 | J40: =I40+H40 -> 0 | K40: M2 | M40: 1.5 | N40: =I40*M40 -> 0 | P40: =J40*M40 -> 0
A41: 6.2 | B41: GUIA DE MEIO FIO, EM CONCRETO COM FCK 20 MPA, PRÉ MOLDADA, MFC-01 PADRÃO DER-MG, DIMENSÕES (12X16,7X35)CM, EXCLUSIVE SARJETA, INCLUSIVE ESCAVAÇÃO, APILOAMENTO E TRANSPORTE COM RETIRADA DO MATERIAL ESCAVADO (EM CAÇAMBA) | E41: 721.35 | H41: 0 | I41: 0 | J41: =I41+H41 -> 0 | K41: M | M41: 53.36 | N41: =I41*M41 -> 0 | P41: =J41*M41 -> 0
...

Sheet CC
A1: ANEXO IV - COMPOSIÇÕES DE CUSTO
A2: #REF!
A3: #REF!
A4: #REF!
A5: #REF!
B7: DESCRIÇÃO DO SERVIÇO OU FORNECIMENTO | C7: UNIDADE | D7: DATA BASE | E7: FONTE | F7: PREÇO REFERENCIAL
A8: COMP. 01 | B8: FORNECIMENTO E ASSENTAMENTO DE PORTA DE ALUMÍNIO, LINHA SUPREMA ACABAMENTO ANODIZADO, DE ABRIR | C8: M2 | D8: 43101 | E8: SETOP | F8: =SUM(F10:F15) -> 743.13
A9: CÓDIGO | B9: DESCRIÇÃO DO INSUMO | C9: UNIDADE | D9: COEFICIENTE | E9: CUSTO UNITÁRIO | F9: CUSTO TOTAL
A10: 88309 | B10: PEDREIRO COM ENCARGOS COMPLEMENTARES | C10: H | D10: 0.3563 | E10: 17.07 | F10: =IF(E10=0,"",ROUND(D10*E10,2)) -> 6.08
A11: 88316 | B11: SERVENTE COM ENCARGOS COMPLEMENTARES | C11: H | D11: 0.1779 | E11: 12.22 | F11: =IF(E11=0,"",ROUND(D11*E11,2)) -> 2.17
A12: SINAPI - 7568 | B12: BUCHA DE NYLON SEM ABA S10, COM PARAFUSO DE 6,10 X 65 MM EM ACO ZINCADO COM ROSCA SOBERBA, CABECA CHATA E FENDA PHILLIPS | C12: UNID. | D12: 5 | E12: 0.37 | F12: =IF(E12=0,"",ROUND(D12*E12,2)) -> 1.85
A13: SINAPI - 40555 | B13: GUARNICAO/MOLDURA DE ACABAMENTO PARA ESQUADRIA DE ALUMINIO ANODIZADO NATURAL, PARA 1 FACE | C13: M | D13: 6.8504 | E13: 18.28 | F13: =IF(E13=0,"",ROUND(D13*E13,2)) -> 125.23
A14: SINAPI - 4914 | B14: PORTA DE ABRIR EM ALUMINIO COM LAMBRI HORIZONTAL/LAMINADA, ACABAMENTO ANODIZADO NATURAL, SEM GUARNICAO/ALIZAR/VISTA | C14: UNID. | D14: 1 | E14: 607.8 | F14: =IF(E14=0,"",ROUND(D14*E14,2)) -> 607.8
A16: OBSERVAÇÃO:
A18: COMP. 02 | B18: GRADE DE FERRO EM BARRA CHATA 3/16" | C18: M2 | D18: 43101 | E18: SETOP | F18: =SUM(F20:F25) -> 743.13
A19: CÓDIGO | B19: DESCRIÇÃO DO INSUMO | C19: UNIDADE | D19: COEFICIENTE | E19: CUSTO UNITÁRIO | F19: CUSTO TOTAL
A20: 88309 | B20: PEDREIRO COM ENCARGOS COMPLEMENTARES | C20: H | D20: 0.3563 | E20: 17.07 | F20: =IF(E20=0,"",ROUND(D20*E20,2)) -> 6.08
A21: 88316 | B21: SERVENTE COM ENCARGOS COMPLEMENTARES | C21: H | D21: 0.1779 | E21: 12.22 | F21: =IF(E21=0,"",ROUND(D21*E21,2)) -> 2.17
A22: SINAPI - 7568 | B22: BUCHA DE NYLON SEM ABA S10, COM PARAFUSO DE 6,10 X 65 MM EM ACO ZINCADO COM ROSCA SOBERBA, CABECA CHATA E FENDA PHILLIPS | C22: UNID. | D22: 5 | E22: 0.37 | F22: =IF(E22=0,"",ROUND(D22*E22,2)) -> 1.85
A23: SINAPI - 40555 | B23: GUARNICAO/MOLDURA DE ACABAMENTO PARA ESQUADRIA DE ALUMINIO ANODIZADO NATURAL, PARA 1 FACE | C23: M | D23: 6.8504 | E23: 18.28 | F23: =IF(E23=0,"",ROUND(D23*E23,2)) -> 125.23
A24: SINAPI - 4914 | B24: PORTA DE ABRIR EM ALUMINIO COM LAMBRI HORIZONTAL/LAMINADA, ACABAMENTO ANODIZADO NATURAL, SEM GUARNICAO/ALIZAR/VISTA | C24: UNID. | D24: 1 | E24: 607.8 | F24: =IF(E24=0,"",ROUND(D24*E24,2)) -> 607.8
A26: OBSERVAÇÃO:

Sheet BM 03
A1: ANEXO X - BOLETIM DE MEDIÇÃO
A3: PREFEITURA: PREFEITURA MUNICIPAL DE BOCAINA DE MINAS | E3: BOLETIM DE MEDIÇÃO Nº: | H3: CONVÊNIO Nº: | J3: CONCEDENTE: | M3: MEDIÇÃO Nº: | P3: nº Folha
E4: 03 | H4: RECURSO PROPRIO | J4: RECURSO PROPRIO | M4: 03 | P4: 01
A5: CONTRATADA: JRC ENGENHARIA E CONSTRUÇÃO LTDA | E5: LICITAÇÃO Nº: 101/2021 | H5: ORDEM DE SERVIÇO: | J5: DATA DA EMISSÃO: 18 DE JULHO DE 2022
J6: PERIODO DE EXECUÇÃO: 24/06/2022 A 18/07/2022
A7: OBRA: CALÇAMENTO EM BLOQUETE | E7: CONTRATO Nº: 015/2021 | H7: 44637 | J7: Valor CT/ TA: | L7: Saldo Anterior: | N7: Esta medição: | P7: Saldo:
J8: 536144.83 | L8: 281623.94 | N8: =P44 -> 40680.53 | P8: =L8-N8 -> 240943.41
A9: ITEM | B9: SERVIÇOS EXECUTADOS | E9: QUANT. | H9: QUANTIDADES EXECUTADAS | K9: UNID. | M9: VALOR UNIT. | N9: VALORES EXECUTADOS R$
E10: PREVISTA (Plano de Trabalho) | H10: Anterior | I10: No período | J10: Acumulado | N10: No período | P10: Acumulado
A11: 1 | B11: INSTALAÇÕES INICIAIS DA OBRA | P11: =P12+P13 -> 14593.217
A12: 1.1 | B12: FORNECIMENTO E COLOCAÇÃO DE PLACA DE OBRA EM CHAPA GALVANIZADA #26, ESP. 0,45 MM, PLOTADA COM ADESIVO VINÍLICO, AFIXADA COM REBITES 4,8X40 MM, EM ESTRUTURA METÁLICA DE METALON 20X20 MM, ESP. 1,25 MM, INCLUSIVE SUPORTE EM EUCALIPTO AUTOCLAVADO PINTADO COM TINTA PVA DUAS (2) DEMÃOS | E12: 2 | H12: 2 | I12: 0 | J12: =H12+I12 -> 2 | K12: M2 | M12: 236.24917 | N12: =I12*M12 -> 0 | P12: =J12*M12 -> 472.49834
A13: 1.2 | B13: BARRACÃO DE OBRA, EM CHAPA DE COMPENSADO RESINADO, INCLUSIVE INSTALAÇÕES SANITÁRIAS E MOBILIADO - PADRÃO DER-MG | E13: 25 | H13: 25 | I13: 0 | J13: =H13+I13 -> 25 | K13: M2 | M13: 564.82874 | N13: =I13*M13 -> 0 | P13: =J13*M13 -> 14120.718
A14: MIRANTÃO (SAÍDA PARA RESENDE)
A15: 2 | B15: CALÇAMENTO EM BLOQUETE | P15: =N16+N17+N18+N19 -> 0
A16: 2.1 | B16: REGULARIZAÇÃO E COMPACTAÇÃO DE TERRENO COM ROLO VIBRATÓRIO | E16: 570.15 | H16: 570.15 | I16: 0 | J16: =I16+H16 -> 570.15 | K16: M2 | M16: 1.5 | N16: =I16*M16 -> 0 | P16: =J16*M16 -> 855.225
A17: 2.2 | B17: GUIA DE MEIO FIO, EM CONCRETO COM FCK 20 MPA, PRÉ MOLDADA, MFC-01 PADRÃO DER-MG, DIMENSÕES (12X16,7X35)CM, EXCLUSIVE SARJETA, INCLUSIVE ESCAVAÇÃO, APILOAMENTO E TRANSPORTE COM RETIRADA DO MATERIAL ESCAVADO (EM CAÇAMBA) | E17: 186.8 | H17: 186.8 | I17: 0 | J17: =I17+H17 -> 186.8 | K17: M | M17: 53.36 | N17: =I17*M17 -> 0 | P17: =J17*M17 -> 9967.648
A18: 2.3 | B18: EXECUÇÃO DE CALÇAMENTO EM BLOQUETE - E=8 CM - FCK=35MPA, INCLUINDO FORNECIMENTO E TRANSPORTE DE TODOS OS MATERIAIS, COLCHÃO DE ASSENTAMENTO E= 6CM | E18: 515.91 | H18: 515.91 | I18: 0 | J18: =I18+H18 -> 515.91 | K18: M2 | M18: 87.28 | N18: =I18*M18 -> 0 | P18: =J18*M18 -> 45028.625
A19: 2.4 | B19: EXECUÇÃO DE SARJETA DE CONCRETO USINADO, MOLDADA IN LOCO, EM TRECHO RETO, 30 CM DE BASE X 10 CM DE ALTURA. AF: _06/2016 | E19: 180.8 | H19: 180.8 | I19: 0 | J19: =I19+H19 -> 180.8 | K19: M | M19: 42.72 | N19: =I19*M19 -> 0 | P19: =J19*M19 -> 7723.776
B20: MIRANTÃO (SAÍDA PARA BOCAINA)
A21: 3 | B21: CALÇAMENTO EM BLOQUETE | P21: =N22+N23+N24+N25 -> 0
A22: 3.1 | B22: REGULARIZAÇÃO E COMPACTAÇÃO DE TERRENO COM ROLO VIBRATÓRIO | E22: 360 | H22: 360 | I22: 0 | J22: =I22+H22 -> 360 | K22: M2 | M22: 1.5 | N22: =I22*M22 -> 0 | P22: =J22*M22 -> 540
A23: 3.2 | B23: GUIA DE MEIO FIO, EM CONCRETO COM FCK 20 MPA, PRÉ MOLDADA, MFC-01 PADRÃO DER-MG, DIMENSÕES (12X16,7X35)CM, EXCLUSIVE SARJETA, INCLUSIVE ESCAVAÇÃO, APILOAMENTO E TRANSPORTE COM RETIRADA DO MATERIAL ESCAVADO (EM CAÇAMBA) | E23: 126 | H23: 126 | I23: 0 | J23: =I23+H23 -> 126 | K23: M | M23: 53.36 | N23: =I23*M23 -> 0 | P23: =J23*M23 -> 6723.36
A24: 3.3 | B24: EXECUÇÃO DE CALÇAMENTO EM BLOQUETE - E=8 CM - FCK=35MPA, INCLUINDO FORNECIMENTO E TRANSPORTE DE TODOS OS MATERIAIS, COLCHÃO DE ASSENTAMENTO E= 6CM | E24: 324 | H24: 324 | I24: 0 | J24: =I24+H24 -> 324 | K24: M2 | M24: 87.28 | N24: =I24*M24 -> 0 | P24: =J24*M24 -> 28278.72
A25: 3.4 | B25: EXECUÇÃO DE SARJETA DE CONCRETO USINADO, MOLDADA IN LOCO, EM TRECHO RETO, 30 CM DE BASE X 10 CM DE ALTURA. AF: _06/2016 | E25: 120 | H25: 120 | I25: 0 | J25: =I25+H25 -> 120 | K25: M | M25: 42.72 | N25: =I25*M25 -> 0 | P25: =J25*M25 -> 5126.4
A26: SANTO ANTÔNIO ( RUA ABAIXO DA CAIXA D'ÁGUA) > TRECHO 1 E 2
A27: 4 | B27: CALÇAMENTO EM BLOQUETE | P27: =SUM(P28,P29,P30,P31) -> #REF!
A28: 4.1 | B28: REGULARIZAÇÃO E COMPACTAÇÃO DE TERRENO COM ROLO VIBRATÓRIO | E28: 1160 | H28: 1160 | I28: 0 | J28: =H28+I28 -> 1160 | K28: M2 | M28: #REF! | N28: =I28*M28 -> #REF! | P28: =J28*M28 -> #REF!
A29: 4.2 | B29: GUIA DE MEIO FIO, EM CONCRETO COM FCK 20 MPA, PRÉ MOLDADA, MFC-01 PADRÃO DER-MG, DIMENSÕES (12X16,7X35)CM, EXCLUSIVE SARJETA, INCLUSIVE ESCAVAÇÃO, APILOAMENTO E TRANSPORTE COM RETIRADA DO MATERIAL ESCAVADO (EM CAÇAMBA) | E29: 469 | H29: 469 | I29: 0 | J29: =H29+I29 -> 469 | K29: M | M29: #REF! | N29: =I29*M29 -> #REF! | P29: =J29*M29 -> #REF!
A30: 4.3 | B30: EXECUÇÃO DE CALÇAMENTO EM BLOQUETE - E=8 CM - FCK=35MPA, INCLUINDO FORNECIMENTO E TRANSPORTE DE TODOS OS MATERIAIS, COLCHÃO DE ASSENTAMENTO E= 6CM | E30: 1020.8 | H30: 1020.8 | I30: 0 | J30: =H30+I30 -> 1020.8 | K30: M2 | M30: #REF! | N30: =I30*M30 -> #REF! | P30: =J30*M30 -> #REF!
A31: 4.4 | B31: EXECUÇÃO DE SARJETA DE CONCRETO USINADO, MOLDADA IN LOCO, EM TRECHO RETO, 30 CM DE BASE X 10 CM DE ALTURA. AF: _06/2016 | E31: 464 | H31: 464 | I31: 0 | J31: =H31+I31 -> 464 | K31: M | M31: #REF! | N31: =I31*M31 -> #REF! | P31: =J31*M31 -> #REF!
A32: SANTO ANTÔNIO (SAÍDA SENTIDO COMUNIDADE PAIOL)
A33: 5 | B33: DRENAGEM | N33: =N34+N35+N36+N37+N38 -> 40680.53 | P33: =P34+P35+P36+P37+P38 -> 40680.53
A34: 5.1 | B34: ESCAVAÇÃO E CARGA MECANIZADA EM MATERIAL DE 1ª CATEGORIA | E34: 282.56 | H34: 0 | I34: 282.56 | J34: =H34+I34 -> 282.56 | K34: M3 | M34: 4.1 | N34: 1157.15 | P34: 1157.15
A35: 5.2 | B35: TUBO DE CONCETO SIMPLES, CLASSE PS1, DIAMETRO 400MM, INCLUSIVE FORNECIMENTO, ASSENTAMENTO E REJUNTAMENTO | E35: 310.5 | H35: 0 | I35: 310.5 | J35: =H35+I35 -> 310.5 | K35: M | M35: 101.32 | N35: 31458.38 | P35: 31458.38
A36: 5.3 | B36: CAIXA DE CAPTAÇÃO E DRENAGEM TIPO A (120X120X150 CM), D=500 MM A 1500 MM, INCLUSIVE ESCAVAÇÃO, REATERRO E BOTA-FORA | E36: 1 | H36: 0 | I36: 0 | J36: =H36+I36 -> 0 | K36: UNID. | M36: 2231.38 | N36: =I36*M36 -> 0 | P36: =J36*M36 -> 0
A37: 5.4 | B37: BOCA DE LOBO SIMPLES (TIPO B - CONCRETO), QUADRO, GRELHA E CANTONEIRA, INCLUSIVE ESCAVAÇÃO, REATERRO E BOTA-FORA | E37: 18 | H37: 0 | I37: 0 | J37: =H37+I37 -> 0 | K37: UNID. | M37: 1245.59 | N37: =I37*M37 -> 0 | P37: =J37*M37 -> 0
A38: 5.5 | B38: REATERRO COMPACTADO DE VALA COM EQUIPAMENTO PLACA VIBRATÓRIA | E38: 204.56 | H38: 0 | I38: 204.56 | J38: =H38+I38 -> 204.56 | K38: M3 | M38: 39.43 | N38: 8065 | P38: 8065
A39: 6 | B39: CALÇAMENTO EM BLOQUETE | P39: =P40+P41+P42+P43 -> 0
A40: 6.1 | B40: REGULARIZAÇÃO E COMPACTAÇÃO DE TERRENO COM ROLO VIBRATÓRIO | E40: 1871.09 | H40: 0 | I40: 0 | J40: =I40+H40 -> 0 | K40: M2 | M40: 1.5 | N40: =I40*M40 -> 0 | P40: =J40*M40 -> 0
A41: 6.2 | B41: GUIA DE MEIO FIO, EM CONCRETO COM FCK 20 MPA, PRÉ MOLDADA, MFC-01 PADRÃO DER-MG, DIMENSÕES (12X16,7X35)CM, EXCLUSIVE SARJETA, INCLUSIVE ESCAVAÇÃO, APILOAMENTO E TRANSPORTE COM RETIRADA DO MATERIAL ESCAVADO (EM CAÇAMBA) | E41: 721.35 | H41: 0 | I41: 0 | J41: =I41+H41 -> 0 | K41: M | M41: 53.36 | N41: =I41*M41 -> 0 | P41: =J41*M41 -> 0
...

Sheet BM 04
A1: ANEXO X - BOLETIM DE MEDIÇÃO
A3: PREFEITURA: PREFEITURA MUNICIPAL DE BOCAINA DE MINAS | E3: BOLETIM DE MEDIÇÃO Nº: | H3: CONVÊNIO Nº: | J3: CONCEDENTE: | M3: MEDIÇÃO Nº: | P3: nº Folha
E4: 04 | H4: RECURSO PROPRIO | J4: RECURSO PROPRIO | M4: 04 | P4: 01
A5: CONTRATADA: JRC ENGENHARIA E CONSTRUÇÃO LTDA | E5: LICITAÇÃO Nº: 101/2021 | H5: ORDEM DE SERVIÇO: | J5: DATA DA EMISSÃO: 29 DE AGOSTO DE 2022
J6: PERIODO DE EXECUÇÃO: 19/07/2022 A 29/08/2022
A7: OBRA: CALÇAMENTO EM BLOQUETE | E7: CONTRATO Nº: 015/2021 | H7: 44637 | J7: Valor CT/ TA: | L7: Saldo Anterior: | N7: Esta medição: | P7: Saldo:
J8: 536144.83 | L8: 240943.41 | N8: =P44 -> 240943.41 | P8: =L8-N8 -> -0.00020000001
A9: ITEM | B9: SERVIÇOS EXECUTADOS | E9: QUANT. | H9: QUANTIDADES EXECUTADAS | K9: UNID. | M9: VALOR UNIT. | N9: VALORES EXECUTADOS R$
E10: PREVISTA (Plano de Trabalho) | H10: Anterior | I10: No período | J10: Acumulado | N10: No período | P10: Acumulado
A11: 1 | B11: INSTALAÇÕES INICIAIS DA OBRA | P11: =P12+P13 -> 14593.217
A12: 1.1 | B12: FORNECIMENTO E COLOCAÇÃO DE PLACA DE OBRA EM CHAPA GALVANIZADA #26, ESP. 0,45 MM, PLOTADA COM ADESIVO VINÍLICO, AFIXADA COM REBITES 4,8X40 MM, EM ESTRUTURA METÁLICA DE METALON 20X20 MM, ESP. 1,25 MM, INCLUSIVE SUPORTE EM EUCALIPTO AUTOCLAVADO PINTADO COM TINTA PVA DUAS (2) DEMÃOS | E12: 2 | H12: 2 | I12: 0 | J12: =H12+I12 -> 2 | K12: M2 | M12: 236.24917 | N12: =I12*M12 -> 0 | P12: =J12*M12 -> 472.49834
A13: 1.2 | B13: BARRACÃO DE OBRA, EM CHAPA DE COMPENSADO RESINADO, INCLUSIVE INSTALAÇÕES SANITÁRIAS E MOBILIADO - PADRÃO DER-MG | E13: 25 | H13: 25 | I13: 0 | J13: =H13+I13 -> 25 | K13: M2 | M13: 564.82874 | N13: =I13*M13 -> 0 | P13: =J13*M13 -> 14120.718
A14: MIRANTÃO (SAÍDA PARA RESENDE)
A15: 2 | B15: CALÇAMENTO EM BLOQUETE | P15: =SUM(P16:Q19) -> 63575.274
A16: 2.1 | B16: REGULARIZAÇÃO E COMPACTAÇÃO DE TERRENO COM ROLO VIBRATÓRIO | E16: 570.15 | H16: 570.15 | I16: 0 | J16: =I16+H16 -> 570.15 | K16: M2 | M16: 1.5 | N16: =I16*M16 -> 0 | P16: =J16*M16 -> 855.225
A17: 2.2 | B17: GUIA DE MEIO FIO, EM CONCRETO COM FCK 20 MPA, PRÉ MOLDADA, MFC-01 PADRÃO DER-MG, DIMENSÕES (12X16,7X35)CM, EXCLUSIVE SARJETA, INCLUSIVE ESCAVAÇÃO, APILOAMENTO E TRANSPORTE COM RETIRADA DO MATERIAL ESCAVADO (EM CAÇAMBA) | E17: 186.8 | H17: 186.8 | I17: 0 | J17: =I17+H17 -> 186.8 | K17: M | M17: 53.36 | N17: =I17*M17 -> 0 | P17: =J17*M17 -> 9967.648
A18: 2.3 | B18: EXECUÇÃO DE CALÇAMENTO EM BLOQUETE - E=8 CM - FCK=35MPA, INCLUINDO FORNECIMENTO E TRANSPORTE DE TODOS OS MATERIAIS, COLCHÃO DE ASSENTAMENTO E= 6CM | E18: 515.91 | H18: 515.91 | I18: 0 | J18: =I18+H18 -> 515.91 | K18: M2 | M18: 87.28 | N18: =I18*M18 -> 0 | P18: =J18*M18 -> 45028.625
A19: 2.4 | B19: EXECUÇÃO DE SARJETA DE CONCRETO USINADO, MOLDADA IN LOCO, EM TRECHO RETO, 30 CM DE BASE X 10 CM DE ALTURA. AF: _06/2016 | E19: 180.8 | H19: 180.8 | I19: 0 | J19: =I19+H19 -> 180.8 | K19: M | M19: 42.72 | N19: =I19*M19 -> 0 | P19: =J19*M19 -> 7723.776
B20: MIRANTÃO (SAÍDA PARA BOCAINA)
A21: 3 | B21: CALÇAMENTO EM BLOQUETE | P21: =SUM(P22:Q25) -> 40668.48
A22: 3.1 | B22: REGULARIZAÇÃO E COMPACTAÇÃO DE TERRENO COM ROLO VIBRATÓRIO | E22: 360 | H22: 360 | I22: 0 | J22: =I22+H22 -> 360 | K22: M2 | M22: 1.5 | N22: =I22*M22 -> 0 | P22: =J22*M22 -> 540
A23: 3.2 | B23: GUIA DE MEIO FIO, EM CONCRETO COM FCK 20 MPA, PRÉ MOLDADA, MFC-01 PADRÃO DER-MG, DIMENSÕES (12X16,7X35)CM, EXCLUSIVE SARJETA, INCLUSIVE ESCAVAÇÃO, APILOAMENTO E TRANSPORTE COM RETIRADA DO MATERIAL ESCAVADO (EM CAÇAMBA) | E23: 126 | H23: 126 | I23: 0 | J23: =I23+H23 -> 126 | K23: M | M23: 53.36 | N23: =I23*M23 -> 0 | P23: =J23*M23 -> 6723.36
A24: 3.3 | B24: EXECUÇÃO DE CALÇAMENTO EM BLOQUETE - E=8 CM - FCK=35MPA, INCLUINDO FORNECIMENTO E TRANSPORTE DE TODOS OS MATERIAIS, COLCHÃO DE ASSENTAMENTO E= 6CM | E24: 324 | H24: 324 | I24: 0 | J24: =I24+H24 -> 324 | K24: M2 | M24: 87.28 | N24: =I24*M24 -> 0 | P24: =J24*M24 -> 28278.72
A25: 3.4 | B25: EXECUÇÃO DE SARJETA DE CONCRETO USINADO, MOLDADA IN LOCO, EM TRECHO RETO, 30 CM DE BASE X 10 CM DE ALTURA. AF: _06/2016 | E25: 120 | H25: 120 | I25: 0 | J25: =I25+H25 -> 120 | K25: M | M25: 42.72 | N25: =I25*M25 -> 0 | P25: =J25*M25 -> 5126.4
A26: SANTO ANTÔNIO ( RUA ABAIXO DA CAIXA D'ÁGUA) > TRECHO 1 E 2
A27: 4 | B27: CALÇAMENTO EM BLOQUETE | P27: =SUM(P28,P29,P30,P31) -> #REF!
A28: 4.1 | B28: REGULARIZAÇÃO E COMPACTAÇÃO DE TERRENO COM ROLO VIBRATÓRIO | E28: 1160 | H28: 1160 | I28: 0 | J28: =H28+I28 -> 1160 | K28: M2 | M28: #REF! | N28: =I28*M28 -> #REF! | P28: =J28*M28 -> #REF!
A29: 4.2 | B29: GUIA DE MEIO FIO, EM CONCRETO COM FCK 20 MPA, PRÉ MOLDADA, MFC-01 PADRÃO DER-MG, DIMENSÕES (12X16,7X35)CM, EXCLUSIVE SARJETA, INCLUSIVE ESCAVAÇÃO, APILOAMENTO E TRANSPORTE COM RETIRADA DO MATERIAL ESCAVADO (EM CAÇAMBA) | E29: 469 | H29: 469 | I29: 0 | J29: =H29+I29 -> 469 | K29: M | M29: #REF! | N29: =I29*M29 -> #REF! | P29: =J29*M29 -> #REF!
A30: 4.3 | B30: EXECUÇÃO DE CALÇAMENTO EM BLOQUETE - E=8 CM - FCK=35MPA, INCLUINDO FORNECIMENTO E TRANSPORTE DE TODOS OS MATERIAIS, COLCHÃO DE ASSENTAMENTO E= 6CM | E30: 1020.8 | H30: 1020.8 | I30: 0 | J30: =H30+I30 -> 1020.8 | K30: M2 | M30: #REF! | N30: =I30*M30 -> #REF! | P30: =J30*M30 -> #REF!
A31: 4.4 | B31: EXECUÇÃO DE SARJETA DE CONCRETO USINADO, MOLDADA IN LOCO, EM TRECHO RETO, 30 CM DE BASE X 10 CM DE ALTURA. AF: _06/2016 | E31: 464 | H31: 464 | I31: 0 | J31: =H31+I31 -> 464 | K31: M | M31: #REF! | N31: =I31*M31 -> #REF! | P31: =J31*M31 -> #REF!
A32: SANTO ANTÔNIO (SAÍDA SENTIDO COMUNIDADE PAIOL)
A33: 5 | B33: DRENAGEM | N33: =SUM(N34:O38)+0.6 -> 24652.63 | P33: =P34+P35+P36+P37+P38 -> 65332.56
A34: 5.1 | B34: ESCAVAÇÃO E CARGA MECANIZADA EM MATERIAL DE 1ª CATEGORIA | E34: 282.56 | H34: 282.56 | I34: 0 | J34: =H34+I34 -> 282.56 | K34: M3 | M34: 4.1 | N34: =I34*M34 -> 0 | P34: 1157.15
A35: 5.2 | B35: TUBO DE CONCETO SIMPLES, CLASSE PS1, DIAMETRO 400MM, INCLUSIVE FORNECIMENTO, ASSENTAMENTO E REJUNTAMENTO | E35: 310.5 | H35: 310.5 | I35: 0 | J35: =H35+I35 -> 310.5 | K35: M | M35: 101.32 | N35: =I35*M35 -> 0 | P35: 31458.38
A36: 5.3 | B36: CAIXA DE CAPTAÇÃO E DRENAGEM TIPO A (120X120X150 CM), D=500 MM A 1500 MM, INCLUSIVE ESCAVAÇÃO, REATERRO E BOTA-FORA | E36: 1 | H36: 0 | I36: =E36 -> 1 | J36: =H36+I36 -> 1 | K36: UNID. | M36: 2231.38 | N36: =I36*M36 -> 2231.38 | P36: =J36*M36 -> 2231.38
A37: 5.4 | B37: BOCA DE LOBO SIMPLES (TIPO B - CONCRETO), QUADRO, GRELHA E CANTONEIRA, INCLUSIVE ESCAVAÇÃO, REATERRO E BOTA-FORA | E37: 18 | H37: 0 | I37: =E37 -> 18 | J37: =H37+I37 -> 18 | K37: UNID. | M37: 1245.59 | N37: =I37*M37+0.03 -> 22420.65 | P37: =J37*M37+0.03 -> 22420.65
A38: 5.5 | B38: REATERRO COMPACTADO DE VALA COM EQUIPAMENTO PLACA VIBRATÓRIA | E38: 204.56 | H38: 204.56 | I38: 0 | J38: =H38+I38 -> 204.56 | K38: M3 | M38: 39.43 | N38: =I38*M38 -> 0 | P38: 8065
A39: 6 | B39: CALÇAMENTO EM BLOQUETE | N39: =SUM(N40:O43) -> 216290.78 | P39: =P40+P41+P42+P43 -> 216290.78
A40: 6.1 | B40: REGULARIZAÇÃO E COMPACTAÇÃO DE TERRENO COM ROLO VIBRATÓRIO | E40: 1871.09 | H40: 0 | I40: =E40 -> 1871.09 | J40: =I40+H40 -> 1871.09 | K40: M2 | M40: 1.5 | N40: =I40*M40+3.01 -> 2809.645 | P40: =J40*M40+3.01 -> 2809.645
A41: 6.2 | B41: GUIA DE MEIO FIO, EM CONCRETO COM FCK 20 MPA, PRÉ MOLDADA, MFC-01 PADRÃO DER-MG, DIMENSÕES (12X16,7X35)CM, EXCLUSIVE SARJETA, INCLUSIVE ESCAVAÇÃO, APILOAMENTO E TRANSPORTE COM RETIRADA DO MATERIAL ESCAVADO (EM CAÇAMBA) | E41: 721.35 | H41: 0 | I41: =E41 -> 721.35 | J41: =I41+H41 -> 721.35 | K41: M | M41: 53.36 | N41: =I41*M41+2.16 -> 38493.396 | P41: =J41*M41+2.16 -> 38493.396
...

Sheet Planilha orçamentaria 
A2: ANEXO I - PLANILHA ORÇAMENTÁRIA DE CUSTOS
A3: PREFEITURA: Prefeitura Municipal de Bocaina de Minas - MG | F3: FOLHA Nº: 01/01
A4: OBRA: Calçamento em bloquete | F4: DATA: 08/01/2024
A5: LOCAL: Estrada de acesso entre a comunidade de Santo Antônio e Mirantão - Bocaina de Minas /MG | F5: ISS: | G5: 0.025 | H5: FORMA DE EXECUÇÃO:
A6: REGIÃO/MÊS DE REFERÊNCIA: SEINFRA REGIÃO LESTE AGOSTO/2023 E SINAPI OUTUBRO/2023 PREÇO DE CUSTO COM DESONERAÇÃO FISCAL - LEI 12.546/2011 e 12.844/2013 | F6: ( ) | G6: DIRETA | H6: ( x ) | I6: INDIRETA | L6: 0.2833
A7: PRAZO DE EXECUÇÃO: 3 Meses | H7: BDI: | I7: 0.269 | K7: S/DESONERAÇÃO
A9: ITEM | B9: CÓDIGO | C9: DESCRIÇÃO | E9: UNIDADE | F9: QUANTIDADE | G9: PREÇO UNIT. S/ LDI | H9: PREÇO UNIT. C/ LDI | I9: PREÇO TOTAL | K9: PREÇO UNIT. S/ LDI | L9: PREÇO UNIT. C/ LDI
A10: 1 | C10: INSTALAÇÕES INICIAIS DA OBRA | I10: =SUM(I11:I12) -> 5959.5349
A11: 1.1 | B11: ED-16660 | C11: FORNECIMENTO E COLOCAÇÃO DE PLACA DE OBRA EM CHAPA GALVANIZADA #26, ESP. 0,45 MM, PLOTADA COM ADESIVO VINÍLICO, AFIXADA COM REBITES 4,8X40 MM, EM ESTRUTURA METÁLICA DE METALON 20X20 MM, ESP. 1,25 MM, INCLUSIVE SUPORTE EM EUCALIPTO AUTOCLAVADO PINTADO COM TINTA PVA DUAS (2) DEMÃOS | E11: ='[7]Modelo Planilha Orcamentaria'!E14 -> M2 | F11: 4.5 | G11: 303.81 | H11: =G11*$I$7+G11 -> 385.53489 | I11: =F11*H11 -> 1734.907 | K11: 1075.83 | L11: =$L$6*K11+K11 -> 1380.6126 | N11: =L11*F11 -> 6212.7569
A12: 1.2 | B12: ED-50135 | C12: BARRACÃO DE OBRA, EM CHAPA DE COMPENSADO RESINADO, INCLUSIVE INSTALAÇÕES SANITÁRIAS E MOBILIÁRIO - PADRÃO DER-MG | E12: M2 | F12: 6 | G12: 554.85 | H12: =G12*$I$7+G12 -> 704.10465 | I12: =F12*H12 -> 4224.6279
A13: 2 | C13: CALÇAMENTO EM BLOQUETE | I13: =SUM(I14:I19) -> 400399.26
A14: 2.1 | B14: ED-51123 | C14: REGULARIZAÇÃO E COMPACTAÇÃO DE TERRENO COM PLACA VIBRATÓRIA | E14: M2 | F14: =7*405 -> 2835 | G14: 4.49 | H14: =G14*$I$7+G14 -> 5.69781 | I14: =F14*H14 -> 16153.291
A15: 2.2 | B15: SINAPI-94273 | C15: ASSENTAMENTO DE GUIA (MEIO-FIO) EM TRECHO RETO, CONFECCIONADA EM CONCRETO PRÉ-FABRICADO, DIMENSÕES 100X15X13X30 CM (COMPRIMENTO X BASE INFERIOR X BASE SUPERIOR X ALTURA), PARA VIAS URBANAS (USO VIÁRIO). AF_06/2016 | E15: M | F15: =405*2+14 -> 824 | G15: 75.47 | H15: =G15*$I$7+G15 -> 95.77143 | I15: =F15*H15 -> 78915.658
A16: 2.3 | B16: ED-50416 | C16: EXECUÇÃO DE CALÇAMENTO EM BLOQUETE - E = 8 CM - FCK = 35 MPA, INCLUINDO FORNECIMENTO E TRANSPORTE DE TODOS OS MATERIAIS, COLCHÃO DE ASSENTAMENTO E = 6CM | E16: M2 | F16: =6.4*405 -> 2592 | G16: 74.43 | H16: =G16*$I$7+G16 -> 94.45167 | I16: =F16*H16 -> 244818.73
A17: 2.4 | B17: SINAPI-94287 | C17: EXECUÇÃO DE SARJETA DE CONCRETO USINADO, MOLDADA IN LOCO EM TRECHO RETO, 30 CM BASE X 10 CM ALTURA. AF_06/2016 | E17: M | F17: =405*2 -> 810 | G17: 44.37 | H17: =G17*$I$7+G17 -> 56.30553 | I17: =F17*H17 -> 45607.479
A18: 2.5 | B18: SINAPI-100975 | C18: CARGA, MANOBRA E DESCARGA DE SOLOS E MATERIAIS GRANULARES EM CAMINHÃO BASCULANTE 14 M³ - CARGA COM PÁ CARREGADEIRA (CAÇAMBA DE 1,7 A 2,8 M³ / 128 HP) E DESCARGA LIVRE (UNIDADE: M3). AF_07/2020 | E18: M3 | F18: 169.776 | G18: 8.92 | H18: =G18*$I$7+G18 -> 11.31948 | I18: =F18*H18 -> 1921.776
A19: 2.6 | B19: SINAPI-97912 | C19: TRANSPORTE COM CAMINHÃO BASCULANTE DE 6 M³, EM VIA URBANA EM LEITO NATURAL (UNIDADE: M3XKM). AF_07/2020 | E19: M3XKM | F19: 2818.2816 | G19: 3,63 | H19: =G19*$I$7+G19 -> 4.60647 | I19: =F19*H19 -> 12982.33
A20: TOTAL DA OBRA | I20: =I13+I10 -> 406358.8
B25: Carimbo e assinatura do engenheiro responsável técnico pela elaboração da planilha | F25: CREA
B28: Carimbo e assinatura do prefeito ou presidente da instituição
D39: =D37-D38 -> 0

Sheet MC
A1: MEMORIA DE CALCULO
A2: PREFEITURA: Prefeitura Municipal de Bocaina de Minas - MG
A3: OBRA: Calçamento em bloquete
A4: LOCAL: Estrada de acesso entre a comunidade de Santo Antônio e Mirantão - Bocaina de Minas /MG
A5: ITEM | B5: CÓDIGO | C5: DESCRIÇÃO | E5: UNIDADE | F5: QUANTIDADE | G5: FÓRMULA/MEMÓRIA
A7: 1 | C7: INSTALAÇÕES INICIAIS DA OBRA
A8: 1.1 | B8: ED-50152 | C8: FORNECIMENTO E COLOCAÇÃO DE PLACA DE OBRA EM CHAPA GALVANIZADA #26, ESP. 0,45 MM, PLOTADA COM ADESIVO VINÍLICO, AFIXADA COM REBITES 4,8X40 MM, EM ESTRUTURA METÁLICA DE METALON 20X20 MM, ESP. 1,25 MM, INCLUSIVE SUPORTE EM EUCALIPTO AUTOCLAVADO PINTADO COM TINTA PVA DUAS (2) DEMÃOS | E8: M2 | F8: =1.5*3 -> 4.5 | G8: 1,50 X 3,00 PLACA DE OBRA
A9: 1.2 | B9: ED-50153 | C9: BARRACÃO DE OBRA, EM CHAPA DE COMPENSADO RESINADO, INCLUSIVE INSTALAÇÕES SANITÁRIAS E MOBILIÁRIO - PADRÃO DER-MG | E9: M2 | F9: =3*2 -> 6 | G9: 3,00 X 2,00
A10: 2 | C10: CALÇAMENTO EM BLOQUETE
A11: 2.1 | B11: ED-51123 | C11: REGULARIZAÇÃO E COMPACTAÇÃO DE TERRENO COM PLACA VIBRATÓRIA | E11: M2 | F11: =7*405 -> 2835 | G11: 405,00 x 7,00 > COMP.TOTAL X LARG
A12: 2.2 | B12: SINAPI-94273 | C12: ASSENTAMENTO DE GUIA (MEIO-FIO) EM TRECHO RETO, CONFECCIONADA EM CONCRETO PRÉ-FABRICADO, DIMENSÕES 100X15X13X30 CM (COMPRIMENTO X BASE INFERIOR X BASE SUPERIOR X ALTURA), PARA VIAS URBANAS (USO VIÁRIO). AF_06/2016 | E12: M | F12: =405*2+14 -> 824 | G12: (405,00 x 2,00) + (7,00 x 2,00) > COMP.TOTAL DO CALÇAMENTO X LADOS + COMP. DE TRAVAMENTO X QUANT.
A13: 2.3 | B13: ED-50416 | C13: EXECUÇÃO DE CALÇAMENTO EM BLOQUETE - E = 8 CM - FCK = 35 MPA, INCLUINDO FORNECIMENTO E TRANSPORTE DE TODOS OS MATERIAIS, COLCHÃO DE ASSENTAMENTO E = 6CM | E13: M2 | F13: =6.4*405 -> 2592 | G13: 405,00 x 6,40 > COMP.TOTAL X LARG
A14: 2.4 | B14: SINAPI-94287 | C14: EXECUÇÃO DE SARJETA DE CONCRETO USINADO, MOLDADA IN LOCO EM TRECHO RETO, 30 CM BASE X 10 CM ALTURA. AF_06/2016 | E14: M | F14: =405*2 -> 810 | G14: (405,00 x 2,00) > COMP.TOTAL DO CALÇAMENTO X LADOS
A15: 2.5 | B15: SINAPI-94288 | C15: CARGA, MANOBRA E DESCARGA DE SOLOS E MATERIAIS GRANULARES EM CAMINHÃO BASCULANTE 14 M³ - CARGA COM PÁ CARREGADEIRA (CAÇAMBA DE 1,7 A 2,8 M³ / 128 HP) E DESCARGA LIVRE (UNIDADE: M3). AF_07/2020 | E15: M3 | F15: =(0.0568*F13)+(0.0087*F13) -> 169.776 | G15: AREIA MÉDIA = 0,0568 x 2592,00 (ÁREA CALÇAMENTO) + PÓ DE PEDRA = 0,0087 x 2592,00 (ÁREA CALÇAMENTO)
A16: 2.6 | B16: SINAPI-94289 | C16: TRANSPORTE COM CAMINHÃO BASCULANTE DE 6 M³, EM VIA URBANA EM LEITO NATURAL (UNIDADE: M3XKM). AF_07/2020 | E16: M3XKM | F16: =F15*16.6 -> 2818.2816 | G16: ÁREA DE CARGA x 16,60KM (DMT)

Sheet CFF
A1: A N E X O I I
A3: CRONOGRAMA FÍSICO-FINANCEIRO
A4: PREFEITURA: Prefeitura Municipal de Bocaina de Minas - MG | C4: VALOR : | D4: 406358.8 | F4: DATA: 08/01/2024
A5: OBRA: Calçamento em bloquete | C5: LOCAL: Estrada de acesso entre a comunidade de santo antônio e mirantão - Bocaina de Minas /MG | F5: PRAZO DA OBRA: 3 MESES
A6: ITEM | B6: ETAPAS/DESCRIÇÃO | C6: FÍSICO/ FINANCEIRO | D6: TOTAL ETAPAS | E6: MÊS 1 | F6: MÊS 2 | G6: MÊS 3
A7: 1 | B7: INSTALAÇÕES INICIAIS DA OBRA | C7: Físico % | D7: =D8/$D$12 -> 0.014665697 | E7: 1
C8: Financeiro | D8: 5959.5349 | E8: =E7*D8 -> 5959.5349
A9: 3 | B9: CALÇAMENTO EM BLOQUETE | C9: Físico % | D9: =D10/$D$12 -> 0.9853343 | E9: 0.32 | F9: 0.34 | G9: 0.34
C10: Financeiro | D10: 400399.26 | E10: =E9*D10 -> 128127.76 | F10: =F9*D10 -> 136135.75 | G10: =G9*D10 -> 136135.75
A11: TOTAL | C11: Físico % | D11: =(D8+D10)/D12 -> 1 | E11: =E12/D12 -> 0.32997267 | F11: =F12/D12 -> 0.33501366 | G11: =G12/D12 -> 0.33501366
C12: Financeiro | D12: =D8+D10 -> 406358.8 | E12: =E8+E10 -> 134087.3 | F12: =F8+F10 -> 136135.75 | G12: =G8+G10 -> 136135.75
D15: 142.702/D
D16: CREA

Sheet COMPOSIÇÃO BDI
A1: CÁLCULO B.D.I. (NOVA REGRA)
B3: TIPO DE OBRA
B4: (MARQUE X)
B5: CONSTRUÇÃO DE EDIFÍCIOS
B6: CONSTRUÇÃO DE RODOVIAS E FERROVIAS | G6: X
B7: CONSTRUÇÃO DE REDES DE ABASTECIMENTO DE ÁGUA, COLETA DE ESGOTO E CONSTRUÇÕES CORRELATAS
B8: CONSTRUÇÃO E MANUTENÇÃO DE ESTAÇÕES E REDES DE DISTRIBUIÇÃO DE ENERGIA ELÉTRICA
B9: OBRAS PORTUÁRIAS, MARÍTIMAS E FLUVIAIS
B10: FORNECIMENTO DE MATERIAIS E EQUIPAMENTOS
B12: CÁLCULO DO BDI | E12: VALORES BASE
E13: 1 QUARTIL | F13: MÉDIO | G13: 3 QUARTIL
B14: Administração Central | D14: 0.0467 | E14: 0.038 | F14: 0.0401 | G14: 0.0467
B15: Seguro e Garantia | D15: 0.0074 | E15: 0.0032 | F15: 0.004 | G15: 0.0074
B16: Risco | D16: 0.0097 | E16: 0.005 | F16: 0.0056 | G16: 0.0097
B17: Despesas Financeiras | D17: 0.0121 | E17: 0.0102 | F17: 0.0111 | G17: 0.0121
B18: Lucro | D18: 0.0869 | E18: 0.0664 | F18: 0.073 | G18: 0.0869
B19: PIS | D19: 0.0065 | E19: 0 | F19: - | G19: 0.0065
B20: COFINS | D20: 0.0263 | E20: 0 | F20: - | G20: 0.03
B21: ISS | D21: 0.025 | E21: 0.02 | F21: - | G21: 0.05
B22: BDI | D22: 0.242
B24: VERIFICAÇÃO
B25: TIPO DE OBRA | C25: CONSTRUÇÃO DE RODOVIAS E FERROVIAS
B26: LIMITE MÍNIMO BDI | C26: 0.196
B27: LIMITE MÁXIMO BDI | C27: 0.2423
B28: BDI CALCULADO | C28: 0.242
B29: VERIFICAÇÃO | C29: BDI ACEITO
B30: BDI CALCULADO COM DESONERAÇÃO | E30: 0.269

Sheet COMPOSIÇÃO BDI 
F1: ="Quadro de Composição do BDI" -> Quadro de Composição do BDI | I1: Grau de Sigilo
I2: #PUBLICO
A4: Nº OPERAÇÃO | C4: Nº TRANSFEREGOV | E4: PROPONENTE / TOMADOR
E5: PREFEITURA MUNICIPAL DE BOCAINA DE MINAS
A7: APELIDO DO EMPREENDIMENTO / DESCRIÇÃO DO LOTE
A8: Etapa 03 - Continuação estrada de ligação entre Bocaina de Minas e Resende - Serra
A10: Conforme legislação tributária municipal, definir estimativa de percentual da base de cálculo para o ISS: | I10: 1
A11: Sobre a base de cálculo, definir a respectiva alíquota do ISS (entre 2% e 5%): | I11: 0.025
A13: BDI 1
A15: TIPO DE OBRA
A16: Construção de Praças Urbanas, Rodovias, Ferrovias e recapeamento e pavimentação de vias urbanas
A18: Itens | I18: Siglas | J18: % Adotado | L18: Situação | O18: 1º Quartil | P18: Médio | Q18: 3º Quartil
A20: Administração Central | I20: AC | J20: 0.038 | L20: =IFERROR(IF(K20="◄","FALTA PREENCHER",IF(AND(OR(J20>=O20,O20="-"),OR(J20<=Q20,Q20="-")),"OK","FORA DO INTERVALO")),"-") -> OK | O20: 0.038 | P20: 0.0401 | Q20: 0.0467
A21: Seguro e Garantia | I21: SG | J21: 0.0032 | L21: =IFERROR(IF(K21="◄","FALTA PREENCHER",IF(AND(OR(J21>=O21,O21="-"),OR(J21<=Q21,Q21="-")),"OK","FORA DO INTERVALO")),"-") -> OK | O21: 0.0032 | P21: 0.004 | Q21: 0.0074
A22: Riscos | I22: R | J22: 0.005 | L22: =IFERROR(IF(K22="◄","FALTA PREENCHER",IF(AND(OR(J22>=O22,O22="-"),OR(J22<=Q22,Q22="-")),"OK","FORA DO INTERVALO")),"-") -> OK | O22: 0.005 | P22: 0.0056 | Q22: 0.0097
A23: Despesas financeira | I23: DF | J23: 0.0106 | L23: =IFERROR(IF(K23="◄","FALTA PREENCHER",IF(AND(OR(J23>=O23,O23="-"),OR(J23<=Q23,Q23="-")),"OK","FORA DO INTERVALO")),"-") -> OK | O23: 0.0102 | P23: 0.0111 | Q23: 0.0121
A24: Lucro | I24: L | J24: 0.073 | L24: =IFERROR(IF(K24="◄","FALTA PREENCHER",IF(AND(OR(J24>=O24,O24="-"),OR(J24<=Q24,Q24="-")),"OK","FORA DO INTERVALO")),"-") -> OK | O24: 0.0664 | P24: 0.073 | Q24: 0.0869
A25: Tributos (impostos COFINS 3%, e PIS 0,65%) | I25: CP | J25: 0.0365 | L25: =IFERROR(IF(K25="◄","FALTA PREENCHER",IF(AND(OR(J25>=O25,O25="-"),OR(J25<=Q25,Q25="-")),"OK","FORA DO INTERVALO")),"-") -> OK | O25: 0.0365 | P25: 0.0365 | Q25: 0.0365
A26: Tributos (ISS, variável de acordo com o município) | I26: ISS | J26: 0.025 | L26: =IFERROR(IF(K26="◄","FALTA PREENCHER",IF(AND(OR(J26>=O26,O26="-"),OR(J26<=Q26,Q26="-")),"OK","FORA DO INTERVALO")),"-") -> OK | O26: 0 | P26: 0.025 | Q26: 0.05
A27: Tributos (Contribuição Previdenciária sobre a Receita Bruta - Lei 12.546 de 14/12/2011 - Desoneração) | I27: CPRB | J27: 0.036 | L27: =IFERROR(IF(K27="◄","FALTA PREENCHER",IF(AND(OR(J27>=O27,O27="-"),OR(J27<=Q27,Q27="-")),"OK","FORA DO INTERVALO")),"-") -> OK | O27: 0.036 | P27: 0.036 | Q27: 0.036
A28: BDI SEM desoneração (Fórmula Acórdão TCU) | I28: BDI PAD | J28: =ROUND((((1+J20+J21+J22)*(1+J23)*(1+J24)/(1-(J25+J26)))-1),4) -> 0.2088 | L28: =IFERROR(IF(AND(OR(J28>=O28,O28="-"),OR(J28<=Q28,Q28="-")),"OK","FORA DO INTERVALO"),IF(J28=0,"OK","Selecione o Tipo de obra")) -> OK | O28: 0.196 | P28: 0.2097 | Q28: 0.2423
A29: BDI COM desoneração | I29: BDI DES | J29: =IF($J16=$A$144,0,ROUND((((1+J20+J21+J22)*(1+J23)*(1+J24)/(1-(J25+J26+J27)))-1),4)) -> 0
A31: =IF(L28<>"ok","X","") | B31: =IF(L28<>"ok","Anexo: Relatório Técnico Circunstanciado justificando a adoção do percentual de cada parcela do BDI.","")
A32: BDI COM desoneração | I32: BDI DES | J32: =ROUND((((1+J20+J21+J22)*(1+J23)*(1+J24)/(1-(J25+J26+J27)))-1),4) -> 0.257
A34: Os valores de BDI foram calculados com o emprego da fórmula:
D35: BDI = | E35: (1+AC + S + R + G)*(1 + DF)*(1+L) | H35: - 1
E36: (1-CP-ISS-CRPB)
A38: =CONCATENATE("Declaro para os devidos fins que, conforme legislação tributária municipal, a base de cálculo deste tipo de obra corresponde à ",$I$10*100,"%, com a respectiva alíquota de ",$I$11*100,"%.") -> Declaro para os devidos fins que, conforme legislação tributária municipal, a base de cálculo deste tipo de obra corresponde à 100%, com a respectiva alíquota de 2,5%.
A41: Observações:
A44: BOCAINA DE MINAS | G44: 46113
A45: Local | G45: Data
A48: Responsável Técnico
A49: Nome: | B49: {=Import.RespOrçamento} -> PRISCILA CRISTINA DE PAULA NETO
A50: CREA/CAU: | B50: 142.702/D | F50: ART/RRT: MG20264986784
B51: MG20254432279
A52: BDI 2 | L52: =IF(COUNTIF([3]ORÇAMENTO!$V$15:$V$245,BDI_2.Título)=0,"",IF(OR(Import.BDI.Tipo2="(SELECIONAR)",Import.BDI.Tipo2="",L55<>"",AND($J55<>$A$145,OR(J59="",J60="",AND($J55<>$A$146,OR(J61="",J62="")),J63="",J64=""))),"Falta preencher o BDI 2","")) -> #VALUE!
A54: TIPO DE OBRA
A55: (SELECIONAR) | K55: =IF(L55="","","◄") -> #VALUE! | L55: =IF(AND(OR(J67>0,COUNTIF([3]ORÇAMENTO!$V$15:$V$245,BDI_2.Título)>0),OR(Import.BDI.Tipo2="(SELECIONAR)",Import.BDI.Tipo2="")),"Selecione o Tipo de obra","") -> #VALUE!
A57: Itens | I57: Siglas | J57: % Adotado | L57: Situação | O57: 1º Quartil | P57: Médio | Q57: 3º Quartil
A59: =IF($J$17=$A$146,"Encargos Sociais incidentes sobre a mão de obra","Administração Central") -> Encargos Sociais incidentes sobre a mão de obra | I59: =IF($J55=$A$146,"K1","AC") -> K1 | K59: =IF(AND($U$54<>"",$U$57="",I59<>"",J59=""),"◄","") | L59: =IFERROR(IF(K59="◄","FALTA PREENCHER",IF(AND(OR(J59>=O59,O59="-"),OR(J59<=Q59,Q59="-")),"OK","FORA DO INTERVALO")),"-") -> - | O59: =VLOOKUP(CONCATENATE(A55,"-",I59),$C$2:$G$136,3,FALSE) -> #N/A | P59: =VLOOKUP(CONCATENATE(A55,"-",I59),$C$2:$G$136,4,FALSE) -> #N/A | Q59: =VLOOKUP(CONCATENATE(A55,"-",I59),$C$2:$G$136,5,FALSE) -> #N/A
...

Sheet Planilha orçamentaria SINAPI
A2: ANEXO A - PLANILHA ORÇAMENTÁRIA DE CUSTOS
A3: PREFEITURA: Prefeitura Municipal de Bocaina de Minas - MG | F3: FOLHA Nº: 01/01
A4: OBRA: Pavimentação de via rural - bloco intertravado - etapa 03 | F4: DATA: 01/04/2026
A5: LOCAL: Continuação estrada de ligação entre Bocaina de Minas e Resende - Bocaina de Minas /MG | F5: ISS: | G5: 0.025 | H5: FORMA DE EXECUÇÃO:
A6: REGIÃO/MÊS DE REFERÊNCIA: SINAPI FEVEREIRO/2025 PREÇO DE CUSTO COM DESONERAÇÃO FISCAL - LEI 12.546/2011 e 12.844/2013 | F6: ( ) | G6: DIRETA | H6: ( x ) | I6: INDIRETA
A7: PRAZO DE EXECUÇÃO: 4 Meses | H7: BDI: | I7: ='COMPOSIÇÃO BDI '!J32 -> 0.257
A9: ITEM | B9: CÓDIGO | C9: DESCRIÇÃO | E9: UNIDADE | F9: QUANTIDADE | G9: PREÇO UNIT. S/ LDI | H9: PREÇO UNIT. C/ LDI | I9: PREÇO TOTAL
A10: 1 | C10: SERVIÇOS PRELIMINARES | I10: =SUM(I11:I11) -> 2121.4703
A11: 1.1 | B11: 103689 | C11: FORNECIMENTO E INSTALAÇÃO DE PLACA DE OBRA COM CHAPA GALVANIZADA E ESTRUTURA DE MADEIRA. AF_03/2022_PS | E11: ='[7]Modelo Planilha Orcamentaria'!E14 -> M2 | F11: 4.5 | G11: 375.05 | H11: =G11*$I$7+G11 -> 471.43785 | I11: =F11*H11 -> 2121.4703
A12: 2 | C12: OBRAS VIÁRIAS (PAVIMENTAÇÃO) | I12: =SUM(I13:I21) -> 504040.25
A13: 2.1 | B13: 100576 | C13: REGULARIZAÇÃO E COMPACTAÇÃO DE SUBLEITO DE SOLO PREDOMINANTEMENTE ARGILOSO. AF_11/2019 | E13: M2 | F13: ='MC SINAPI'!F10 -> 3133.55 | G13: 2.84 | H13: =G13*$I$7+G13 -> 3.56988 | I13: =F13*H13 -> 11186.397
A14: 2.2 | B14: 94273 | C14: ASSENTAMENTO DE GUIA (MEIO-FIO) EM TRECHO RETO, CONFECCIONADA EM CONCRETO PRÉ-FABRICADO, DIMENSÕES 100X15X13X30 CM (COMPRIMENTO X BASE INFERIOR X BASE SUPERIOR X ALTURA), PARA VIAS URBANAS (USO VIÁRIO). AF_06/2016 | E14: M | F14: ='MC SINAPI'!F11 -> 909.3 | G14: 67.68 | H14: =G14*$I$7+G14 -> 85.07376 | I14: =F14*H14 -> 77357.57
A15: 2.3 | B15: COMP. 001 | C15: =Composições!C8 -> SOLEIRA DE DISPERSÃO PARA DRENAGEM DE ESTRADAS VICINAIS EM PONTOS DE JUSANTE, SARJETA DE SAÍDA EM CONCRETO E SEIXO ROLADO COM LARGURA DE 50CM, MEIOS-FIOS LATERAIS DE CONCRETO NAS DIMENSÕES 13X15X30CM | E15: =Composições!D8 -> UNID. | F15: ='MC SINAPI'!F12 -> 8 | G15: =Composições!G8 -> 247.14075 | H15: =G15*$I$7+G15 -> 310.65592 | I15: =F15*H15 -> 2485.2474
A16: 2.4 | B16: 92398 | C16: EXECUÇÃO DE PAVIMENTO EM PISO INTERTRAVADO, COM BLOCO RETANGULAR COR NATURAL DE 20 X 10 CM, ESPESSURA 8 CM. AF_10/2022 | E16: M2 | F16: ='MC SINAPI'!F13 -> 2864.96 | G16: 95.05 | H16: =G16*$I$7+G16 -> 119.47785 | I16: =F16*H16 -> 342299.26
A17: 2.5 | B17: 93593 | C17: TRANSPORTE COM CAMINHÃO BASCULANTE DE 14 M³, EM VIA URBANA PAVIMENTADA, ADICIONAL PARA DMT EXCEDENTE A 30 KM (UNIDADE: M3XKM). AF_07/2020 | E17: M3XKM | F17: ='MC SINAPI'!F14 -> 187.65488 | G17: 0.88 | H17: =G17*$I$7+G17 -> 1.10616 | I17: =F17*H17 -> 207.57632
A18: 2.6 | B18: 100973 | C18: CARGA, MANOBRA E DESCARGA DE SOLOS E MATERIAIS GRANULARES EM CAMINHÃO BASCULANTE 6 M³ - CARGA COM PÁ CARREGADEIRA (CAÇAMBA DE 1,7 A 2,8 M³ / 128 HP) E DESCARGA LIVRE (UNIDADE: M3). | E18: M3 | F18: ='MC SINAPI'!F14 -> 187.65488 | G18: 8.54 | H18: =G18*$I$7+G18 -> 10.73478 | I18: =F18*H18 -> 2014.4339
A19: 2.7 | B19: 95876 | C19: TRANSPORTE COM CAMINHÃO BASCULANTE DE 14 M³, EM VIA URBANA PAVIMENTADA, DMT ATÉ 30 KM (UNIDADE: M3XKM). AF_07/2020 | E19: M3XKM | F19: ='MC SINAPI'!F15 -> 5629.6464 | G19: 2.31 | H19: =G19*$I$7+G19 -> 2.90367 | I19: =F19*H19 -> 16346.635
A20: 2.8 | B20: 93593 | C20: TRANSPORTE COM CAMINHÃO BASCULANTE DE 14 M³, EM VIA URBANA PAVIMENTADA, ADICIONAL PARA DMT EXCEDENTE A 30 KM (UNIDADE: M3XKM). AF_07/2020 | E20: M3XKM | F20: ='MC SINAPI'!F16 -> 10095.833 | G20: 0.88 | H20: =G20*$I$7+G20 -> 1.10616 | I20: =F20*H20 -> 11167.606
A21: 2.9 | B21: 94287 | C21: EXECUÇÃO DE SARJETA DE CONCRETO USINADO, MOLDADA IN LOCO EM TRECHO RETO, 30 CM BASE X 10 CM ALTURA. AF_01/2024 | E21: M | F21: ='MC SINAPI'!F17 -> 895.3 | G21: 36.41 | H21: =G21*$I$7+G21 -> 45.76737 | I21: =F21*H21 -> 40975.526
A22: TOTAL DA OBRA | I22: =I10+I12 -> 506161.72
B27: Carimbo e assinatura do engenheiro responsável técnico pela elaboração da planilha | F27: CREA
B30: Carimbo e assinatura do prefeito ou presidente da instituição
D41: =D39-D40 -> 0

Sheet CFF SINAPI
A1: A N E X O B
A3: CRONOGRAMA FÍSICO-FINANCEIRO
A4: PREFEITURA: Prefeitura Municipal de Bocaina de Minas - MG | C4: VALOR : | D4: =D14 -> 506161.72 | F4: ='Planilha orçamentaria SINAPI'!F4 -> DATA: 01/04/2026
A5: OBRA: Pavimentação de via rural - bloco intertravado | C5: LOCAL: Continuação estrada de ligação entre Bocaina de Minas e Resende - Bocaina de Minas /MG | F5: PRAZO DE EXECUÇÃO: 4 Meses
A6: ITEM | B6: ETAPAS/DESCRIÇÃO | C6: FÍSICO/ FINANCEIRO | D6: TOTAL ETAPAS | E6: MÊS 1 | F6: MÊS 2 | G6: MÊS 3 | H6: MÊS 4
A7: 1 | B7: SERVIÇOS PRELIMINARES | C7: Físico % | D7: =D8/$D$14 -> 0.0041912895 | E7: 1
C8: Financeiro | D8: ='Planilha orçamentaria SINAPI'!I10 -> 2121.4703 | E8: =E7*D8 -> 2121.4703
A9: 2 | B9: OBRAS VIÁRIAS (PAVIMENTAÇÃO) | C9: Físico % | D9: =D10/$D$14 -> 0.99580871 | E9: 0.25 | F9: 0.25 | G9: 0.25 | H9: 0.25
C10: Financeiro | D10: ='Planilha orçamentaria SINAPI'!I12 -> 504040.25 | E10: =E9*D10 -> 126010.06 | F10: =F9*D10 -> 126010.06 | G10: =G9*D10 -> 126010.06 | H10: =H9*D10 -> 126010.06
A11: 6 | B11: CALÇAMENTO EM BLOQUETE - VALE DO NEGO | C11: Físico % | D11: =D12/$D$14 -> 0
C12: Financeiro | D12: 0
A13: TOTAL | C13: Físico % | D13: =(D8+D10)/D14 -> 1 | E13: =E14/$D$14 -> 0.25314347 | F13: =F14/$D$14 -> 0.24895218 | G13: =G14/$D$14 -> 0.24895218 | H13: =H14/$D$14 -> 0.24895218
C14: Financeiro | D14: =D8+D10 -> 506161.72 | E14: =E8+E10 -> 128131.53 | F14: =F8+F10 -> 126010.06 | G14: =G8+G10 -> 126010.06 | H14: =H8+H10 -> 126010.06
D17: 142.702/D
D18: CREA

Sheet MC SINAPI
A1: ANEXO C - MEMORIA DE CALCULO
A2: PREFEITURA: Prefeitura Municipal de Bocaina de Minas - MG
A3: OBRA: Pavimentação de via rural - bloco intertravado
A4: LOCAL: Continuação estrada de ligação entre Bocaina de Minas e Resende - Bocaina de Minas /MG
A5: ITEM | B5: CÓDIGO | C5: DESCRIÇÃO | E5: UNIDADE | F5: QUANTIDADE | G5: FÓRMULA/MEMÓRIA
A7: 1 | C7: INSTALAÇÕES INICIAIS DA OBRA
A8: 1.1 | B8: 103689 | C8: FORNECIMENTO E COLOCAÇÃO DE PLACA DE OBRA EM CHAPA GALVANIZADA #26, ESP. 0,45 MM, PLOTADA COM ADESIVO VINÍLICO, AFIXADA COM REBITES 4,8X40 MM, EM ESTRUTURA METÁLICA DE METALON 20X20 MM, ESP. 1,25 MM, INCLUSIVE SUPORTE EM EUCALIPTO AUTOCLAVADO PINTADO COM TINTA PVA DUAS (2) DEMÃOS | E8: M2 | F8: 4.5 | G8: 1,50 X 3,00 PLACA DE OBRA
A9: 2 | C9: OBRAS VIÁRIAS (PAVIMENTAÇÃO)
A10: 2.1 | B10: 100576 | C10: REGULARIZAÇÃO E COMPACTAÇÃO DE SUBLEITO DE SOLO PREDOMINANTEMENTE ARGILOSO. AF_11/2019 | E10: M2 | F10: =(40+40+58+51.05+52.3+40+40+40+46.3+40)*7 -> 3133.55 | G10: (40,00 + 40,00 + 58,00 + 51,05 + 52,30 + 40,00 + 40,00 + 40,00 + 46,30 + 40,00) x 7,00 > COMP. X LARG.
A11: 2.2 | B11: 94273 | C11: ASSENTAMENTO DE GUIA (MEIO-FIO) EM TRECHO RETO, CONFECCIONADA EM CONCRETO PRÉ-FABRICADO, DIMENSÕES 100X15X13X30 CM (COMPRIMENTO X BASE INFERIOR X BASE SUPERIOR X ALTURA), PARA VIAS URBANAS (USO VIÁRIO). AF_06/2016 | E11: M | F11: =((40+40+58+51.05+52.3+40+40+40+46.3+40)*2)+14 -> 909.3 | G11: ((40,00 + 40,00 + 58,00 + 51,05 + 52,30 + 40,00 + 40,00 + 40,00 + 46,30 + 40,00) x 2,00) + (7,00 x 2,00) > COMP. (EXTENSÃO) x LADOS + TRAVAMENTOS
A12: 2.3 | B12: COMP. 001 | C12: =Composições!C8 -> SOLEIRA DE DISPERSÃO PARA DRENAGEM DE ESTRADAS VICINAIS EM PONTOS DE JUSANTE, SARJETA DE SAÍDA EM CONCRETO E SEIXO ROLADO COM LARGURA DE 50CM, MEIOS-FIOS LATERAIS DE CONCRETO NAS DIMENSÕES 13X15X30CM | E12: ='Planilha orçamentaria SINAPI'!E15 -> UNID. | F12: 8 | G12: 4 DE CADA LADO
A13: 2.4 | B13: 92398 | C13: EXECUÇÃO DE PAVIMENTO EM PISO INTERTRAVADO, COM BLOCO RETANGULAR COR NATURAL DE 20 X 10 CM, ESPESSURA 8 CM. AF_10/2022 | E13: M2 | F13: =(40+40+58+51.05+52.3+40+40+40+46.3+40)*6.4 -> 2864.96 | G13: (40,00 + 40,00 + 58,00 + 51,05 + 52,30 + 40,00 + 40,00 + 40,00 + 46,30 + 40,00) x 6,40 > COMP. X LARG.
A14: 2.5 | B14: 100973 | C14: CARGA, MANOBRA E DESCARGA DE SOLOS E MATERIAIS GRANULARES EM CAMINHÃO BASCULANTE 6 M³ - CARGA COM PÁ CARREGADEIRA (CAÇAMBA DE 1,7 A 2,8 M³ / 128 HP) E DESCARGA LIVRE (UNIDADE: M3). | E14: M3 | F14: =(0.0568*F13)+(0.0087*F13) -> 187.65488 | G14: AREIA MÉDIA = 0,0568 x 4.777,60 (ÁREA CALÇAMENTO) + PÓ DE PEDRA = 0,0087 x 4.777,60 (ÁREA CALÇAMENTO)
A15: 2.6 | B15: 95876 | C15: TRANSPORTE COM CAMINHÃO BASCULANTE DE 14 M³, EM VIA URBANA PAVIMENTADA, DMT ATÉ 30 KM (UNIDADE: M3XKM). AF_07/2020 | E15: M3XKM | F15: =F14*30 -> 5629.6464 | G15: CARGA x DMT DE TRANSPORTE ATÉ 30KM
A16: 2.7 | B16: 93593 | C16: TRANSPORTE COM CAMINHÃO BASCULANTE DE 14 M³, EM VIA URBANA PAVIMENTADA, ADICIONAL PARA DMT EXCEDENTE A 30 KM (UNIDADE: M3XKM). AF_07/2020 | E16: M3XKM | F16: =F14*53.8 -> 10095.833 | G16: CARGA x DMT DE TRANSPORTE ACIMA DE 30KM (53,80KM)
A17: 2.8 | B17: 94287 | C17: EXECUÇÃO DE SARJETA DE CONCRETO USINADO, MOLDADA IN LOCO EM TRECHO RETO, 30 CM BASE X 10 CM ALTURA. AF_01/2024 | E17: M | F17: =((40+40+58+51.05+52.3+40+40+40+46.3+40)*2) -> 895.3 | G17: ((40,00 + 40,00 + 58,00 + 51,05 + 52,30 + 40,00 + 40,00 + 40,00 + 46,30 + 40,00) x 2,00) > COMP. (EXTENSÃO) x LADOS
A18: 2.9

Sheet Composições
A1: ='Planilha orçamentaria SINAPI'!A3:E3 -> PREFEITURA: Prefeitura Municipal de Bocaina de Minas - MG
A2: ='Planilha orçamentaria SINAPI'!A4:E4 -> OBRA: Pavimentação de via rural - bloco intertravado - etapa 03
A3: ='Planilha orçamentaria SINAPI'!A5:E5 -> LOCAL: Continuação estrada de ligação entre Bocaina de Minas e Resende - Bocaina de Minas /MG
A4: ='Planilha orçamentaria SINAPI'!A6:E6 -> REGIÃO/MÊS DE REFERÊNCIA: SINAPI FEVEREIRO/2025 PREÇO DE CUSTO COM DESONERAÇÃO FISCAL - LEI 12.546/2011 e 12.844/2013
A5: ='Planilha orçamentaria SINAPI'!A7:E7 -> PRAZO DE EXECUÇÃO: 4 Meses
A6: COMPOSIÇÃO DE CUSTO UNITÁRIO | F6: ='[4]Modelo Planilha Orcamentaria'!F4 -> DATA: 26/03/2026
C7: DESCRIÇÃO DO SERVIÇO OU FORNECIMENTO | D7: UNIDADE | E7: DATA BASE | F7: FONTE | G7: PREÇO REFERENCIAL
B8: COMP. 01 | C8: SOLEIRA DE DISPERSÃO PARA DRENAGEM DE ESTRADAS VICINAIS EM PONTOS DE JUSANTE, SARJETA DE SAÍDA EM CONCRETO E SEIXO ROLADO COM LARGURA DE 50CM, MEIOS-FIOS LATERAIS DE CONCRETO NAS DIMENSÕES 13X15X30CM | D8: UNID. | E8: 46054 | F8: SINAPI | G8: =SUM(G10:G13) -> 247.14075
B9: CÓDIGO | C9: DESCRIÇÃO DO INSUMO | D9: UNIDADE | E9: COEFICIENTE | F9: CUSTO UNITÁRIO | G9: CUSTO TOTAL
A10: SINAPI | B10: 94273 | C10: ASSENTAMENTO DE GUIA (MEIO-FIO) EM TRECHO RETO, CONFECCIONADA EM CONCRETO PRÉ-FABRICADO, DIMENSÕES 100X15X13X30 CM (COMPRIMENTO X BASE INFERIOR X BASE SUPERIOR X ALTURA). AF_01/2024 | D10: M | E10: 2 | F10: 67.68 | G10: =E10*F10 -> 135.36
A11: SINAPI | B11: 94287 | C11: EXECUÇÃO DE SARJETA DE CONCRETO USINADO, MOLDADA IN LOCO EM TRECHO RETO, 30 CM BASE X 10 CM ALTURA. AF_06/2016 | D11: M | E11: 1.8 | F11: 36.41 | G11: =E11*F11 -> 65.538
A12: SINAPI-I | B12: 4734 | C12: SEIXO ROLADO PARA APLICACAO EM CONCRETO (POSTO PEDREIRA/FORNECEDOR, SEM FRETE) | D12: M3 | E12: =1*0.5*0.05 -> 0.025 | F12: 434.91 | G12: =E12*F12 -> 10.87275
A13: SINAPI | B13: 88316 | C13: SERVENTE COM ENCARGOS COMPLEMENTARES | D13: H | E13: 1.5 | F13: 23.58 | G13: =E13*F13 -> 35.37
C15: ___________________________________________________
C16: Priscila Cristina De Paula Neto
C17: Engenheira Civil - CREA/MG nº 142702/D
