Workbook
Name ___sub1: #REF!
Name ___sub1: #REF!
Name ___sub2: #REF!
Name ___sub2: #REF!
Name ___sub3: #REF!
Name ___sub3: #REF!
Name __sub1: #REF!
Name __sub2: #REF!
Name __sub3: #REF!
Name _sub1: #REF!
Name _sub1: #REF!
Name _sub2: #REF!
Name _sub2: #REF!
Name _sub3: #REF!
Name a: #REF!
Name a: #REF!
Name AREA: #REF!
Name AREA: #REF!
Name B: #REF!
Name B: #REF!
Name B: #REF!
Name BDI: #REF!
Name BDI: #REF!
Name BDI: #REF!
Name DOLAR: [3]INSUMOS!$G$8
Name ersdcefgbrnghrbgbrgfbgfwbvbfgvwfv: #REF!
Name ersdcefgbrnghrbgbrgfbgfwbvbfgvwfv: #REF!
Name Excel_BuiltIn_Print_Area_2: #REF!
Name Excel_BuiltIn_Print_Area_2: #REF!
Name Excel_BuiltIn_Print_Area_2_1: #REF!
Name Excel_BuiltIn_Print_Area_2_1: #REF!
Name Excel_BuiltIn_Print_Area_2_1_1: #REF!
Name Excel_BuiltIn_Print_Area_2_1_1_1: #REF!
Name Excel_BuiltIn_Print_Area_4: #REF!
Name Fonte: #REF!
Name INSUMOS: #REF!
Name leosde: #REF!
Name leosde: #REF!
Name NCOMPOSICOES: 7
Name NCOTACOES: 15
Name obra: #REF!
Name obra: #REF!
Name obra1: #REF!
Name obra1: #REF!
Name obra2: #REF!
Name obra2: #REF!
Name obra3: #REF!
Name obra3: #REF!
Name obra4: #REF!
Name obra4: #REF!
Name obra5: #REF!
Name obra5: #REF!
Name P.1: #REF!
Name P.1: #REF!
Name P.10: #REF!
Name P.10: #REF!
Name P.11: #REF!
Name P.11: #REF!
Name P.12: #REF!
Name P.12: #REF!

Sheet Planilha Orcamentária
A1: PLANILHA ORÇAMENTÁRIA DE CUSTOS
A2: PREFEITURA: Prefeitura Municipal de Bocaina de Minas | F2: FOLHA Nº: | H2: 01/03.
A3: OBRA: PAVIMENTAÇÃO DE ESTRADAS VICINAIS | F3: DATA: | H3: =TODAY() -> 46202
A4: LOCAL: Morro do Matão - Trecho 01, 02 e 03 e Morro do Rio Grande , Zona rural - Bocaina de Minas/MG | F4: FORMA DE EXECUÇÃO:
A5: REGIÃO/MÊS DE REFERÊNCIA: SINAPI - ABRIL/2026 - COM DESONERAÇÃO. | F5: ( ) | G5: DIRETA | H5: ( X ) | I5: INDIRETA
A6: *DEMONSTRATIVO DE BDI CALCULADO ANEXO 15* | F6: % ISS MUNICIPAL: | G6: 0.05 | H6: LDI: | I6: ='COMPOSIÇÃO BDI'!J32 -> 0.2513
A8: ITEM | C8: CÓDIGO | D8: DESCRIÇÃO | E8: UNIDADE | F8: QUANTIDADE | G8: PREÇO UNITÁRIO S/ LDI | H8: PREÇO UNITÁRIO C/ LDI | I8: PREÇO TOTAL
A9: 1.0 | D9: SERVIÇOS PRELIMINARES | H9: =ROUND(G9+(G9*$I$6),2) -> 0 | I9: =SUM(I10:I10) -> 2403.99
A10: 1.1 | B10: SINAPI | C10: 103689 | D10: FORNECIMENTO E INSTALAÇÃO DE PLACA DE OBRA COM CHAPA GALVANIZADA E ESTRUTURA DE MADEIRA. AF_03/2022_PS | E10: M2 | F10: ='Memória de Cálculo'!C13 -> 5.12 | G10: 375.23 | H10: =ROUND(G10+(G10*$I$6),2) -> 469.53 | I10: =ROUND((F10*H10),2) -> 2403.99
D12: MORRO DO MATÃO - TRECHO 01 | H12: =ROUND(G12+(G12*$I$6),2) -> 0 | I12: =I13+I17 -> 85742.56
A13: 2.0 | D13: SERVIÇOS DE CALÇAMENTO EM BLOQUETE | H13: =ROUND(G13+(G13*$I$6),2) -> 0 | I13: =SUM(I14:I15) -> 64712.16
A14: 2.1 | B14: SINAPI | C14: 100576 | D14: REGULARIZAÇÃO E COMPACTAÇÃO DE SUBLEITO DE SOLO PREDOMINANTEMENTE ARGILOSO, PARA OBRAS DE CONSTRUÇÃO DE PAVIMENTOS. AF_09/2024 | E14: M2 | F14: ='Memória de Cálculo'!D26 -> 504 | G14: 2.99 | H14: =ROUND(G14+(G14*$I$6),2) -> 3.74 | I14: =ROUND((F14*H14),2) -> 1884.96
A15: 2.2 | B15: SINAPI | C15: 92394 | D15: EXECUÇÃO DE PAVIMENTO EM PISO INTERTRAVADO, COM BLOCO SEXTAVADO DE 25 X 25 CM, ESPESSURA 8 CM. AF_10/2022 | E15: M2 | F15: ='Memória de Cálculo'!D35 -> 480 | G15: 104.6 | H15: =ROUND(G15+(G15*$I$6),2) -> 130.89 | I15: =ROUND((F15*H15),2) -> 62827.2
A17: 3.0 | D17: OBRAS COMPLEMENTARES | H17: =ROUND(G17+(G17*$I$6),2) -> 0 | I17: =SUM(I18:I18) -> 21030.4
A18: 3.1 | B18: SINAPI | C18: 94273 | D18: ASSENTAMENTO DE GUIA (MEIO-FIO) EM TRECHO RETO, CONFECCIONADA EM CONCRETO PRÉ-FABRICADO, DIMENSÕES 100X15X13X30 CM (COMPRIMENTO X BASE INFERIOR X BASE SUPERIOR X ALTURA). AF_01/2024 | E18: M | F18: ='Memória de Cálculo'!D47 -> 248 | G18: 67.77 | H18: =ROUND(G18+(G18*$I$6),2) -> 84.8 | I18: =ROUND((F18*H18),2) -> 21030.4
D20: MORRO DO MATÃO - TRECHO 02 | H20: =ROUND(G20+(G20*$I$6),2) -> 0 | I20: =I21+I25 -> 85742.56
A21: 4.0 | D21: SERVIÇOS DE CALÇAMENTO EM BLOQUETE | H21: =ROUND(G21+(G21*$I$6),2) -> 0 | I21: =SUM(I22:I23) -> 64712.16
A22: 4.1 | B22: SINAPI | C22: 100576 | D22: REGULARIZAÇÃO E COMPACTAÇÃO DE SUBLEITO DE SOLO PREDOMINANTEMENTE ARGILOSO, PARA OBRAS DE CONSTRUÇÃO DE PAVIMENTOS. AF_09/2024 | E22: M2 | F22: ='Memória de Cálculo'!D61 -> 504 | G22: 2.99 | H22: =ROUND(G22+(G22*$I$6),2) -> 3.74 | I22: =ROUND((F22*H22),2) -> 1884.96
A23: 4.2 | B23: SINAPI | C23: 92394 | D23: EXECUÇÃO DE PAVIMENTO EM PISO INTERTRAVADO, COM BLOCO SEXTAVADO DE 25 X 25 CM, ESPESSURA 8 CM. AF_10/2022 | E23: M2 | F23: ='Memória de Cálculo'!D71 -> 480 | G23: 104.6 | H23: =ROUND(G23+(G23*$I$6),2) -> 130.89 | I23: =ROUND((F23*H23),2) -> 62827.2
A25: 5.0 | D25: OBRAS COMPLEMENTARES | H25: =ROUND(G25+(G25*$I$6),2) -> 0 | I25: =SUM(I26:I26) -> 21030.4
A26: 5.1 | B26: SINAPI | C26: 94273 | D26: ASSENTAMENTO DE GUIA (MEIO-FIO) EM TRECHO RETO, CONFECCIONADA EM CONCRETO PRÉ-FABRICADO, DIMENSÕES 100X15X13X30 CM (COMPRIMENTO X BASE INFERIOR X BASE SUPERIOR X ALTURA). AF_01/2024 | E26: M | F26: ='Memória de Cálculo'!D84 -> 248 | G26: 67.77 | H26: =ROUND(G26+(G26*$I$6),2) -> 84.8 | I26: =ROUND((F26*H26),2) -> 21030.4
D28: MORRO DO MATÃO - TRECHO 03 | H28: =ROUND(G28+(G28*$I$6),2) -> 0 | I28: =I29+I33 -> 85742.56
A29: 6.0 | D29: SERVIÇOS DE CALÇAMENTO EM BLOQUETE | H29: =ROUND(G29+(G29*$I$6),2) -> 0 | I29: =SUM(I30:I31) -> 64712.16
A30: 6.1 | B30: SINAPI | C30: 100576 | D30: REGULARIZAÇÃO E COMPACTAÇÃO DE SUBLEITO DE SOLO PREDOMINANTEMENTE ARGILOSO, PARA OBRAS DE CONSTRUÇÃO DE PAVIMENTOS. AF_09/2024 | E30: M2 | F30: ='Memória de Cálculo'!D97 -> 504 | G30: 2.99 | H30: =ROUND(G30+(G30*$I$6),2) -> 3.74 | I30: =ROUND((F30*H30),2) -> 1884.96
A31: 6.2 | B31: SINAPI | C31: 92394 | D31: EXECUÇÃO DE PAVIMENTO EM PISO INTERTRAVADO, COM BLOCO SEXTAVADO DE 25 X 25 CM, ESPESSURA 8 CM. AF_10/2022 | E31: M2 | F31: ='Memória de Cálculo'!D106 -> 480 | G31: 104.6 | H31: =ROUND(G31+(G31*$I$6),2) -> 130.89 | I31: =ROUND((F31*H31),2) -> 62827.2
A33: 7.0 | D33: OBRAS COMPLEMENTARES | H33: =ROUND(G33+(G33*$I$6),2) -> 0 | I33: =SUM(I34:I34) -> 21030.4
A34: 7.1 | B34: SINAPI | C34: 94273 | D34: ASSENTAMENTO DE GUIA (MEIO-FIO) EM TRECHO RETO, CONFECCIONADA EM CONCRETO PRÉ-FABRICADO, DIMENSÕES 100X15X13X30 CM (COMPRIMENTO X BASE INFERIOR X BASE SUPERIOR X ALTURA). AF_01/2024 | E34: M | F34: ='Memória de Cálculo'!D118 -> 248 | G34: 67.77 | H34: =ROUND(G34+(G34*$I$6),2) -> 84.8 | I34: =ROUND((F34*H34),2) -> 21030.4
D36: MORRO DO RIO GRANDE - TRECHO 04 | H36: =ROUND(G36+(G36*$I$6),2) -> 0 | I36: =I37+I41 -> 40375.01
A37: 8.0 | D37: SERVIÇOS DE CALÇAMENTO EM BLOQUETE | H37: =ROUND(G37+(G37*$I$6),2) -> 0 | I37: =SUM(I38:I39) -> 30199.01
A38: 8.1 | B38: SINAPI | C38: 100576 | D38: REGULARIZAÇÃO E COMPACTAÇÃO DE SUBLEITO DE SOLO PREDOMINANTEMENTE ARGILOSO, PARA OBRAS DE CONSTRUÇÃO DE PAVIMENTOS. AF_09/2024 | E38: M2 | F38: ='Memória de Cálculo'!D128 -> 235.2 | G38: 2.99 | H38: =ROUND(G38+(G38*$I$6),2) -> 3.74 | I38: =ROUND((F38*H38),2) -> 879.65
A39: 8.2 | B39: SINAPI | C39: 92394 | D39: EXECUÇÃO DE PAVIMENTO EM PISO INTERTRAVADO, COM BLOCO SEXTAVADO DE 25 X 25 CM, ESPESSURA 8 CM. AF_10/2022 | E39: M2 | F39: ='Memória de Cálculo'!D134 -> 224 | G39: 104.6 | H39: =ROUND(G39+(G39*$I$6),2) -> 130.89 | I39: =ROUND((F39*H39),2) -> 29319.36
A41: 9.0 | D41: OBRAS COMPLEMENTARES | H41: =ROUND(G41+(G41*$I$6),2) -> 0 | I41: =SUM(I42:I42) -> 10176
A42: 9.1 | B42: SINAPI | C42: 94273 | D42: ASSENTAMENTO DE GUIA (MEIO-FIO) EM TRECHO RETO, CONFECCIONADA EM CONCRETO PRÉ-FABRICADO, DIMENSÕES 100X15X13X30 CM (COMPRIMENTO X BASE INFERIOR X BASE SUPERIOR X ALTURA). AF_01/2024 | E42: M | F42: ='Memória de Cálculo'!D143 -> 120 | G42: 67.77 | H42: =ROUND(G42+(G42*$I$6),2) -> 84.8 | I42: =ROUND((F42*H42),2) -> 10176
A44: TOTAL GERAL DA OBRA | I44: =I36+I28+I20+I12+I9 -> 300006.68
C51: Priscila Cristina de Paula | F51: CREA-MG Nº: 142.702/D
C53: Engenheira Civil
C59: Luzimar de Moura Benfica
C60: Prefeito Municipal

Sheet BM 01
A1: ANEXO X - BOLETIM DE MEDIÇÃO
A2: PREFEITURA: PREFEITURA MUNICIPAL DE ARACITABA | E2: BOLETIM DE MEDIÇÃO Nº: | H2: CONVÊNIO Nº: | J2: CONCEDENTE: | M2: MEDIÇÃO Nº: | P2: nº Folha
E3: 01 | H3: RECURSO PROPRIO | J3: PREFEITURA MUNICIPAL | M3: 01 | P3: 01
A4: CONTAMIL CONSTRUÇÃO | E4: LICITAÇÃO CONCORRÊNCIA Nº: 06/2024 | H4: ORDEM DE SERVIÇO: | J4: DATA DA EMISSÃO: 24 DE JULHO DE 2025
A5: CNPJ 26.147.330/0001-06 | J5: PERÍODO DE EXECUÇÃO : 25/02/2025 A 24/07/2025
A6: OBRA: ETAPA 02 - CALÇAMENTO EM VIAS URBANAS | E6: CONTRATO Nº: 002/2025 | H6: DATA DA OS: 25/02/2025 | J6: Valor CT/ TA: | L6: Saldo anterior | N6: Esta medição: | P6: Saldo:
J7: 172730.36 | L7: =J7 -> 172730.36 | N7: =O25 -> #REF! | P7: =L7-N7 -> #REF!
A8: ITEM | B8: SERVIÇOS EXECUTADOS | E8: QUANT. | H8: QUANTIDADES EXECUTADAS | K8: UNID. | M8: VALOR UNIT. | N8: VALORES EXECUTADOS R$
E9: PREVISTA (Plano de Trabalho) | H9: Anterior | I9: No período | J9: Acumulado | N9: No período | P9: Acumulado
A10: 1.0 | B10: SERVIÇOS PRELIMINARES | N10: =SUM(N11:O13) -> #REF! | P10: =SUM(P11:Q13) -> #REF!
A11: 1.1 | B11: FORNECIMENTO E COLOCAÇÃO DE PLACA DE OBRA EM CHAPA GALVANIZADA #26, ESP. 0,45MM, DIMENSÃO (3X1,5)M, PLOTADA COM ADESIVO VINÍLICO, AFIXADA COM REBITES 4,8X40MM, EM ESTRUTURA METÁLICA DE METALON 20X20MM, ESP. 1,25MM, INCLUSIVE SUPORTE EM EUCALIPTO AUTOCLAVADO PINTADO COM TINTA PVA DUAS (2) DEMÃOS | E11: ='Planilha Orcamentária'!F10 -> 5.12 | H11: ='[4]BM-03'!J10 -> 0 | I11: =E11 -> 5.12 | J11: =H11+I11 -> 5.12 | K11: U | M11: 1301.68 | N11: =I11*M11 -> 6664.6016 | P11: =N11 -> 6664.6016
A12: 1.2 | B12: LOCAÇÃO DE CONTAINER COM ISOLAMENTO TÉRMICO, TIPO 3, PARA DEPÓSITO/FERRAMENTARIA DE OBRA, COM MEDIDAS REFERENCIAIS DE (6) METROS COMPRIMENTO, (2,3) METROS LARGURA E (2,5) METROS ALTURA ÚTIL INTERNA, INCLUSIVE LIGAÇÕES ELÉTRICAS INTERNAS, EXCLUSIVE MOBILIZAÇÃO/ DESMOBILIZAÇÃO E LIGAÇÕES PROVISÓRIAS EXTERNAS | E12: ='Planilha Orcamentária'!#REF! -> #REF! | H12: 0 | I12: 1 | J12: =H12+I12 -> 1 | K12: MÊS | M12: 794.012 | N12: =I12*M12 -> 794.012 | P12: =N12 -> 794.012
A13: 1.3 | B13: LIGAÇÕES PROVISÓRIAS PARA CONTAINER TIPO 3 (CORRESPONDENTE AO CÓDIGO ED-16350) | E13: ='Planilha Orcamentária'!#REF! -> #REF! | H13: 0 | I13: =E13 -> #REF! | J13: =H13+I13 -> #REF! | K13: UNID. | M13: 294.31 | N13: =I13*M13 -> #REF! | P13: =N13 -> #REF!
A14: 2.0 | B14: SERVIÇOS DE CALÇAMENTO EM BLOQUETE | N14: =SUM(N15:O16) -> 53291.018 | P14: =SUM(P15:Q16) -> 53291.018
A15: 2.1 | B15: REGULARIZAÇÃO MANUAL E COMPACTAÇÃO MECANIZADA DE TERRENO COM PLACA VIBRATÓRIA, EXCLUSIVE DESMATAMENTO, DESTOCAMENTO, LIMPEZA/ROÇADA DO TERRENO | E15: ='Planilha Orcamentária'!F14 -> 504 | H15: ='[4]BM-03'!J14 -> 0 | I15: =115*6 -> 690 | J15: =H15+I15 -> 690 | K15: M2 | M15: 4.84256 | N15: =I15*M15 -> 3341.3664 | P15: =N15 -> 3341.3664
A16: 2.2 | B16: EXECUÇÃO DE PAVIMENTO EM PISO INTERTRAVADO, COM BLOCO SEXTAVADO DE 25 X 25 CM, ESPESSURA 8 CM. AF_10/2022 | E16: ='Planilha Orcamentária'!F15 -> 480 | H16: ='[4]BM-03'!J15 -> 0 | I16: =115*5.4+5.4 -> 626.4 | J16: =H16+I16 -> 626.4 | K16: M2 | M16: 79.740823 | N16: =I16*M16 -> 49949.652 | P16: =N16 -> 49949.652
A17: 3.0 | B17: OBRAS COMPLEMENTARES | N17: =SUM(N18:O19) -> 21623.165 | P17: =SUM(P18:Q19) -> 21623.165
A18: 3.1 | B18: GUIA DE MEIO-FIO, EM CONCRETO COM FCK 20MPA, PRÉ-MOLDADA, MFC-01 PADRÃO DEER-MG, DIMENSÕES (12X16,7X35) CM, EXCLUSIVE SARJETA, INCLUSIVE ESCAVAÇÃO, APILOAMENTO E TRANSPORTE COM RETIRADA DO MATERIAL ESCAVADO (EM CAÇAMBA) | E18: ='Planilha Orcamentária'!F18 -> 248 | H18: 0 | I18: =115*2+5.4 -> 235.4 | J18: =H18+I18 -> 235.4 | K18: M | M18: 59.56838 | N18: =I18*M18 -> 14022.397 | P18: =N18 -> 14022.397
A19: 3.2 | B19: EXECUÇÃO DE SARJETA DE CONCRETO USINADO, MOLDADA IN LOCO EM TRECHO RETO, 30 CM BASE X 10 CM ALTURA. AF_06/2016 | E19: ='Planilha Orcamentária'!#REF! -> #REF! | H19: ='[4]BM-03'!J18 -> 0 | I19: =115*2 -> 230 | J19: =H19+I19 -> 230 | K19: M | M19: 33.04682 | N19: =I19*M19 -> 7600.7686 | P19: =N19 -> 7600.7686
A21: Cálculo do Reajuste: 0,00 | J21: Fator de Reajust. 0,00 | N21: Total s/ reajust. | P21: =N17+N14+N10 -> #REF!
N22: Total c/ reajust.
A23: Contratante: | D23: Fiscalização/ Prefeitura | H23: Contratada: | J23: Engº Responsável técnico CREA | N23: Importa a presente medição em
D24: Engº Responsável técnico CREA
O25: =P21 -> #REF!
A29: Assinatura Prefeito | D29: Assinatura Engenheiro Prefeitura | H29: Assinatura do Responsável | J29: Assinatura Engenheiro Responsável

Sheet Memória de Cálculo
A1: MEMÓRIA DE CÁLCULO DE QUANTITATIVOS
A2: ÓRGÃO: | B2: TRANSFERÊNCIA ESPECIAL | I2: Data
A3: ='Planilha Orcamentária'!A3 -> OBRA: PAVIMENTAÇÃO DE ESTRADAS VICINAIS | I3: =TODAY() -> 46202
A4: Resp. Técnico: | B4: ='Planilha Orcamentária'!C51 -> Priscila Cristina de Paula | D4: ='Planilha Orcamentária'!C53 -> Engenheira Civil | E4: ='Planilha Orcamentária'!F51 -> CREA-MG Nº: 142.702/D | I4: FOLHA Nº: 02/03
A5: ='Planilha Orcamentária'!A4 -> LOCAL: Morro do Matão - Trecho 01, 02 e 03 e Morro do Rio Grande , Zona rural - Bocaina de Minas/MG
A6: ITEM | B6: SERVIÇOS
A8: ='Planilha Orcamentária'!A9 -> 1.0 | B8: ='Planilha Orcamentária'!D9 -> SERVIÇOS PRELIMINARES
A10: ='Planilha Orcamentária'!A10 -> 1.1 | B10: ='Planilha Orcamentária'!D10 -> FORNECIMENTO E INSTALAÇÃO DE PLACA DE OBRA COM CHAPA GALVANIZADA E ESTRUTURA DE MADEIRA. AF_03/2022_PS
A12: LARG (M) | B12: ALTURA (M) | C12: ÁREA (M2)
A13: 3.2 | B13: 1.6 | C13: =A13*B13 -> 5.12
A15: ='Planilha Orcamentária'!D12 -> MORRO DO MATÃO - TRECHO 01
A17: ='Planilha Orcamentária'!A13 -> 2.0 | B17: ='Planilha Orcamentária'!D13 -> SERVIÇOS DE CALÇAMENTO EM BLOQUETE
A19: ='Planilha Orcamentária'!A14 -> 2.1 | B19: ='Planilha Orcamentária'!D14 -> REGULARIZAÇÃO E COMPACTAÇÃO DE SUBLEITO DE SOLO PREDOMINANTEMENTE ARGILOSO, PARA OBRAS DE CONSTRUÇÃO DE PAVIMENTOS. AF_09/2024
A21: TRECHO 01 | B21: 20 | C21: 4.2 | D21: =B21*C21 -> 84
B22: 24.55 | C22: 4.2 | D22: =B22*C22 -> 103.11
B23: 13.15 | C23: 4.2 | D23: =B23*C23 -> 55.23
B24: 38 | C24: 4.2 | D24: =B24*C24 -> 159.6
B25: 24.3 | C25: 4.2 | D25: =B25*C25 -> 102.06
B26: TOTAL | D26: =SUM(D21:D25) -> 504 | E26: m²
A28: ='Planilha Orcamentária'!A15 -> 2.2 | B28: ='Planilha Orcamentária'!D15 -> EXECUÇÃO DE PAVIMENTO EM PISO INTERTRAVADO, COM BLOCO SEXTAVADO DE 25 X 25 CM, ESPESSURA 8 CM. AF_10/2022
A30: TRECHO 01 | B30: 20 | C30: 4 | D30: =B30*C30 -> 80
B31: 24.55 | C31: 4 | D31: =B31*C31 -> 98.2
B32: 13.15 | C32: 4 | D32: =B32*C32 -> 52.6
B33: 38 | C33: 4 | D33: =B33*C33 -> 152
B34: 24.3 | C34: 4 | D34: =B34*C34 -> 97.2
B35: TOTAL | D35: =SUM(D30:D34) -> 480 | E35: m²
A37: ='Planilha Orcamentária'!A17 -> 3.0 | B37: ='Planilha Orcamentária'!D17 -> OBRAS COMPLEMENTARES
A39: ='Planilha Orcamentária'!A18 -> 3.1 | B39: ASSENTAMENTO DE GUIA (MEIO-FIO) EM TRECHO RETO, CONFECCIONADA EM CONCRETO PRÉ-FABRICADO,DIMENSÕES 100X15X13X30 CM (COMPRIMENTO X BASE INFERIOR X BASE SUPERIOR X ALTURA). AF_01/2024
A41: TRECHO 01 | B41: =B30 -> 20 | C41: 2 | D41: =B41*C41 -> 40
B42: =B31 -> 24.55 | C42: 2 | D42: =B42*C42 -> 49.1
B43: =B32 -> 13.15 | C43: 2 | D43: =B43*C43 -> 26.3
B44: =B33 -> 38 | C44: 2 | D44: =B44*C44 -> 76
B45: =B34 -> 24.3 | C45: 2 | D45: =B45*C45 -> 48.6
A46: TRAVAMENTOS | B46: 4 | C46: 2 | D46: =B46*C46 -> 8
B47: TOTAL | D47: =SUM(D41:D46) -> 248 | E47: m
A49: ='Planilha Orcamentária'!D20 -> MORRO DO MATÃO - TRECHO 02
A51: ='Planilha Orcamentária'!A21 -> 4.0 | B51: ='Planilha Orcamentária'!D21 -> SERVIÇOS DE CALÇAMENTO EM BLOQUETE
A53: ='Planilha Orcamentária'!A22 -> 4.1 | B53: ='Planilha Orcamentária'!D22 -> REGULARIZAÇÃO E COMPACTAÇÃO DE SUBLEITO DE SOLO PREDOMINANTEMENTE ARGILOSO, PARA OBRAS DE CONSTRUÇÃO DE PAVIMENTOS. AF_09/2024
A55: TRECHO 02 | B55: 20 | C55: 4.2 | D55: =B55*C55 -> 84
B56: 34.25 | C56: 4.2 | D56: =B56*C56 -> 143.85
...

Sheet Cronograma
F1: FOLHA Nº: 03/03
A2: CRONOGRAMA FÍSICO-FINANCEIRO
A3: ='Planilha Orcamentária'!A2 -> PREFEITURA: Prefeitura Municipal de Bocaina de Minas | C3: VALOR : | D3: ='Planilha Orcamentária'!I44 -> 300006.68 | E3: DATA: | F3: =TODAY() -> 46202
A4: ='Planilha Orcamentária'!A3 -> OBRA: PAVIMENTAÇÃO DE ESTRADAS VICINAIS | C4: ='Planilha Orcamentária'!A4 -> LOCAL: Morro do Matão - Trecho 01, 02 e 03 e Morro do Rio Grande , Zona rural - Bocaina de Minas/MG | E4: PRAZO DA OBRA: 4 meses
A5: ITEM | B5: ETAPAS/DESCRIÇÃO | C5: FÍSICO/ FINANCEIRO | D5: TOTAL ETAPAS | E5: MÊS 1 | F5: MÊS 2 | G5: MÊS 3 | H5: MÊS 4
A6: 1.0 | B6: ='Planilha Orcamentária'!D9 -> SERVIÇOS PRELIMINARES | C6: Físico % | D6: =D7/$D$29 -> 0.0080131216 | E6: 1
C7: Financeiro | D7: ='Planilha Orcamentária'!I9 -> 2403.99 | E7: =E6*$D$7 -> 2403.99
A8: ='Planilha Orcamentária'!D12 -> MORRO DO MATÃO - TRECHO 01
A9: 2.0 | B9: ='Planilha Orcamentária'!D13 -> SERVIÇOS DE CALÇAMENTO EM BLOQUETE | C9: Físico % | D9: =D10/$D$29 -> 0.2157024 | E9: 0.85 | F9: 0.15
C10: Financeiro | D10: ='Planilha Orcamentária'!I13 -> 64712.16 | E10: =E9*$D$10 -> 55005.336 | F10: =F9*$D$10 -> 9706.824
A11: 3.0 | B11: ='Planilha Orcamentária'!D17 -> OBRAS COMPLEMENTARES | C11: Físico % | D11: =D12/$D$29 -> 0.070099772 | E11: 0.85 | F11: 0.15
C12: Financeiro | D12: ='Planilha Orcamentária'!I17 -> 21030.4 | E12: =E11*$D$12 -> 17875.84 | F12: =F11*$D$12 -> 3154.56
A13: ='Planilha Orcamentária'!D20 -> MORRO DO MATÃO - TRECHO 02
A14: 4.0 | B14: ='Planilha Orcamentária'!D21 -> SERVIÇOS DE CALÇAMENTO EM BLOQUETE | C14: Físico % | D14: =D15/$D$29 -> 0.2157024 | F14: 0.75 | G14: 0.25
C15: Financeiro | D15: ='Planilha Orcamentária'!I21 -> 64712.16 | F15: =F14*$D$15 -> 48534.12 | G15: =G14*$D$15 -> 16178.04
A16: 5.0 | B16: ='Planilha Orcamentária'!D25 -> OBRAS COMPLEMENTARES | C16: Físico % | D16: =D17/$D$29 -> 0.070099772 | F16: 0.75 | G16: 0.25
C17: Financeiro | D17: ='Planilha Orcamentária'!I25 -> 21030.4 | F17: =F16*$D$17 -> 15772.8 | G17: =G16*$D$17 -> 5257.6
A18: ='Planilha Orcamentária'!D28 -> MORRO DO MATÃO - TRECHO 03
A19: 6.0 | B19: ='Planilha Orcamentária'!D29 -> SERVIÇOS DE CALÇAMENTO EM BLOQUETE | C19: Físico % | D19: =D20/$D$29 -> 0.2157024 | G19: 0.65 | H19: 0.35
C20: Financeiro | D20: ='Planilha Orcamentária'!I29 -> 64712.16 | G20: =G19*$D$15 -> 42062.904 | H20: =H19*$D$15 -> 22649.256
A21: 7.0 | B21: ='Planilha Orcamentária'!D33 -> OBRAS COMPLEMENTARES | C21: Físico % | D21: =D22/$D$29 -> 0.070099772 | G21: 0.65 | H21: 0.35
C22: Financeiro | D22: ='Planilha Orcamentária'!I33 -> 21030.4 | G22: =G21*$D$17 -> 13669.76 | H22: =H21*$D$17 -> 7360.64
A23: ='Planilha Orcamentária'!D36 -> MORRO DO RIO GRANDE - TRECHO 04
A24: 8.0 | B24: ='Planilha Orcamentária'!D37 -> SERVIÇOS DE CALÇAMENTO EM BLOQUETE | C24: Físico % | D24: =D25/$D$29 -> 0.10066113 | H24: 1
C25: Financeiro | D25: ='Planilha Orcamentária'!I37 -> 30199.01 | H25: =H24*$D$25 -> 30199.01
A26: 9.0 | B26: ='Planilha Orcamentária'!D41 -> OBRAS COMPLEMENTARES | C26: Físico % | D26: =D27/$D$29 -> 0.033919245 | H26: 1
C27: Financeiro | D27: ='Planilha Orcamentária'!I41 -> 10176 | H27: =H26*$D$27 -> 10176
A28: TOTAL | C28: Físico % | D28: =D6+D9+D11+D14+D16 -> 0.57961746 | E28: =E29/$D$29 -> 0.25094497 | F28: =F29/$D$29 -> 0.25722195 | G28: =G29/$D$29 -> 0.25722195 | H28: =H29/$D$29 -> 0.23461113
C29: Financeiro | D29: =D17+D15+D12+D10+D7+D20+D22+D25+D27 -> 300006.68 | E29: =E7+E10+E12+E15+E17+E20+E22+E25+E27 -> 75285.166 | F29: =F7+F10+F12+F15+F17+F20+F22+F25+F27 -> 77168.304 | G29: =G7+G10+G12+G15+G17+G20+G22+G25+G27 -> 77168.304 | H29: =H7+H10+H12+H15+H17+H20+H22+H25+H27 -> 70384.906
F30: Observações:
B32: ='Planilha Orcamentária'!C51 -> Priscila Cristina de Paula
B33: ='Planilha Orcamentária'!C53 -> Engenheira Civil
B34: CREA-MG Nº: 142.702/D
B37: ='Planilha Orcamentária'!C59 -> Luzimar de Moura Benfica
B38: {='Planilha Orcamentária'!C60:D60} -> Prefeito Municipal | C38: 0

Sheet COMPOSIÇÃO BDI
F1: ="Quadro de Composição do BDI" -> Quadro de Composição do BDI | I1: Grau de Sigilo
I2: #PUBLICO
A4: Nº OPERAÇÃO | C4: Nº TRANSFEREGOV | E4: PROPONENTE / TOMADOR
E5: PREFEITURA MUNICIPAL DE BOCAINA DE MINAS
A7: APELIDO DO EMPREENDIMENTO / DESCRIÇÃO DO LOTE
A8: PAVIMENTAÇÃO DE ESTRADAS VICINAIS
A10: Conforme legislação tributária municipal, definir estimativa de percentual da base de cálculo para o ISS: | I10: 1
A11: Sobre a base de cálculo, definir a respectiva alíquota do ISS (entre 2% e 5%): | I11: 0.025
A13: BDI 1
A15: TIPO DE OBRA
A16: Construção de Praças Urbanas, Rodovias, Ferrovias e recapeamento e pavimentação de vias urbanas
A18: Itens | I18: Siglas | J18: % Adotado | L18: Situação | O18: 1º Quartil | P18: Médio | Q18: 3º Quartil
A20: Administração Central | I20: AC | J20: 0.03945 | L20: =IFERROR(IF(K20="◄","FALTA PREENCHER",IF(AND(OR(J20>=O20,O20="-"),OR(J20<=Q20,Q20="-")),"OK","FORA DO INTERVALO")),"-") -> OK | O20: 0.038 | P20: 0.0401 | Q20: 0.0467
A21: Seguro e Garantia | I21: SG | J21: 0.0032 | L21: =IFERROR(IF(K21="◄","FALTA PREENCHER",IF(AND(OR(J21>=O21,O21="-"),OR(J21<=Q21,Q21="-")),"OK","FORA DO INTERVALO")),"-") -> OK | O21: 0.0032 | P21: 0.004 | Q21: 0.0074
A22: Riscos | I22: R | J22: 0.0056 | L22: =IFERROR(IF(K22="◄","FALTA PREENCHER",IF(AND(OR(J22>=O22,O22="-"),OR(J22<=Q22,Q22="-")),"OK","FORA DO INTERVALO")),"-") -> OK | O22: 0.005 | P22: 0.0056 | Q22: 0.0097
A23: Despesas financeira | I23: DF | J23: 0.0102 | L23: =IFERROR(IF(K23="◄","FALTA PREENCHER",IF(AND(OR(J23>=O23,O23="-"),OR(J23<=Q23,Q23="-")),"OK","FORA DO INTERVALO")),"-") -> OK | O23: 0.0102 | P23: 0.0111 | Q23: 0.0121
A24: Lucro | I24: L | J24: 0.0664 | L24: =IFERROR(IF(K24="◄","FALTA PREENCHER",IF(AND(OR(J24>=O24,O24="-"),OR(J24<=Q24,Q24="-")),"OK","FORA DO INTERVALO")),"-") -> OK | O24: 0.0664 | P24: 0.073 | Q24: 0.0869
A25: Tributos (impostos COFINS 3%, e PIS 0,65%) | I25: CP | J25: 0.0365 | L25: =IFERROR(IF(K25="◄","FALTA PREENCHER",IF(AND(OR(J25>=O25,O25="-"),OR(J25<=Q25,Q25="-")),"OK","FORA DO INTERVALO")),"-") -> OK | O25: 0.0365 | P25: 0.0365 | Q25: 0.0365
A26: Tributos (ISS, variável de acordo com o município) | I26: ISS | J26: 0.025 | L26: =IFERROR(IF(K26="◄","FALTA PREENCHER",IF(AND(OR(J26>=O26,O26="-"),OR(J26<=Q26,Q26="-")),"OK","FORA DO INTERVALO")),"-") -> OK | O26: 0 | P26: 0.025 | Q26: 0.05
A27: Tributos (Contribuição Previdenciária sobre a Receita Bruta - Lei 12.546 de 14/12/2011 - Desoneração) | I27: CPRB | J27: 0.036 | L27: =IFERROR(IF(K27="◄","FALTA PREENCHER",IF(AND(OR(J27>=O27,O27="-"),OR(J27<=Q27,Q27="-")),"OK","FORA DO INTERVALO")),"-") -> OK | O27: 0.036 | P27: 0.036 | Q27: 0.036
A28: BDI SEM desoneração (Fórmula Acórdão TCU) | I28: BDI PAD | J28: =ROUND((((1+J20+J21+J22)*(1+J23)*(1+J24)/(1-(J25+J26)))-1),4) -> 0.2033 | L28: =IFERROR(IF(AND(OR(J28>=O28,O28="-"),OR(J28<=Q28,Q28="-")),"OK","FORA DO INTERVALO"),IF(J28=0,"OK","Selecione o Tipo de obra")) -> OK | O28: 0.196 | P28: 0.2097 | Q28: 0.2423
A29: BDI COM desoneração | I29: BDI DES | J29: =IF($J16=$A$145,0,ROUND((((1+J20+J21+J22)*(1+J23)*(1+J24)/(1-(J25+J26+J27)))-1),4)) -> 0
A31: =IF(L28<>"ok","X","") | B31: =IF(L28<>"ok","Anexo: Relatório Técnico Circunstanciado justificando a adoção do percentual de cada parcela do BDI.","")
A32: BDI COM desoneração | I32: BDI DES | J32: =ROUND((((1+J20+J21+J22)*(1+J23)*(1+J24)/(1-(J25+J26+J27)))-1),4) -> 0.2513
A34: Os valores de BDI foram calculados com o emprego da fórmula:
D35: BDI = | E35: (1+AC + S + R + G)*(1 + DF)*(1+L) | H35: - 1
E36: (1-CP-ISS-CRPB)
A38: =CONCATENATE("Declaro para os devidos fins que, conforme legislação tributária municipal, a base de cálculo deste tipo de obra corresponde à ",$I$10*100,"%, com a respectiva alíquota de ",$I$11*100,"%.") -> Declaro para os devidos fins que, conforme legislação tributária municipal, a base de cálculo deste tipo de obra corresponde à 100%, com a respectiva alíquota de 2,5%.
A42: Observações:
A45: BOCAINA DE MINAS | G45: segunda-feira, 29 de junho de 2026
A46: Local | G46: Data
A49: Responsável Técnico
A50: Nome: | B50: {=Import.RespOrçamento} -> PRISCILA CRISTINA DE PAULA NETO
A51: CREA/CAU: | B51: 142.702/D
A52: ART/RRT: | B52: MG20254432279
A53: BDI 2 | L53: =IF(COUNTIF([2]ORÇAMENTO!$V$15:$V$245,BDI_2.Título)=0,"",IF(OR(Import.BDI.Tipo2="(SELECIONAR)",Import.BDI.Tipo2="",L56<>"",AND($J56<>$A$146,OR(J60="",J61="",AND($J56<>$A$147,OR(J62="",J63="")),J64="",J65=""))),"Falta preencher o BDI 2","")) -> #VALUE!
A55: TIPO DE OBRA
A56: (SELECIONAR) | K56: =IF(L56="","","◄") -> #VALUE! | L56: =IF(AND(OR(J68>0,COUNTIF([2]ORÇAMENTO!$V$15:$V$245,BDI_2.Título)>0),OR(Import.BDI.Tipo2="(SELECIONAR)",Import.BDI.Tipo2="")),"Selecione o Tipo de obra","") -> #VALUE!
A58: Itens | I58: Siglas | J58: % Adotado | L58: Situação | O58: 1º Quartil | P58: Médio | Q58: 3º Quartil
A60: =IF($J$17=$A$147,"Encargos Sociais incidentes sobre a mão de obra","Administração Central") -> Encargos Sociais incidentes sobre a mão de obra | I60: =IF($J56=$A$147,"K1","AC") -> K1 | K60: =IF(AND($U$55<>"",$U$58="",I60<>"",J60=""),"◄","") | L60: =IFERROR(IF(K60="◄","FALTA PREENCHER",IF(AND(OR(J60>=O60,O60="-"),OR(J60<=Q60,Q60="-")),"OK","FORA DO INTERVALO")),"-") -> - | O60: =VLOOKUP(CONCATENATE(A56,"-",I60),$C$2:$G$137,3,FALSE) -> #N/A | P60: =VLOOKUP(CONCATENATE(A56,"-",I60),$C$2:$G$137,4,FALSE) -> #N/A | Q60: =VLOOKUP(CONCATENATE(A56,"-",I60),$C$2:$G$137,5,FALSE) -> #N/A
...

Sheet BDI
A1: DEMONSTRATIVO DO BDI - SEM DESONERAÇÃO - OBRAS RODOVIÁRIAS
A3: BDI (CONFORME ACÓRDÃO Nº 2622/13 e LEI Nº 13.161 DE 31/08/15)
A4: DISCRIMINAÇÃO DAS PARCELAS | B4: SIG. (1) | C4: CONSTRUÇÃO DE RODOVIAS E FERROVIAS | J4: INC. (6)
C5: ISS (2) | G5: DIFERENCIADO
C6: 0.02 | D6: 0.03 | E6: 0.04 | F6: 0.05 | G6: MATERIAL (5) | H6: SERVIÇO TERCEIRIZADO (4) (ISS=5%) | I6: EQUIPAMENTO (3) (ISS=5%)
A7: CUSTO DIRETO | B7: CD | C7: 1 | D7: 1 | E7: 1 | F7: 1 | G7: 1 | H7: 1 | I7: 1
A8: ADMINISTRAÇÃO CENTRAL | B8: AC | C8: 0.0467 | D8: 0.0467 | E8: 0.0467 | F8: 0.0467 | G8: 0.0342 | H8: 0.0401 | I8: 0.0342 | J8: CD
A9: LUCRO BRUTO | B9: L | C9: 0.0753 | D9: 0.0753 | E9: 0.0753 | F9: 0.0753 | G9: 0.0494 | H9: 0.0664 | I9: 0.0494 | J9: CD
A10: DESPESAS FINANCEIRAS | B10: DF | C10: 0.009 | D10: 0.009 | E10: 0.009 | F10: 0.009 | G10: 0.009 | H10: 0.009 | I10: 0.009 | J10: CD
A11: SEGUROS, GARANTIAS E RISCO | C11: =SUM(C12:C13) -> 0.0171 | D11: =SUM(D12:D13) -> 0.0171 | E11: =SUM(E12:E13) -> 0.0171 | F11: =SUM(F12:F13) -> 0.0171 | G11: 0.0129 | H11: =SUM(H12:H13) -> 0.0082 | I11: 0.0129 | J11: CD
A12: SEGUROS + GARANTIAS | B12: S | C12: 0.0074 | D12: 0.0074 | E12: 0.0074 | F12: 0.0074 | G12: 0.0053 | H12: 0.0032 | I12: 0.0053 | J12: CD
A13: RISCO(*) | B13: R | C13: 0.0097 | D13: 0.0097 | E13: 0.0097 | F13: 0.0097 | G13: 0.0076 | H13: 0.005 | I13: 0.0076 | J13: CD
A14: TRIBUTOS | B14: I | C14: =SUM(C15:C17) -> 0.0505 | D14: =SUM(D15:D17) -> 0.0575 | E14: =SUM(E15:E17) -> 0.0645 | F14: =SUM(F15:F17) -> 0.0715 | G14: =SUM(G15:G17) -> 0.0365 | H14: =SUM(H15:H17) -> 0.0615 | I14: =SUM(I15:I17) -> 0.0615 | J14: PV
A15: ISS | B15: ISS(2) | C15: 0.014 | D15: 0.021 | E15: 0.028 | F15: 0.035 | G15: - | H15: 0.025 | I15: 0.025 | J15: PV
A16: PIS | B16: PIS | C16: 0.0065 | D16: 0.0065 | E16: 0.0065 | F16: 0.0065 | G16: 0.0065 | H16: 0.0065 | I16: 0.0065 | J16: PV
A17: COFINS | B17: - | C17: 0.03 | D17: 0.03 | E17: 0.03 | F17: 0.03 | G17: 0.03 | H17: 0.03 | I17: 0.03 | J17: PV
A18: CPRB | B18: INSS | C18: 0.045 | D18: 0.045 | E18: 0.045 | F18: 0.045 | G18: 0.045 | H18: 0.045 | I18: 0.045 | J18: PV
A20: FÓRMULA DO BDI | C20: (1 + (AC + S + G + R)) x (1 + DF) x (1 + L)
C21: (1 - (I + CPRB))
A22: BDI (NUMERADOR) | C22: =(1+(C8+C11))*(1+C10)*(1+C9)-1 -> 0.15419928 | D22: =(1+(D8+D11))*(1+D10)*(1+D9)-1 -> 0.15419928 | E22: =(1+(E8+E11))*(1+E10)*(1+E9)-1 -> 0.15419928 | F22: =(1+(F8+F11))*(1+F10)*(1+F9)-1 -> 0.15419928 | G22: =(1+(G8+G11))*(1+G10)*(1+G9)-1 -> 0.10871618 | H22: 0.1279 | I22: =(1+(I8+I11))*(1+I10)*(1+I9)-1 -> 0.10871618
A23: BDI (DENOMINADOR) | C23: =(1-(C14+C18)) -> 0.9045 | D23: =(1-(D14+D18)) -> 0.8975 | E23: =(1-(E14+E18)) -> 0.8905 | F23: =(1-(F14+F18)) -> 0.8835 | G23: =(1-(G14+G18)) -> 0.9185 | H23: =(1-(H14+H18)) -> 0.8935 | I23: =(1-(I14+I18)) -> 0.8935
A24: BDI | C24: 0.276 | D24: =(1+D22)/D23-1 -> 0.28601591 | E24: =(1+E22)/E23-1 -> 0.29612496 | F24: =(1+F22)/F23-1 -> 0.3063942 | G24: =(1+G22)/G23-1 -> 0.20709437 | H24: 0.2624 | I24: 0.2408
A26: OBSERVAÇÕES
A27: (1) SIGLA. (2) INCIDÊNCIA DE ISS EM 70% DO PREÇO DE VENDA, COM PERCENTUAIS DE 2%, 3%, 4% E 5%. (3) BDI DIFERENCIADO A SER APLICADO EM LOCAÇÃO DE CUSTO HORÁRIO DE EQUIPAMENTO. (4) BDI DIFERENCIADO A SER APLICADO PARA SERVIÇOS TERCEIRIZADOS. (5) BDI DIFERENCIADO A SER APLICADO PARA FORNECIMENTO DE MATERIAL BETUMINOSO E MATERIAL DE JAZIDA. (6) INCIDÊNCIA.
A29: Cidade, | B29: =TODAY() -> 46202 | C29: . | H29: DOC Nº: | I29: 05/05.
C32: ='[5]Planilha Orcamentária'!C44 -> Priscila Cristina de Paula Neto
C33: ='[5]Planilha Orcamentária'!C46 -> Engenheira Civil | E33: ='[5]Planilha Orcamentária'!C47 -> CREA-MG Nº: 142702/D
C36: ='Planilha Orcamentária'!C59 -> Luzimar de Moura Benfica
C37: ='Planilha Orcamentária'!C60 -> Prefeito Municipal
