Workbook

Sheet BDI
A1: PREFEITURA MUNICIPAL DE BOA ESPERANÇA– MG SECRETARIA MUNICIPAL DE EDUCAÇÃO ENGENHARIA E PROJETOS
A2: BENEFÍCIOS E DESPESAS INDIRETAS - BDI
A3: CONSTRUÇÃO DE COBERTURA DE QUADRA ESPORTIVA, PALCO E VESTIÁRIOS NA ESCOLA MUNICIPAL ACHILLES NAVES
A6: Conforme legislação tributária municipal, definir estimativa de percentual da base de cálculo para o ISS: | I6: 0.5
A7: Sobre a base de cálculo, definir a respectiva alíquota do ISS (entre 2% e 5%): | I7: 0.05
A9: TIPO DE OBRA
A10: Construção e Reforma de Edifícios
A12: Itens | I12: Siglas | J12: % Adotado | L12: Situação | O12: 1º Quartil | P12: Médio
A14: =IF($J$22=$A$160,"Encargos Sociais incidentes sobre a mão de obra","Administração Central") -> Administração Central | I14: AC | J14: 0.03 | L14: - | O14: 0.03 | P14: 0.04
A15: =IF($J$22=$A$160,"Administração Central da empresa ou consultoria - overhead","Seguro e Garantia") -> Seguro e Garantia | I15: SG | J15: 0.01 | L15: - | O15: 0.008 | P15: 0.008
A16: =IF($J$22=$A$160,"","Risco") -> Risco | I16: R | J16: 0.01 | L16: - | O16: 0.0097 | P16: 0.0127
A17: =IF($J$22=$A$160,"","Despesas Financeiras") -> Despesas Financeiras | I17: DF | J17: 0.0136 | L17: - | O17: 0.0059 | P17: 0.0123
A18: =IF($J$22=$A$160,"Margem bruta da empresa de consultoria","Lucro") -> Lucro | I18: L | J18: 0.064 | L18: - | O18: 0.0616 | P18: 0.074
A19: Tributos (impostos COFINS 3%, e PIS 0,65%) | I19: CP | J19: 0.0365 | L19: - | O19: 0.0365 | P19: 0.0365
A20: Tributos (ISS, variável de acordo com o município) | I20: ISS | J20: 0.025 | L20: - | O20: 0 | P20: 0.025
A21: Tributos (Contribuição Previdenciária sobre a Receita Bruta - 0% ou 4,5% - Desoneração) | I21: CPRB | J21: 0.045 | L21: - | O21: 0 | P21: 0.045
A22: BDI SEM desoneração (Fórmula Acórdão TCU) | I22: BDI PAD | J22: =(ROUND((((1+J14+J15+J16)*(1+J17)*(1+J18)/(1-(J19+J20)))-1),4)) -> 0.2066 | L22: =IF(OR($J$22=$A$160,$J$22=$A$159,AND(J22>=O22,J22<=Q22)),"OK","FORA DO INTERVALO") -> FORA DO INTERVALO | O22: 0.2034 | P22: 0.2212
A23: BDI COM desoneração | I23: BDI DES | J23: =ROUND((((1+J14+J15+J16)*(1+J17)*(1+J18)/(1-(J19+J20+J21)))-1),4) -> 0.2674
A27: Os valores de BDI foram calculados com o emprego da fórmula:
D28: BDI = | E28: =IF($J10=$A$160,"(1+K1+K2)*(1+K3)","(1+AC + S + R + G)*(1 + DF)*(1+L)") -> (1+K1+K2)*(1+K3) | H28: - 1
E29: (1-CP-ISS-CRPB)
A31: Declaro para os devidos fins que, conforme legislação tributária municipal, a base de cálculo deste tipo de obra corresponde à 50%, com a respectiva alíquota de 5,0%.
A33: Declaro para os devidos fins que o regime de Contribuição Previdenciária sobre a Receita Bruta adotado para elaboração do orçamento foi COM DESONERACAO, e que esta é a alternativa mais adequada para a Administração Pública.
A35: Observações:
A38: BOA ESPERANÇA, MG | G38: =TODAY() -> 46121
A39: Local | G39: Data
A46: Responsável Técnico | F46: Prefeito Municipal
A47: Nome: | B47: JÉSSICA CAROLINE OLIVEIRA FERREIRA | F47: Nome: | G47: AROLDO ROSA DE MEDEIROS JÚNIOR
A48: CREA/CAU: | B48: CREA-MG 303607/D

Sheet Orçamento Sintético
A1: PREFEITURA MUNICIPAL DE BOA ESPERANÇA– MG SECRETARIA MUNICIPAL DE EDUCAÇÃO ENGENHARIA E PROJETOS
A2: PLANILHA ORÇAMENTÁRIA | F2: LICITAÇÃO Nº | H2: EDITAL Nº
A3: ÓRGÃO | B3: PREFEITURA MUNICIPAL DE BOA ESPERANÇA | H3: DATA DO ORÇAMENTO | I3: 46119
A4: OBJETO | B4: CONSTRUÇÃO DE COBERTURA DE QUADRA ESPORTIVA, PALCO E VESTIÁRIOS NA ESCOLA MUNICIPAL ACHILLES NAVES | H4: LOTE
A5: ENDEREÇO | B5: RUA PERNAMBUCO Nº 352, BAIRRO MARINGÁ, BOA ESPERANÇA-MG
A6: MODALIDADE | B6: CONCORRÊNCIA | C6: REGIME DE EXECUÇÃO | D6: 1 – Empreitada por Preço Global | F6: CIDADE | G6: BOA ESPERANÇA | H6: UF | I6: MG
A7: DATA BASE DO ORÇAMENTO (mês/ano) | B7: SINAPI - 02/2026 SBC - 03/2026 ORSE - 01/2026 SEINFRA - 028 SETOP SUL - 01/2026 SUDECAP - 10/2025 CPOS - 01/2026 AGESUL - 01/2026 AGETOP CIVIL - 12/2025 | C7: DESONERAÇÃO | D7: ENCARGOS SOCIAIS - HORISTAS (%) | F7: BDI 1 | G7: 0.2674 | H7: BDI 2
C8: Sim | D8: ENCARGOS SOCIAIS - MENSALISTAS (%)
H10: Valor Final do Orçamento | J10: =I13 + I22 + I128 + I358 -> 1881017.5
H11: BDI | J11: 0.2674
A12: Item | B12: Código | C12: Banco | D12: Descrição | E12: Und | F12: Quant. | G12: Valor Unit | H12: Valor Unit com BDI | I12: Total | J12: Peso (%)
A13: 1 | D13: SERVIÇOS PRELIMINARES | F13: 1 | H13: =I14 + I15 + I16 + I17 + I18 + I19 + I20 + I21 -> 18231.05 | I13: =ROUND(F13 * H13,2) -> 18231.05 | J13: =I13 / J10 -> 0.0096921217
A14: 1.1 | B14: ED-16670 | C14: SETOP | D14: PLACA DE OBRA EM CHAPA GALVANIZADA ENRIJECIDA, PLOTADA COM ADESIVO VINÍLICO, FIXADA COM REBITES 4,8X40MM, EM ESTRUTURA METÁLICA DE METALON 20X20MM, ESP. 1,25MM, EXCLUSIVE SUPORTE EM EUCALIPTO PADRÃO GOVERNO DE MINAS GERAIS (FORNECIMENTO/FABRICAÇÃO) | E14: m² | F14: 4.5 | G14: 232.99 | H14: =ROUND(ROUND(G14 * J11, 2) + G14, 2) -> 295.29 | I14: =ROUND(F14 * H14,2) -> 1328.81 | J14: =I14 / J10 -> 0.00070643151
A15: 1.2 | B15: C1630 | C15: SEINFRA | D15: LOCAÇÃO DA OBRA - EXECUÇÃO DE GABARITO | E15: m² | F15: 268.67 | G15: 7.14 | H15: =ROUND(ROUND(G15 * J11, 2) + G15, 2) -> 9.05 | I15: =ROUND(F15 * H15,2) -> 2431.46 | J15: =I15 / J10 -> 0.0012926302
A16: 1.3 | B16: 98525 | C16: SINAPI | D16: LIMPEZA MECANIZADA DE CAMADA VEGETAL, VEGETAÇÃO E PEQUENAS ÁRVORES (DIÂMETRO DE TRONCO MENOR QUE 0,20 M), COM TRATOR DE ESTEIRAS. AF_03/2024 | E16: m² | F16: 552.37 | G16: 0.73 | H16: =ROUND(ROUND(G16 * J11, 2) + G16, 2) -> 0.93 | I16: =ROUND(F16 * H16,2) -> 513.7 | J16: =I16 / J10 -> 0.00027309688
A17: 1.4 | B17: ED-16350 | C17: SETOP | D17: LOCAÇÃO DE CONTAINER COM ISOLAMENTO TÉRMICO, TIPO 3, PARA DEPÓSITO/FERRAMENTARIA DE OBRA, COM MEDIDAS REFERENCIAIS DE (6) METROS COMPRIMENTO, (2,3) METROS LARGURA E (2,5) METROS ALTURA ÚTIL INTERNA, INCLUSIVE LIGAÇÕES ELÉTRICAS INTERNAS, EXCLUSIVE MOBILIZAÇÃO/DESMOBILIZAÇÃO E LIGAÇÕES PROVISÓRIAS EXTERNAS | E17: mês | F17: 8 | G17: 858.58 | H17: =ROUND(ROUND(G17 * J11, 2) + G17, 2) -> 1088.16 | I17: =ROUND(F17 * H17,2) -> 8705.28 | J17: =I17 / J10 -> 0.0046279634
A18: 1.5 | B18: ED-51125 | C18: SETOP | D18: TRANSPORTE DE MATERIAL DEMOLIDO EM CAÇAMBA, EXCLUSIVE CARGA MANUAL OU MECÂNICA | E18: m³ | F18: 10 | G18: 60 | H18: =ROUND(ROUND(G18 * J11, 2) + G18, 2) -> 76.04 | I18: =ROUND(F18 * H18,2) -> 760.4 | J18: =I18 / J10 -> 0.00040424931
A19: 1.6 | B19: ED-51131 | C19: SETOP | D19: CARGA MANUAL DE MATERIAL DE QUALQUER NATUREZA SOBRE CAMINHÃO, EXCLUSIVE TRANSPORTE | E19: m³ | F19: 10 | G19: 47.18 | H19: =ROUND(ROUND(G19 * J11, 2) + G19, 2) -> 59.8 | I19: =ROUND(F19 * H19,2) -> 598 | J19: =I19 / J10 -> 0.00031791305
A20: 1.7 | B20: ED-9076 | C20: SETOP | D20: FORNECIMENTO DE ANDAIME METÁLICO TUBULAR TIPO TORRE (LOCAÇÃO), INCLUSIVE RODÍZIOS, EXCLUSIVE MONTAGEM E DESMONTAGEM | E20: mxmês | F20: 70 | G20: 21.13 | H20: =ROUND(ROUND(G20 * J11, 2) + G20, 2) -> 26.78 | I20: =ROUND(F20 * H20,2) -> 1874.6 | J20: =I20 / J10 -> 0.00099658831
A21: 1.8 | B21: ED-9077 | C21: SETOP | D21: MONTAGEM E DESMONTAGEM DE ANDAIME METÁLICO TUBULAR TIPO TORRE, EXCLUSIVE FORNECIMENTO DO ANDAIME | E21: m | F21: 140 | G21: 11.38 | H21: =ROUND(ROUND(G21 * J11, 2) + G21, 2) -> 14.42 | I21: =ROUND(F21 * H21,2) -> 2018.8 | J21: =I21 / J10 -> 0.0010732489
A22: 2 | D22: QUADRA COBERTA | F22: 1 | H22: =I23 + I27 + I38 + I53 + I59 + I67 + I74 + I77 + I86 + I97 + I117 + I124 -> 1046618.7 | I22: =ROUND(F22 * H22,2) -> 1046618.7 | J22: =I22 / J10 -> 0.55641094
A23: 2.1 | D23: MOVIMENTO DE TERRA PARA FUNDAÇÕES | F23: 1 | H23: =I24 + I25 + I26 -> 3206.28 | I23: =ROUND(F23 * H23,2) -> 3206.28 | J23: =I23 / J10 -> 0.0017045456
A24: 2.1.1 | B24: 96525 | C24: SINAPI | D24: ESCAVAÇÃO MECANIZADA PARA VIGA BALDRAME OU SAPATA CORRIDA COM MINI-ESCAVADEIRA (INCLUINDO ESCAVAÇÃO PARA COLOCAÇÃO DE FÔRMAS). AF_01/2024 | E24: m³ | F24: 33.13 | G24: 57.93 | H24: =ROUND(ROUND(G24 * J11, 2) + G24, 2) -> 73.42 | I24: =ROUND(F24 * H24,2) -> 2432.4 | J24: =I24 / J10 -> 0.0012931299
A25: 2.1.2 | B25: ED-51094 | C25: SETOP | D25: APILOAMENTO MECANIZADO EM FUNDO DE VALA COM PLACA VIBRATÓRIA, EXCLUSIVE ESCAVAÇÃO | E25: m² | F25: 22.08 | G25: 15.19 | H25: =ROUND(ROUND(G25 * J11, 2) + G25, 2) -> 19.25 | I25: =ROUND(F25 * H25,2) -> 425.04 | J25: =I25 / J10 -> 0.00022596282
A26: 2.1.3 | B26: 93381 | C26: SINAPI | D26: REATERRO MECANIZADO DE VALA COM RETROESCAVADEIRA (CAPACIDADE DA CAÇAMBA DA RETRO: 0,26 M³/POTÊNCIA: 88 HP), LARGURA 0,8 A 1,5 M, PROFUNDIDADE 1,5 A 3,0 M, COM SOLO (SEM SUBSTITUIÇÃO) DE 1ª CATEGORIA E COMPACTADOR DE SOLOS DE PERCUSSÃO. AF_08/2023 | E26: m³ | F26: 19.22 | G26: 14.32 | H26: =ROUND(ROUND(G26 * J11, 2) + G26, 2) -> 18.15 | I26: =ROUND(F26 * H26,2) -> 348.84 | J26: =I26 / J10 -> 0.00018545283
A27: 2.2 | D27: FUNDAÇÕES | F27: 1 | H27: =I28 -> 47261.02 | I27: =ROUND(F27 * H27,2) -> 47261.02 | J27: =I27 / J10 -> 0.025125243
A28: 2.2.1 | D28: CONCRETO ARMADO PARA FUNDAÇÕES - BLOCOS | F28: 1 | H28: =I29 + I30 + I31 + I32 + I33 + I34 + I35 + I36 + I37 -> 47261.02 | I28: =ROUND(F28 * H28,2) -> 47261.02 | J28: =I28 / J10 -> 0.025125243
A29: 2.2.1.1 | B29: 100896 | C29: SINAPI | D29: ESTACA ESCAVADA MECANICAMENTE, SEM FLUIDO ESTABILIZANTE, COM 25CM DE DIÂMETRO, CONCRETO LANÇADO POR CAMINHÃO BETONEIRA (EXCLUSIVE MOBILIZAÇÃO E DESMOBILIZAÇÃO). AF_01/2020 | E29: M | F29: 220 | G29: 63.68 | H29: =ROUND(ROUND(G29 * J11, 2) + G29, 2) -> 80.71 | I29: =ROUND(F29 * H29,2) -> 17756.2 | J29: =I29 / J10 -> 0.0094396785
A30: 2.2.1.2 | B30: 96619 | C30: SINAPI | D30: LASTRO DE CONCRETO MAGRO, APLICADO EM BLOCOS DE COROAMENTO OU SAPATAS, ESPESSURA DE 5 CM. AF_01/2024 | E30: m² | F30: 22.08 | G30: 46.56 | H30: =ROUND(ROUND(G30 * J11, 2) + G30, 2) -> 59.01 | I30: =ROUND(F30 * H30,2) -> 1302.94 | J30: =I30 / J10 -> 0.00069267832
A31: 2.2.1.3 | B31: ED-49811 | C31: SETOP | D31: FÔRMA E DESFORMA PARA VIGA CINTA/BLOCO COM COMPENSADO RESINADO, ESP. 12MM, REAPROVEITAMENTO (3X) (FUNDAÇÃO) | E31: m² | F31: 63 | G31: 73.32 | H31: =ROUND(ROUND(G31 * J11, 2) + G31, 2) -> 92.93 | I31: =ROUND(F31 * H31,2) -> 5854.59 | J31: =I31 / J10 -> 0.0031124592
A32: 2.2.1.4 | B32: ED-29549 | C32: SETOP | D32: CORTE, DOBRA E MONTAGEM DE AÇO CA 50, DIÂMETRO 6,3MM, INCLUSIVE ESPAÇADOR | E32: Kg | F32: 38.42 | G32: 13.67 | H32: =ROUND(ROUND(G32 * J11, 2) + G32, 2) -> 17.33 | I32: =ROUND(F32 * H32,2) -> 665.82 | J32: =I32 / J10 -> 0.00035396801
A33: 2.2.1.5 | B33: ED-29550 | C33: SETOP | D33: CORTE, DOBRA E MONTAGEM DE AÇO CA 50, DIÂMETRO 8MM, INCLUSIVE ESPAÇADOR | E33: Kg | F33: 61.94 | G33: 14.02 | H33: =ROUND(ROUND(G33 * J11, 2) + G33, 2) -> 17.77 | I33: =ROUND(F33 * H33,2) -> 1100.67 | J33: =I33 / J10 -> 0.00058514609
A34: 2.2.1.6 | B34: ED-29551 | C34: SETOP | D34: CORTE, DOBRA E MONTAGEM DE AÇO CA 50, DIÂMETRO 10MM, INCLUSIVE ESPAÇADOR | E34: Kg | F34: 338.1 | G34: 13.6 | H34: =ROUND(ROUND(G34 * J11, 2) + G34, 2) -> 17.24 | I34: =ROUND(F34 * H34,2) -> 5828.84 | J34: =I34 / J10 -> 0.0030987698
A35: 2.2.1.7 | B35: ED-29552 | C35: SETOP | D35: CORTE, DOBRA E MONTAGEM DE AÇO CA 50, DIÂMETRO 12,5MM, INCLUSIVE ESPAÇADOR | E35: Kg | F35: 94.86 | G35: 13.07 | H35: =ROUND(ROUND(G35 * J11, 2) + G35, 2) -> 16.56 | I35: =ROUND(F35 * H35,2) -> 1570.88 | J35: =I35 / J10 -> 0.0008351225
A36: 2.2.1.8 | B36: ED-48297 | C36: SETOP | D36: CORTE, DOBRA E MONTAGEM DE AÇO CA 60, DIÂMETRO (4,2MM A 5,0MM), INCLUSIVE ESPAÇADOR | E36: Kg | F36: 28.33 | G36: 14.36 | H36: =ROUND(ROUND(G36 * J11, 2) + G36, 2) -> 18.2 | I36: =ROUND(F36 * H36,2) -> 515.61 | J36: =I36 / J10 -> 0.00027411229
A37: 2.2.1.9 | B37: ED-49639 | C37: SETOP | D37: FORNECIMENTO DE CONCRETO ESTRUTURAL, USINADO BOMBEADO, COM FCK 30MPA, INCLUSIVE LANÇAMENTO, ADENSAMENTO E ACABAMENTO | E37: m³ | F37: 13.91 | G37: 718.42 | H37: =ROUND(ROUND(G37 * J11, 2) + G37, 2) -> 910.53 | I37: =ROUND(F37 * H37,2) -> 12665.47 | J37: =I37 / J10 -> 0.0067333081
A38: 2.3 | D38: SUPERESTRUTURA | F38: 1 | H38: =I39 + I46 + I51 -> 524138.36 | I38: =ROUND(F38 * H38,2) -> 524138.36 | J38: =I38 / J10 -> 0.2786462
A39: 2.3.1 | D39: CONCRETO ARMADO - PILARES | F39: 1 | H39: =I40 + I41 + I42 + I43 + I44 + I45 -> 41089.21 | I39: =ROUND(F39 * H39,2) -> 41089.21 | J39: =I39 / J10 -> 0.021844141
A40: 2.3.1.1 | B40: ED-49647 | C40: SETOP | D40: FÔRMA E DESFORMA DE COMPENSADO PLASTIFICADO, ESP. 12MM, REAPROVEITAMENTO (5X), EXCLUSIVE ESCORAMENTO | E40: m² | F40: 138.13 | G40: 58.06 | H40: =ROUND(ROUND(G40 * J11, 2) + G40, 2) -> 73.59 | I40: =ROUND(F40 * H40,2) -> 10164.99 | J40: =I40 / J10 -> 0.005403985
A41: 2.3.1.2 | B41: ED-29549 | C41: SETOP | D41: CORTE, DOBRA E MONTAGEM DE AÇO CA 50, DIÂMETRO 6,3MM, INCLUSIVE ESPAÇADOR | E41: Kg | F41: 198.89 | G41: 13.67 | H41: =ROUND(ROUND(G41 * J11, 2) + G41, 2) -> 17.33 | I41: =ROUND(F41 * H41,2) -> 3446.76 | J41: =I41 / J10 -> 0.0018323913
...

Sheet CONOGRAMA
A1: PREFEITURA MUNICIPAL DE BOA ESPERANÇA– MG SECRETARIA MUNICIPAL DE EDUCAÇÃO ENGENHARIA E PROJETOS
A2: CONOGRAMA FÍSICO-FINANCEIRO
A3: ÓRGÃO | B3: PREFEITURA MUNICIPAL DE BOA ESPERANÇA
A4: OBJETO | B4: CONSTRUÇÃO DE COBERTURA DE QUADRA ESPORTIVA, PALCO E VESTIÁRIOS NA ESCOLA MUNICIPAL ACHILLES NAVES | J4: VALOR DA OBRA: | L4: ='Orçamento Sintético'!J10 -> 1881017.5
A5: ENDEREÇO | B5: RUA PERNAMBUCO Nº 352, BAIRRO MARINGÁ, BOA ESPERANÇA-MG | J5: PRAZO DA OBRA: | L5: 8 MESES
A6: ITEM | B6: ETAPAS/DESCRIÇÃO | C6: FÍSICO/ FINANCEIRO | D6: TOTAL ETAPAS | E6: MÊS 1 | F6: MÊS 2 | G6: MÊS 3 | H6: MÊS 4 | I6: MÊS 5 | J6: MÊS 6 | K6: MÊS 7 | L6: MÊS 8 | M6: Total
A7: 01. | B7: ='Orçamento Sintético'!D13 -> SERVIÇOS PRELIMINARES | C7: Físico % | D7: =D8/$D$16 -> 0.0096921217 | E7: 0.3 | F7: 0.1 | G7: 0.1 | H7: 0.1 | I7: 0.1 | J7: 0.1 | K7: 0.1 | L7: 0.1 | M7: =SUM(E7:L7) -> 1
C8: Financeiro | D8: ='Orçamento Sintético'!I13 -> 18231.05 | E8: =$D$8*E7 -> 5469.315 | F8: =$D$8*F7 -> 1823.105 | G8: =$D$8*G7 -> 1823.105 | H8: =$D$8*H7 -> 1823.105 | I8: =$D$8*I7 -> 1823.105 | J8: =$D$8*J7 -> 1823.105 | K8: =$D$8*K7 -> 1823.105 | L8: =$D$8*L7 -> 1823.105 | M8: =SUM(E8:L8) -> 18231.05
A9: 02. | B9: ='Orçamento Sintético'!D22 -> QUADRA COBERTA | C9: Físico % | D9: =D10/$D$16 -> 0.55641094 | E9: 0.2 | F9: 0.2 | G9: 0.2 | H9: 0.15 | I9: 0.15 | J9: 0.1 | K9: 0 | L9: 0 | M9: =SUM(E9:L9) -> 1
C10: Financeiro | D10: ='Orçamento Sintético'!I22 -> 1046618.7 | E10: =$D$10*E9 -> 209323.74 | F10: =$D$10*F9 -> 209323.74 | G10: =$D$10*G9 -> 209323.74 | H10: =$D$10*H9 -> 156992.8 | I10: =$D$10*I9 -> 156992.8 | J10: =$D$10*J9 -> 104661.87 | K10: =$D$10*K9 -> 0 | L10: =$D$10*L9 -> 0 | M10: =SUM(E10:L10) -> 1046618.7
A11: 03. | B11: ='Orçamento Sintético'!D128 -> PALCO, VESTIÁRIOS E CANTINA | C11: Físico % | D11: =D12/$D$16 -> 0.43097363 | G11: 0.1 | H11: 0.15 | I11: 0.15 | J11: 0.2 | K11: 0.2 | L11: 0.2 | M11: =SUM(E11:L11) -> 1
C12: Financeiro | D12: ='Orçamento Sintético'!I128 -> 810668.92 | E12: =$D$12*E11 -> 0 | F12: =$D$12*F11 -> 0 | G12: =$D$12*G11 -> 81066.892 | H12: =$D$12*H11 -> 121600.34 | I12: =$D$12*I11 -> 121600.34 | J12: =$D$12*J11 -> 162133.78 | K12: =$D$12*K11 -> 162133.78 | L12: =$D$12*L11 -> 162133.78 | M12: =SUM(E12:L12) -> 810668.92
A13: 04. | B13: ='Orçamento Sintético'!D358 -> SERVIÇOS FINAIS | C13: Físico % | D13: =D14/$D$16 -> 0.0029233062 | L13: 1 | M13: =SUM(E13:L13) -> 1
C14: Financeiro | D14: ='Orçamento Sintético'!I358 -> 5498.79 | E14: =$D$14*E13 -> 0 | F14: =$D$14*F13 -> 0 | G14: =$D$14*G13 -> 0 | H14: =$D$14*H13 -> 0 | I14: =$D$14*I13 -> 0 | J14: =$D$14*J13 -> 0 | K14: =$D$14*K13 -> 0 | L14: =$D$14*L13 -> 5498.79 | M14: =SUM(E14:L14) -> 5498.79
A15: TOTAL | C15: Físico % | D15: =D13+D11+D9+D7 -> 1 | E15: =E16/$D$16 -> 0.11418982 | F15: =F16/$D$16 -> 0.1122514 | G15: =G16/$D$16 -> 0.15534876 | H15: =H16/$D$16 -> 0.1490769 | I15: =I16/$D$16 -> 0.1490769 | J15: =J16/$D$16 -> 0.14280503 | K15: =K16/$D$16 -> 0.087163938 | L15: =L16/$D$16 -> 0.090087245 | M15: =SUM(E15:L15) -> 1
C16: Financeiro | D16: =D8+D10+D12+D14 -> 1881017.5 | E16: =E8+E10+E12+E14 -> 214793.05 | F16: =F8+F10+F12+F14 -> 211146.84 | G16: =G8+G10+G12+G14 -> 292213.74 | H16: =H8+H10+H12+H14 -> 280416.25 | I16: =I8+I10+I12+I14 -> 280416.25 | J16: =J8+J10+J12+J14 -> 268618.76 | K16: =K8+K10+K12+K14 -> 163956.89 | L16: =L8+L10+L12+L14 -> 169455.68 | M16: =SUM(E16:L16) -> 1881017.5
A17: ACUMULADO | C17: Físico % | D17: =D13+D11+D9+D7 -> 1 | E17: =E18/$D$18 -> 0.11418982 | F17: =F18/$D$18 -> 0.22644123 | G17: =G18/$D$18 -> 0.38178999 | H17: =H18/$D$18 -> 0.53086689 | I17: =I18/$D$18 -> 0.67994378 | J17: =J18/$D$18 -> 0.82274882 | K17: =K18/$D$18 -> 0.90991276 | L17: =L18/$D$18 -> 1 | M17: =M16/D18 -> 1
C18: Financeiro | D18: =D8+D10+D12+D14 -> 1881017.5 | E18: =E16 -> 214793.05 | F18: =F16+E18 -> 425939.9 | G18: =G16+F18 -> 718153.63 | H18: =H16+G18 -> 998569.88 | I18: =I16+H18 -> 1278986.1 | J18: =J16+I18 -> 1547604.9 | K18: =K16+J18 -> 1711561.8 | L18: =L16+K18 -> 1881017.5 | M18: =M14+M12+M10+M8 -> 1881017.4
E20: BOA ESPERANÇA, MG
E21: Local | K21: =TODAY() -> 46121
K22: Data
E26: Prefeito Municipal
E28: AROLDO ROSA DE MEDEIROS JÚNIOR
E34: Responsável Técnico
E35: JÉSSICA CAROLINE OLIVEIRA FERREIRA
E36: ENGENHEIRA CIVIL - CREA: 303607/D
