Workbook

Sheet Orçamento Sintético
A1: PREFEITURA MUNICIPAL DE BOA ESPERANÇA - MG. Secretaria Municipal de Obras e Serviços Urbanos.
A2: PLANILHA ORÇAMENTÁRIA | F2: LICITAÇÃO Nº | H2: EDITAL Nº
A3: ÓRGÃO | B3: PREFEITURA MUNICIPAL DE BOA ESPERANÇA | H3: DATA DO ORÇAMENTO | I3: 46269
A4: OBJETO | B4: Reforma da Escola Municipal Rabin Gambogi (CAIC) e na Creche Municipal Tia Nicinha | H4: LOTE
A5: ENDEREÇO | B5: RUA TONICO RODRIGUES, 480, FREDERICO OZANAN - BOA ESPERANÇA-MG
A6: MODALIDADE | B6: CONCORRÊNCIA | C6: REGIME DE EXECUÇÃO | D6: 1 – Empreitada por Preço Global | F6: CIDADE | G6: BOA ESPERANÇA | H6: UF | I6: MG
A7: DATA BASE DO ORÇAMENTO (mês/ano) | B7: SINAPI - 01/2026 - SBC - 02/2026 - SICRO3 - 10/2025 - ORSE - 12/2025 - SEINFRA - 028 - SETOP - 10/2025 - IOPES - 12/2025 - SIURB - 07/2025 - SUDECAP - 10/2025 - CPOS/CDHU - 01/2026 - FDE - 10/2025 - AGESUL - 01/2026 - AGETOP CIVIL - 10/2025 - EMOP - 01/2026 - | C7: DESONERAÇÃO | D7: ENCARGOS SOCIAIS - HORISTAS (%) | F7: BDI 1 | G7: 0.2674 | H7: BDI 2
C8: Sim | D8: ENCARGOS SOCIAIS - MENSALISTAS (%)
H9: Valor Final do Orçamento | J9: 398710.21
H10: BDI | J10: 0.2674
A11: Item | B11: Código | C11: Banco | D11: Descrição | E11: Und | F11: Quant. | G11: Valor Unit | H11: Valor Unit com BDI | I11: Total | J11: Peso (%)
A12: 1 | D12: INSTALAÇÃO DA OBRA | F12: 1 | H12: =I13 -> 1320.44 | I12: =ROUND(F12 * H12,2) -> 1320.44 | J12: =I12 / J9 -> 0.0033117787
A13: 1.1 | B13: ED-16670 | C13: SETOP | D13: PLACA DE OBRA EM CHAPA GALVANIZADA ENRIJECIDA, PLOTADA COM ADESIVO VINÍLICO, FIXADA COM REBITES 4,8X40MM, EM ESTRUTURA METÁLICA DE METALON 20X20MM, ESP. 1,25MM, EXCLUSIVE SUPORTE EM EUCALIPTO PADRÃO GOVERNO DE MINAS GERAIS (FORNECIMENTO/FABRICAÇÃO) | E13: m² | F13: 4.5 | G13: 231.52 | H13: =ROUND(ROUND(G13 * J10, 2) + G13, 2) -> 293.43 | I13: =ROUND(F13 * H13,2) -> 1320.44 | J13: =I13 / J9 -> 0.0033117787
A14: 2 | D14: REFORÇO ESTRUTURAL DE FUNDAÇÃO | F14: 1 | H14: =I15 + I16 + I17 + I18 + I19 + I20 + I21 + I22 -> 103241.74 | I14: =ROUND(F14 * H14,2) -> 103241.74 | J14: =I14 / J9 -> 0.25893929
A15: 2.1 | B15: 97634 | C15: SINAPI | D15: DEMOLIÇÃO DE REVESTIMENTO CERÂMICO, DE FORMA MECANIZADA COM MARTELETE, SEM REAPROVEITAMENTO. AF_09/2023 | E15: m² | F15: 36 | G15: 4.19 | H15: =ROUND(ROUND(G15 * J10, 2) + G15, 2) -> 5.31 | I15: =ROUND(F15 * H15,2) -> 191.16 | J15: =I15 / J9 -> 0.00047944596
A16: 2.2 | B16: ED-48440 | C16: SETOP | D16: DEMOLIÇÃO MANUAL DE CONCRETO, SEM ARMAÇÃO, INCLUSIVE AFASTAMENTO E EMPILHAMENTO, EXCLUSIVE TRANSPORTE E RETIRADA DO MATERIAL DEMOLIDO | E16: m³ | F16: 7.2 | G16: 327.39 | H16: =ROUND(ROUND(G16 * J10, 2) + G16, 2) -> 414.93 | I16: =ROUND(F16 * H16,2) -> 2987.5 | J16: =I16 / J9 -> 0.0074929107
A17: 2.3 | B17: 93358 | C17: SINAPI | D17: ESCAVAÇÃO MANUAL DE VALA. AF_09/2024 | E17: m³ | F17: 90 | G17: 98.46 | H17: =ROUND(ROUND(G17 * J10, 2) + G17, 2) -> 124.79 | I17: =ROUND(F17 * H17,2) -> 11231.1 | J17: =I17 / J9 -> 0.028168579
A18: 2.4 | B18: 101588 | C18: SINAPI | D18: ESCORAMENTO DE VALA, TIPO CONTÍNUO COM PERFIL METÁLICO "U", COM PROFUNDIDADE DE 0 A 1,5 M, LARGURA MENOR QUE 1,5 M. AF_08/2020 | E18: m² | F18: 36 | G18: 112.99 | H18: =ROUND(ROUND(G18 * J10, 2) + G18, 2) -> 143.2 | I18: =ROUND(F18 * H18,2) -> 5155.2 | J18: =I18 / J9 -> 0.012929691
A19: 2.5 | B19: 03.03.111 | C19: FDE | D19: ESCORAMENTO METÁLICO PARA LAJES ALTURA ATÉ 3,20M MALHA MENOR OU IGUAL 1,50X1,50 | E19: m² | F19: 72 | G19: 21.97 | H19: =ROUND(ROUND(G19 * J10, 2) + G19, 2) -> 27.84 | I19: =ROUND(F19 * H19,2) -> 2004.48 | J19: =I19 / J9 -> 0.0050274108
A20: 2.6 | B20: ED-19643 | C20: SETOP | D20: MONTAGEM E DESMONTAGEM DE ESCORAMENTO METÁLICO, TIPO "A" OU "B", PARA LAJE E VIGA EM CONCRETO ARMADO, INCLUSIVE DESCARGA E CARGA, EXCLUSIVE ESCORAMENTO | E20: m² | F20: 72 | G20: 5.64 | H20: =ROUND(ROUND(G20 * J10, 2) + G20, 2) -> 7.15 | I20: =ROUND(F20 * H20,2) -> 514.8 | J20: =I20 / J9 -> 0.0012911633
A21: 2.7 | B21: 102477 | C21: SINAPI | D21: CONCRETO FCK = 30MPA, TRAÇO 1:1,9:2,3 (EM MASSA SECA DE CIMENTO/ AREIA MÉDIA/ SEIXO ROLADO) - PREPARO MECÂNICO COM BETONEIRA 400 L. AF_05/2021 | E21: m³ | F21: 54 | G21: 812.61 | H21: =ROUND(ROUND(G21 * J10, 2) + G21, 2) -> 1029.9 | I21: =ROUND(F21 * H21,2) -> 55614.6 | J21: =I21 / J9 -> 0.13948627
A22: 2.8 | B22: 3079 | C22: ORSE | D22: Enrocamento com pedra bruta lançada | E22: m³ | F22: 90 | G22: 223.93 | H22: =ROUND(ROUND(G22 * J10, 2) + G22, 2) -> 283.81 | I22: =ROUND(F22 * H22,2) -> 25542.9 | J22: =I22 / J9 -> 0.064063822
A23: 3 | D23: REFORÇO PILARES | F23: 1 | H23: =I24 + I25 + I26 + I27 + I28 + I29 + I30 -> 10306.78 | I23: =ROUND(F23 * H23,2) -> 10306.78 | J23: =I23 / J9 -> 0.025850304
A24: 3.1 | B24: 97634 | C24: SINAPI | D24: DEMOLIÇÃO DE REVESTIMENTO CERÂMICO, DE FORMA MECANIZADA COM MARTELETE, SEM REAPROVEITAMENTO. AF_09/2023 | E24: m² | F24: 16 | G24: 4.19 | H24: =ROUND(ROUND(G24 * J10, 2) + G24, 2) -> 5.31 | I24: =ROUND(F24 * H24,2) -> 84.96 | J24: =I24 / J9 -> 0.00021308709
A25: 3.2 | B25: ED-48440 | C25: SETOP | D25: DEMOLIÇÃO MANUAL DE CONCRETO, SEM ARMAÇÃO, INCLUSIVE AFASTAMENTO E EMPILHAMENTO, EXCLUSIVE TRANSPORTE E RETIRADA DO MATERIAL DEMOLIDO | E25: m³ | F25: 1.8 | G25: 327.39 | H25: =ROUND(ROUND(G25 * J10, 2) + G25, 2) -> 414.93 | I25: =ROUND(F25 * H25,2) -> 746.87 | J25: =I25 / J9 -> 0.0018732151
A26: 3.3 | B26: 93358 | C26: SINAPI | D26: ESCAVAÇÃO MANUAL DE VALA. AF_09/2024 | E26: m³ | F26: 40 | G26: 98.46 | H26: =ROUND(ROUND(G26 * J10, 2) + G26, 2) -> 124.79 | I26: =ROUND(F26 * H26,2) -> 4991.6 | J26: =I26 / J9 -> 0.012519368
A27: 3.4 | B27: 03.03.111 | C27: FDE | D27: ESCORAMENTO METÁLICO PARA LAJES ALTURA ATÉ 3,20M MALHA MENOR OU IGUAL 1,50X1,50 | E27: m² | F27: 32 | G27: 21.97 | H27: =ROUND(ROUND(G27 * J10, 2) + G27, 2) -> 27.84 | I27: =ROUND(F27 * H27,2) -> 890.88 | J27: =I27 / J9 -> 0.0022344048
A28: 3.5 | B28: ED-19643 | C28: SETOP | D28: MONTAGEM E DESMONTAGEM DE ESCORAMENTO METÁLICO, TIPO "A" OU "B", PARA LAJE E VIGA EM CONCRETO ARMADO, INCLUSIVE DESCARGA E CARGA, EXCLUSIVE ESCORAMENTO | E28: m² | F28: 32 | G28: 5.64 | H28: =ROUND(ROUND(G28 * J10, 2) + G28, 2) -> 7.15 | I28: =ROUND(F28 * H28,2) -> 228.8 | J28: =I28 / J9 -> 0.00057385037
A29: 3.6 | B29: 102475 | C29: SINAPI | D29: CONCRETO FCK = 20MPA, TRAÇO 1:2,6:2,9 (EM MASSA SECA DE CIMENTO/ AREIA MÉDIA/ SEIXO ROLADO) - PREPARO MECÂNICO COM BETONEIRA 400 L. AF_05/2021 | E29: m³ | F29: 2 | G29: 761.37 | H29: =ROUND(ROUND(G29 * J10, 2) + G29, 2) -> 964.96 | I29: =ROUND(F29 * H29,2) -> 1929.92 | J29: =I29 / J9 -> 0.0048404078
A30: 3.7 | B30: RO-00540 | C30: SETOP | D30: Armação em aço CA 50 fornecimento, preparo e colocação | E30: Kg | F30: 109.28 | G30: 10.35 | H30: =ROUND(ROUND(G30 * J10, 2) + G30, 2) -> 13.12 | I30: =ROUND(F30 * H30,2) -> 1433.75 | J30: =I30 / J9 -> 0.0035959701
A31: 4 | D31: LIMPEZA DA COBERTURA | F31: 1 | H31: =I32 + I33 + I34 + I35 + I36 -> 19285.31 | I31: =ROUND(F31 * H31,2) -> 19285.31 | J31: =I31 / J9 -> 0.04836924
A32: 4.1 | B32: 4915711 | C32: SICRO3 | D32: Limpeza de descida d'água | E32: m | F32: 1086 | G32: 1.48 | H32: =ROUND(ROUND(G32 * J10, 2) + G32, 2) -> 1.88 | I32: =ROUND(F32 * H32,2) -> 2041.68 | J32: =I32 / J9 -> 0.0051207116
A33: 4.2 | B33: 99811 | C33: SINAPI | D33: LIMPEZA DE CONTRAPISO COM VASSOURA A SECO. AF_04/2019 | E33: m² | F33: 1897.1 | G33: 0.71 | H33: =ROUND(ROUND(G33 * J10, 2) + G33, 2) -> 0.9 | I33: =ROUND(F33 * H33,2) -> 1707.39 | J33: =I33 / J9 -> 0.0042822831
A34: 4.3 | B34: ED-51131 | C34: SETOP | D34: CARGA MANUAL DE MATERIAL DE QUALQUER NATUREZA SOBRE CAMINHÃO, EXCLUSIVE TRANSPORTE | E34: m³ | F34: 51.73925 | G34: 45.32 | H34: =ROUND(ROUND(G34 * J10, 2) + G34, 2) -> 57.44 | I34: =ROUND(F34 * H34,2) -> 2971.9 | J34: =I34 / J9 -> 0.0074537845
A35: 4.4 | B35: 99814 | C35: SINAPI | D35: LIMPEZA DE SUPERFÍCIE COM JATO DE ALTA PRESSÃO. AF_04/2019 | E35: m² | F35: 2831.55 | G35: 1.77 | H35: =ROUND(ROUND(G35 * J10, 2) + G35, 2) -> 2.24 | I35: =ROUND(F35 * H35,2) -> 6342.67 | J35: =I35 / J9 -> 0.01590797
A36: 4.5 | B36: 10.35.73 | C36: SUDECAP | D36: RALO HEMISFERICO TIPO ABACAXI D= 75MM | E36: UN | F36: 273 | G36: 17.98 | H36: =ROUND(ROUND(G36 * J10, 2) + G36, 2) -> 22.79 | I36: =ROUND(F36 * H36,2) -> 6221.67 | J36: =I36 / J9 -> 0.015604491
A37: 5 | D37: REFORMA DAS COZINHAS E DISPENSAS | F37: 1 | H37: =I38 -> 36583.54 | I37: =ROUND(F37 * H37,2) -> 36583.54 | J37: =I37 / J9 -> 0.091754711
A38: 5.1 | D38: CRECHE | F38: 1 | H38: =I39 + I60 -> 36583.54 | I38: =ROUND(F38 * H38,2) -> 36583.54 | J38: =I38 / J9 -> 0.091754711
A39: 5.1.1 | D39: COZINHA | F39: 1 | H39: =I40 + I41 + I42 + I43 + I44 + I45 + I46 + I47 + I48 + I49 + I50 + I51 + I52 + I53 + I54 + I55 + I56 + I57 + I58 + I59 -> 27464.2 | I39: =ROUND(F39 * H39,2) -> 27464.2 | J39: =I39 / J9 -> 0.06888261
A40: 5.1.1.1 | B40: ED-48343 | C40: SETOP | D40: BANCADA EM GRANITO CINZA ANDORINHA E = 3 CM, APOIADA EM CONSOLE DE METALON 20 X 30 MM | E40: m² | F40: 4.355 | G40: 401.55 | H40: =ROUND(ROUND(G40 * J10, 2) + G40, 2) -> 508.92 | I40: =ROUND(F40 * H40,2) -> 2216.35 | J40: =I40 / J9 -> 0.0055587992
...

Sheet CRONOGRAMA
C1: PREFEITURA MUNICIPAL DE BOA ESPERANÇA - MG. Secretaria Municipal de Obras e Serviços Urbanos.
A2: A N E X O I
A3: CRONOGRAMA FÍSICO-FINANCEIRO
A4: PREFEITURA MUNICIPAL DE BOA ESPERANÇA | D4: VALOR DA OBRA: | H4: DATA: | I4: =TODAY() -> 46273
A5: OBRA: REFORMA ESCOLA MUN. GABIN GAMBOGI - CAIC | D5: LOCAL: | E5: RUA TONICO RODRIGUES, 480, FREDERICO OZANAM
A6: ITEM | B6: ETAPAS/DESCRIÇÃO | D6: FÍSICO/ FINANCEIRO | E6: TOTAL ETAPAS | F6: MÊS 1 | G6: MÊS 2 | H6: MÊS 3 | I6: Total
A7: 1 | B7: ='[2]Orç. '!D11 -> INSTALAÇÃO DA OBRA | D7: Físico % | E7: 0.0101 | F7: 1 | G7: 0 | H7: 0 | I7: =SUM(F7:H7) -> 1
D8: Financeiro | E8: ='Orçamento Sintético'!I12 -> 1320.44 | F8: =F7*$E$8 -> 1320.44 | G8: =G7*$E$8 -> 0 | H8: =H7*$E$8 -> 0 | I8: =SUM(F8:H8) -> 1320.44
A9: 2 | B9: ='[2]Orç. '!D15 -> REFORÇO ESTRUTURAL DE FUNDAÇÃO | D9: Físico % | E9: 0.1172 | F9: 0.5 | G9: 0.5 | H9: 0 | I9: =SUM(F9:H9) -> 1
D10: Financeiro | E10: ='Orçamento Sintético'!I14 -> 103241.74 | F10: =F9*$E$10 -> 51620.87 | G10: =G9*$E$10 -> 51620.87 | H10: =H9*$E$10 -> 0 | I10: =SUM(F10:H10) -> 103241.74
A11: 3 | B11: ='[2]Orç. '!D24 -> REFORÇO PILARES | D11: Físico % | E11: 0.0117 | F11: 0.5 | G11: 0.5 | H11: 0 | I11: =SUM(F11:H11) -> 1
D12: Financeiro | E12: ='Orçamento Sintético'!I23 -> 10306.78 | F12: =F11*$E$12 -> 5153.39 | G12: =G11*$E$12 -> 5153.39 | H12: =H11*$E$12 -> 0 | I12: =SUM(F12:H12) -> 10306.78
A13: 4 | B13: ='[2]Orç. '!D32 -> LIMPEZA DA COBERTURA | D13: Físico % | E13: 0.0428 | F13: 0.5 | G13: 0.5 | H13: 0 | I13: =SUM(F13:H13) -> 1
D14: Financeiro | E14: ='Orçamento Sintético'!I31 -> 19285.31 | F14: =F13*$E$14 -> 9642.655 | G14: =G13*$E$14 -> 9642.655 | H14: =H13*$E$14 -> 0 | I14: =SUM(F14:H14) -> 19285.31
A15: 5 | B15: ='[2]Orç. '!D40 -> REFORMA DAS COZINHAS E DISPENSAS | D15: Físico % | E15: 0.0416 | F15: 0.5 | G15: 0.5 | H15: 0 | I15: =SUM(F15:H15) -> 1
D16: Financeiro | E16: ='Orçamento Sintético'!I37 -> 36583.54 | F16: =F15*$E$16 -> 18291.77 | G16: =G15*$E$16 -> 18291.77 | H16: =H15*$E$16 -> 0 | I16: =SUM(F16:H16) -> 36583.54
A17: 6 | B17: ='[2]Orç. '!D72 -> PINTURA | D17: Físico % | E17: 0.5842 | F17: 0 | G17: 0.5 | H17: 0.5 | I17: =SUM(F17:H17) -> 1
D18: Financeiro | E18: ='Orçamento Sintético'!I69 -> 65649.24 | F18: =F17*$E$18 -> 0 | G18: =G17*$E$18 -> 32824.62 | H18: =H17*$E$18 -> 32824.62 | I18: =SUM(F18:H18) -> 65649.24
A19: 7 | B19: ='[2]Orç. '!D173 -> REFORMA BLOCO 2 | D19: Físico % | E19: 0.1671 | F19: 0 | G19: 0.5 | H19: 0.5 | I19: =SUM(F19:H19) -> 1
D20: Financeiro | E20: ='Orçamento Sintético'!I75 -> 147168.3 | F20: =F19*$E$20 -> 0 | G20: =G19*$E$20 -> 73584.15 | H20: =H19*$E$20 -> 73584.15 | I20: =SUM(F20:H20) -> 147168.3
A21: 8 | B21: ='[2]Orç. '!D213 -> LIMPEZA FINAL | D21: Físico % | E21: 0.0253 | F21: 0 | G21: 0 | H21: 1 | I21: =SUM(F21:H21) -> 1
D22: Financeiro | E22: ='Orçamento Sintético'!I115 -> 15154.86 | F22: =F21*$E$22 -> 0 | G22: =G21*$E$22 -> 0 | H22: =H21*$E$22 -> 15154.86 | I22: =SUM(F22:H22) -> 15154.86
A23: TOTAL | D23: Físico % | E23: =E7+E9+E13+E15+E19+E21+E11+E17 -> 1 | F23: =F24/$E$24 -> 0.21576857 | G23: =G24/$E$24 -> 0.47933927 | H23: =H24/$E$24 -> 0.30489219 | I23: =SUM(F23:H23) -> 1
D24: Financeiro | E24: =E8+E1++E18+E12+E14+E16+E20+E22+E10 -> 398710.21 | F24: =ROUND(F8+F10+F12+F14+F16+F18+F20+F22,2) -> 86029.13 | G24: =ROUND(G8+G10+G12+G14+G16+G18+G20+G22,2) -> 191117.46 | H24: =ROUND(H18+H20+H22,2) -> 121563.63 | I24: =ROUND(I8+I10+I12+I14+I16+I18+I20+I22,2) -> 398710.21
C26: BOA ESPERANÇA, MG | G26: =TODAY() -> 46273
C27: Local | G27: Data
B29: Prefeito Municipal | H29: Responsável Técnico
B30: AROLDO ROSA DE MEDEIROS | H30: CARLOS EDUARDO MARTINS DANDE
H31: CREA: 202.067/D-MG

Sheet BDI
B1: PREFEITURA MUNICIPAL DE BOA ESPERANÇA - MG. Secretaria Municipal de Obras e Serviços Urbanos.
B2: PLANILHA ORÇAMENTÁRIA Escola Municipal Rabin Gambogi (CAIC) e na Creche Municipal Tia Nicinha
B5: Conforme legislação tributária municipal, definir estimativa de percentual da base de cálculo para o ISS: | J5: 0.5
B6: Sobre a base de cálculo, definir a respectiva alíquota do ISS (entre 2% e 5%): | J6: 0.05
B8: TIPO DE OBRA
B9: Construção e Reforma de Edifícios
B11: Itens | J11: Siglas | K11: % Adotado | M11: Situação | P11: 1º Quartil | Q11: Médio | R11: 3º Quartil
B13: =IF($J$21=$A$157,"Encargos Sociais incidentes sobre a mão de obra","Administração Central") -> Administração Central | J13: AC | K13: 0.03 | M13: - | P13: 0.03 | Q13: 0.04 | R13: 0.055
B14: =IF($J$21=$A$157,"Administração Central da empresa ou consultoria - overhead","Seguro e Garantia") -> Seguro e Garantia | J14: SG | K14: 0.01 | M14: - | P14: 0.008 | Q14: 0.008 | R14: 0.01
B15: =IF($J$21=$A$157,"","Risco") -> Risco | J15: R | K15: 0.01 | M15: - | P15: 0.0097 | Q15: 0.0127 | R15: 0.0127
B16: =IF($J$21=$A$157,"","Despesas Financeiras") -> Despesas Financeiras | J16: DF | K16: 0.0136 | M16: - | P16: 0.0059 | Q16: 0.0123 | R16: 0.0139
B17: =IF($J$21=$A$157,"Margem bruta da empresa de consultoria","Lucro") -> Lucro | J17: L | K17: 0.064 | M17: - | P17: 0.0616 | Q17: 0.074 | R17: 0.0896
B18: Tributos (impostos COFINS 3%, e PIS 0,65%) | J18: CP | K18: 0.0365 | M18: - | P18: 0.0365 | Q18: 0.0365 | R18: 0.0365
B19: Tributos (ISS, variável de acordo com o município) | J19: ISS | K19: 0.025 | M19: - | P19: 0 | Q19: 0.025 | R19: 0.05
B20: Tributos (Contribuição Previdenciária sobre a Receita Bruta - 0% ou 4,5% - Desoneração) | J20: CPRB | K20: 0.045 | M20: - | P20: 0 | Q20: 0.045 | R20: 0.045
B21: BDI SEM desoneração (Fórmula Acórdão TCU) | J21: BDI PAD | K21: =(ROUND((((1+K13+K14+K15)*(1+K16)*(1+K17)/(1-(K18+K19)))-1),4)) -> 0.2066 | M21: =IF(OR($J$21=$A$157,$J$21=$A$156,AND(K21>=P21,K21<=R21)),"OK","FORA DO INTERVALO") -> OK | P21: 0.2034 | Q21: 0.2212 | R21: 0.25
B22: BDI COM desoneração | J22: BDI DES | K22: =ROUND((((1+K13+K14+K15)*(1+K16)*(1+K17)/(1-(K18+K19+K20)))-1),4) -> 0.2674
B24: =IF(M21<>"ok","X","") | C24: =IF(M21<>"ok","Anexo: Relatório Técnico Circunstanciado justificando a adoção do percentual de cada parcela do BDI.","")
B26: Os valores de BDI foram calculados com o emprego da fórmula:
E27: BDI = | F27: =IF($J9=$A$157,"(1+K1+K2)*(1+K3)","(1+AC + S + R + G)*(1 + DF)*(1+L)") -> (1+K1+K2)*(1+K3) | I27: - 1
F28: (1-CP-ISS-CRPB)
B30: Declaro para os devidos fins que, conforme legislação tributária municipal, a base de cálculo deste tipo de obra corresponde à 50%, com a respectiva alíquota de 4,5%.
B32: Declaro para os devidos fins que o regime de Contribuição Previdenciária sobre a Receita Bruta adotado para elaboração do orçamento foi COM DESONERACAO, e que esta é a alternativa mais adequada para a Administração Pública.
B34: Observações:
B37: BOA ESPERANÇA, MG | H37: =TODAY() -> 46273
B38: Local | H38: Data
B43: Responsável Técnico
B44: Nome: | C44: CARLOS EDUARDO MARTINS DANDE
B45: CREA/CAU: | C45: 202.067/D-MG
