Workbook
Name __xlnm.Print_Area_5: #REF!
Name __xlnm.Print_Titles_4: ([1]Cronograma!$A$1:$D$65536,[1]Cronograma!$A$1:$IV$8)
Name Print_Area: Cronograma!$A$5:$K$34
Name Print_Area: TIRO!$A$5:$H$44

Sheet TIRO
A5: PLANILHA DE PREÇOS
A6: PREFEITURA MUNICIPAL DE PASSOS - MG | F6: DATA: 18/02/2026
A7: PROJETO DE PREVENÇÃO E COMBATE A INCÊNDIO E PANICO DA SEDE DO TIRO DE GUERRA TG014-04 | F7: DATA BASE: FEVEREIRO/2026
A8: ENDEREÇO: RUA DOS ENGENHEIROS Nº 530, BAIRRO BELO HORIZONTE - PASSOS-MG | F8: BDI: | G8: 0.2946 | H8: =(1.2946) -> 1.2946
A9: PREÇOS REFERÊNCIA: SINAPI 12/2025(DESONERADO), SINCOR 10/2025(COM DESONERAÇÃO), ORSE-SE 12/2025 | F9: COM DESONERAÇÃO
A11: Item | B11: Codigo | C11: Descrição | D11: Unid. | E11: Quant. | F11: PREÇO DE CUSTO(R$)
D12: Unidade | E12: Quantidade | F12: Unitario | G12: Unitario(BDI) | H12: Pr. Total
A13: 01. | C13: SERVIÇOS PRELIMINARES
A14: 01. 01 | B14: ED-16660 | C14: FORNECIMENTO E COLOCAÇÃO DE PLACA DE OBRA EM CHAPA GALVANIZADA #26, ESP. 0,45 MM, PLOTADA COM ADESIVO VINÍLICO, AFIXADA COM REBITES 4,8X40 MM, EM ESTRUTURA METÁLICA DE METALON 20X20 MM, ESP. 1,25 MM, INCLUSIVE SUPORTE EM EUCALIPTO AUTOCLAVADO PINTADO COM TINTA PVA DUAS (2) DEMÃOS | D14: M² | E14: 2 | F14: 256.28 | G14: =(F14*H8) -> 331.78009 | H14: =E14*G14 -> 663.56018
C15: TOTAL ITEM: 01 | H15: =H14 -> 663.56018
A16: 02. | C16: EXTINTORES
A17: 02. 01 | B17: ED-50193 | C17: EXTINTOR DE INCÊNDIO TIPO PÓ ABC 4A:40BC(8 Kg), FORNECIMENTO E INSTALAÇÃO | D17: UN | E17: 13 | F17: 223.98 | G17: =(F17*H8) -> 289.96451 | H17: =E17*G17 -> 3769.5386
C18: TOTAL ITEM: 02 | H18: =SUM(H17:H17) -> 3769.5386
A19: 03. | C19: ILUMINAÇÃO E SINALIZAÇÃO
A20: 03.01 | B20: 97599 | C20: LUMINÁRIA DE EMERGÊNCIA - FLUXO LUMINOSO MÍNIMO DE 150 lm LED - FORNECIMENTO E INSTALAÇÃO(COM MATERIAIS E MÃO DE OBRA) | D20: UN | E20: 18 | F20: 19.21 | G20: =(F20*H8) -> 24.869266 | H20: =E20*G20 -> 447.64679
A21: 03.03 | B21: ED-50232 | C21: PONTO DE TOMADA EXTERNA, INCLUINDO ELETRODUTO DE PVC RIGIDO E CAIXA COM ESPELHO E FIOS, COM MATERIAIS E MÃO DE OBRA. | D21: UN | E21: 21 | F21: 283.22 | G21: =(F21*H8) -> 366.65661 | H21: =E21*G21 -> 7699.7889
A22: 03.04 | B22: ED-50199 | C22: PLACA FOTOLUMINESCENTE "E-5", QUADRADA NA DIMENSÃO 313 MM - FORNECIMENTO E INSTALAÇÃO | D22: UN | E22: 18 | F22: 19.78 | G22: =(F22*H8) -> 25.607188 | H22: =E22*G22 -> 460.92938
A23: 03.05 | B23: ED-50201 | C23: PLACA FOTOLUMINESCENTE "S-3, S-12, S-13, M-1", RETANGULAR NAS DIMENSÕES 316X158 MM - FORNECIMENTO E INSTALAÇÃO | D23: UN | E23: 31 | F23: 38.85 | G23: =(F23*H8) -> 50.29521 | H23: =E23*G23 -> 1559.1515
A24: 03.06 | B24: ED-26993 | C24: LUMINÁRIA DE EMERGÊNCIA AUTÔNOMA 400 LUMES, TIPO LED COM DOIS FARÓIS, POTÊNCIA TOTAL DE 8W, FORNECIMENTO E INSTALAÇÃO | D24: UN | E24: 1 | F24: 155.88 | G24: =(F24*H8) -> 201.80225 | H24: =E24*G24 -> 201.80225
A25: 03.07 | B25: 11866/ORSE | C25: LUMINÁRIA DE EMERGÊNCIA AUTÔNOMA 1.200 LUMES, TIPO LED COM DOIS FARÓIS, POTÊNCIA TOTAL DE 8W, FORNECIMENTO E INSTALAÇÃO | D25: UN | E25: 2 | F25: 232.43 | G25: =(F25*H8) -> 300.90388 | H25: =E25*G25 -> 601.80776
C26: TOTAL ITEM: 03 | H26: =SUM(H20:H25) -> 10971.127
A27: 04. | C27: SERVIÇOS COMPLEMENTARES
A28: 04.01 | B28: ED-31997 | C28: CORRIMÃO INTERMEDIÁRIO SIMPLES EM TUBO GALVANIZADO, COM COSTURA, CLASSE LEVE (NBR-5580), DIÂMETRO DE 1.1/2", ESP. 3MM, FIXADO EM PISO COM MONTANTE VERTICAL, DIÂMETRO DE 1.1/2", INCLUSIVE SUPORTE PARA CORRIMÃO EM BARRA CHATA (1"X1/2"), EXCLUSIVE PINTURA | D28: M | E28: 30 | F28: 254.37 | G28: =(F28*H8) -> 329.3074 | H28: =E28*G28 -> 9879.2221
A29: 04.02 | B29: ED-32096 | C29: CORRIMÃO INTERMEDIÁRIO SIMPLES EM TUBO GALVANIZADO, COM COSTURA, CLASSE LEVE (NBR-5580), DIÂMETRO DE 1.1/2", ESP. 3MM, FIXADO EM PISO COM MONTANTE VERTICAL, DIÂMETRO DE 1.1/2", INCLUSIVE SUPORTE PARA CORRIMÃO EM BARRA CHATA (1"X1/2"), EXCLUSIVE PINTURA | D29: M | E29: 3 | F29: 629.11 | G29: =(F29*H8) -> 814.44581 | H29: =E29*G29 -> 2443.3374
A30: 04.03 | B30: ED-50491 | C30: PINTURA ESMALTE EM ESQUADRIAS DE FERRO (PORTÕES), DUAS (2) DEMÃOS, INCLUSIVE UMA (1) DEMÃO DE FUNDO ANTICORROSIVO, INCLUSIVE GUARDA CORPO E CORRIMÃO | D30: M² | E30: 20 | F30: 33.49 | G30: =(F30*H8) -> 43.356154 | H30: =E30*G30 -> 867.12308
C31: TOTAL ITEM: 04 | H31: =SUM(H28:H30) -> 13189.683
A32: 05. | C32: LIMPEZA GERAL
A33: 05. 01 | B33: ED-50266 | C33: LIMPEZA FINAL DA OBRA | D33: M2 | E33: 754.19 | F33: 7.78 | G33: =(F33*H8) -> 10.071988 | H33: =E33*G33 -> 7596.1926
C34: TOTAL ITEM: 05 | H34: =H33 -> 7596.1926
C35: TOTAL DA PLANILHA: | H35: =SUM(H15+H18+H26+H31+H34) -> 36190.101
C36: TOTAL GERAL | H36: =SUM(H35) -> 36190.101
B38: Passos, 18 de fevereiro de 2026.
A41: Elimar Vieira Vaz
A42: Eng.º Civil e de Seg.do Trab.
A43: CREA-MG: 68.372/D
A44: Responsável Técnico

Sheet Cronograma
A5: PREFEITURA MUNICIPAL DE PASSOS - MG
A6: CRONOGRAMA FÍSICO-FINANCEIRO
A7: AMEG - Associação Pública dos Municípios da Microrregião do Médio Rio Grande
A8: =TIRO!A7 -> PROJETO DE PREVENÇÃO E COMBATE A INCÊNDIO E PANICO DA SEDE DO TIRO DE GUERRA TG014-04
A9: =TIRO!A8 -> ENDEREÇO: RUA DOS ENGENHEIROS Nº 530, BAIRRO BELO HORIZONTE - PASSOS-MG
E10: Mês 01 | G10: Mês 02 | I10: Mês 03 | K10: Total a executar
A11: ITEM | B11: DESCRIÇÃO DOS SERVIÇOS | C11: R$ Total com BDI | D11: % | E11: R$ | F11: % | G11: R$ | H11: % | I11: R$ | J11: % | K11: %
A12: 1 | B12: =TIRO!C13 -> SERVIÇOS PRELIMINARES | C12: =TIRO!H15 -> 663.56018 | D12: =C12/C23 -> 0.018335406 | E12: =(C12) -> 663.56018 | F12: 1 | K12: =(F12) -> 1
A13: 2 | B13: =(TIRO!C16) -> EXTINTORES | C13: =TIRO!H18 -> 3769.5386 | D13: =(C13/C23) -> 0.10415938 | E13: =(C13) -> 3769.5386 | F13: 1 | K13: =F13 -> 1
A14: 3 | B14: =(TIRO!C19) -> ILUMINAÇÃO E SINALIZAÇÃO | C14: =TIRO!H26 -> 10971.127 | D14: =(C14/C23) -> 0.3031527 | E14: =(C14*F14) -> 3291.338 | F14: 0.3 | G14: =(C14*H14) -> 7679.7886 | H14: 0.7 | K14: =(F14+H14+J14) -> 1
A15: 4 | B15: =TIRO!C27 -> SERVIÇOS COMPLEMENTARES | C15: =TIRO!H31 -> 13189.683 | D15: =(C15/C23) -> 0.36445554 | E15: =(C15*F15) -> 3956.9048 | F15: 0.3 | G15: =(C15*H15) -> 9232.7778 | H15: 0.7 | K15: =(F15+H15+J15) -> 1
A16: 5 | B16: =(TIRO!C32) -> LIMPEZA GERAL | C16: =(TIRO!H34) -> 7596.1926 | D16: =(C16/C23) -> 0.20989698 | G16: =C16 -> 7596.1926 | H16: 1 | K16: =(H16+J16) -> 1
B23: Total dos Serviços (MT + MO) | C23: =SUM(C12:C22) -> 36190.101 | D23: =SUM(D12:D22) -> 1
B24: TOTAL MENSAL (%) | E24: =SUM(E12:E23) -> 11681.342 | F24: =(E24/C23) -> 0.32277726 | G24: =SUM(G13:G23) -> 24508.759 | H24: =(G24/C23) -> 0.67722274
B25: TOTAL ACUMULADO (R$ | E25: =(E24) -> 11681.342 | F25: =(F24) -> 0.32277726 | G25: =(E25+G24) -> 36190.101 | H25: =(F25+H24) -> 1
B27: =TIRO!B38 -> Passos, 18 de fevereiro de 2026.
A29: Elimar Vieira Vaz
A30: Eng.º Civil e de Seg.do Trab.
A31: CREA-MG: 68.372/D
A32: Responsável Técnico
