Workbook
Name ___sub1: #REF!
Name ___sub2: #REF!
Name ___sub3: #REF!
Name _sub1: #REF!
Name _sub2: #REF!
Name _sub3: #REF!
Name a: #REF!
Name AREA: #REF!
Name B: #REF!
Name BDI: #REF!
Name DOLAR: [1]INSUMOS!$G$8
Name ersdcefgbrnghrbgbrgfbgfwbvbfgvwfv: #REF!
Name Excel_BuiltIn_Print_Area_2: #REF!
Name Excel_BuiltIn_Print_Area_2_1: #REF!
Name Excel_BuiltIn_Print_Area_2_1_1: #REF!
Name Excel_BuiltIn_Print_Area_2_1_1_1: #REF!
Name Excel_BuiltIn_Print_Area_4: #REF!
Name leosde: #REF!
Name NCOMPOSICOES: 7
Name NCOTACOES: 15
Name obra: #REF!
Name obra1: #REF!
Name obra2: #REF!
Name obra3: #REF!
Name obra4: #REF!
Name obra5: #REF!
Name P.1: #REF!
Name P.10: #REF!
Name P.11: #REF!
Name P.12: #REF!
Name P.13: #REF!
Name P.14: #REF!
Name P.15: #REF!
Name P.2: #REF!
Name P.3: #REF!
Name P.4: #REF!
Name P.5: #REF!
Name P.6: #REF!
Name P.7: #REF!
Name P.8: #REF!
Name P.9: #REF!
Name Pedreiro_de_acabamento: [1]INSUMOS!$B$11
Name PP1.1: #REF!
Name PP1.10: #REF!
Name PP1.11: #REF!
Name PP1.12: #REF!
Name PP1.13: #REF!
Name PP1.14: #REF!
Name PP1.15: #REF!
Name PP1.2: #REF!
Name PP1.3: #REF!
Name PP1.4: #REF!
Name PP1.5: #REF!
Name PP1.6: #REF!
Name PP1.7: #REF!
Name PP1.8: #REF!
Name PP1.9: #REF!
Name T.1: #REF!
Name T.10: #REF!
Name T.11: #REF!

Sheet Memória de Cálculo
A2: MEMÓRIA DE CÁLCULO DE QUANTITATIVOS
A3: PREFEITURA MUNICIPAL DE AREADO
A4: OBRA: PISOS VINÍLICOS E RODAPÉS PARA A OBRA DE REFORMA DO CINE TEATRO AREADENSE | E4: FOLHA Nº: | F4: 01/01.
A5: LOCAL: RUA MONSENHOR FARIA, Nº88, CENTRO, AREADO/MG. | E5: DATA: | F5: =TODAY() -> 45439
A7: ITEM | B7: CÓDIGO | C7: DESCRIÇÃO | D7: UNIDADE | E7: QUANTIDADE | F7: FÓRMULA DO CÁLCULO
A8: 1.0 | C8: SERVIÇOS PRELIMINARES
A9: 1.1 | B9: ED-16660 | C9: FORNECIMENTO E COLOCAÇÃO DE PLACA DE OBRA EM CHAPA GALVANIZADA #26, ESP. 0,45 MM, PLOTADA COM ADESIVO VINÍLICO, AFIXADA COM REBITES 4,8X40 MM, EM ESTRUTURA METÁLICA DE METALON 20X20 MM, ESP. 1,25 MM, INCLUSIVE SUPORTE EM EUCALIPTO AUTOCLAVADO PINTADO COM TINTA PVA DUAS (2) DEMÃOS | D9: M2 | E9: 2 | F9: VER MEDMORIAL ANEXO
A11: 2.0 | C11: PREPARO DO PISO
A12: 2.1 | B12: ED-50567 | C12: CONTRAPISO DESEMPENADO COM ARGAMASSA, TRAÇO 1:3 ( CIMENTO E AREIA), ESP. 25MM | D12: M2 | E12: 192.65 | F12: VER MEDMORIAL ANEXO
A13: 2.2 | B13: ED-13292 | C13: CAMADA DE REGULARIZAÇÃO COM ARGAMASSA, TRAÇO 1:4 ( CIMENTO E AREIA), ESP. 30MM, APLICAÇÃO MANUAL, INCLUSIVE ARGAMASSA COM PREPARO MECANIZADO | D13: M2 | E13: 612.74 | F13: VER MEDMORIAL ANEXO
A15: 3.0 | C15: PISOS E RODAPÉS
A16: 3.1 | B16: ED-50632 | C16: PLACA VINÍLICA 30 X 30 CM E = 2 MM | D16: M2 | E16: 612.74 | F16: VER MEDMORIAL ANEXO
A17: 3.2 | B17: ED-50777 | C17: RODAPÉ EM MADEIRA SUCUPIRA/IPÊ/CUMARÚ OU EQUIVALENTE DA REGIÃO, ESP. 2CM, ALTURA 7CM | D17: M | E17: 252.62 | F17: VER MEDMORIAL ANEXO
A19: 4.0 | C19: PINTURA RODAPÉS
A20: 4.1 | B20: ED-50511 | C20: PINTURA PRESERVATIVA COM CUPINICIDA EM MADEIRA SECA, DUAS (2) DEMÃOS, INCLUSIVE DUAS (2) DEMÃOS DE VERNIZ SINTÉTICO MARÍTIMO, ACABAMENTO TIPO FOSCO | D20: M2 | E20: 45.48 | F20: VER MEDMORIAL ANEXO
C25: MAYRA JUNQUEIRA PEREIRA AGUIAR
C26: ARQUITETA E URBANISTA
C27: CAU-MG A40518-3 - RRT 14089330
C31: DOUGLAS ÁVILA MOREIRA
C32: PREFEITO MUNICIPAL

Sheet Planilha Orcamentária
A2: PLANILHA ORÇAMENTÁRIA DE CUSTOS
A3: ='Memória de Cálculo'!A3:D3 -> PREFEITURA MUNICIPAL DE AREADO | E3: FOLHA Nº: | G3: 01/01.
A4: ='Memória de Cálculo'!A4:D4 -> OBRA: PISOS VINÍLICOS E RODAPÉS PARA A OBRA DE REFORMA DO CINE TEATRO AREADENSE | E4: DATA: | G4: =TODAY() -> 45439
A5: ='Memória de Cálculo'!A5:D5 -> LOCAL: RUA MONSENHOR FARIA, Nº88, CENTRO, AREADO/MG. | E5: FORMA DE EXECUÇÃO:
A6: REGIÃO/MÊS DE REFERÊNCIA: TABELA SEINFRA - REGIÃO SUL - 10/2023- SEM DESONERAÇÃO | E6: ( ) | F6: DIRETA | G6: ( X ) | H6: INDIRETA
A7: BDI ADOTADO PELA SEINFRA 10/2023 | E7: % ISS MUNICIPAL: | F7: 0.04 | G7: BDI: | H7: 0.2389
A9: ITEM | B9: CÓDIGO | C9: DESCRIÇÃO | D9: UNIDADE | E9: QUANTIDADE | F9: PREÇO UNITÁRIO S/ BDI | G9: PREÇO UNITÁRIO C/ BDI | H9: PREÇO TOTAL
A10: ='Memória de Cálculo'!A8 -> 1.0 | C10: ='Memória de Cálculo'!C8 -> SERVIÇOS PRELIMINARES | G10: =ROUND(F10+(F10*$H$7),2) -> 0 | H10: =SUM(H11:H11) -> 0
A11: ='Memória de Cálculo'!A9 -> 1.1 | B11: ='Memória de Cálculo'!B9 -> ED-16660 | C11: ='Memória de Cálculo'!C9 -> FORNECIMENTO E COLOCAÇÃO DE PLACA DE OBRA EM CHAPA GALVANIZADA #26, ESP. 0,45 MM, PLOTADA COM ADESIVO VINÍLICO, AFIXADA COM REBITES 4,8X40 MM, EM ESTRUTURA METÁLICA DE METALON 20X20 MM, ESP. 1,25 MM, INCLUSIVE SUPORTE EM EUCALIPTO AUTOCLAVADO PINTADO COM TINTA PVA DUAS (2) DEMÃOS | D11: ='Memória de Cálculo'!D9 -> M2 | E11: 2 | F11: 0 | G11: =ROUND(F11+(F11*$H$7),2) -> 0 | H11: =ROUND((E11*G11),2) -> 0
A13: ='Memória de Cálculo'!A11 -> 2.0 | C13: ='Memória de Cálculo'!C11 -> PREPARO DO PISO | G13: =ROUND(F13+(F13*$H$7),2) -> 0 | H13: =SUM(H14:H15) -> 0
A14: ='Memória de Cálculo'!A12 -> 2.1 | B14: ='Memória de Cálculo'!B12 -> ED-50567 | C14: ='Memória de Cálculo'!C12 -> CONTRAPISO DESEMPENADO COM ARGAMASSA, TRAÇO 1:3 ( CIMENTO E AREIA), ESP. 25MM | D14: ='Memória de Cálculo'!D12 -> M2 | E14: 192.65 | F14: 0 | G14: =ROUND(F14+(F14*$H$7),2) -> 0 | H14: =ROUND((E14*G14),2) -> 0
A15: ='Memória de Cálculo'!A13 -> 2.2 | B15: ='Memória de Cálculo'!B13 -> ED-13292 | C15: ='Memória de Cálculo'!C13 -> CAMADA DE REGULARIZAÇÃO COM ARGAMASSA, TRAÇO 1:4 ( CIMENTO E AREIA), ESP. 30MM, APLICAÇÃO MANUAL, INCLUSIVE ARGAMASSA COM PREPARO MECANIZADO | D15: ='Memória de Cálculo'!D13 -> M2 | E15: 612.74 | F15: 0 | G15: =ROUND(F15+(F15*$H$7),2) -> 0 | H15: =ROUND((E15*G15),2) -> 0
A17: ='Memória de Cálculo'!A15 -> 3.0 | B17: ='Memória de Cálculo'!B15 -> 0 | C17: ='Memória de Cálculo'!C15 -> PISOS E RODAPÉS | G17: =ROUND(F17+(F17*$H$7),2) -> 0 | H17: =SUM(H18:H19) -> 0
A18: ='Memória de Cálculo'!A16 -> 3.1 | B18: ='Memória de Cálculo'!B16 -> ED-50632 | C18: ='Memória de Cálculo'!C16 -> PLACA VINÍLICA 30 X 30 CM E = 2 MM | D18: ='Memória de Cálculo'!D16 -> M2 | E18: 612.74 | F18: 0 | G18: =ROUND(F18+(F18*$H$7),2) -> 0 | H18: =ROUND((E18*G18),2) -> 0
A19: ='Memória de Cálculo'!A17 -> 3.2 | B19: ='Memória de Cálculo'!B17 -> ED-50777 | C19: ='Memória de Cálculo'!C17 -> RODAPÉ EM MADEIRA SUCUPIRA/IPÊ/CUMARÚ OU EQUIVALENTE DA REGIÃO, ESP. 2CM, ALTURA 7CM | D19: ='Memória de Cálculo'!D17 -> M | E19: 252.62 | F19: 0 | G19: =ROUND(F19+(F19*$H$7),2) -> 0 | H19: =ROUND((E19*G19),2) -> 0
A21: ='Memória de Cálculo'!A19 -> 4.0 | C21: ='Memória de Cálculo'!C19 -> PINTURA RODAPÉS | G21: =ROUND(F21+(F21*$H$7),2) -> 0 | H21: =SUM(H22:H22) -> 0
A22: ='Memória de Cálculo'!A20 -> 4.1 | B22: ='Memória de Cálculo'!B20 -> ED-50511 | C22: ='Memória de Cálculo'!C20 -> PINTURA PRESERVATIVA COM CUPINICIDA EM MADEIRA SECA, DUAS (2) DEMÃOS, INCLUSIVE DUAS (2) DEMÃOS DE VERNIZ SINTÉTICO MARÍTIMO, ACABAMENTO TIPO FOSCO | D22: ='Memória de Cálculo'!D20 -> M2 | E22: 45.46 | F22: 0 | G22: =ROUND(F22+(F22*$H$7),2) -> 0 | H22: =ROUND((E22*G22),2) -> 0
A24: TOTAL | C24: TOTAL | H24: =SUM(H21,H17,H13,H10) -> 0
C28: ='Memória de Cálculo'!C25 -> MAYRA JUNQUEIRA PEREIRA AGUIAR
C29: ='Memória de Cálculo'!C26 -> ARQUITETA E URBANISTA
C30: ='Memória de Cálculo'!C27 -> CAU-MG A40518-3 - RRT 14089330
C34: ='Memória de Cálculo'!C31 -> DOUGLAS ÁVILA MOREIRA
C35: ='Memória de Cálculo'!C32 -> PREFEITO MUNICIPAL
A40: Observações: Os textos destacados na cor vermelho deverão ser preenchidos e revisados de acordo com a aplicabilidade de cada obra, no tocante à: região da Tabela de Referencial de Preços Unitários a ser adotada; percentuais de ISS e dos parâmetros adotados no demonstrativo/composição BDI a ser apresentado pelo(a) Responsável Técnico(a) do Município dos quais deverão estar em conformidade com os critérios vigentes e aplicáveis; quantitativos; preços vigentes da Tabela Referencial de Preços Unitários e demais informações pertinentes aos serviços para execução das obras.

Sheet Cronograma
A2: CRONOGRAMA FÍSICO-FINANCEIRO
A3: ='Planilha Orcamentária'!A3 -> PREFEITURA MUNICIPAL DE AREADO | C3: VALOR DO CONVÊNIO: | D3: =D16 -> 0 | E3: DATA: | G3: =TODAY() -> 45439 | H3: FOLHA Nº: 01/01
A4: ='Planilha Orcamentária'!A4 -> OBRA: PISOS VINÍLICOS E RODAPÉS PARA A OBRA DE REFORMA DO CINE TEATRO AREADENSE | E4: PREVISÃO DE EXECUÇÃO DAS OBRAS: 3 MESES
A5: ='Planilha Orcamentária'!A5 -> LOCAL: RUA MONSENHOR FARIA, Nº88, CENTRO, AREADO/MG.
A6: ITENS | B6: ETAPAS/DESCRIÇÃO | C6: FÍSICO/ FINANCEIRO | D6: TOTAL ETAPAS | E6: MÊS 1 | F6: MÊS 2 | G6: MÊS 3 | H6: MÊS 4
A7: ='Planilha Orcamentária'!A10 -> 1.0 | B7: ='Planilha Orcamentária'!C10 -> SERVIÇOS PRELIMINARES | C7: Físico % | D7: =D8/$D$16 -> #DIV/0! | E7: 1 | F7: 0
C8: Financeiro | D8: ='Planilha Orcamentária'!H10 -> 0 | E8: =E7*$D$8 -> 0 | F8: =F7*$D$8 -> 0
A9: ='Planilha Orcamentária'!A13 -> 2.0 | B9: ='Planilha Orcamentária'!C13 -> PREPARO DO PISO | C9: Físico % | D9: =D10/$D$16 -> #DIV/0! | E9: 0.5 | F9: 0.5
C10: Financeiro | D10: ='Planilha Orcamentária'!H13 -> 0 | E10: =E9*$D$10 -> 0 | F10: =F9*$D$10 -> 0
A11: ='Planilha Orcamentária'!A17 -> 3.0 | B11: ='Planilha Orcamentária'!C17 -> PISOS E RODAPÉS | C11: Físico % | D11: =D12/$D$16 -> #DIV/0! | E11: 0 | F11: 0.25 | G11: 0.75
C12: Financeiro | D12: ='Planilha Orcamentária'!H17 -> 0 | E12: =E11*$D$12 -> 0 | F12: =F11*$D$12 -> 0 | G12: =G11*$D$12 -> 0
A13: ='Planilha Orcamentária'!A21 -> 4.0 | B13: ='Planilha Orcamentária'!C21 -> PINTURA RODAPÉS | C13: Físico % | D13: =D14/$D$16 -> #DIV/0! | E13: 0 | F13: 0.25 | G13: 0.75
C14: Financeiro | D14: ='Planilha Orcamentária'!H21 -> 0 | E14: =E13*$D$14 -> 0 | F14: =F13*$D$14 -> 0 | G14: =G13*$D$14 -> 0
A15: TOTAL | C15: Físico % | D15: =D7+D9+D11+D13 -> #DIV/0! | E15: =E16/$D$16 -> #DIV/0! | F15: =F16/$D$16 -> #DIV/0! | G15: =G16/$D$16 -> #DIV/0!
C16: Financeiro | D16: =SUM(D8,D10,D12,D14) -> 0 | E16: =E8+E10+E12+E14 -> 0 | F16: =F8+F10+F12+F14 -> 0 | G16: =G8+G10+G12+G14 -> 0
G17: Observações:
B19: ='Memória de Cálculo'!C25 -> MAYRA JUNQUEIRA PEREIRA AGUIAR
B20: ='Memória de Cálculo'!C26 -> ARQUITETA E URBANISTA
B21: ='Memória de Cálculo'!C27 -> CAU-MG A40518-3 - RRT 14089330
B24: ='Memória de Cálculo'!C31 -> DOUGLAS ÁVILA MOREIRA
B25: ='Memória de Cálculo'!C32 -> PREFEITO MUNICIPAL
