Workbook
Name ___sub1: #REF!
Name ___sub2: #REF!
Name ___sub3: #REF!
Name _sub1: #REF!
Name _sub2: #REF!
Name _sub3: #REF!
Name a: #REF!
Name AREA: #REF!
Name B: #REF!
Name BDI: #REF!
Name DOLAR: [1]INSUMOS!$G$8
Name ersdcefgbrnghrbgbrgfbgfwbvbfgvwfv: #REF!
Name Excel_BuiltIn_Print_Area_2: #REF!
Name Excel_BuiltIn_Print_Area_2_1: #REF!
Name Excel_BuiltIn_Print_Area_2_1_1: #REF!
Name Excel_BuiltIn_Print_Area_2_1_1_1: #REF!
Name Excel_BuiltIn_Print_Area_4: #REF!
Name leosde: #REF!
Name NCOMPOSICOES: 7
Name NCOTACOES: 15
Name obra: #REF!
Name obra1: #REF!
Name obra2: #REF!
Name obra3: #REF!
Name obra4: #REF!
Name obra5: #REF!
Name P.1: #REF!
Name P.10: #REF!
Name P.11: #REF!
Name P.12: #REF!
Name P.13: #REF!
Name P.14: #REF!
Name P.15: #REF!
Name P.2: #REF!
Name P.3: #REF!
Name P.4: #REF!
Name P.5: #REF!
Name P.6: #REF!
Name P.7: #REF!
Name P.8: #REF!
Name P.9: #REF!
Name Pedreiro_de_acabamento: [1]INSUMOS!$B$11
Name PP1.1: #REF!
Name PP1.10: #REF!
Name PP1.11: #REF!
Name PP1.12: #REF!
Name PP1.13: #REF!
Name PP1.14: #REF!
Name PP1.15: #REF!
Name PP1.2: #REF!
Name PP1.3: #REF!
Name PP1.4: #REF!
Name PP1.5: #REF!
Name PP1.6: #REF!
Name PP1.7: #REF!
Name PP1.8: #REF!
Name PP1.9: #REF!
Name T.1: #REF!
Name T.10: #REF!
Name T.11: #REF!

Sheet Planilha Orcamentária
A2: PLANILHA ORÇAMENTÁRIA DE CUSTOS
A3: PREFEITURA MUNICIPAL DE BOM SUCESSO/MG | F3: FOLHA Nº: | H3: 01/01.
A4: OBRA: PAVIMENTAÇÃO ASFÁLTICA NO MUNICÍPIO DE BOM SUCESSO | F4: DATA: | H4: =TODAY() -> 46281
A5: LOCAL: BAIRRO SÃO JOSÉ DA SERRA E DISTRITO DOS MACHADOS | F5: FORMA DE EXECUÇÃO:
A6: REGIÃO/MÊS DE REFERÊNCIA: SEINFRA - CENTRAL 04/2026, SINAPI CENTRAL 08/2026 E SUDECAP 07/2026- COM DESONERAÇÃO | F6: ( ) | G6: DIRETA | H6: ( X ) | I6: INDIRETA
A7: COMPOSIÇÃO/DEMONSTRATIVO DE BDI - EM ANEXO | F7: % ISS MUNICIPAL: | G7: 0.03 | H7: BDI: | I7: 0.2605
A9: ITEM | B9: REFERÊNCIA | C9: CÓDIGO | D9: DESCRIÇÃO | E9: UNIDADE | F9: QUANTIDADE | G9: PREÇO UNITÁRIO S/ BDI | H9: PREÇO UNITÁRIO C/ BDI | I9: PREÇO TOTAL
A10: ='Memória de Cálculo'!A7 -> 1.0 | D10: ='Memória de Cálculo'!C7 -> SERVIÇOS PRELIMINARES | H10: =ROUND(G10+(G10*$I$7),2) -> 0 | I10: =SUM(I11:I11) -> 4330.35
A11: 1.1 | B11: SINAPI | C11: ='Memória de Cálculo'!B8 -> 103689 | D11: ='Memória de Cálculo'!C8 -> FORNECIMENTO E INSTALAÇÃO DE PLACA DE OBRA COM CHAPA GALVANIZADA E ESTRUTURA DE MADEIRA. AF_03/2022_PS | E11: ='Memória de Cálculo'!D8 -> M² | F11: ='Memória de Cálculo'!E8 -> 9 | G11: 381.71 | H11: =ROUND(G11+(G11*$I$7),2) -> 481.15 | I11: =ROUND((F11*H11),2) -> 4330.35
A13: ='Memória de Cálculo'!A10 -> 2.0 | D13: ='Memória de Cálculo'!C10 -> PAVIMENTAÇÃO - DISTRITO MACHADOS | H13: =ROUND(G13+(G13*$I$7),2) -> 0 | I13: =SUM(I14:I25) -> 176417.75
A14: ='Memória de Cálculo'!A11 -> 2.1 | B14: SINAPI | C14: ='Memória de Cálculo'!B11 -> 100576 | D14: ='Memória de Cálculo'!C11 -> REGULARIZAÇÃO E COMPACTAÇÃO DE SUBLEITO DE SOLO PREDOMINANTEMENTE ARGILOSO, PARA OBRAS DE CONSTRUÇÃO DE PAVIMENTOS. AF_09/2024 | E14: ='Memória de Cálculo'!D11 -> M2 | F14: ='Memória de Cálculo'!E11 -> 1250 | G14: 2.86 | H14: =ROUND(G14+(G14*$I$7),2) -> 3.61 | I14: =ROUND((F14*H14),2) -> 4512.5
A15: ='Memória de Cálculo'!A12 -> 2.2 | B15: SINAPI | C15: ='Memória de Cálculo'!B12 -> 101768 | D15: ='Memória de Cálculo'!C12 -> CONSTRUÇÃO DE BASE E SUB-BASE PARA PAVIMENTAÇÃO DE SOLO ESTABILIZADO GRANULOMETRICAMENTE SEM MISTURA DE SOLOS - EXCLUSIVE SOLO, ESCAVAÇÃO, CARGA E TRANSPORTE. AF_09/2024 | E15: ='Memória de Cálculo'!D12 -> M3 | F15: ='Memória de Cálculo'!E12 -> 250 | G15: 25.95 | H15: =ROUND(G15+(G15*$I$7),2) -> 32.71 | I15: =ROUND((F15*H15),2) -> 8177.5
A16: ='Memória de Cálculo'!A13 -> 2.3 | B16: SUDECAP | C16: ='Memória de Cálculo'!B13 -> 20.11.05 | D16: ='Memória de Cálculo'!C13 -> IMPRIMAÇÃO COM EMULSÃO ASFÁLTICA - EAI, LIMPEZA MANUAL | E16: ='Memória de Cálculo'!D13 -> M2 | F16: ='Memória de Cálculo'!E13 -> 1250 | G16: 9.59 | H16: =ROUND(G16+(G16*$I$7),2) -> 12.09 | I16: =ROUND((F16*H16),2) -> 15112.5
A17: ='Memória de Cálculo'!A14 -> 2.4 | B17: SINAPI | C17: ='Memória de Cálculo'!B14 -> 95875 | D17: ='Memória de Cálculo'!C14 -> TRANSPORTE COM CAMINHÃO BASCULANTE DE 10 M³, EM VIA URBANA PAVIMENTADA, DMT ATÉ 30 KM (UNIDADE: M3XKM). AF_07/2020 | E17: ='Memória de Cálculo'!D14 -> M3XKM | F17: ='Memória de Cálculo'!E14 -> 375 | G17: 2.73 | H17: =ROUND(G17+(G17*$I$7),2) -> 3.44 | I17: =ROUND((F17*H17),2) -> 1290
A18: ='Memória de Cálculo'!A15 -> 2.5 | B18: SINAPI | C18: ='Memória de Cálculo'!B15 -> 93590 | D18: ='Memória de Cálculo'!C15 -> TRANSPORTE COM CAMINHÃO BASCULANTE DE 10 M³, EM VIA URBANA PAVIMENTADA, ADICIONAL PARA DMT EXCEDENTE A 30 KM (UNIDADE: M3XKM). AF_07/2020 | E18: ='Memória de Cálculo'!D15 -> M3XKM | F18: ='Memória de Cálculo'!E15 -> 875 | G18: 1.04 | H18: =ROUND(G18+(G18*$I$7),2) -> 1.31 | I18: =ROUND((F18*H18),2) -> 1146.25
A19: ='Memória de Cálculo'!A16 -> 2.6 | B19: SUDECAP | C19: ='Memória de Cálculo'!B16 -> 20.12.01 | D19: ='Memória de Cálculo'!C16 -> PINTURA DE LIGAÇÃO COM RR-1C | E19: ='Memória de Cálculo'!D16 -> M2 | F19: ='Memória de Cálculo'!E16 -> 1250 | G19: 2.65 | H19: =ROUND(G19+(G19*$I$7),2) -> 3.34 | I19: =ROUND((F19*H19),2) -> 4175
A20: ='Memória de Cálculo'!A17 -> 2.7 | B20: SINAPI | C20: ='Memória de Cálculo'!B17 -> 95875 | D20: ='Memória de Cálculo'!C17 -> TRANSPORTE COM CAMINHÃO BASCULANTE DE 10 M³, EM VIA URBANA PAVIMENTADA, DMT ATÉ 30 KM (UNIDADE: M3XKM). AF_07/2020 | E20: ='Memória de Cálculo'!D17 -> M3XKM | F20: ='Memória de Cálculo'!E17 -> 375 | G20: 2.73 | H20: =ROUND(G20+(G20*$I$7),2) -> 3.44 | I20: =ROUND((F20*H20),2) -> 1290
A21: ='Memória de Cálculo'!A18 -> 2.8 | B21: SINAPI | C21: ='Memória de Cálculo'!B18 -> 93590 | D21: ='Memória de Cálculo'!C18 -> TRANSPORTE COM CAMINHÃO BASCULANTE DE 10 M³, EM VIA URBANA PAVIMENTADA, ADICIONAL PARA DMT EXCEDENTE A 30 KM (UNIDADE: M3XKM). AF_07/2020 | E21: ='Memória de Cálculo'!D18 -> M3XKM | F21: ='Memória de Cálculo'!E18 -> 875 | G21: 1.04 | H21: =ROUND(G21+(G21*$I$7),2) -> 1.31 | I21: =ROUND((F21*H21),2) -> 1146.25
A22: ='Memória de Cálculo'!A19 -> 2.9 | B22: SINAPI | C22: ='Memória de Cálculo'!B19 -> 95995 | D22: ='Memória de Cálculo'!C19 -> EXECUÇÃO DE PAVIMENTO COM APLICAÇÃO DE CONCRETO ASFÁLTICO, CAMADA DE ROLAMENTO - EXCLUSIVE CARGA E TRANSPORTE. AF_11/2019 | E22: ='Memória de Cálculo'!D19 -> M3 | F22: ='Memória de Cálculo'!E19 -> 25 | G22: 2149.98 | H22: =ROUND(G22+(G22*$I$7),2) -> 2710.05 | I22: =ROUND((F22*H22),2) -> 67751.25
A23: ='Memória de Cálculo'!A20 -> 2.10 | B23: SINAPI | C23: ='Memória de Cálculo'!B20 -> 95996 | D23: ='Memória de Cálculo'!C20 -> EXECUÇÃO DE PAVIMENTO COM APLICAÇÃO DE CONCRETO ASFÁLTICO, CAMADA DE BINDER - EXCLUSIVE CARGA E TRANSPORTE. AF_11/2019 | E23: ='Memória de Cálculo'!D20 -> M3 | F23: ='Memória de Cálculo'!E20 -> 25 | G23: 1863.53 | H23: =ROUND(G23+(G23*$I$7),2) -> 2348.98 | I23: =ROUND((F23*H23),2) -> 58724.5
A24: ='Memória de Cálculo'!A21 -> 2.11 | B24: SEINFRA | C24: ='Memória de Cálculo'!B21 -> RO-7728 | D24: ='Memória de Cálculo'!C21 -> Transporte de concreto asfáltico da usina até a pista com caminhão basculante de 12 m3 em piso de leito natural | E24: ='Memória de Cálculo'!D21 -> TxKM | F24: ='Memória de Cálculo'!E21 -> 3600 | G24: 1.13 | H24: =ROUND(G24+(G24*$I$7),2) -> 1.42 | I24: =ROUND((F24*H24),2) -> 5112
A25: ='Memória de Cálculo'!A22 -> 2.12 | B25: SEINFRA | C25: ='Memória de Cálculo'!B22 -> RO-7726 | D25: ='Memória de Cálculo'!C22 -> Transporte de concreto asfáltico da usina até a pista com caminhão basculante de 12 m3 em piso pavimentado | E25: ='Memória de Cálculo'!D22 -> TxKM | F25: ='Memória de Cálculo'!E22 -> 8400 | G25: 0.75 | H25: =ROUND(G25+(G25*$I$7),2) -> 0.95 | I25: =ROUND((F25*H25),2) -> 7980
A26: ='Memória de Cálculo'!A23 -> 3.0 | C26: ='Memória de Cálculo'!B23 -> 0 | D26: ='Memória de Cálculo'!C23 -> PAVIMENTAÇÃO - SÃO JOSÉ DA SERRA | E26: ='Memória de Cálculo'!D23 -> 0 | F26: ='Memória de Cálculo'!E23 -> 0 | H26: =ROUND(G26+(G26*$I$7),2) -> 0 | I26: =SUM(I27:I37) -> 293539.26
A27: ='Memória de Cálculo'!A24 -> 3.1 | B27: SINAPI | C27: ='Memória de Cálculo'!B24 -> 100576 | D27: ='Memória de Cálculo'!C24 -> REGULARIZAÇÃO E COMPACTAÇÃO DE SUBLEITO DE SOLO PREDOMINANTEMENTE ARGILOSO, PARA OBRAS DE CONSTRUÇÃO DE PAVIMENTOS. AF_09/2024 | E27: ='Memória de Cálculo'!D24 -> M2 | F27: ='Memória de Cálculo'!E24 -> 2100 | G27: 2.86 | H27: =ROUND(G27+(G27*$I$7),2) -> 3.61 | I27: =ROUND((F27*H27),2) -> 7581
A28: ='Memória de Cálculo'!A25 -> 3.2 | B28: SINAPI | C28: ='Memória de Cálculo'!B25 -> 101768 | D28: ='Memória de Cálculo'!C25 -> CONSTRUÇÃO DE BASE E SUB-BASE PARA PAVIMENTAÇÃO DE SOLO ESTABILIZADO GRANULOMETRICAMENTE SEM MISTURA DE SOLOS - EXCLUSIVE SOLO, ESCAVAÇÃO, CARGA E TRANSPORTE. AF_09/2024 | E28: ='Memória de Cálculo'!D25 -> M3 | F28: ='Memória de Cálculo'!E25 -> 420 | G28: 25.95 | H28: =ROUND(G28+(G28*$I$7),2) -> 32.71 | I28: =ROUND((F28*H28),2) -> 13738.2
A29: ='Memória de Cálculo'!A26 -> 3.3 | B29: SUDECAP | C29: ='Memória de Cálculo'!B26 -> 20.11.05 | D29: ='Memória de Cálculo'!C26 -> IMPRIMAÇÃO COM EMULSÃO ASFÁLTICA - EAI, LIMPEZA MANUAL | E29: ='Memória de Cálculo'!D26 -> M2 | F29: ='Memória de Cálculo'!E26 -> 2100 | G29: 9.59 | H29: =ROUND(G29+(G29*$I$7),2) -> 12.09 | I29: =ROUND((F29*H29),2) -> 25389
A30: ='Memória de Cálculo'!A27 -> 3.4 | B30: SINAPI | C30: ='Memória de Cálculo'!B27 -> 95875 | D30: ='Memória de Cálculo'!C27 -> TRANSPORTE COM CAMINHÃO BASCULANTE DE 10 M³, EM VIA URBANA PAVIMENTADA, DMT ATÉ 30 KM (UNIDADE: M3XKM). AF_07/2020 | E30: ='Memória de Cálculo'!D27 -> M3XKM | F30: ='Memória de Cálculo'!E27 -> 630 | G30: 2.73 | H30: =ROUND(G30+(G30*$I$7),2) -> 3.44 | I30: =ROUND((F30*H30),2) -> 2167.2
A31: ='Memória de Cálculo'!A28 -> 3.5 | B31: SINAPI | C31: ='Memória de Cálculo'!B28 -> 93590 | D31: ='Memória de Cálculo'!C28 -> TRANSPORTE COM CAMINHÃO BASCULANTE DE 10 M³, EM VIA URBANA PAVIMENTADA, ADICIONAL PARA DMT EXCEDENTE A 30 KM (UNIDADE: M3XKM). AF_07/2020 | E31: ='Memória de Cálculo'!D28 -> M3XKM | F31: ='Memória de Cálculo'!E28 -> 1470 | G31: 1.04 | H31: =ROUND(G31+(G31*$I$7),2) -> 1.31 | I31: =ROUND((F31*H31),2) -> 1925.7
A32: ='Memória de Cálculo'!A29 -> 3.6 | B32: SUDECAP | C32: ='Memória de Cálculo'!B29 -> 20.12.01 | D32: ='Memória de Cálculo'!C29 -> PINTURA DE LIGAÇÃO COM RR-1C | E32: ='Memória de Cálculo'!D29 -> M2 | F32: ='Memória de Cálculo'!E29 -> 2100 | G32: 2.65 | H32: =ROUND(G32+(G32*$I$7),2) -> 3.34 | I32: =ROUND((F32*H32),2) -> 7014
A33: ='Memória de Cálculo'!A30 -> 3.7 | B33: SINAPI | C33: ='Memória de Cálculo'!B30 -> 95875 | D33: ='Memória de Cálculo'!C30 -> TRANSPORTE COM CAMINHÃO BASCULANTE DE 10 M³, EM VIA URBANA PAVIMENTADA, DMT ATÉ 30 KM (UNIDADE: M3XKM). AF_07/2020 | E33: ='Memória de Cálculo'!D30 -> M3XKM | F33: ='Memória de Cálculo'!E30 -> 630 | G33: 2.73 | H33: =ROUND(G33+(G33*$I$7),2) -> 3.44 | I33: =ROUND((F33*H33),2) -> 2167.2
A34: ='Memória de Cálculo'!A31 -> 3.8 | B34: SINAPI | C34: ='Memória de Cálculo'!B31 -> 93590 | D34: ='Memória de Cálculo'!C31 -> TRANSPORTE COM CAMINHÃO BASCULANTE DE 10 M³, EM VIA URBANA PAVIMENTADA, ADICIONAL PARA DMT EXCEDENTE A 30 KM (UNIDADE: M3XKM). AF_07/2020 | E34: ='Memória de Cálculo'!D31 -> M3XKM | F34: ='Memória de Cálculo'!E31 -> 1470 | G34: 1.04 | H34: =ROUND(G34+(G34*$I$7),2) -> 1.31 | I34: =ROUND((F34*H34),2) -> 1925.7
A35: ='Memória de Cálculo'!A32 -> 3.9 | B35: SINAPI | C35: ='Memória de Cálculo'!B32 -> 95995 | D35: ='Memória de Cálculo'!C32 -> EXECUÇÃO DE PAVIMENTO COM APLICAÇÃO DE CONCRETO ASFÁLTICO, CAMADA DE ROLAMENTO - EXCLUSIVE CARGA E TRANSPORTE. AF_11/2019 | E35: ='Memória de Cálculo'!D32 -> M3 | F35: ='Memória de Cálculo'!E32 -> 42 | G35: 2149.98 | H35: =ROUND(G35+(G35*$I$7),2) -> 2710.05 | I35: =ROUND((F35*H35),2) -> 113822.1
A36: ='Memória de Cálculo'!A33 -> 3.10 | B36: SINAPI | C36: ='Memória de Cálculo'!B33 -> 95996 | D36: ='Memória de Cálculo'!C33 -> EXECUÇÃO DE PAVIMENTO COM APLICAÇÃO DE CONCRETO ASFÁLTICO, CAMADA DE BINDER - EXCLUSIVE CARGA E TRANSPORTE. AF_11/2019 | E36: ='Memória de Cálculo'!D33 -> M3 | F36: ='Memória de Cálculo'!E33 -> 42 | G36: 1863.53 | H36: =ROUND(G36+(G36*$I$7),2) -> 2348.98 | I36: =ROUND((F36*H36),2) -> 98657.16
A37: ='Memória de Cálculo'!A34 -> 3.11 | B37: SEINFRA | C37: ='Memória de Cálculo'!B34 -> RO-7726 | D37: ='Memória de Cálculo'!C34 -> Transporte de concreto asfáltico da usina até a pista com caminhão basculante de 12 m3 em piso pavimentado | E37: ='Memória de Cálculo'!D34 -> TxKM | F37: ='Memória de Cálculo'!E34 -> 20160 | G37: 0.75 | H37: =ROUND(G37+(G37*$I$7),2) -> 0.95 | I37: =ROUND((F37*H37),2) -> 19152
A39: 4.0 | D39: DRENAGEM SUPERFICIAL - DISTRITO MACHADOS | H39: =ROUND(G39+(G39*$I$7),2) -> 0 | I39: =SUM(I40:I40) -> 38895
A40: 4.1 | B40: SINAPI | C40: ='Memória de Cálculo'!B37 -> 94267 | D40: ='Memória de Cálculo'!C37 -> GUIA (MEIO-FIO) E SARJETA CONJUGADOS DE CONCRETO, MOLDADA IN LOCO EM TRECHO RETO COM EXTRUSORA, 45 CM BASE (15 CM BASE DA GUIA + 30 CM BASE DA SARJETA) X 22 CM ALTURA. AF_01/2024 | E40: ='Memória de Cálculo'!D37 -> M | F40: ='Memória de Cálculo'!E37 -> 500 | G40: 61.71 | H40: =ROUND(G40+(G40*$I$7),2) -> 77.79 | I40: =ROUND((F40*H40),2) -> 38895
A41: 5.0 | D41: DRENAGEM SUPERFICIAL - SÃO JOSÉ DA SERRA | H41: =ROUND(G41+(G41*$I$7),2) -> 0 | I41: =SUM(I42:I45) -> 97857.56
A42: 5.1 | B42: SINAPI | C42: ='Memória de Cálculo'!B40 -> 94267 | D42: ='Memória de Cálculo'!C40 -> GUIA (MEIO-FIO) E SARJETA CONJUGADOS DE CONCRETO, MOLDADA IN LOCO EM TRECHO RETO COM EXTRUSORA, 45 CM BASE (15 CM BASE DA GUIA + 30 CM BASE DA SARJETA) X 22 CM ALTURA. AF_01/2024 | E42: ='Memória de Cálculo'!D40 -> M | F42: ='Memória de Cálculo'!E40 -> 600 | G42: 61.71 | H42: =ROUND(G42+(G42*$I$7),2) -> 77.79 | I42: =ROUND((F42*H42),2) -> 46674
A43: 5.2 | B43: SEINFRA | C43: ='Memória de Cálculo'!B41 -> ED-51123 | D43: ='Memória de Cálculo'!C41 -> REGULARIZAÇÃO MANUAL E COMPACTAÇÃO MECANIZADA DE TERRENO COM PLACA VIBRATÓRIA, EXCLUSIVE DESMATAMENTO, DESTOCAMENTO, LIMPEZA/ROÇADA DO TERRENO | E43: ='Memória de Cálculo'!D41 -> m2 | F43: ='Memória de Cálculo'!E41 -> 660 | G43: 6.02 | H43: =ROUND(G43+(G43*$I$7),2) -> 7.59 | I43: =ROUND((F43*H43),2) -> 5009.4
A44: 5.3 | B44: SINAPI | C44: ='Memória de Cálculo'!B42 -> 94991 | D44: ='Memória de Cálculo'!C42 -> EXECUÇÃO DE PASSEIO (CALÇADA) OU PISO DE CONCRETO COM CONCRETO MOLDADO IN LOCO, USINADO C20, ACABAMENTO CONVENCIONAL, NÃO ARMADO. AF_08/2022 | E44: ='Memória de Cálculo'!D42 -> M3 | F44: ='Memória de Cálculo'!E42 -> 46.2 | G44: 762.35 | H44: =ROUND(G44+(G44*$I$7),2) -> 960.94 | I44: =ROUND((F44*H44),2) -> 44395.43
...

Sheet Memória de Cálculo
A1: MEMÓRIA DE CÁLCULO DE QUANTITATIVOS
A2: PREFEITURA MUNICIPAL DE BOM SUCESSO/MG
A3: OBRA: PAVIMETNAÇÃO ASFÁLTICA NO MUNICÍPIO DE BOM SUCESSO | E3: FOLHA Nº: | F3: 01/01.
A4: LOCAL: DISTRITO DOS MACHADOS E BAIRRO SÃO JOSÉ DA SERRA | E4: DATA: | F4: =TODAY() -> 46281
A6: ITEM | B6: CÓDIGO | C6: DESCRIÇÃO | D6: UNIDADE | E6: QUANTIDADE | F6: FÓRMULA DO CÁLCULO
A7: 1.0 | C7: SERVIÇOS PRELIMINARES
A8: 1.1 | B8: 103689 | C8: FORNECIMENTO E INSTALAÇÃO DE PLACA DE OBRA COM CHAPA GALVANIZADA E ESTRUTURA DE MADEIRA. AF_03/2022_PS | D8: M² | E8: =1.5*3*2 -> 9 | F8: 2 unidades de 1,50x3,00m, sendo uma placa instalada no bairro São José da Serra e outra placa no distrito de Machados (zona rural)
A10: 2.0 | C10: PAVIMENTAÇÃO - DISTRITO MACHADOS
A11: 2.1 | B11: 100576 | C11: REGULARIZAÇÃO E COMPACTAÇÃO DE SUBLEITO DE SOLO PREDOMINANTEMENTE ARGILOSO, PARA OBRAS DE CONSTRUÇÃO DE PAVIMENTOS. AF_09/2024 | D11: M2 | E11: =250*5 -> 1250 | F11: 250*5,0m de pavimento no povoado dos machados
A12: 2.2 | B12: 101768 | C12: CONSTRUÇÃO DE BASE E SUB-BASE PARA PAVIMENTAÇÃO DE SOLO ESTABILIZADO GRANULOMETRICAMENTE SEM MISTURA DE SOLOS - EXCLUSIVE SOLO, ESCAVAÇÃO, CARGA E TRANSPORTE. AF_09/2024 | D12: M3 | E12: =1250*0.2 -> 250 | F12: 3335*0,20m de camada de cascalho
A13: 2.3 | B13: 20.11.05 | C13: IMPRIMAÇÃO COM EMULSÃO ASFÁLTICA - EAI, LIMPEZA MANUAL | D13: M2 | E13: 1250 | F13: 250*5,0m de pavimento no povoado dos machados
A14: 2.4 | B14: 95875 | C14: TRANSPORTE COM CAMINHÃO BASCULANTE DE 10 M³, EM VIA URBANA PAVIMENTADA, DMT ATÉ 30 KM (UNIDADE: M3XKM). AF_07/2020 | D14: M3XKM | E14: =1250*0.01*30 -> 375 | F14: 1250m²*0,01m de camada de imprimação*30km
A15: 2.5 | B15: 93590 | C15: TRANSPORTE COM CAMINHÃO BASCULANTE DE 10 M³, EM VIA URBANA PAVIMENTADA, ADICIONAL PARA DMT EXCEDENTE A 30 KM (UNIDADE: M3XKM). AF_07/2020 | D15: M3XKM | E15: =1250*0.01*70 -> 875 | F15: 1250m²*0,01m de camada de imprimação*70km
A16: 2.6 | B16: 20.12.01 | C16: PINTURA DE LIGAÇÃO COM RR-1C | D16: M2 | E16: 1250 | F16: 250*5,0m de pavimento no povoado dos machados
A17: 2.7 | B17: 95875 | C17: TRANSPORTE COM CAMINHÃO BASCULANTE DE 10 M³, EM VIA URBANA PAVIMENTADA, DMT ATÉ 30 KM (UNIDADE: M3XKM). AF_07/2020 | D17: M3XKM | E17: =1250*0.01*30 -> 375 | F17: 1250m²*0,01m*30km
A18: 2.8 | B18: 93590 | C18: TRANSPORTE COM CAMINHÃO BASCULANTE DE 10 M³, EM VIA URBANA PAVIMENTADA, ADICIONAL PARA DMT EXCEDENTE A 30 KM (UNIDADE: M3XKM). AF_07/2020 | D18: M3XKM | E18: =1250*0.01*70 -> 875 | F18: 1250m²*0,01m*70km
A19: 2.9 | B19: 95995 | C19: EXECUÇÃO DE PAVIMENTO COM APLICAÇÃO DE CONCRETO ASFÁLTICO, CAMADA DE ROLAMENTO - EXCLUSIVE CARGA E TRANSPORTE. AF_11/2019 | D19: M3 | E19: =1250*0.02 -> 25 | F19: 2100m²*0,02m de camada de rolamento
A20: 2.10 | B20: 95996 | C20: EXECUÇÃO DE PAVIMENTO COM APLICAÇÃO DE CONCRETO ASFÁLTICO, CAMADA DE BINDER - EXCLUSIVE CARGA E TRANSPORTE. AF_11/2019 | D20: M3 | E20: =1250*0.02 -> 25 | F20: 2100m²*0,02m de camada binder
A21: 2.11 | B21: RO-7728 | C21: Transporte de concreto asfáltico da usina até a pista com caminhão basculante de 12 m3 em piso de leito natural | D21: TxKM | E21: =50*30*2.4 -> 3600 | F21: 50m³*2,4T/m³*30km de DMT
A22: 2.12 | B22: RO-7726 | C22: Transporte de concreto asfáltico da usina até a pista com caminhão basculante de 12 m3 em piso pavimentado | D22: TxKM | E22: =25*2*70*2.4 -> 8400 | F22: 50m³*2,4T/m³*70km de DMT
A23: 3.0 | C23: PAVIMENTAÇÃO - SÃO JOSÉ DA SERRA
A24: 3.1 | B24: 100576 | C24: REGULARIZAÇÃO E COMPACTAÇÃO DE SUBLEITO DE SOLO PREDOMINANTEMENTE ARGILOSO, PARA OBRAS DE CONSTRUÇÃO DE PAVIMENTOS. AF_09/2024 | D24: M2 | E24: =300*7 -> 2100 | F24: 300*7,0m de pavimento no bairro são josé da serra
A25: 3.2 | B25: 101768 | C25: CONSTRUÇÃO DE BASE E SUB-BASE PARA PAVIMENTAÇÃO DE SOLO ESTABILIZADO GRANULOMETRICAMENTE SEM MISTURA DE SOLOS - EXCLUSIVE SOLO, ESCAVAÇÃO, CARGA E TRANSPORTE. AF_09/2024 | D25: M3 | E25: =2100*0.2 -> 420 | F25: 2100m²*0,20m de cascalho
A26: 3.3 | B26: 20.11.05 | C26: IMPRIMAÇÃO COM EMULSÃO ASFÁLTICA - EAI, LIMPEZA MANUAL | D26: M2 | E26: 2100 | F26: 300*7,0m de pavimento no bairro são josé da serra
A27: 3.4 | B27: 95875 | C27: TRANSPORTE COM CAMINHÃO BASCULANTE DE 10 M³, EM VIA URBANA PAVIMENTADA, DMT ATÉ 30 KM (UNIDADE: M3XKM). AF_07/2020 | D27: M3XKM | E27: =2100*0.01*30 -> 630 | F27: 2100m²*0,01m de camada de imprimação*30km
A28: 3.5 | B28: 93590 | C28: TRANSPORTE COM CAMINHÃO BASCULANTE DE 10 M³, EM VIA URBANA PAVIMENTADA, ADICIONAL PARA DMT EXCEDENTE A 30 KM (UNIDADE: M3XKM). AF_07/2020 | D28: M3XKM | E28: =2100*0.01*70 -> 1470 | F28: 2100m²*0,01m de camada de imprimação*70km
A29: 3.6 | B29: 20.12.01 | C29: PINTURA DE LIGAÇÃO COM RR-1C | D29: M2 | E29: 2100 | F29: 300*7,0m de pavimento no povoado dos machados
A30: 3.7 | B30: 95875 | C30: TRANSPORTE COM CAMINHÃO BASCULANTE DE 10 M³, EM VIA URBANA PAVIMENTADA, DMT ATÉ 30 KM (UNIDADE: M3XKM). AF_07/2020 | D30: M3XKM | E30: =2100*0.01*30 -> 630 | F30: 2100m²*0,01m*30km
A31: 3.8 | B31: 93590 | C31: TRANSPORTE COM CAMINHÃO BASCULANTE DE 10 M³, EM VIA URBANA PAVIMENTADA, ADICIONAL PARA DMT EXCEDENTE A 30 KM (UNIDADE: M3XKM). AF_07/2020 | D31: M3XKM | E31: =2100*0.01*70 -> 1470 | F31: 2100m²*0,01m*70km
A32: 3.9 | B32: 95995 | C32: EXECUÇÃO DE PAVIMENTO COM APLICAÇÃO DE CONCRETO ASFÁLTICO, CAMADA DE ROLAMENTO - EXCLUSIVE CARGA E TRANSPORTE. AF_11/2019 | D32: M3 | E32: =2100*0.02 -> 42 | F32: 2100m²*0,02m de camada de rolamento
A33: 3.10 | B33: 95996 | C33: EXECUÇÃO DE PAVIMENTO COM APLICAÇÃO DE CONCRETO ASFÁLTICO, CAMADA DE BINDER - EXCLUSIVE CARGA E TRANSPORTE. AF_11/2019 | D33: M3 | E33: =2100*0.02 -> 42 | F33: 2100m²*0,02m de camada binder
A34: 3.11 | B34: RO-7726 | C34: Transporte de concreto asfáltico da usina até a pista com caminhão basculante de 12 m3 em piso pavimentado | D34: TxKM | E34: =42*2*2.4*100 -> 20160 | F34: 84m³*2,4T/m3*100km de DMT
A36: 4.0 | C36: DRENAGEM SUPERFICIAL - DISTRITO MACHADOS
A37: 4.1 | B37: 94267 | C37: GUIA (MEIO-FIO) E SARJETA CONJUGADOS DE CONCRETO, MOLDADA IN LOCO EM TRECHO RETO COM EXTRUSORA, 45 CM BASE (15 CM BASE DA GUIA + 30 CM BASE DA SARJETA) X 22 CM ALTURA. AF_01/2024 | D37: M | E37: =250*2 -> 500 | F37: 250m*2 lados - MACHADOS
A39: 5.0 | C39: DRENAGEM SUPERFICIAL - SÃO JOSÉ DA SERRA
A40: 5.1 | B40: 94267 | C40: GUIA (MEIO-FIO) E SARJETA CONJUGADOS DE CONCRETO, MOLDADA IN LOCO EM TRECHO RETO COM EXTRUSORA, 45 CM BASE (15 CM BASE DA GUIA + 30 CM BASE DA SARJETA) X 22 CM ALTURA. AF_01/2024 | D40: M | E40: =300*2 -> 600 | F40: 300m*2 lados - SÃO JOSÉ DA SERRA
A41: 5.2 | B41: ED-51123 | C41: REGULARIZAÇÃO MANUAL E COMPACTAÇÃO MECANIZADA DE TERRENO COM PLACA VIBRATÓRIA, EXCLUSIVE DESMATAMENTO, DESTOCAMENTO, LIMPEZA/ROÇADA DO TERRENO | D41: m2 | E41: =300*2.2 -> 660 | F41: 300m*2,20m de largura de regularização da área de passeio
A42: 5.3 | B42: 94991 | C42: EXECUÇÃO DE PASSEIO (CALÇADA) OU PISO DE CONCRETO COM CONCRETO MOLDADO IN LOCO, USINADO C20, ACABAMENTO CONVENCIONAL, NÃO ARMADO. AF_08/2022 | D42: M3 | E42: =300*0.07*2.2 -> 46.2 | F42: 300m*0,07m de espessura*2,20m de largura
A43: 5.4 | B43: 105004 | C43: RAMPA DE ACESSIBILIDADE EM CONCRETO MOLDADO IN LOCO, EM CALÇADA NOVA COM LARGURA MENOR À 3,00 M, FCK 25MPA, COM PISO PODOTÁTIL. AF_03/2024 | D43: M2 | E43: =4*2.2*1.2 -> 10.56 | F43: Uma rampa de acessibilidade no início do trecho, uma no final e a cada 100m. Portanto uma rampa na cota 0, outra na cota 100m, outra na cota 200m e outra na cota 300m, conforme indicado em projeto. Dimensões 2,20m x 1,20m conforme detalhe em prancha.
C48: ALERSON AMARAL RESENDE
...

Sheet Cronograma
A2: CRONOGRAMA FÍSICO-FINANCEIRO
A3: ='Planilha Orcamentária'!A3 -> PREFEITURA MUNICIPAL DE BOM SUCESSO/MG | C3: VALOR DO CONVÊNIO: | D3: =D18 -> 611039.92 | E3: DATA: | G3: =TODAY() -> 46281 | H3: FOLHA Nº: 01/01
A4: ='Planilha Orcamentária'!A4 -> OBRA: PAVIMENTAÇÃO ASFÁLTICA NO MUNICÍPIO DE BOM SUCESSO | E4: PREVISÃO DE EXECUÇÃO DAS OBRAS: 4 MESES
A5: ='Planilha Orcamentária'!A5 -> LOCAL: BAIRRO SÃO JOSÉ DA SERRA E DISTRITO DOS MACHADOS
A6: ITENS | B6: ETAPAS/DESCRIÇÃO | C6: FÍSICO/ FINANCEIRO | D6: TOTAL ETAPAS | E6: MÊS 1 | F6: MÊS 2 | G6: MÊS 3 | H6: MÊS 4
A7: ='Planilha Orcamentária'!A10 -> 1.0 | B7: ='Planilha Orcamentária'!D10 -> SERVIÇOS PRELIMINARES | C7: Físico % | D7: =D8/$D$18 -> 0.0070868529 | E7: 1 | F7: 0 | G7: 0 | H7: 0
C8: Financeiro | D8: ='Planilha Orcamentária'!I10 -> 4330.35 | E8: =E7*$D$8 -> 4330.35 | F8: =F7*$D$8 -> 0 | G8: =G7*$D$8 -> 0 | H8: =H7*$D$8 -> 0
A9: ='Planilha Orcamentária'!A13 -> 2.0 | B9: ='Planilha Orcamentária'!D13 -> PAVIMENTAÇÃO - DISTRITO MACHADOS | C9: Físico % | D9: =D10/$D$18 -> 0.28871722 | E9: 0.5 | F9: 0.5 | G9: 0 | H9: 0
C10: Financeiro | D10: ='Planilha Orcamentária'!I13 -> 176417.75 | E10: =E9*$D$10 -> 88208.875 | F10: =F9*$D$10 -> 88208.875 | G10: =G9*$D$10 -> 0 | H10: =H9*$D$10 -> 0
A11: ='Planilha Orcamentária'!A26 -> 3.0 | B11: ='Planilha Orcamentária'!D26 -> PAVIMENTAÇÃO - SÃO JOSÉ DA SERRA | C11: Físico % | D11: =D12/$D$18 -> 0.48039293 | E11: 0 | F11: 0.5 | G11: 0.5
C12: Financeiro | D12: ='Planilha Orcamentária'!I26 -> 293539.26 | E12: =E11*$D$12 -> 0 | F12: =F11*$D$12 -> 146769.63 | G12: =G11*$D$12 -> 146769.63 | H12: =H11*$D$12 -> 0
A13: ='Planilha Orcamentária'!A39 -> 4.0 | B13: ='Planilha Orcamentária'!D39 -> DRENAGEM SUPERFICIAL - DISTRITO MACHADOS | C13: Físico % | D13: =D14/$D$18 -> 0.063653779 | E13: 0 | F13: 0.5 | G13: 0.5
C14: Financeiro | D14: ='Planilha Orcamentária'!I39 -> 38895 | E14: =E13*$D$12 -> 0 | F14: =F13*$D$14 -> 19447.5 | G14: =G13*$D$14 -> 19447.5 | H14: =H13*$D$12 -> 0
A15: ='Planilha Orcamentária'!A41 -> 5.0 | B15: ='Planilha Orcamentária'!D41 -> DRENAGEM SUPERFICIAL - SÃO JOSÉ DA SERRA | C15: Físico % | D15: =D16/$D$18 -> 0.16014921 | E15: 0 | F15: 0 | G15: 0.5 | H15: 0.5
C16: Financeiro | D16: ='Planilha Orcamentária'!I41 -> 97857.56 | E16: =E15*$D$12 -> 0 | F16: =F15*$D$12 -> 0 | G16: =G15*$D$16 -> 48928.78 | H16: =H15*$D$16 -> 48928.78
A17: TOTAL | C17: Físico % | D17: =D7+D9+D11 -> 0.77619701 | E17: =E18/$D$18 -> 0.15144547 | F17: =F18/$D$18 -> 0.41638197 | G17: =G18/$D$18 -> 0.35209796 | H17: =H18/$D$18 -> 0.080074605
C18: Financeiro | D18: =D8+D10+D12+D14+D16 -> 611039.92 | E18: =E8+E10+E12 -> 92539.225 | F18: =F14+F10+F12 -> 254426.01 | G18: =G16+G14+G12 -> 215145.91 | H18: =H16 -> 48928.78
G19: Observações:
B21: ALERSON AMARAL RESENDE
B22: ='Memória de Cálculo'!C49 -> Engenheiro Civil
B23: ='Memória de Cálculo'!C50 -> CREA/MG Nº: 226.610/D
B26: ='Memória de Cálculo'!C55 -> LUÍZ CLÁUDIO DA MATA
B27: ='Memória de Cálculo'!C56 -> Prefeito(a) Municipal
