Workbook

Sheet QDC
A1: Quadro de Distribição de Cargas
A2: QDC | B2: CIRC. | C2: Tensão (V) | D2: Potência | F2: Potência (W) | I2: Potência (VA) | L2: Corrente | O2: Seção Condutor | P2: Disjuntor | S2: Descrição Circuito
L3: Nominal | M3: Condutor | N3: Análise (A) | P3: IDR | Q3: Termomagnético | R3: DDR
D4: (W) | E4: (VA) | F4: Fase A | G4: Fase B | H4: Fase C | I4: Fase A | J4: Fase B | K4: Fase C | L4: In (A) | M4: Ic (A) | N4: Fator Norma (0,7) | O4: (mm²) | P4: Id (A)
A5: 1 | B5: 1 | C5: 220 | D5: =E5*0.92 -> 1380 | E5: 1500 | F5: =D5 -> 1380 | I5: =E5 -> 1500 | L5: =D5/C5 -> 6.2727273 | M5: 17.5 | N5: =M5*0.7 -> 12.25 | O5: 1.5 | P5: - | Q5: 20 | R5: - | S5: Iluminação Externa e Pátios
B6: 2 | C6: 220 | D6: =E6*0.92 -> 1380 | E6: 1500 | F6: =D6 -> 1380 | I6: =E6 -> 1500 | L6: =D6/C6 -> 6.2727273 | M6: 17.5 | N6: =M6*0.7 -> 12.25 | O6: 1.5 | Q6: 20 | S6: Iluminação Interna (Administrativo)
B7: 3 | C7: 220 | D7: =E7*0.92 -> 1380 | E7: 1500 | F7: =D7 -> 1380 | I7: =E7 -> 1500 | L7: =D7/C7 -> 6.2727273 | M7: 17.5 | N7: =M7*0.7 -> 12.25 | O7: 1.5 | Q7: 20 | S7: Iluminação Interna (Ambientes Esquerda)
B8: 4 | C8: 220 | D8: =E8*0.92 -> 1380 | E8: 1500 | F8: =D8 -> 1380 | I8: =E8 -> 1500 | L8: =D8/C8 -> 6.2727273 | M8: 17.5 | N8: =M8*0.7 -> 12.25 | O8: 1.5 | Q8: 20 | S8: Iluminação Interna (Ambientes Direita)
B9: 5 | C9: 220 | D9: =E9*0.92 -> 2300 | E9: 2500 | F9: =D9 -> 2300 | H9: =E9 -> 2500 | I9: =E9 -> 2500 | K9: =E9 -> 2500 | L9: =D9/C9 -> 10.454545 | M9: 24 | N9: =M9*0.7 -> 16.8 | O9: 2.5 | P9: 25 | Q9: 25 | S9: Tomadas de Uso Geral (Administrativo)
B10: 6 | C10: 220 | D10: =E10*0.92 -> 2300 | E10: 2500 | F10: =D10 -> 2300 | H10: =E10 -> 2500 | I10: =E10 -> 2500 | K10: =E10 -> 2500 | L10: =D10/C10 -> 10.454545 | M10: 24 | N10: =M10*0.7 -> 16.8 | O10: 2.5 | P10: 25 | Q10: 25 | S10: Tomadas de Uso Geral (Esquerda)
B11: 7 | C11: 220 | D11: =E11*0.92 -> 2300 | E11: 2500 | F11: =D11 -> 2300 | H11: =E11 -> 2500 | I11: =E11 -> 2500 | K11: =E11 -> 2500 | L11: =D11/C11 -> 10.454545 | M11: 24 | N11: =M11*0.7 -> 16.8 | O11: 2.5 | P11: 25 | Q11: 25 | S11: Tomadas de Uso Geral (AS)
B12: 10 | C12: 220 | D12: 5500 | E12: =D12/0.92 -> 5978.2609 | F12: =D12 -> 5500 | I12: =E12 -> 5978.2609 | L12: =D12/C12 -> 25 | M12: 41 | N12: =M12*0.7 -> 28.7 | O12: 6 | P12: 40 | Q12: 40 | S12: TUE - Chuveiro Banho
B13: 11 | C13: 220 | D13: =E13*0.92 -> 2300 | E13: 2500 | F13: =D13 -> 2300 | H13: =E13 -> 2500 | I13: =E13 -> 2500 | K13: =E13 -> 2500 | L13: =D13/C13 -> 10.454545 | M13: 24 | N13: =M13*0.7 -> 16.8 | O13: 2.5 | P13: 25 | Q13: 25 | S13: Tomadas de Uso Geral (Cozinha)
B14: 12 | C14: 220 | D14: =E14*0.92 -> 2300 | E14: 2500 | F14: =D14 -> 2300 | H14: =E14 -> 2500 | I14: =E14 -> 2500 | K14: =E14 -> 2500 | L14: =D14/C14 -> 10.454545 | M14: 24 | N14: =M14*0.7 -> 16.8 | O14: 2.5 | P14: 25 | Q14: 25 | S14: Tomadas de Uso Geral (Ambientes Direita)
B15: 13 | C15: 220 | D15: 1350 | E15: =D15/0.92 -> 1467.3913 | G15: =D15 -> 1350 | J15: =E15 -> 1467.3913 | L15: =D15/C15 -> 6.1363636 | M15: 24 | N15: =M15*0.7 -> 16.8 | O15: 2.5 | P15: =Q15 -> 25 | Q15: 25 | S15: TUE - Ar Condicionado Atendimento Individual - 12000BTU
B16: 14 | C16: 220 | D16: 1350 | E16: =D16/0.92 -> 1467.3913 | G16: =D16 -> 1350 | J16: =E16 -> 1467.3913 | L16: =D16/C16 -> 6.1363636 | M16: 24 | N16: =M16*0.7 -> 16.8 | O16: 2.5 | P16: =Q16 -> 25 | Q16: 25 | S16: TUE - Ar Condicionado Administração - 12000BTU
B17: 15 | C17: 220 | D17: 3150 | E17: =D17/0.92 -> 3423.913 | G17: =D17 -> 3150 | J17: =E17 -> 3423.913 | L17: =D17/C17 -> 14.318182 | M17: 41 | N17: =M17*0.7 -> 28.7 | O17: 6 | P17: =Q17 -> 32 | Q17: 32 | S17: TUE - Ar Condicionado Atendimento CAD Único - 24000BTU
B18: 16 | C18: 220 | D18: 1350 | E18: =D18/0.92 -> 1467.3913 | G18: =D18 -> 1350 | J18: =E18 -> 1467.3913 | L18: =D18/C18 -> 6.1363636 | M18: 24 | N18: =M18*0.7 -> 16.8 | O18: 2.5 | P18: =Q18 -> 25 | Q18: 25 | S18: TUE - Ar Condicionado Atendimento Individual CAD Único - 12000BTU
B19: 17 | C19: 220 | D19: 1350 | E19: =D19/0.92 -> 1467.3913 | G19: =D19 -> 1350 | J19: =E19 -> 1467.3913 | L19: =D19/C19 -> 6.1363636 | M19: 24 | N19: =M19*0.7 -> 16.8 | O19: 2.5 | P19: =Q19 -> 25 | Q19: 25 | S19: TUE - Ar Condicionado Arquivo CAD Único - 12000BTU
B20: 18 | C20: 220 | D20: 3800 | E20: =D20/0.92 -> 4130.4348 | G20: =D20 -> 3800 | J20: =E20 -> 4130.4348 | L20: =D20/C20 -> 17.272727 | M20: 57 | N20: =M20*0.7 -> 39.9 | O20: 10 | P20: =Q20 -> 40 | Q20: 40 | S20: TUE - Ar Condicionado Sala de Atividades Coletivas - 30000BTU
B21: 19 | C21: 220 | D21: 3800 | E21: =D21/0.92 -> 4130.4348 | G21: =D21 -> 3800 | J21: =E21 -> 4130.4348 | L21: =D21/C21 -> 17.272727 | M21: 57 | N21: =M21*0.7 -> 39.9 | O21: 10 | P21: =Q21 -> 40 | Q21: 40 | S21: TUE - Ar Condicionado Sala de Atividades Coletivas - 30000BTU
B22: 20 | C22: 220 | D22: 3800 | E22: =D22/0.92 -> 4130.4348 | G22: =D22 -> 3800 | J22: =E22 -> 4130.4348 | L22: =D22/C22 -> 17.272727 | M22: 57 | N22: =M22*0.7 -> 39.9 | O22: 10 | P22: =Q22 -> 40 | Q22: 40 | S22: TUE - Ar Condicionado Sala de Atividades 01 - 30000BTU
B23: 21 | C23: 220 | D23: 3800 | E23: =D23/0.92 -> 4130.4348 | G23: =D23 -> 3800 | J23: =E23 -> 4130.4348 | L23: =D23/C23 -> 17.272727 | M23: 57 | N23: =M23*0.7 -> 39.9 | O23: 10 | P23: =Q23 -> 40 | Q23: 40 | S23: TUE - Ar Condicionado Sala de Atividades 01 - 30000BTU
B24: 22 | C24: 220 | D24: 3800 | E24: =D24/0.92 -> 4130.4348 | G24: =D24 -> 3800 | J24: =E24 -> 4130.4348 | L24: =D24/C24 -> 17.272727 | M24: 57 | N24: =M24*0.7 -> 39.9 | O24: 10 | P24: =Q24 -> 40 | Q24: 40 | S24: TUE - Ar Condicionado Sala de Atividades 02 - 30000BTU
B25: 23 | C25: 220 | D25: 3800 | E25: =D25/0.92 -> 4130.4348 | H25: =D25 -> 3800 | K25: =E25 -> 4130.4348 | L25: =D25/C25 -> 17.272727 | M25: 57 | N25: =M25*0.7 -> 39.9 | O25: 10 | P25: =Q25 -> 40 | Q25: 40 | S25: TUE - Ar Condicionado Sala de Atividades 02 - 30000BTU
B26: 24 | C26: 220 | D26: 1350 | E26: =D26/0.92 -> 1467.3913 | H26: =D26 -> 1350 | K26: =E26 -> 1467.3913 | L26: =D26/C26 -> 6.1363636 | M26: 24 | N26: =M26*0.7 -> 16.8 | O26: 2.5 | P26: =Q26 -> 25 | Q26: 25 | S26: TUE - Ar Condicionado Sala Extra - 12000BTU
B27: 25 | C27: 220 | D27: 1350 | E27: =D27/0.92 -> 1467.3913 | H27: =D27 -> 1350 | K27: =E27 -> 1467.3913 | L27: =D27/C27 -> 6.1363636 | M27: 24 | N27: =M27*0.7 -> 16.8 | O27: 2.5 | P27: =Q27 -> 25 | Q27: 25 | S27: TUE - Ar Condicionado Coordenação Técnica - 12000BTU
B28: 26 | C28: 220 | D28: 3800 | E28: =D28/0.92 -> 4130.4348 | H28: =D28 -> 3800 | K28: =E28 -> 4130.4348 | L28: =D28/C28 -> 17.272727 | M28: 57 | N28: =M28*0.7 -> 39.9 | O28: 10 | P28: =Q28 -> 40 | Q28: 40 | S28: TUE - Ar Condicionado Sala de Atividades 03 - 30000BTU
B29: 27 | C29: 220 | D29: 3800 | E29: =D29/0.92 -> 4130.4348 | H29: =D29 -> 3800 | K29: =E29 -> 4130.4348 | L29: =D29/C29 -> 17.272727 | M29: 57 | N29: =M29*0.7 -> 39.9 | O29: 10 | P29: =Q29 -> 40 | Q29: 40 | S29: TUE - Ar Condicionado Sala de Atividades 03 - 30000BTU
B30: 28 | C30: 220 | D30: 2300 | E30: 2500 | H30: =D30 -> 2300 | K30: =E30 -> 2500 | L30: =D30/C30 -> 10.454545 | M30: 24 | N30: =M30*0.7 -> 16.8 | O30: 2.5 | P30: 25 | Q30: 25 | S30: TUE - Área Verde (Cascata)
B31: 32 | C31: - | S31: Reserva
B32: 33 | S32: Reserva
B33: 34 | S33: Reserva
B34: 35 | S34: Reserva
C35: Total Potência | D35: =SUM(D5:D34) -> 66470 | E35: =SUM(E5:E34) -> 72250 | F35: =SUM(F5:F34) -> 22520 | G35: =SUM(G5:G34) -> 27550 | H35: =SUM(H5:H34) -> 28900 | I35: =SUM(I5:I34) -> 24478.261 | J35: =SUM(J5:J34) -> 29945.652 | K35: =SUM(K5:K34) -> 30326.087
D36: Ativa | E36: Aparente | F36: Ativa
C37: Demanda (w) | D37: =Demanda!C19 -> 58645 | E37: T4

Sheet Demanda
A1: Descrição | B1: Circuitos | C1: Potência (w)
A2: Iluminação e TUG'S | C2: =SUM(QDC!D5:D11,QDC!D13:D14) -> 17020 | E2: =SUM(C2:C3) -> 19320 | F2: 12000
C3: =QDC!D30 -> 2300 | F3: =E2-F2 -> 7320
A4: Fator de Demanda (NTC4) | B4: Total (VA) | C4: =SUM(C2:C3) -> 19320
A5: 100% p/ primeiros 12kw | B5: Subtotal Demanda | C5: =F2 -> 12000
A6: 50% p/ o que exceder | B6: Subtotal Demanda | C6: =0.5*F3 -> 3660
A8: Chuveiro Elétrico | C8: =QDC!D12 -> 5500
A9: Fator de Demanda (NTC4) | B9: Total (VA) | C9: =SUM(C8:C8) -> 5500
A10: 1 | B10: Subtotal Demanda | C10: =C9*A10 -> 5500
A12: Ar Condicionado | C12: =SUM(QDC!D15:D29) -> 41650
A13: Fator de Demanda (NTC4) | B13: Total (VA) | C13: =SUM(C12:C12) -> 41650
A14: 0.9 | B14: Subtotal Demanda | C14: =C13*A14 -> 37485
A16: Forno e Fogão Elétrico | C16: 0
A17: Fator de Demanda (NTC4) | B17: Total (VA) | C17: =SUM(C16:C16) -> 0
A18: 0.6 | B18: Subtotal Demanda | C18: =C17*A18 -> 0
A19: Total da Demanda (w) | C19: =C5+C10+C14+C18+C6 -> 58645

Sheet Iluminação
A6: N=(ExA)/(FxFUxFM) | C6: Teste | D6: S. Reforço 2
A7: N | B7: Número de lâmpadas | C7: =(C8*C9)/(C10*C11*C12) -> 2.3148148 | D7: =(D8*D9)/(D10*D11*D12) -> 10.584491
A8: E | B8: iluminancia desejada (lux) | C8: 500 | D8: 500
A9: A | B9: Área da Sala (m²) | C9: 8 | D9: 36.58
A10: F | B10: Fluxo luminoso de uma lâmpada (lúmens) | C10: 3600 | D10: 3600
A11: FU | B11: Fator de Utilização (aprox 0,6 para salas comuns) | C11: 0.6 | D11: 0.6
A12: FM | B12: Fator de Manutenção (aprox 0,8) | C12: 0.8 | D12: 0.8
A15: Painel de sobrepor de LED - 40cm - 4000k - 36w | C15: =36*100 -> 3600
A16: Lumens | B16: Potencia (w) x Eficiencia (lm/W)

Sheet Ar
F7: W
E8: 12000BTU | F8: 1350
E9: 18000BTU
E10: 24000BTU | F10: 3150
E11: 30000BTU | F11: 3800

Sheet Inel - Notas
A1: Normas Referenciais
A2: 1 | B2: ABNT NBR 5410:2020 - Instalações Elétricas de Baixa Tensão
A3: 2 | B3: NTC 04 - Fornecimento de Energia Elétrica (Celg/Enel/Equatorial)
A4: Tabelas de Conduítes (Eletrodutos) Flexíveis Corrugados - Resistência Mecânica
A5: 3 | B5: Todos os eletrodutos localizados embutidos na Parede deverão possuir resistência mecânica leve, ou seja (COR AMARELA)
A6: 4 | B6: Todos os eletrodutos localizados sobre a Laje deverão possui resistência mecânica média, ou seja (COR LARANJA)
A7: 5 | B7: Todos os eletrodutos localizados sob o Piso possui classificação de resistência mecânica como pesada (COR PRETA), cujos circuitos serão de cabo PP.
A8: 5.1 | B8: Caso seja preferência do Resp. Técnico Executor, poderá se realizar o traçado utilizando-se de tubulação (de esgoto ou água), sendo assim, deve-se utilizar curvas e não joelhos. | D8: acrescer
A9: 6 | B9: Os eletrodutos destinados aos cabos CCI (interfone) deverão ser isolados para não causar interferências. | C9: Rever sempre | D9: Os eletrodutos destinados aos cabos CCI (interfone), e os de câmera (se houver) deverão ser isolados para não causar interferências.
A10: 6.1 | B10: É previsto ponto interno na edificação, mas não está incluso o ponto externo de ligação, uma vez que não será executado o muro frontal. | C10: Rever sempre
A11: 7 | B11: Em todos os casos, deve-se deixar passado fio guia nos conduítes para facilitar a entrada das fiações.
A12: Tabelas de Conduítes (Eletrodutos) Flexíveis Corrugados - Dimensões (mm)
A13: 8 | B13: Todos serão de 1" (ou seja 25mm). Exceto: | C13: Rever sempre
A14: 8.1 | B14: Eletrodutos que mantiverem os circuitos 4 a 12 terão eletroduto exclusivo e/ou eletroduto de 32mm. | C14: Rever sempre
A15: 6.2 | B15: Eletrodutos que mantiverem os circuitos citados no item 5.1 terão seção de 1.1/4" (ou seja, 32mm). | C15: Rever sempre
A16: 8.2 | B16: Os equipamentos de uso específico a que se destinam cada circuito apresentado no item 6.1 tiveram suas potências estimadas conforme padrão de acabamento do projeto, bem como os demais circuitos conforme QDC.
A17: Tabelas de Condutores - Seção (mm²) | D17: acrescer
A18: 9 | B18: A fiação correspondente ao circuito de Iluminação terá seção dos condutores de 1,5mm². | C18: Rever sempre | D18: A fiação correspondente aos circuitos de Iluminação (Interna e Externa) terá seção dos condutores de 1,5mm².
A19: 9.1 | B19: A fiação correspondente a todos os circuitos de força terão seção de no mínimo 2,5mm², sendo a seção 2,5mm² a recomendada, exceto para os casos a seguir: | C19: Rever sempre | D19: Caso o fogão seja por indução, deve-se destinar um circuito separado de forma que atenda individualmente.
A20: 9.1.1 | B20: Os circuitos 4 a 12 terão sua fiação com seção de no mínimo 4,0mm² a 6,00mm² conforme recomendado no quadro de distribuição de cargas (QDC), podendo ser alterado conforme potência do equipamento referente ao mesmo e por parte de solicitação do proprietário seguido de aprovação do Responsável Técnico. | C20: Rever sempre | D20: Os circuitos 8 a 13 terão sua fiação com seção de no mínimo 6,0mm² recomendada segundo o quadro de distribuição de cargas (QDC), podendo ser alterado conforme potência do equipamento referente ao mesmo e por parte de solicitação do proprietário seguido de aprovação do Responsável Técnico.
A21: 10 | B21: Recomenda-se identificar os condutores através das cores:
A22: 10.1 | B22: Cor Preto para fase.
A23: 10.2 | B23: Cor Vermelho, amarela e/ou Cor Branco para retorno, intermediários e paralelos.
A24: 10.3 | B24: Cor Azul para neutro.
A25: 10.4 | B25: Cor Verde, ou Cor Verde-Amarela para terra.
A26: 11 | B26: A fiação destinada ao aterramento dos pontos elétricos deverá ter sua seção igual à maior seção de fase presente no eletroduto.
A27: 12 | B27: O neutro deverá ter sua seção igual ou maior à seção de sua respectiva fase.
A28: Notas Gerais | D28: acrescer
A29: 13 | B29: A indicação da planta de traçado pode ser alterada conforme prestação de serviços do eletricista executor. | C29: Rever sempre | D29: Deverá ser observado nas plantas a indicação das alturas dos pontos de iluminação das arandelas. Podendo ser alterado conforme preferência da cliente durante a execução.
A30: 14 | B30: Deverá ser observado a indicação das legendas com as alturas dos pontos de força e quantidade de tomadas com seus respectivos acabamentos.
A31: 15 | B31: Recomenda-se para prevenir fissuras no acabamento realizar no chumbamento das caixinhas e conduítes o uso de massa forte em conjunto com tela estuque.
A32: 16 | B32: As tomadas de uso especifico (chuveiros) terão a ligação direta na caixinha, sem uso de plug macho/fêmea. | C32: Rever sempre
A33: 17 | B33: As caixas de pré instalação dos ares condicionados deverão distar no mínimo 40cm de distância do forro, para que após instalação final, a distância entre aparelho e forro será de aproximadamente 20cm. (Não deve ser menor que 15cm).
A34: 18 | B34: O cabo de aterramento de neutro deverá ser contínuo até a Haste da Terra.
A35: 19 | B35: Todas as partes metálicas não energizadas deverão ser aterradas.
A36: 20 | B36: Deixar previsto eletrodutos para posterior instalação de energia solar.
A37: 19
A38: 20
A39: 21
A40: 22
...
