Workbook

Sheet PLANILHA ORCAMENTARIA
A2: PLANILHA ORÇAMENTÁRIA DE CUSTOS – CONSTRUÇÃO TELHADO ESCOLA MUNICIPAL SÃO JOSÉ
A4: PREFEITURA: PREFEITURA MUNICIPAL DE CARMO DO CAJURU | F4: DATA: 30/10/2025
A5: OBRA: CONSTRUÇÃO TELHADO ESCOLA MUNICIPAL SÃO JOSÉ | F5: FORMA DE EXECUÇÃO:
A6: LOCAL: RUA JOAQUIM GOMES, Nº 417, DISTRITO SÃO JOSÉ DOS SALGADOS | F6: ( ) | G6: DIRETA | H6: ( X ) | I6: INDIRETA
A7: REGIÃO/MÊS DE REFERÊNCIA: SINAPI-MG 02/2026 E SETOP-MG CENTRAL 01/2026 DESONERADO
A8: PRAZO DE EXECUÇÃO: 3 MESES | F8: BDI : | H8: 0.2767
A10: ITEM | B10: CÓDIGO | C10: FONTE | D10: DESCRIÇÃO | E10: UNIDADE | F10: QUANTIDADE | G10: PREÇO UNITÁRIO S/ BDI | H10: PREÇO UNITÁRIO C/ BDI | I10: PREÇO TOTAL
A11: 1 | D11: SERVIÇOS PRELIMINARES E INSTALAÇÃO DE OBRA | I11: =SUM(I12:I14) -> 8519.86
A12: 1.1 | B12: 103689 | C12: SINAPI | D12: FORNECIMENTO E INSTALAÇÃO DE PLACA DE OBRA COM CHAPA GALVANIZADA E ESTRUTURA DE MADEIRA. AF_03/2022_PS | E12: M2 | F12: ='MEMORIA CALCULO'!F12 -> 6.48 | G12: 375.05 | H12: =ROUND(G12*(1+$H$8),2) -> 478.83 | I12: =ROUND(F12*H12,2) -> 3102.82
A13: 1.2 | B13: ED-16350 | C13: SETOP | D13: LOCAÇÃO DE CONTAINER COM ISOLAMENTO TÉRMICO, TIPO 3, PARA DEPÓSITO/FERRAMENTARIA DE OBRA, COM MEDIDAS REFERENCIAIS DE (6) METROS COMPRIMENTO, (2,3) METROS LARGURA E (2,5) METROS ALTURA ÚTIL INTERNA, INCLUSIVE LIGAÇÕES ELÉTRICAS INTERNAS, EXCLUSIVE MOBILIZAÇÃO/DESMOBILIZAÇÃO E LIGAÇÕES PROVISÓRIAS EXTERNAS | E13: MES | F13: ='MEMORIA CALCULO'!F13 -> 3 | G13: 858.58 | H13: =ROUND(G13*(1+$H$8),2) -> 1096.15 | I13: =ROUND(F13*H13,2) -> 3288.45
A14: 1.3 | B14: ED-50137 | C14: SETOP | D14: MOBILIZAÇÃO E DESMOBILIZAÇÃO DE CONTAINER, INCLUSIVE CARGA, DESCARGA E TRANSPORTE EM CAMINHÃO CARROCERIA COM GUINDAUTO (MUNCK), EXCLUSIVE LOCAÇÃO DO CONTAINER | E14: UND | F14: ='MEMORIA CALCULO'!F14 -> 1 | G14: 1667.26 | H14: =ROUND(G14*(1+$H$8),2) -> 2128.59 | I14: =ROUND(F14*H14,2) -> 2128.59
A15: 2 | D15: ADMINISTRAÇÃO LOCAL | I15: =SUM(I16) -> 2027.16
A16: 2.1 | B16: 90777 | C16: SINAPI | D16: ENGENHEIRO CIVIL DE OBRA JUNIOR COM ENCARGOS COMPLEMENTARES | E16: H | F16: ='MEMORIA CALCULO'!F16 -> 12 | G16: 132.32 | H16: =ROUND(G16*(1+$H$8),2) -> 168.93 | I16: =ROUND(F16*H16,2) -> 2027.16
A17: 3 | D17: DEMOLIÇÃO E REMOÇÃO | I17: =SUM(I18:I21) -> 4372.6452
A18: 3.1 | B18: ED-48442 | C18: SETOP | D18: DEMOLIÇÃO MECANIZADA DE CONCRETO, SEM ARMAÇÃO, COM EQUIPAMENTO ELÉTRICO, INCLUSIVE AFASTAMENTO E EMPILHAMENTO, EXCLUSIVE TRANSPORTE E RETIRADA DO MATERIAL DEMOLIDO | E18: M³ | F18: ='MEMORIA CALCULO'!F18 -> 13.06204 | G18: 177.35 | H18: =ROUND(G18*(1+$H$8),2) -> 226.42 | I18: =13.06*226.42 -> 2957.0452
A19: 3.2 | B19: 96527 | C19: SINAPI | D19: ESCAVAÇÃO MANUAL PARA VIGA BALDRAME OU SAPATA CORRIDA (INCLUINDO ESCAVAÇÃO PARA COLOCAÇÃO DE FÔRMAS). AF_01/2024 | E19: M³ | F19: ='MEMORIA CALCULO'!F19 -> 6.17 | G19: 114.67 | H19: =ROUND(G19*(1+$H$8),2) -> 146.4 | I19: =ROUND(F19*H19,2) -> 903.29
A20: 3.3 | B20: 101616 | C20: SINAPI | D20: PREPARO DE FUNDO DE VALA COM LARGURA MENOR QUE 1,5 M (ACERTO DO SOLO NATURAL). AF_08/2020 | E20: M² | F20: ='MEMORIA CALCULO'!F20 -> 30.84 | G20: 8.32 | H20: =ROUND(G20*(1+$H$8),2) -> 10.62 | I20: =ROUND(F20*H20,2) -> 327.52
A21: 3.4 | B21: 104737 | C21: SINAPI | D21: REATERRO MANUAL DE VALAS, COM PLACA VIBRATÓRIA. AF_08/2023 | E21: M³ | F21: ='MEMORIA CALCULO'!F21 -> 6.17 | G21: 23.46 | H21: =ROUND(G21*(1+$H$8),2) -> 29.95 | I21: =ROUND(F21*H21,2) -> 184.79
A22: 4 | D22: FUNDAÇÃO | I22: =SUM(I23:I32) -> 47592.535
A23: 4.1 | B23: 101113 | C23: SINAPI | D23: ALARGAMENTO DE BASE DE TUBULÃO A CÉU ABERTO, ESCAVAÇÃO MANUAL, CONCRETO USINADO E LANÇADO COM BOMBA OU DIRETAMENTE DO CAMINHÃO (EXCLUSIVE BOMBEAMENTO). AF_05/2020 | E23: M³ | F23: ='MEMORIA CALCULO'!F23 -> 5.0473433 | G23: 1059.78 | H23: =ROUND(G23*(1+$H$8),2) -> 1353.02 | I23: =5.05*1353.02 -> 6832.751
A24: 4.2 | B24: 101105 | C24: SINAPI | D24: TUBULÃO A CÉU ABERTO, DIÂMETRO DO FUSTE DE 80CM, ESCAVAÇÃO MANUAL, SEM ALARGAMENTO DE BASE, CONCRETO USINADO E LANÇADO COM BOMBA OU DIRETAMENTE DO CAMINHÃO (EXCLUSIVE BOMBEAMENTO). AF_05/2020 | E24: M³ | F24: =((3.1415*(0.4*0.4)*1.45)*10) -> 7.28828 | G24: 1377.35 | H24: =ROUND(G24*(1+$H$8),2) -> 1758.46 | I24: =7.29*1758.46 -> 12819.173
A25: 4.3 | B25: 103673 | C25: SINAPI | D25: LANÇAMENTO COM USO DE BOMBA, ADENSAMENTO E ACABAMENTO DE CONCRETO EM ESTRUTURAS. AF_02/2022 | E25: M³ | F25: 7.29 | G25: 45.94 | H25: =ROUND(G25*(1+$H$8),2) -> 58.65 | I25: =ROUND(F25*H25,2) -> 427.56
A26: 4.4 | B26: 104108 | C26: SINAPI | D26: ARMAÇÃO DE PILAR OU VIGA DE ESTRUTURA DE CONCRETO ARMADO EMBUTIDA EM ALVENARIA DE VEDAÇÃO UTILIZANDO AÇO CA-50 DE 10,0 MM - MONTAGEM. AF_06/2022 | E26: KG | F26: ='MEMORIA CALCULO'!F26 -> 34.5 | G26: 12.24 | H26: =ROUND(G26*(1+$H$8),2) -> 15.63 | I26: =ROUND(F26*H26,2) -> 539.24
A27: 4.5 | B27: 92800 | C27: SINAPI | D27: CORTE E DOBRA DE AÇO CA-60, DIÂMETRO DE 5,0 MM. AF_06/2022 (ESTRIBOS BALDRAME+PILAR/TUBULÃO) | E27: KG | F27: ='MEMORIA CALCULO'!F27 -> 92.6 | G27: 9.3 | H27: =ROUND(G27*(1+$H$8),2) -> 11.87 | I27: =ROUND(F27*H27,2) -> 1099.16
A28: 4.6 | B28: 104920 | C28: SINAPI | D28: ARMAÇÃO DE BLOCO, SAPATA ISOLADA, VIGA BALDRAME E SAPATA CORRIDA UTILIZANDO AÇO CA-50 DE 12,5 MM - MONTAGEM. AF_01/2024 | E28: KG | F28: ='MEMORIA CALCULO'!F28 -> 499.7 | G28: 10.25 | H28: =ROUND(G28*(1+$H$8),2) -> 13.09 | I28: =ROUND(F28*H28,2) -> 6541.07
A29: 4.7 | B29: 104919 | C29: SINAPI | D29: ARMAÇÃO DE SAPATA ISOLADA, VIGA BALDRAME E SAPATA CORRIDA UTILIZANDO AÇO CA-50 DE 10 MM – MONTAGEM. AF_01/2024 | E29: KG | F29: ='MEMORIA CALCULO'!F29 -> 59.6 | G29: 12.15 | H29: =ROUND(G29*(1+$H$8),2) -> 15.51 | I29: =ROUND(F29*H29,2) -> 924.4
A30: 4.8 | B30: 96539 | C30: SINAPI | D30: FABRICAÇÃO, MONTAGEM E DESMONTAGEM DE FÔRMA PARA VIGA BALDRAME, EM CHAPA DE MADEIRA COMPENSADA RESINADA, E=17 MM, 2 UTILIZAÇÕES. AF_01/2024 | E30: M2 | F30: ='MEMORIA CALCULO'!F30 -> 61.692 | G30: 135.01 | H30: =ROUND(G30*(1+$H$8),2) -> 172.37 | I30: =61.69*172.37 -> 10633.505
A31: 4.9 | B31: 96557 | C31: SINAPI | D31: CONCRETAGEM DE BLOCO DE COROAMENTO OU VIGA BALDRAME, FCK 30 MPA, COM USO DE BOMBA – LANÇAMENTO, ADENSAMENTO E ACABAMENTO. AF_01/2024 | E31: M3 | F31: ='MEMORIA CALCULO'!F31 -> 6.64 | G31: 785.13 | H31: =ROUND(G31*(1+$H$8),2) -> 1002.38 | I31: =ROUND(F31*H31,2) -> 6655.8
A32: 4.10 | B32: 97096 | C32: SINAPI | D32: CONCRETAGEM DE RADIER, PISO DE CONCRETO OU LAJE SOBRE SOLO, FCK 30 MPA – LANÇAMENTO, ADENSAMENTO E ACABAMENTO. AF_09/2021 | E32: M3 | F32: ='MEMORIA CALCULO'!F32 -> 1.28992 | G32: 679.97 | H32: =ROUND(G32*(1+$H$8),2) -> 868.12 | I32: =1.29*868.12 -> 1119.8748
A33: 5 | D33: COBERTURA | I33: =SUM(I34:I38) -> 279530.75
A34: 5.1 | B34: ED-48402 | C34: SETOP | D34: CUMEEIRA GALVANIZADA TRAPEZOIDAL, TIPO SIMPLES, ESP. 0,50MM, ACABAMENTO NATURAL, INCLUSIVE ACESSÓRIOS PARA FIXAÇÃO, FORNECIMENTO, INSTALAÇÃO E IÇAMENTO MANUAL VERTICAL | E34: M | F34: ='MEMORIA CALCULO'!F34 -> 23.18 | G34: 79.43 | H34: =ROUND(G34*(1+$H$8),2) -> 101.41 | I34: =ROUND(F34*H34,2) -> 2350.68
A35: 5.2 | B35: ED-20577 | C35: SETOP | D35: FORNECIMENTO DE ESTRUTURA METÁLICA E ENGRADAMENTO METÁLICO PARA TELHADO DE QUADRA POLIESPORTIVA EM AÇO, COBERTURA PADRÃO DO GINÁSIO POLIESPORTIVO, EXCLUSIVE TELHA, INCLUSIVE PILAR METÁLICO, FABRICAÇÃO, TRANSPORTE, MONTAGEM, APLICAÇÃO DE FUNDO PREPARADOR ANTICORROSIVO, UMA (1) DEMÃO E PINTURA ESMALTE, DUAS (2) DEMÃOS | E35: M2 | F35: ='MEMORIA CALCULO'!F35 -> 417.24 | G35: 406.03 | H35: =ROUND(G35*(1+$H$8),2) -> 518.38 | I35: =ROUND(F35*H35,2) -> 216288.87
A36: 5.3 | B36: 94228 | C36: SINAPI | D36: CALHA EM CHAPA DE AÇO GALVANIZADO NÚMERO 24, DESENVOLVIMENTO DE 50 CM, INCLUSO TRANSPORTE VERTICAL. AF_07/2019 | E36: M | F36: ='MEMORIA CALCULO'!F36 -> 46.36 | G36: 97.87 | H36: =ROUND(G36*(1+$H$8),2) -> 124.95 | I36: =ROUND(F36*H36,2) -> 5792.68
A37: 5.4 | B37: 100327 | C37: SINAPI | D37: RUFO EXTERNO/INTERNO EM CHAPA DE AÇO GALVANIZADO NÚMERO 26, CORTE DE 33 CM, INCLUSO IÇAMENTO. AF_07/2019 | E37: M | F37: ='MEMORIA CALCULO'!F37 -> 33.08 | G37: 65.15 | H37: =ROUND(G37*(1+$H$8),2) -> 83.18 | I37: =ROUND(F37*H37,2) -> 2751.59
A38: 5.5 | B38: ED-48428 | C38: SETOP | D38: COBERTURA EM TELHA METÁLICA GALVANIZADA TRAPEZOIDAL, TIPO SIMPLES, ESP. 0,50MM, ACABAMENTO NATURAL, INCLUSIVE ACESSÓRIOS PARA FIXAÇÃO, FORNECIMENTO E INSTALAÇÃO | E38: M2 | F38: ='MEMORIA CALCULO'!F38 -> 417.24 | G38: 98.27 | H38: =ROUND(G38*(1+$H$8),2) -> 125.46 | I38: =ROUND(F38*H38,2) -> 52346.93
A39: 6 | D39: HIDRÁULICO PLUVIAL | I39: =SUM(I40:I44) -> 4694.69
A40: 6.1 | B40: 89512 | C40: SINAPI | D40: TUBO PVC, SÉRIE R, ÁGUA PLUVIAL, DN 100 MM, FORNECIDO E INSTALADO EM RAMAL DE ENCAMINHAMENTO. AF_06/2022 | E40: M | F40: ='MEMORIA CALCULO'!F40 -> 56.17 | G40: 52.53 | H40: =ROUND(G40*(1+$H$8),2) -> 67.07 | I40: =ROUND(F40*H40,2) -> 3767.32
A41: 6.2 | B41: 95694 | C41: SINAPI | D41: CURVA 90 GRAUS, PVC, SERIE R, ÁGUA PLUVIAL, DN 100 MM, JUNTA ELÁSTICA, FORNECIDO E INSTALADO EM RAMAL DE ENCAMINHAMENTO. AF_06/2022 | E41: UN | F41: ='MEMORIA CALCULO'!F41 -> 2 | G41: 54.12 | H41: =ROUND(G41*(1+$H$8),2) -> 69.1 | I41: =ROUND(F41*H41,2) -> 138.2
A42: 6.3 | B42: 99250 | C42: SINAPI | D42: CAIXA ENTERRADA HIDRÁULICA RETANGULAR EM ALVENARIA COM TIJOLOS CERÂMICOS MACIÇOS, DIMENSÕES INTERNAS: 0,3X0,3X0,3 M PARA REDE DE DRENAGEM. AF_12/2020 | E42: UN | F42: ='MEMORIA CALCULO'!F42 -> 1 | G42: 201.4 | H42: =ROUND(G42*(1+$H$8),2) -> 257.13 | I42: =ROUND(F42*H42,2) -> 257.13
A43: 6.4 | B43: 89693 | C43: SINAPI | D43: TÊ, PVC, SERIE R, ÁGUA PLUVIAL, DN 100 X 100 MM, JUNTA ELÁSTICA, FORNECIDO E INSTALADO EM CONDUTORES VERTICAIS DE ÁGUAS PLUVIAIS. AF_06/2022 | E43: UN | F43: ='MEMORIA CALCULO'!F43 -> 4 | G43: 81.22 | H43: =ROUND(G43*(1+$H$8),2) -> 103.69 | I43: =ROUND(F43*H43,2) -> 414.76
A44: 6.5 | B44: 89671 | C44: SINAPI | D44: LUVA DE CORRER, PVC, SERIE R, ÁGUA PLUVIAL, DN 100 MM, JUNTA ELÁSTICA, FORNECIDO E INSTALADO EM CONDUTORES VERTICAIS DE ÁGUAS PLUVIAIS. AF_06/2022 | E44: UN | F44: ='MEMORIA CALCULO'!F44 -> 2 | G44: 45.93 | H44: =ROUND(G44*(1+$H$8),2) -> 58.64 | I44: =ROUND(F44*H44,2) -> 117.28
A45: 7 | D45: SERVIÇOS ELÉTRICOS | I45: =SUM(I46:I56) -> 3874.1
A46: 7.1 | B46: CPU-01 | C46: COMPOSIÇÃO | D46: ='COMPOSICAO PRECO UNITARIO'!C11 -> TAMPA CEGA EM PVC PARA CONDULETE 4 X 2"; INCLUSO FORNECIMENTO E INSTALÇÃO | E46: UN | F46: ='MEMORIA CALCULO'!F46 -> 6 | G46: ='COMPOSICAO PRECO UNITARIO'!G16 -> 14.02 | H46: =ROUND(G46*(1+$H$8),2) -> 17.9 | I46: =ROUND(F46*H46,2) -> 107.4
A47: 7.2 | B47: 104404 | C47: SINAPI | D47: CONDULETE DE PVC, TIPO T, PARA ELETRODUTO DE PVC SOLDÁVEL DN 25 MM (3/4''), APARENTE – FORNECIMENTO E INSTALAÇÃO. AF_10/2022 | E47: UN | F47: ='MEMORIA CALCULO'!F47 -> 1 | G47: 30.09 | H47: =ROUND(G47*(1+$H$8),2) -> 38.42 | I47: =ROUND(F47*H47,2) -> 38.42
A48: 7.3 | B48: 104396 | C48: SINAPI | D48: CONDULETE DE PVC, TIPO E, PARA ELETRODUTO DE PVC SOLDÁVEL DN 25 MM (3/4''), APARENTE – FORNECIMENTO E INSTALAÇÃO. AF_10/2022 | E48: UN | F48: ='MEMORIA CALCULO'!F48 -> 2 | G48: 21.32 | H48: =ROUND(G48*(1+$H$8),2) -> 27.22 | I48: =ROUND(F48*H48,2) -> 54.44
A49: 7.4 | B49: 104402 | C49: SINAPI | D49: CONDULETE DE PVC, TIPO C, PARA ELETRODUTO DE PVC SOLDÁVEL DN 25 MM (3/4''), APARENTE – FORNECIMENTO E INSTALAÇÃO. AF_10/2022 | E49: UN | F49: ='MEMORIA CALCULO'!F49 -> 4 | G49: 24.26 | H49: =ROUND(G49*(1+$H$8),2) -> 30.97 | I49: =ROUND(F49*H49,2) -> 123.88
A50: 7.5 | B50: 91871 | C50: SINAPI | D50: ELETRODUTO RÍGIDO ROSCÁVEL, PVC, DN 25 MM (3/4"), PARA CIRCUITOS TERMINAIS, INSTALADO EM PAREDE - FORNECIMENTO E INSTALAÇÃO. AF_03/2023 | E50: M | F50: ='MEMORIA CALCULO'!F50 -> 52.61 | G50: 15.64 | H50: =ROUND(G50*(1+$H$8),2) -> 19.97 | I50: =ROUND(F50*H50,2) -> 1050.62
A51: 7.6 | B51: 91926 | C51: SINAPI | D51: CABO DE COBRE FLEXÍVEL ISOLADO, 2,5 MM², ANTI-CHAMA 450/750 V, PARA CIRCUITOS TERMINAIS – FORNECIMENTO E INSTALAÇÃO. AF_03/2023 | E51: M | F51: ='MEMORIA CALCULO'!F51 -> 52.61 | G51: 4.97 | H51: =ROUND(G51*(1+$H$8),2) -> 6.35 | I51: =ROUND(F51*H51,2) -> 334.07
A52: 7.7 | B52: 93661 | C52: SINAPI | D52: DISJUNTOR BIPOLAR TIPO DIN, CORRENTE NOMINAL DE 16A - FORNECIMENTO E INSTALAÇÃO. AF_10/2020 | E52: UN | F52: ='MEMORIA CALCULO'!F52 -> 1 | G52: 67.85 | H52: =ROUND(G52*(1+$H$8),2) -> 86.62 | I52: =ROUND(F52*H52,2) -> 86.62
A53: 7.8 | B53: 101875 | C53: SINAPI | D53: QUADRO DE DISTRIBUIÇÃO DE ENERGIA EM CHAPA DE AÇO GALVANIZADO, DE EMBUTIR, COM BARRAMENTO TRIFÁSICO, PARA 12 DISJUNTORES DIN 100A - FORNECIMENTO E INSTALAÇÃO. AF_10/2020 | E53: UN | F53: ='MEMORIA CALCULO'!F53 -> 1 | G53: 441.58 | H53: =ROUND(G53*(1+$H$8),2) -> 563.77 | I53: =ROUND(F53*H53,2) -> 563.77
A54: 7.9 | B54: ED-22350 | C54: SETOP | D54: REFLETOR DE LED, POTÊNCIA DE 200W, EXCLUSIVE SUPORTE E POSTE | E54: UN | F54: ='MEMORIA CALCULO'!F54 -> 6 | G54: 167.07 | H54: =ROUND(G54*(1+$H$8),2) -> 213.3 | I54: =ROUND(F54*H54,2) -> 1279.8
A55: 7.10 | B55: 91884 | C55: SINAPI | D55: LUVA PARA ELETRODUTO, PVC, ROSCÁVEL, DN 25 MM (3/4"), PARA CIRCUITOS TERMINAIS, INSTALADA EM PAREDE - FORNECIMENTO E INSTALAÇÃO. AF_03/2023 | E55: UN | F55: ='MEMORIA CALCULO'!F55 -> 11 | G55: 12.99 | H55: =ROUND(G55*(1+$H$8),2) -> 16.58 | I55: =ROUND(F55*H55,2) -> 182.38
A56: 7.11 | B56: 91914 | C56: SINAPI | D56: CURVA 90 GRAUS PARA ELETRODUTO, PVC, ROSCÁVEL, DN 25 MM (3/4"), PARA CIRCUITOS TERMINAIS, INSTALADA EM PAREDE - FORNECIMENTO E INSTALAÇÃO. AF_03/2023 | E56: UN | F56: ='MEMORIA CALCULO'!F56 -> 2 | G56: 20.64 | H56: =ROUND(G56*(1+$H$8),2) -> 26.35 | I56: =ROUND(F56*H56,2) -> 52.7
A57: ='MEMORIA CALCULO'!A57 -> 8 | D57: ='MEMORIA CALCULO'!D57 -> SISTEMA DE PROTEÇÃO CONTRA DESCARGAS | I57: =SUM(I58:I68) -> 6991.66
A58: 8.1 | B58: ='MEMORIA CALCULO'!B58 -> 96985 | C58: ='MEMORIA CALCULO'!C58 -> SINAPI | D58: ='MEMORIA CALCULO'!D58 -> HASTE DE ATERRAMENTO, DIÂMETRO 5/8", COM 3 METROS - FORNECIMENTO E INSTALAÇÃO. AF_08/2023 | E58: ='MEMORIA CALCULO'!E58 -> UN | F58: ='MEMORIA CALCULO'!F58 -> 4 | G58: 96.77 | H58: =ROUND(G58*(1+$H$8),2) -> 123.55 | I58: =ROUND(F58*H58,2) -> 494.2
A59: 8.2 | B59: ='MEMORIA CALCULO'!B59 -> ED-51054 | C59: ='MEMORIA CALCULO'!C59 -> SETOP | D59: ='MEMORIA CALCULO'!D59 -> CAIXA DE EQUALIZAÇÃO PARA USO INTERNO E EXTERNO COM 9 TERMINAIS 380X320X175MM EM AÇO E ACABAMENTO EM EPOXI | E59: ='MEMORIA CALCULO'!E59 -> UN | F59: ='MEMORIA CALCULO'!F59 -> 1 | G59: 641.58 | H59: =ROUND(G59*(1+$H$8),2) -> 819.11 | I59: =ROUND(F59*H59,2) -> 819.11
A60: 8.3 | B60: ='MEMORIA CALCULO'!B60 -> 96973 | C60: ='MEMORIA CALCULO'!C60 -> SINAPI | D60: ='MEMORIA CALCULO'!D60 -> CORDOALHA DE COBRE NU 35 MM², NÃO ENTERRADA, COM ISOLADOR - FORNECIMENTO E INSTALAÇÃO. AF_08/2023 | E60: ='MEMORIA CALCULO'!E60 -> M | F60: ='MEMORIA CALCULO'!F60 -> 16 | G60: 78.1 | H60: =ROUND(G60*(1+$H$8),2) -> 99.71 | I60: =ROUND(F60*H60,2) -> 1595.36
A61: 8.4 | B61: ='MEMORIA CALCULO'!B61 -> 96974 | C61: ='MEMORIA CALCULO'!C61 -> SINAPI | D61: ='MEMORIA CALCULO'!D61 -> CORDOALHA DE COBRE NU 50 MM², NÃO ENTERRADA, COM ISOLADOR - FORNECIMENTO E INSTALAÇÃO. AF_08/2023 | E61: ='MEMORIA CALCULO'!E61 -> M | F61: ='MEMORIA CALCULO'!F61 -> 21 | G61: 101.35 | H61: =ROUND(G61*(1+$H$8),2) -> 129.39 | I61: =ROUND(F61*H61,2) -> 2717.19
A62: 8.5 | B62: ='MEMORIA CALCULO'!B62 -> 93008 | C62: ='MEMORIA CALCULO'!C62 -> SINAPI | D62: ='MEMORIA CALCULO'!D62 -> ELETRODUTO RÍGIDO ROSCÁVEL, PVC, DN 50 MM (1 1/2"), PARA REDE ENTERRADA DE DISTRIBUIÇÃO DE ENERGIA ELÉTRICA - FORNECIMENTO E INSTALAÇÃO. AF_12/2021 | E62: ='MEMORIA CALCULO'!E62 -> M | F62: ='MEMORIA CALCULO'!F62 -> 16 | G62: 19.62 | H62: =ROUND(G62*(1+$H$8),2) -> 25.05 | I62: =ROUND(F62*H62,2) -> 400.8
A63: 8.6 | B63: ='MEMORIA CALCULO'!B63 -> 93358 | C63: ='MEMORIA CALCULO'!C63 -> SINAPI | D63: ='MEMORIA CALCULO'!D63 -> ESCAVAÇÃO MANUAL DE VALA. AF_09/2024 | E63: ='MEMORIA CALCULO'!E63 -> M³ | F63: ='MEMORIA CALCULO'!F63 -> 2.22 | G63: 93.27 | H63: =ROUND(G63*(1+$H$8),2) -> 119.08 | I63: =ROUND(F63*H63,2) -> 264.36
A64: 8.7 | B64: ='MEMORIA CALCULO'!B64 -> 93382 | C64: ='MEMORIA CALCULO'!C64 -> SINAPI | D64: ='MEMORIA CALCULO'!D64 -> REATERRO MANUAL DE VALAS, COM COMPACTADOR DE SOLOS DE PERCUSSÃO. AF_08/2023 | E64: ='MEMORIA CALCULO'!E64 -> M³ | F64: ='MEMORIA CALCULO'!F64 -> 2.22 | G64: 29.27 | H64: =ROUND(G64*(1+$H$8),2) -> 37.37 | I64: =ROUND(F64*H64,2) -> 82.96
A65: 8.8 | B65: ='MEMORIA CALCULO'!B65 -> 98111 | C65: ='MEMORIA CALCULO'!C65 -> SINAPI | D65: ='MEMORIA CALCULO'!D65 -> CAIXA DE INSPEÇÃO PARA ATERRAMENTO, CIRCULAR, EM POLIETILENO, DIÂMETRO INTERNO = 0,3 M. AF_12/2020 | E65: ='MEMORIA CALCULO'!E65 -> UN | F65: ='MEMORIA CALCULO'!F65 -> 4 | G65: 57.98 | H65: =ROUND(G65*(1+$H$8),2) -> 74.02 | I65: =ROUND(F65*H65,2) -> 296.08
A66: 8.9 | B66: ='MEMORIA CALCULO'!B66 -> MATED-12520 | C66: ='MEMORIA CALCULO'!C66 -> SETOP | D66: ='MEMORIA CALCULO'!D66 -> CONECTOR PARA HASTE DE ATERRAMENTO (DIÂMETRO: 5/8"-3/4"|DIÂMETRO DO CONDUTOR: 10-50MM2) | E66: ='MEMORIA CALCULO'!E66 -> UN | F66: ='MEMORIA CALCULO'!F66 -> 4 | G66: 14.2 | H66: =ROUND(G66*(1+$H$8),2) -> 18.13 | I66: =ROUND(F66*H66,2) -> 72.52
A67: 8.10 | B67: ='MEMORIA CALCULO'!B67 -> 98463 | C67: ='MEMORIA CALCULO'!C67 -> SINAPI | D67: ='MEMORIA CALCULO'!D67 -> SUPORTE ISOLADOR PARA FIXAÇÃO DA CORDOALHA DE COBRE EM ALVENARIA OU CONCRETO - FORNECIMENTO E INSTALAÇÃO. AF_08/2023 | E67: ='MEMORIA CALCULO'!E67 -> UN | F67: ='MEMORIA CALCULO'!F67 -> 4 | G67: 27.75 | H67: =ROUND(G67*(1+$H$8),2) -> 35.43 | I67: =ROUND(F67*H67,2) -> 141.72
A68: 8.11 | B68: ='MEMORIA CALCULO'!B68 -> ED-51090 | C68: ='MEMORIA CALCULO'!C68 -> SETOP | D68: ='MEMORIA CALCULO'!D68 -> TERMINAL A COMPRESSAO EM COBRE ESTANHADO 2 FUROS PARA CABO 35 MM2 | E68: ='MEMORIA CALCULO'!E68 -> UN | F68: ='MEMORIA CALCULO'!F68 -> 4 | G68: 21.02 | H68: =ROUND(G68*(1+$H$8),2) -> 26.84 | I68: =ROUND(F68*H68,2) -> 107.36
A69: 9 | D69: SERVIÇOS FINAIS | I69: =SUM(I70) -> 4585.47
A70: 9.1 | B70: ED-50266 | C70: SETOP | D70: LIMPEZA FINAL PARA ENTREGA DA OBRA | E70: M2 | F70: ='MEMORIA CALCULO'!F70 -> 417.24 | G70: 8.61 | H70: =ROUND(G70*(1+$H$8),2) -> 10.99 | I70: =ROUND(F70*H70,2) -> 4585.47
A71: TOTAL GERAL | I71: =I11+I15+I17+I22+I33+I39+I45+I57+I69 -> 362188.87
D75: __________________________________
D76: BIANCA FERREIRA DO CARMO ENGENHEIRA CIVIL - CREA MG 238.429/D
D82: __________________________________
D83: VINICIUS ALVES CAMARGOS PREFEITO DE CARMO DO CAJURU-MG

Sheet MEMORIA CALCULO
A2: MEMÓRIA DE CÁLCULOS– CONSTRUÇÃO TELHADO ESCOLA MUNICIPAL SÃO JOSÉ
A4: PREFEITURA: PREFEITURA MUNICIPAL DE CARMO DO CAJURU | F4: DATA: 30/10/2025
A5: OBRA: CONSTRUÇÃO TELHADO ESCOLA MUNICIPAL SÃO JOSÉ | F5: FORMA DE EXECUÇÃO:
A6: LOCAL: RUA JOAQUIM GOMES, Nº 417, DISTRITO SÃO JOSÉ DOS SALGADOS | F6: ( ) | G6: DIRETA | H6: ( X ) | I6: INDIRETA
A7: ='PLANILHA ORCAMENTARIA'!A7 -> REGIÃO/MÊS DE REFERÊNCIA: SINAPI-MG 02/2026 E SETOP-MG CENTRAL 01/2026 DESONERADO
A8: PRAZO DE EXECUÇÃO: 3 MESES | F8: BDI : | H8: ='PLANILHA ORCAMENTARIA'!H8 -> 0.2767
A10: ITEM | B10: CÓDIGO | C10: FONTE | D10: DESCRIÇÃO | E10: UNIDADE | F10: QUANTIDADE | G10: MEMÓRIA DE CÁLCULO
A11: 1 | D11: ='PLANILHA ORCAMENTARIA'!D11 -> SERVIÇOS PRELIMINARES E INSTALAÇÃO DE OBRA
A12: ='PLANILHA ORCAMENTARIA'!A12 -> 1.1 | B12: ='PLANILHA ORCAMENTARIA'!B12 -> 103689 | C12: ='PLANILHA ORCAMENTARIA'!C12 -> SINAPI | D12: ='PLANILHA ORCAMENTARIA'!D12 -> FORNECIMENTO E INSTALAÇÃO DE PLACA DE OBRA COM CHAPA GALVANIZADA E ESTRUTURA DE MADEIRA. AF_03/2022_PS | E12: ='PLANILHA ORCAMENTARIA'!E12 -> M2 | F12: 6.48 | G12: 1,80x3,60= 6,48 M²
A13: ='PLANILHA ORCAMENTARIA'!A13 -> 1.2 | B13: ='PLANILHA ORCAMENTARIA'!B13 -> ED-16350 | C13: ='PLANILHA ORCAMENTARIA'!C13 -> SETOP | D13: ='PLANILHA ORCAMENTARIA'!D13 -> LOCAÇÃO DE CONTAINER COM ISOLAMENTO TÉRMICO, TIPO 3, PARA DEPÓSITO/FERRAMENTARIA DE OBRA, COM MEDIDAS REFERENCIAIS DE (6) METROS COMPRIMENTO, (2,3) METROS LARGURA E (2,5) METROS ALTURA ÚTIL INTERNA, INCLUSIVE LIGAÇÕES ELÉTRICAS INTERNAS, EXCLUSIVE MOBILIZAÇÃO/DESMOBILIZAÇÃO E LIGAÇÕES PROVISÓRIAS EXTERNAS | E13: ='PLANILHA ORCAMENTARIA'!E13 -> MES | F13: 3 | G13: 3 meses
A14: ='PLANILHA ORCAMENTARIA'!A14 -> 1.3 | B14: ='PLANILHA ORCAMENTARIA'!B14 -> ED-50137 | C14: ='PLANILHA ORCAMENTARIA'!C14 -> SETOP | D14: ='PLANILHA ORCAMENTARIA'!D14 -> MOBILIZAÇÃO E DESMOBILIZAÇÃO DE CONTAINER, INCLUSIVE CARGA, DESCARGA E TRANSPORTE EM CAMINHÃO CARROCERIA COM GUINDAUTO (MUNCK), EXCLUSIVE LOCAÇÃO DO CONTAINER | E14: ='PLANILHA ORCAMENTARIA'!E14 -> UND | F14: 1 | G14: 1 unidade
A15: ='PLANILHA ORCAMENTARIA'!A15 -> 2 | D15: ='PLANILHA ORCAMENTARIA'!D15 -> ADMINISTRAÇÃO LOCAL
A16: ='PLANILHA ORCAMENTARIA'!A16 -> 2.1 | B16: ='PLANILHA ORCAMENTARIA'!B16 -> 90777 | C16: ='PLANILHA ORCAMENTARIA'!C16 -> SINAPI | D16: ='PLANILHA ORCAMENTARIA'!D16 -> ENGENHEIRO CIVIL DE OBRA JUNIOR COM ENCARGOS COMPLEMENTARES | E16: ='PLANILHA ORCAMENTARIA'!E16 -> H | F16: =1*4*3 -> 12 | G16: 1 h/semana * 4 semanas/mês * 3 mês = 12 h
A17: ='PLANILHA ORCAMENTARIA'!A17 -> 3 | D17: ='PLANILHA ORCAMENTARIA'!D17 -> DEMOLIÇÃO E REMOÇÃO
A18: ='PLANILHA ORCAMENTARIA'!A18 -> 3.1 | B18: ED-48442 | C18: SETOP | D18: DEMOLIÇÃO MECANIZADA DE CONCRETO, SEM ARMAÇÃO, COM EQUIPAMENTO ELÉTRICO, INCLUSIVE AFASTAMENTO E EMPILHAMENTO, EXCLUSIVE TRANSPORTE E RETIRADA DO MATERIAL DEMOLIDO | E18: M³ | F18: =(5*(3.1415*0.5^0.5)*0.05+5*(3.1415*0.5^0.5)*0.45)+(18.87*0.4*0.2+2.49*0.4*0.2+3.3*0.8*0.2+2.57*1.2*0.2+3.5*0.8*0.2+15.75*0.8*0.2+15.75*0.5*0.2) -> 13.06204 | G18: Demolição para o tubulão = 5 * (π*0,50²)*0,05 + 5 * (π*0,50²)*0,45 = 5,55 m³ Demolição para viga baldrame = 18,87*0,40*0,20 + 2,49*0,4*0,2 + 3,3*0,8*0,2 + 2,57*1,2*0,2 + 3,5*0,8*0,2 + 15,75*0,8*0,2 + 15,75*0,5*0,2 = 7,51 m³ Demolição total =5,55+7,51= 13,06m³
A19: ='PLANILHA ORCAMENTARIA'!A19 -> 3.2 | B19: 96527 | C19: SINAPI | D19: ESCAVAÇÃO MANUAL PARA VIGA BALDRAME OU SAPATA CORRIDA (INCLUINDO ESCAVAÇÃO PARA COLOCAÇÃO DE FÔRMAS). AF_01/2024 | E19: M³ | F19: =3.02+3.15 -> 6.17 | G19: Viga 1 = Viga 3 = 18,87*0,20*0,40*2 = 3,02 m³ Viga 4 = Viga 2 = 15,75*0,20*0,50*2 = 3,15 m³ Total = 3,02+3,15 = 6,17 m³
A20: ='PLANILHA ORCAMENTARIA'!A20 -> 3.3 | B20: 101616 | C20: SINAPI | D20: PREPARO DE FUNDO DE VALA COM LARGURA MENOR QUE 1,5 M (ACERTO DO SOLO NATURAL). AF_08/2020 | E20: M² | F20: 30.84 | G20: Viga 1 = Viga 3 = 18,87*0,40*2 = 15,09 m³ Viga 4 = Viga 2 = 15,75*0,50*2 = 15,75 m³ Total =15,09+15,75=30,84
A21: ='PLANILHA ORCAMENTARIA'!A21 -> 3.4 | B21: 104737 | C21: SINAPI | D21: REATERRO MANUAL DE VALAS, COM PLACA VIBRATÓRIA. AF_08/2023 | E21: M³ | F21: 6.17 | G21: Viga 1 = Viga 3 = 18,87*0,20*0,40*2 = 3,02 m³ Viga 4 = Viga 2 = 15,75*0,20*0,50*2 = 3,15 m³ Total = 3,02+3,15 = 6,17 m³
A22: ='PLANILHA ORCAMENTARIA'!A22 -> 4 | D22: ='PLANILHA ORCAMENTARIA'!D22 -> FUNDAÇÃO
A23: 4.1 | B23: 101113 | C23: SINAPI | D23: ALARGAMENTO DE BASE DE TUBULÃO A CÉU ABERTO, ESCAVAÇÃO MANUAL, CONCRETO USINADO E LANÇADO COM BOMBA OU DIRETAMENTE DO CAMINHÃO (EXCLUSIVE BOMBEAMENTO). AF_05/2020 | E23: M3 | F23: =((((1/3)*3.1415*0.35)*(0.4*0.4+0.6*0.6+0.6*0.4))*10)+(10*(3.1415*0.6*0.6)*0.2) -> 5.0473433 | G23: Alargamento (troco) V= 1/3*π*h(r²+Rr²+R*r)= ((1/3*π*0,35)*(0,40²+0,60²+0,60*0,40))*10 = 2,79 m³ Volume da Base 10*(π*0,60²)*0,20 = 2,26 m³ Alargamento total =5,05 m³
A24: 4.2 | B24: 101105 | C24: SINAPI | D24: TUBULÃO A CÉU ABERTO, DIÂMETRO DO FUSTE DE 80CM, ESCAVAÇÃO MANUAL, SEM ALARGAMENTO DE BASE, CONCRETO USINADO E LANÇADO COM BOMBA OU DIRETAMENTE DO CAMINHÃO (EXCLUSIVE BOMBEAMENTO). AF_05/2020 | E24: M3 | F24: =((3.1415*(0.4*0.4)*1.45)*10) -> 7.28828 | G24: Volume Fuste V=(3,1415*(0,4*0,4)*1,45)*10
A25: 4.3 | B25: RO-00615 | C25: SETOP | D25: LANÇAMENTO MECÂNICO DE CONCRETO USINADO EM CENTRAL DOSADORA DE 40 M³/H COM BOMBA LANÇA SOBRE CHASSI COM CAPACIDADE DE 50 M³/H | E25: M³ | F25: 7.29 | G25: Volume Fuste V=(3,1415*(0,4*0,4)*1,45)*11
A26: 4.4 | B26: 104108 | C26: SINAPI | D26: ARMAÇÃO DE PILAR OU VIGA DE ESTRUTURA DE CONCRETO ARMADO EMBUTIDA EM ALVENARIA DE VEDAÇÃO UTILIZANDO AÇO CA-50 DE 10,0 MM - MONTAGEM. AF_06/2022 | E26: KG | F26: 34.5 | G26: 34,50 kg – Conforme Projeto
A27: 4.5 | B27: 92800 | C27: SINAPI | D27: CORTE E DOBRA DE AÇO CA-60, DIÂMETRO DE 5,0 MM. AF_06/2022 (ESTRIBOS BALDRAME+PILAR/TUBULÃO) | E27: KG | F27: =81.3+11.3 -> 92.6 | G27: 81,3+11,3 kg – Conforme Projeto
A28: 4.6 | B28: 104920 | C28: SINAPI | D28: ARMAÇÃO DE BLOCO, SAPATA ISOLADA, VIGA BALDRAME E SAPATA CORRIDA UTILIZANDO AÇO CA-50 DE 12,5 MM - MONTAGEM. AF_01/2024 | E28: KG | F28: 499.7 | G28: 499,7 kg – Conforme Projeto
A29: 4.7 | B29: 104919 | C29: SINAPI | D29: ARMAÇÃO DE SAPATA ISOLADA, VIGA BALDRAME E SAPATA CORRIDA UTILIZANDO AÇO CA-50 DE 10 MM – MONTAGEM. AF_01/2024 | E29: KG | F29: 59.6 | G29: 59,6 kg – Conforme Projeto
A30: 4.8 | B30: 96539 | C30: SINAPI | D30: FABRICAÇÃO, MONTAGEM E DESMONTAGEM DE FÔRMA PARA VIGA BALDRAME, EM CHAPA DE MADEIRA COMPENSADA RESINADA, E=17 MM, 2 UTILIZAÇÕES. AF_01/2024 | E30: M2 | F30: =(18.87*0.4*2*2)+(15.75*0.5*2*2) -> 61.692 | G30: Viga 1 = Viga 3 = 18,87*0,40*2*2 = 30,19 m² Viga 2 = Viga 4 = 15,75*0,50*2*2 = 31,5 m² Área total = 61,69 m²
A31: 4.9 | B31: 96557 | C31: SINAPI | D31: CONCRETAGEM DE BLOCO DE COROAMENTO OU VIGA BALDRAME, FCK 30 MPA, COM USO DE BOMBA – LANÇAMENTO, ADENSAMENTO E ACABAMENTO. AF_01/2024 | E31: M3 | F31: 6.64 | G31: Viga 1 = Viga 3 = 18,87*0,20*0,40*2 = 3,02 m³ Viga 2 = Viga 4 = 15,75*0,20*0,40*2 = 3,15 m³ Volume total = 6,17 m³
A32: 4.10 | B32: 97096 | C32: SINAPI | D32: CONCRETAGEM DE RADIER, PISO DE CONCRETO OU LAJE SOBRE SOLO, FCK 30 MPA – LANÇAMENTO, ADENSAMENTO E ACABAMENTO. AF_09/2021 | E32: M3 | F32: =(10*(3.1415*(0.4*0.4)*0.05))+(18.87*0.3*0.05*2+15.75*0.3*0.05*2) -> 1.28992 | G32: Demolição para o tubulão = 10 * (π*0,40²)*0,05 = 0,25 m³ Demolição para viga baldrame = 18,87*0,3*0,05*2+15,75*0,30*0,05*2 = 1,04 m³ Demolição total = 0,25 + 1,04 = 1,29 m³
A33: ='PLANILHA ORCAMENTARIA'!A33 -> 5 | D33: ='PLANILHA ORCAMENTARIA'!D33 -> COBERTURA
A34: ='PLANILHA ORCAMENTARIA'!A34 -> 5.1 | B34: ='PLANILHA ORCAMENTARIA'!B34 -> ED-48402 | C34: ='PLANILHA ORCAMENTARIA'!C34 -> SETOP | D34: ='PLANILHA ORCAMENTARIA'!D34 -> CUMEEIRA GALVANIZADA TRAPEZOIDAL, TIPO SIMPLES, ESP. 0,50MM, ACABAMENTO NATURAL, INCLUSIVE ACESSÓRIOS PARA FIXAÇÃO, FORNECIMENTO, INSTALAÇÃO E IÇAMENTO MANUAL VERTICAL | E34: ='PLANILHA ORCAMENTARIA'!E34 -> M | F34: 23.18 | G34: 23,18 metros – Conforme Projeto
A35: ='PLANILHA ORCAMENTARIA'!A35 -> 5.2 | B35: ='PLANILHA ORCAMENTARIA'!B35 -> ED-20577 | C35: ='PLANILHA ORCAMENTARIA'!C35 -> SETOP | D35: ='PLANILHA ORCAMENTARIA'!D35 -> FORNECIMENTO DE ESTRUTURA METÁLICA E ENGRADAMENTO METÁLICO PARA TELHADO DE QUADRA POLIESPORTIVA EM AÇO, COBERTURA PADRÃO DO GINÁSIO POLIESPORTIVO, EXCLUSIVE TELHA, INCLUSIVE PILAR METÁLICO, FABRICAÇÃO, TRANSPORTE, MONTAGEM, APLICAÇÃO DE FUNDO PREPARADOR ANTICORROSIVO, UMA (1) DEMÃO E PINTURA ESMALTE, DUAS (2) DEMÃOS | E35: ='PLANILHA ORCAMENTARIA'!E35 -> M2 | F35: 417.24 | G35: Área de estrutura metálica = 23,18 * 18,00 = 417,24 m²
A36: ='PLANILHA ORCAMENTARIA'!A36 -> 5.3 | B36: ='PLANILHA ORCAMENTARIA'!B36 -> 94228 | C36: ='PLANILHA ORCAMENTARIA'!C36 -> SINAPI | D36: ='PLANILHA ORCAMENTARIA'!D36 -> CALHA EM CHAPA DE AÇO GALVANIZADO NÚMERO 24, DESENVOLVIMENTO DE 50 CM, INCLUSO TRANSPORTE VERTICAL. AF_07/2019 | E36: ='PLANILHA ORCAMENTARIA'!E36 -> M | F36: 46.36 | G36: Calha direita = 23,18 m Calha esquerda = 23,18 m Comprimento total de sarjeta = 23,18+23,18 = 46,36 m
A37: ='PLANILHA ORCAMENTARIA'!A37 -> 5.4 | B37: ='PLANILHA ORCAMENTARIA'!B37 -> 100327 | C37: ='PLANILHA ORCAMENTARIA'!C37 -> SINAPI | D37: ='PLANILHA ORCAMENTARIA'!D37 -> RUFO EXTERNO/INTERNO EM CHAPA DE AÇO GALVANIZADO NÚMERO 26, CORTE DE 33 CM, INCLUSO IÇAMENTO. AF_07/2019 | E37: ='PLANILHA ORCAMENTARIA'!E37 -> M | F37: =16.54+16.54 -> 33.08 | G37: 16,54 metros Frente 16,54 metros Fundo
A38: ='PLANILHA ORCAMENTARIA'!A38 -> 5.5 | B38: ='PLANILHA ORCAMENTARIA'!B38 -> ED-48428 | C38: ='PLANILHA ORCAMENTARIA'!C38 -> SETOP | D38: ='PLANILHA ORCAMENTARIA'!D38 -> COBERTURA EM TELHA METÁLICA GALVANIZADA TRAPEZOIDAL, TIPO SIMPLES, ESP. 0,50MM, ACABAMENTO NATURAL, INCLUSIVE ACESSÓRIOS PARA FIXAÇÃO, FORNECIMENTO E INSTALAÇÃO | E38: ='PLANILHA ORCAMENTARIA'!E38 -> M2 | F38: 417.24 | G38: Telha metálica = 23,18 * 18,00 = 417,24 m²
A39: ='PLANILHA ORCAMENTARIA'!A39 -> 6 | D39: ='PLANILHA ORCAMENTARIA'!D39 -> HIDRÁULICO PLUVIAL
A40: ='PLANILHA ORCAMENTARIA'!A40 -> 6.1 | B40: ='PLANILHA ORCAMENTARIA'!B40 -> 89512 | C40: ='PLANILHA ORCAMENTARIA'!C40 -> SINAPI | D40: ='PLANILHA ORCAMENTARIA'!D40 -> TUBO PVC, SÉRIE R, ÁGUA PLUVIAL, DN 100 MM, FORNECIDO E INSTALADO EM RAMAL DE ENCAMINHAMENTO. AF_06/2022 | E40: ='PLANILHA ORCAMENTARIA'!E40 -> M | F40: 56.17 | G40: Altura 5,0 m*6 = 30 m +3,0 passeio+23,17*2 = 46,34m = Total 30+3+23,17 = 56,17 m
A41: ='PLANILHA ORCAMENTARIA'!A41 -> 6.2 | B41: ='PLANILHA ORCAMENTARIA'!B41 -> 95694 | C41: ='PLANILHA ORCAMENTARIA'!C41 -> SINAPI | D41: ='PLANILHA ORCAMENTARIA'!D41 -> CURVA 90 GRAUS, PVC, SERIE R, ÁGUA PLUVIAL, DN 100 MM, JUNTA ELÁSTICA, FORNECIDO E INSTALADO EM RAMAL DE ENCAMINHAMENTO. AF_06/2022 | E41: ='PLANILHA ORCAMENTARIA'!E41 -> UN | F41: 2 | G41: Uma em cada canto
A42: ='PLANILHA ORCAMENTARIA'!A42 -> 6.3 | B42: ='PLANILHA ORCAMENTARIA'!B42 -> 99250 | C42: ='PLANILHA ORCAMENTARIA'!C42 -> SINAPI | D42: ='PLANILHA ORCAMENTARIA'!D42 -> CAIXA ENTERRADA HIDRÁULICA RETANGULAR EM ALVENARIA COM TIJOLOS CERÂMICOS MACIÇOS, DIMENSÕES INTERNAS: 0,3X0,3X0,3 M PARA REDE DE DRENAGEM. AF_12/2020 | E42: ='PLANILHA ORCAMENTARIA'!E42 -> UN | F42: 1 | G42: 1 unidade
A43: ='PLANILHA ORCAMENTARIA'!A43 -> 6.4 | B43: ='PLANILHA ORCAMENTARIA'!B43 -> 89693 | C43: ='PLANILHA ORCAMENTARIA'!C43 -> SINAPI | D43: ='PLANILHA ORCAMENTARIA'!D43 -> TÊ, PVC, SERIE R, ÁGUA PLUVIAL, DN 100 X 100 MM, JUNTA ELÁSTICA, FORNECIDO E INSTALADO EM CONDUTORES VERTICAIS DE ÁGUAS PLUVIAIS. AF_06/2022 | E43: ='PLANILHA ORCAMENTARIA'!E43 -> UN | F43: 4 | G43: Nas pontas e no meio
A44: ='PLANILHA ORCAMENTARIA'!A44 -> 6.5 | B44: ='PLANILHA ORCAMENTARIA'!B44 -> 89671 | C44: ='PLANILHA ORCAMENTARIA'!C44 -> SINAPI | D44: ='PLANILHA ORCAMENTARIA'!D44 -> LUVA DE CORRER, PVC, SERIE R, ÁGUA PLUVIAL, DN 100 MM, JUNTA ELÁSTICA, FORNECIDO E INSTALADO EM CONDUTORES VERTICAIS DE ÁGUAS PLUVIAIS. AF_06/2022 | E44: ='PLANILHA ORCAMENTARIA'!E44 -> UN | F44: 2 | G44: No meio
A45: ='PLANILHA ORCAMENTARIA'!A45 -> 7 | D45: ='PLANILHA ORCAMENTARIA'!D45 -> SERVIÇOS ELÉTRICOS
A46: ='PLANILHA ORCAMENTARIA'!A46 -> 7.1 | B46: ='PLANILHA ORCAMENTARIA'!B46 -> CPU-01 | C46: ='PLANILHA ORCAMENTARIA'!C46 -> COMPOSIÇÃO | D46: ='PLANILHA ORCAMENTARIA'!D46 -> TAMPA CEGA EM PVC PARA CONDULETE 4 X 2"; INCLUSO FORNECIMENTO E INSTALÇÃO | E46: ='PLANILHA ORCAMENTARIA'!E46 -> UN | F46: 6 | G46: 6 unidades
A47: ='PLANILHA ORCAMENTARIA'!A47 -> 7.2 | B47: ='PLANILHA ORCAMENTARIA'!B47 -> 104404 | C47: ='PLANILHA ORCAMENTARIA'!C47 -> SINAPI | D47: ='PLANILHA ORCAMENTARIA'!D47 -> CONDULETE DE PVC, TIPO T, PARA ELETRODUTO DE PVC SOLDÁVEL DN 25 MM (3/4''), APARENTE – FORNECIMENTO E INSTALAÇÃO. AF_10/2022 | E47: ='PLANILHA ORCAMENTARIA'!E47 -> UN | F47: 1 | G47: 1 unidade
A48: ='PLANILHA ORCAMENTARIA'!A48 -> 7.3 | B48: ='PLANILHA ORCAMENTARIA'!B48 -> 104396 | C48: ='PLANILHA ORCAMENTARIA'!C48 -> SINAPI | D48: ='PLANILHA ORCAMENTARIA'!D48 -> CONDULETE DE PVC, TIPO E, PARA ELETRODUTO DE PVC SOLDÁVEL DN 25 MM (3/4''), APARENTE – FORNECIMENTO E INSTALAÇÃO. AF_10/2022 | E48: ='PLANILHA ORCAMENTARIA'!E48 -> UN | F48: 2 | G48: 2 unidades
A49: ='PLANILHA ORCAMENTARIA'!A49 -> 7.4 | B49: ='PLANILHA ORCAMENTARIA'!B49 -> 104402 | C49: ='PLANILHA ORCAMENTARIA'!C49 -> SINAPI | D49: ='PLANILHA ORCAMENTARIA'!D49 -> CONDULETE DE PVC, TIPO C, PARA ELETRODUTO DE PVC SOLDÁVEL DN 25 MM (3/4''), APARENTE – FORNECIMENTO E INSTALAÇÃO. AF_10/2022 | E49: ='PLANILHA ORCAMENTARIA'!E49 -> UN | F49: 4 | G49: 4 unidades
A50: ='PLANILHA ORCAMENTARIA'!A50 -> 7.5 | B50: ='PLANILHA ORCAMENTARIA'!B50 -> 91871 | C50: ='PLANILHA ORCAMENTARIA'!C50 -> SINAPI | D50: ='PLANILHA ORCAMENTARIA'!D50 -> ELETRODUTO RÍGIDO ROSCÁVEL, PVC, DN 25 MM (3/4"), PARA CIRCUITOS TERMINAIS, INSTALADO EM PAREDE - FORNECIMENTO E INSTALAÇÃO. AF_03/2023 | E50: ='PLANILHA ORCAMENTARIA'!E50 -> M | F50: =18+18+16.61 -> 52.61 | G50: 18+18+16,61= 52,61
A51: ='PLANILHA ORCAMENTARIA'!A51 -> 7.6 | B51: ='PLANILHA ORCAMENTARIA'!B51 -> 91926 | C51: ='PLANILHA ORCAMENTARIA'!C51 -> SINAPI | D51: ='PLANILHA ORCAMENTARIA'!D51 -> CABO DE COBRE FLEXÍVEL ISOLADO, 2,5 MM², ANTI-CHAMA 450/750 V, PARA CIRCUITOS TERMINAIS – FORNECIMENTO E INSTALAÇÃO. AF_03/2023 | E51: ='PLANILHA ORCAMENTARIA'!E51 -> M | F51: 52.61 | G51: 18+18+16,61= 52,61
A52: ='PLANILHA ORCAMENTARIA'!A52 -> 7.7 | B52: ='PLANILHA ORCAMENTARIA'!B52 -> 93661 | C52: ='PLANILHA ORCAMENTARIA'!C52 -> SINAPI | D52: ='PLANILHA ORCAMENTARIA'!D52 -> DISJUNTOR BIPOLAR TIPO DIN, CORRENTE NOMINAL DE 16A - FORNECIMENTO E INSTALAÇÃO. AF_10/2020 | E52: ='PLANILHA ORCAMENTARIA'!E52 -> UN | F52: 1 | G52: 1 unidade
A53: ='PLANILHA ORCAMENTARIA'!A53 -> 7.8 | B53: ='PLANILHA ORCAMENTARIA'!B53 -> 101875 | C53: ='PLANILHA ORCAMENTARIA'!C53 -> SINAPI | D53: ='PLANILHA ORCAMENTARIA'!D53 -> QUADRO DE DISTRIBUIÇÃO DE ENERGIA EM CHAPA DE AÇO GALVANIZADO, DE EMBUTIR, COM BARRAMENTO TRIFÁSICO, PARA 12 DISJUNTORES DIN 100A - FORNECIMENTO E INSTALAÇÃO. AF_10/2020 | E53: ='PLANILHA ORCAMENTARIA'!E53 -> UN | F53: 1 | G53: 1 unidade
A54: ='PLANILHA ORCAMENTARIA'!A54 -> 7.9 | B54: ='PLANILHA ORCAMENTARIA'!B54 -> ED-22350 | C54: ='PLANILHA ORCAMENTARIA'!C54 -> SETOP | D54: ='PLANILHA ORCAMENTARIA'!D54 -> REFLETOR DE LED, POTÊNCIA DE 200W, EXCLUSIVE SUPORTE E POSTE | E54: ='PLANILHA ORCAMENTARIA'!E54 -> UN | F54: 6 | G54: 6 unidades
A55: ='PLANILHA ORCAMENTARIA'!A55 -> 7.10 | B55: ='PLANILHA ORCAMENTARIA'!B55 -> 91884 | C55: ='PLANILHA ORCAMENTARIA'!C55 -> SINAPI | D55: ='PLANILHA ORCAMENTARIA'!D55 -> LUVA PARA ELETRODUTO, PVC, ROSCÁVEL, DN 25 MM (3/4"), PARA CIRCUITOS TERMINAIS, INSTALADA EM PAREDE - FORNECIMENTO E INSTALAÇÃO. AF_03/2023 | E55: ='PLANILHA ORCAMENTARIA'!E55 -> UN | F55: 11 | G55: 3 em cada lado*2= 6+ 5 no fundo =11 unidades
A56: ='PLANILHA ORCAMENTARIA'!A56 -> 7.11 | B56: ='PLANILHA ORCAMENTARIA'!B56 -> 91914 | C56: ='PLANILHA ORCAMENTARIA'!C56 -> SINAPI | D56: ='PLANILHA ORCAMENTARIA'!D56 -> CURVA 90 GRAUS PARA ELETRODUTO, PVC, ROSCÁVEL, DN 25 MM (3/4"), PARA CIRCUITOS TERMINAIS, INSTALADA EM PAREDE - FORNECIMENTO E INSTALAÇÃO. AF_03/2023 | E56: ='PLANILHA ORCAMENTARIA'!E56 -> UN | F56: 2 | G56: 2 unidades
A57: 8 | D57: SISTEMA DE PROTEÇÃO CONTRA DESCARGAS
A58: 8.1 | B58: 96985 | C58: SINAPI | D58: HASTE DE ATERRAMENTO, DIÂMETRO 5/8", COM 3 METROS - FORNECIMENTO E INSTALAÇÃO. AF_08/2023 | E58: UN | F58: 4 | G58: 4 unidades (Uma em cada ponta)
A59: 8.2 | B59: ED-51054 | C59: SETOP | D59: CAIXA DE EQUALIZAÇÃO PARA USO INTERNO E EXTERNO COM 9 TERMINAIS 380X320X175MM EM AÇO E ACABAMENTO EM EPOXI | E59: UN | F59: 1 | G59: 1 unidade
A60: 8.3 | B60: 96973 | C60: SINAPI | D60: CORDOALHA DE COBRE NU 35 MM², NÃO ENTERRADA, COM ISOLADOR - FORNECIMENTO E INSTALAÇÃO. AF_08/2023 | E60: M | F60: 16 | G60: 16 Metros de Frente
A61: 8.4 | B61: 96974 | C61: SINAPI | D61: CORDOALHA DE COBRE NU 50 MM², NÃO ENTERRADA, COM ISOLADOR - FORNECIMENTO E INSTALAÇÃO. AF_08/2023 | E61: M | F61: 21 | G61: 21 Metros Lateral
A62: 8.5 | B62: 93008 | C62: SINAPI | D62: ELETRODUTO RÍGIDO ROSCÁVEL, PVC, DN 50 MM (1 1/2"), PARA REDE ENTERRADA DE DISTRIBUIÇÃO DE ENERGIA ELÉTRICA - FORNECIMENTO E INSTALAÇÃO. AF_12/2021 | E62: M | F62: 16 | G62: 16 Metros de Frente
A63: 8.6 | B63: 93358 | C63: SINAPI | D63: ESCAVAÇÃO MANUAL DE VALA. AF_09/2024 | E63: M³ | F63: 2.22 | G63: (16+21)*0,20 cm profundidade*0,30 cm de largura = 2,22
A64: 8.7 | B64: 93382 | C64: SINAPI | D64: REATERRO MANUAL DE VALAS, COM COMPACTADOR DE SOLOS DE PERCUSSÃO. AF_08/2023 | E64: M³ | F64: 2.22 | G64: (16+21)*0,20 cm profundidade*0,30 cm de largura = 2,22
A65: 8.8 | B65: 98111 | C65: SINAPI | D65: CAIXA DE INSPEÇÃO PARA ATERRAMENTO, CIRCULAR, EM POLIETILENO, DIÂMETRO INTERNO = 0,3 M. AF_12/2020 | E65: UN | F65: 4 | G65: 4 unidades (Uma em cada ponta)
A66: 8.9 | B66: MATED-12520 | C66: SETOP | D66: CONECTOR PARA HASTE DE ATERRAMENTO (DIÂMETRO: 5/8"-3/4"|DIÂMETRO DO CONDUTOR: 10-50MM2) | E66: UN | F66: 4 | G66: 4 unidades (Uma em cada ponta)
A67: 8.10 | B67: 98463 | C67: SINAPI | D67: SUPORTE ISOLADOR PARA FIXAÇÃO DA CORDOALHA DE COBRE EM ALVENARIA OU CONCRETO - FORNECIMENTO E INSTALAÇÃO. AF_08/2023 | E67: UN | F67: 4 | G67: 4 unidades (Uma em cada ponta)
A68: 8.11 | B68: ED-51090 | C68: SETOP | D68: TERMINAL A COMPRESSAO EM COBRE ESTANHADO 2 FUROS PARA CABO 35 MM2 | E68: UN | F68: 4 | G68: 4 unidades (Uma em cada ponta)
A69: 9 | D69: ='PLANILHA ORCAMENTARIA'!D69 -> SERVIÇOS FINAIS
A70: ='PLANILHA ORCAMENTARIA'!A70 -> 9.1 | B70: ='PLANILHA ORCAMENTARIA'!B70 -> ED-50266 | C70: ='PLANILHA ORCAMENTARIA'!C70 -> SETOP | D70: ='PLANILHA ORCAMENTARIA'!D70 -> LIMPEZA FINAL PARA ENTREGA DA OBRA | E70: ='PLANILHA ORCAMENTARIA'!E70 -> M2 | F70: 417.24 | G70: Área de limpeza= 23,18 * 18,00 = 417,24 m²
A73: Carmo do Cajuru, 01 de abril de 2026.
D77: __________________________________
D78: BIANCA FERREIRA DO CARMO ENGENHEIRA CIVIL - CREA MG 238.429/D
D84: __________________________________
D85: VINÍCIUS ALVES CAMARGOS PREFEITO DE CARMO DO CAJURU-MG

Sheet COMPOSICAO PRECO UNITARIO
A2: COMPOSIÇÕES DE PREÇOS UNITÁRIOS – CONSTRUÇÃO TELHADO ESCOLA MUNICIPAL SÃO JOSÉ
A4: PREFEITURA: PREFEITURA MUNICIPAL DE CARMO DO CAJURU
A5: OBRA: CONSTRUÇÃO TELHADO ESCOLA MUNICIPAL SÃO JOSÉ
A6: LOCAL: RUA JOAQUIM GOMES, Nº 417, DISTRITO SÃO JOSÉ DOS SALGADOS
A7: ='PLANILHA ORCAMENTARIA'!A7 -> REGIÃO/MÊS DE REFERÊNCIA: SINAPI-MG 02/2026 E SETOP-MG CENTRAL 01/2026 DESONERADO
A8: PRAZO DE EXECUÇÃO: 3 MESES
A10: CÓDIGO | C10: DESCRIÇÃO | F10: UNIDADE
A11: CPU-01 | C11: TAMPA CEGA EM PVC PARA CONDULETE 4 X 2"; INCLUSO FORNECIMENTO E INSTALÇÃO | F11: UN
A12: CÓDIGO | B12: FONTE | C12: DESCRIÇÃO | D12: UNIDADE | E12: COEFICIENTE | F12: PREÇO UNITÁRIO | G12: PREÇO TOTAL
A13: 7543 | B13: SINAPI | C13: TAMPA CEGA EM PVC PARA CONDULETE 4 X 2" | D13: UN | E13: 1 | F13: 6.52 | G13: =TRUNC(E13*F13,2) -> 6.52
A14: 88264 | B14: SINAPI | C14: ELETRICISTA COM ENCARGOS COMPLEMENTARES | D14: H | E14: 0.128 | F14: 32.13 | G14: =TRUNC(E14*F14,2) -> 4.11
A15: 88247 | B15: SINAPI | C15: AUXILIAR DE ELETRICISTA COM ENCARGOS COMPLEMENTARES | D15: H | E15: 0.128 | F15: 26.51 | G15: =TRUNC(E15*F15,2) -> 3.39
A16: PREÇO TOTAL | G16: =SUM(G13:G15) -> 14.02
C19: __________________________________
C20: BIANCA FERREIRA DO CARMO ENGENHEIRA CIVIL - CREA MG 238.429/D
C24: __________________________________
C25: VINICIUS ALVES CAMARGOS PREFEITO DE CARMO DO CAJURU-MG

Sheet CRONOGRAMA FISICO-FINANCEIRO
B2: CRONOGRAMA FÍSICO-FINANCEIRO
B4: PREFEITURA: PREFEITURA MUNICIPAL DE CARMO DO CAJURU/MG | D4: VALOR DO CONTRATO: | G4: ='PLANILHA ORCAMENTARIA'!I71 -> 362188.87
B5: ='PLANILHA ORCAMENTARIA'!A5 -> OBRA: CONSTRUÇÃO TELHADO ESCOLA MUNICIPAL SÃO JOSÉ | D5: ='PLANILHA ORCAMENTARIA'!A6 -> LOCAL: RUA JOAQUIM GOMES, Nº 417, DISTRITO SÃO JOSÉ DOS SALGADOS
B6: ITEM | C6: ETAPAS / DESCRIÇÃO | D6: FÍSICO / FINANCEIRO | E6: TOTAL ETAPAS | F6: MÊS 1 | G6: MÊS 2 | H6: MÊS 3 | I6: SOMATÓRIO
B7: 1 | C7: ='PLANILHA ORCAMENTARIA'!D11 -> SERVIÇOS PRELIMINARES E INSTALAÇÃO DE OBRA | D7: Físico % | F7: 0.33333333 | G7: 0.33333333 | H7: 0.33333333 | I7: =SUM(F7:H7) -> 1
D8: Financeiro | E8: ='PLANILHA ORCAMENTARIA'!I11 -> 8519.86 | F8: =F7*$E8 -> 2839.9533 | G8: =G7*$E8 -> 2839.9533 | H8: =H7*$E8 -> 2839.9533 | I8: =SUM(F8:H8) -> 8519.86
B9: 2 | C9: ='PLANILHA ORCAMENTARIA'!D15 -> ADMINISTRAÇÃO LOCAL | D9: Físico % | F9: 0.3333 | G9: 0.3333 | H9: 0.3334 | I9: =SUM(F9:H9) -> 1
D10: Financeiro | E10: ='PLANILHA ORCAMENTARIA'!I15 -> 2027.16 | F10: =F9*$E10 -> 675.65243 | G10: =G9*$E10 -> 675.65243 | H10: =H9*$E10 -> 675.85514 | I10: =SUM(F10:H10) -> 2027.16
B11: 3 | C11: ='PLANILHA ORCAMENTARIA'!D17 -> DEMOLIÇÃO E REMOÇÃO | D11: Físico % | F11: 1 | I11: =SUM(F11:H11) -> 1
D12: Financeiro | E12: ='PLANILHA ORCAMENTARIA'!I17 -> 4372.6452 | F12: =F11*$E12 -> 4372.6452 | I12: =SUM(F12:H12) -> 4372.6452
B13: 4 | C13: ='PLANILHA ORCAMENTARIA'!D22 -> FUNDAÇÃO | D13: Físico % | F13: 0.5 | G13: 0.5 | I13: =SUM(F13:H13) -> 1
D14: Financeiro | E14: ='PLANILHA ORCAMENTARIA'!I22 -> 47592.535 | F14: =F13*$E14 -> 23796.267 | G14: =G13*$E14 -> 23796.267 | I14: =SUM(F14:H14) -> 47592.535
B15: 5 | C15: ='PLANILHA ORCAMENTARIA'!D33 -> COBERTURA | D15: Físico % | G15: 0.5 | H15: 0.5 | I15: =SUM(F15:H15) -> 1
D16: Financeiro | E16: ='PLANILHA ORCAMENTARIA'!I33 -> 279530.75 | G16: =G15*$E16 -> 139765.38 | H16: =H15*$E16 -> 139765.38 | I16: =SUM(F16:H16) -> 279530.75
B17: 6 | C17: ='PLANILHA ORCAMENTARIA'!D39 -> HIDRÁULICO PLUVIAL | D17: Físico % | F17: 0.5 | G17: 0.5 | I17: =SUM(F17:H17) -> 1
D18: Financeiro | E18: ='PLANILHA ORCAMENTARIA'!I39 -> 4694.69 | F18: =F17*$E18 -> 2347.345 | G18: =G17*$E18 -> 2347.345 | I18: =SUM(F18:H18) -> 4694.69
B19: 7 | C19: ='PLANILHA ORCAMENTARIA'!D45 -> SERVIÇOS ELÉTRICOS | D19: Físico % | G19: 0.5 | H19: 0.5 | I19: =SUM(F19:H19) -> 1
D20: Financeiro | E20: ='PLANILHA ORCAMENTARIA'!I45 -> 3874.1 | G20: =H19*$E20 -> 1937.05 | H20: =H19*$E20 -> 1937.05 | I20: =SUM(F20:H20) -> 3874.1
B21: 8 | C21: ='PLANILHA ORCAMENTARIA'!D57 -> SISTEMA DE PROTEÇÃO CONTRA DESCARGAS | D21: Físico % | G21: 0.5 | H21: 0.5 | I21: =SUM(F21:H21) -> 1
D22: Financeiro | E22: ='PLANILHA ORCAMENTARIA'!I57 -> 6991.66 | G22: =G21*$E22 -> 3495.83 | H22: =H21*$E22 -> 3495.83 | I22: =SUM(F22:H22) -> 6991.66
B23: 9 | C23: ='PLANILHA ORCAMENTARIA'!D69 -> SERVIÇOS FINAIS | D23: Físico % | H23: 1 | I23: =SUM(F23:H23) -> 1
D24: Financeiro | E24: ='PLANILHA ORCAMENTARIA'!I69 -> 4585.47 | H24: =H23*$E24 -> 4585.47 | I24: =SUM(F24:H24) -> 4585.47
C25: ='PLANILHA ORCAMENTARIA'!A71 -> TOTAL GERAL | D25: Físico % | F25: =F26/$E26 -> 0.093961648 | G25: =G26/$E26 -> 0.48277981 | H25: =H26/$E26 -> 0.42325854 | I25: =SUM(F25:H25) -> 1
D26: Financeiro | E26: ='PLANILHA ORCAMENTARIA'!I71 -> 362188.87 | F26: =F8+F10+F12+F14+F16+F18+F20+F22+F24 -> 34031.863 | G26: =G8+G10+G12+G14+G16+G18+G20+G22+G24 -> 174857.47 | H26: =H8+H10+H12+H14+H16+H18+H20+H22+H24 -> 153299.53 | I26: =SUM(F26:H26) -> 362188.87
B27: TOTAL | D27: Físico % | F27: =F28/$E28 -> 0.093961648 | G27: =G28/$E28 -> 0.57674146 | H27: =H28/$E28 -> 1 | I27: =I28/E28 -> 1
D28: Financeiro | E28: =E8+E10+E12+E14+E16+E18+E20+E22+E24 -> 362188.87 | F28: =F26 -> 34031.863 | G28: =G26+F28 -> 208889.34 | H28: =H26+G28 -> 362188.87 | I28: =H28 -> 362188.87
C33: BIANCA FERREIRA DO CARMO ENGENHEIRA CIVIL - CREA MG 238.429/D | E33: VINICIUS ALVES CAMARGOS
E34: PREFEITO DE CARMO DO CAJURU-MG
