Workbook

Sheet ORÇAMENTO SINTÉTICO
A1: MUNICÍPIO DE NOVA SERRANA
A2: ESTADO DE MINAS GERAIS
A3: CNPJ: 18.291.385/0001-59
A5: Objeto: | B5: CONTRATAÇÃO DE EMPRESA ESPECIALIZADA PARA A CONSTRUÇÃO DE CENTRO MUNICIPAL DE EDUCAÇÃO INFANTIL NO BAIRRO SANTA TEREZA, CONFORME PROJETOS, MEMORIAIS, MODELO BIM E DOCUMENTOS AUXILIARES
A6: Município: | B6: Nova Serrana - MG
A7: Endereço: | B7: Avenida 02, SN, bairro Santa Tereza, Nova Serrana - MG
A8: BDI: | B8: 0.2247
A9: Encargos Sociais: Não Desonerado
A10: Referência de Preços: SINAPI - 02/2026 - Minas Gerais ; SBC - 03/2026 - Minas Gerais ; SICRO3 - 10/2025 - Minas Gerais ; ORSE - 12/2025 - Sergipe ; SEINFRA - 028 - Ceará ; SETOP - 10/2025 - Minas Gerais ; SIURB - 07/2025 - São Paulo ; SUDECAP - 10/2025 - Minas Gerais
A11: Valor total: | J11: =I15+I25+I28+I32+I66+I93+I96+I100+I117+I124+I136+I140+I143+I151+I156+I182+I202+I253+I255+I277+I328+I341+I348+I361+I367+I370 -> 7593113.2
A13: ORÇAMENTO SINTÉTICO
A14: ITEM | B14: CÓDIGO | C14: BANCO | D14: DESCRIÇÃO | E14: UND | F14: QUANT. | G14: VALOR UNITÁRIO | H14: VALOR COM BDI | I14: VALOR TOTAL | J14: PERCENTUAL
A15: 1 | D15: SERVIÇOS PRELIMINARES | F15: 1 | H15: 151792.95 | I15: 151792.95 | J15: 0.019990871
A16: 1.1 | B16: 103689 | C16: SINAPI | D16: FORNECIMENTO E INSTALAÇÃO DE PLACA DE OBRA COM CHAPA GALVANIZADA E ESTRUTURA DE MADEIRA. AF_03/2022_PS | E16: m² | F16: 6.48 | G16: 377.67 | H16: 462.53 | I16: 2997.19 | J16: 0.00039472479
A17: 1.2 | B17: 98459 | C17: SINAPI | D17: TAPUME COM TELHA METÁLICA. AF_03/2024 | E17: m² | F17: 830.49 | G17: 85.15 | H17: 104.28 | I17: 86603.5 | J17: 0.011405533
A18: 1.3 | B18: ED-50150 | C18: SETOP | D18: LIGAÇÃO DE ÁGUA PROVISÓRIA PARA CANTEIRO, INCLUSIVE HIDRÔMETRO E CAVALETE PARA MEDIÇÃO DE ÁGUA ENTRADA PRINCIPAL, EM AÇO GALVANIZADO DN 20MM (1/2”) PADRÃO CONCESSIONÁRIA | E18: un | F18: 1 | G18: 592.8 | H18: 726 | I18: 726 | J18: 9.5612956e-05
A19: 1.4 | B19: ED-50151 | C19: SETOP | D19: LIGAÇÃO PROVISÓRIA COM ENTRADA DE ENERGIA AÉREA, PADRÃO CEMIG, CARGA INSTALADA DE 15,1KVA ATÉ 30KVA, TRIFÁSICO, COM SAÍDA SUBTERRÂNEA, INCLUSIVE POSTE, CAIXA PARA MEDIDOR, DISJUNTOR, BARRAMENTO, ATERRAMENTO E ACESSÓRIOS | E19: un | F19: 1 | G19: 965.51 | H19: 1182.46 | I19: 1182.46 | J19: 0.00015572796
A20: 1.5 | B20: ED-50137 | C20: SETOP | D20: MOBILIZAÇÃO E DESMOBILIZAÇÃO DE CONTAINER, INCLUSIVE CARGA, DESCARGA E TRANSPORTE EM CAMINHÃO CARROCERIA COM GUINDAUTO (MUNCK), EXCLUSIVE LOCAÇÃO DO CONTAINER | E20: un | F20: 2 | G20: 1668.96 | H20: 2043.98 | I20: 4087.96 | J20: 0.00053837733
A21: 1.6 | B21: ED-16349 | C21: SETOP | D21: LOCAÇÃO DE CONTAINER COM ISOLAMENTO TÉRMICO, TIPO 2, PARA ESCRITÓRIO DE OBRA COM SANITÁRIO CONTENDO UM (1) VASO SANITÁRIO E UM (1) LAVATÓRIO, COM MEDIDAS REFERENCIAIS DE (6) METROS COMPRIMENTO, (2,3) METROS LARGURA E (2,5) METROS ALTURA ÚTIL INTERNA, INCLUSIVE AR CONDICIONADO E LIGAÇÕES ELÉTRICAS E HIDROSSANITÁRIAS INTERNAS, EXCLUSIVE MOBILIZAÇÃO/DESMOBILIZAÇÃO E LIGAÇÕES PROVISÓRIAS EXTERNAS | E21: mês | F21: 18 | G21: 1633.81 | H21: 2000.93 | I21: 36016.74 | J21: 0.004743343
A22: 1.7 | B22: ED-16350 | C22: SETOP | D22: LOCAÇÃO DE CONTAINER COM ISOLAMENTO TÉRMICO, TIPO 3, PARA DEPÓSITO/FERRAMENTARIA DE OBRA, COM MEDIDAS REFERENCIAIS DE (6) METROS COMPRIMENTO, (2,3) METROS LARGURA E (2,5) METROS ALTURA ÚTIL INTERNA, INCLUSIVE LIGAÇÕES ELÉTRICAS INTERNAS, EXCLUSIVE MOBILIZAÇÃO/DESMOBILIZAÇÃO E LIGAÇÕES PROVISÓRIAS EXTERNAS | E22: mês | F22: 18 | G22: 858.71 | H22: 1051.66 | I22: 18929.88 | J22: 0.0024930328
A23: 1.8 | B23: ED-16357 | C23: SETOP | D23: LIGAÇÕES PROVISÓRIAS PARA CONTAINER TIPO 2 (CORRESPONDENTE AO CÓDIGO ED 16349) | E23: un | F23: 1 | G23: 676.99 | H23: 829.11 | I23: 829.11 | J23: 0.00010919237
A24: 1.9 | B24: ED-16358 | C24: SETOP | D24: LIGAÇÕES PROVISÓRIAS PARA CONTAINER TIPO 3 (CORRESPONDENTE AO CÓDIGO ED 16350) | E24: un | F24: 1 | G24: 343.03 | H24: 420.11 | I24: 420.11 | J24: 5.5327767e-05
A25: 2 | D25: ADMINISTRAÇÃO LOCAL | F25: 1 | H25: 535170.24 | I25: 535170.24 | J25: 0.070481004
A26: 2.1 | B26: 90777 | C26: SINAPI | D26: ENGENHEIRO CIVIL DE OBRA JUNIOR COM ENCARGOS COMPLEMENTARES | E26: H | F26: 1584 | G26: 142.42 | H26: 174.42 | I26: 276281.28 | J26: 0.036385771
A27: 2.2 | B27: 90776 | C27: SINAPI | D27: ENCARREGADO GERAL COM ENCARGOS COMPLEMENTARES | E27: H | F27: 3168 | G27: 66.73 | H27: 81.72 | I27: 258888.96 | J27: 0.034095233
A28: 3 | D28: PREPARAÇÃO DO TERRENO E MOVIMENTAÇÃO DE SOLO | F28: 1 | H28: 53426.63 | I28: 53426.63 | J28: 0.0070361957
A29: 3.1 | B29: 98525 | C29: SINAPI | D29: LIMPEZA MECANIZADA DE CAMADA VEGETAL, VEGETAÇÃO E PEQUENAS ÁRVORES (DIÂMETRO DE TRONCO MENOR QUE 0,20 M), COM TRATOR DE ESTEIRAS. AF_03/2024 | E29: m² | F29: 4241.75 | G29: 0.73 | H29: 0.89 | I29: 3775.16 | J29: 0.00049718211
A30: 3.2 | B30: RO-00044 | C30: SETOP | D30: Escavação, carga e transporte de solos moles executado com caminhão basculante de 12 m3 e com caminho de serviço pavimentado DMT de 3.000 m | E30: m³ | F30: 424.18 | G30: 23.89 | H30: 29.26 | I30: 12411.51 | J30: 0.0016345746
A31: 3.3 | B31: RO-00215 | C31: SETOP | D31: Compactação de aterros a 100% do Proctor normal (Inclui espalhamento) | E31: m³ | F31: 5873.81 | G31: 5.18 | H31: 6.34 | I31: 37239.96 | J31: 0.0049044389
A32: 4 | D32: FUNDAÇÕES E INFRAESTRUTURA - CONCRETO ARMADO | F32: 1 | H32: 1042561.6 | I32: 1042561.6 | J32: 0.13730358
A33: 4.1 | D33: SAPATAS | F33: 1 | H33: 420018.83 | I33: 420018.83 | J33: 0.05531576
A34: 4.1.1 | B34: 104919 | C34: SINAPI | D34: ARMAÇÃO DE SAPATA ISOLADA, VIGA BALDRAME E SAPATA CORRIDA UTILIZANDO AÇO CA-50 DE 10 MM - MONTAGEM. AF_01/2024 | E34: KG | F34: 5499 | G34: 12.38 | H34: 15.16 | I34: 83364.84 | J34: 0.010979007
A35: 4.1.2 | B35: 96535 | C35: SINAPI | D35: FABRICAÇÃO, MONTAGEM E DESMONTAGEM DE FÔRMA PARA SAPATA, EM MADEIRA SERRADA, E=25 MM, 4 UTILIZAÇÕES. AF_01/2024 | E35: m² | F35: 528.92 | G35: 149.17 | H35: 182.69 | I35: 96628.39 | J35: 0.012725793
A36: 4.1.3 | B36: CPU572 | C36: Próprio | D36: CONCRETAGEM DE SAPATA, FCK 25 MPA, COM USO DE BOMBA - LANÇAMENTO, ADENSAMENTO E ACABAMENTO. AF_01/2024 - Adaptado da SINAPI (96558) | E36: m³ | F36: 173.65 | G36: 799.81 | H36: 979.53 | I36: 170095.38 | J36: 0.02240127
A37: 4.1.4 | B37: 96523 | C37: SINAPI | D37: ESCAVAÇÃO MANUAL PARA BLOCO DE COROAMENTO OU SAPATA (INCLUINDO ESCAVAÇÃO PARA COLOCAÇÃO DE FÔRMAS). AF_01/2024 | E37: m³ | F37: 289.42 | G37: 110.24 | H37: 135.01 | I37: 39074.59 | J37: 0.0051460566
A38: 4.1.5 | B38: 104737 | C38: SINAPI | D38: REATERRO MANUAL DE VALAS, COM PLACA VIBRATÓRIA. AF_08/2023 | E38: m³ | F38: 115.77 | G38: 24.61 | H38: 30.14 | I38: 3489.31 | J38: 0.00045953615
A39: 4.1.6 | B39: 98557 | C39: SINAPI | D39: IMPERMEABILIZAÇÃO DE SUPERFÍCIE COM EMULSÃO ASFÁLTICA, 2 DEMÃOS. AF_09/2023 | E39: m² | F39: 528.92 | G39: 42.25 | H39: 51.74 | I39: 27366.32 | J39: 0.0036040975
A40: 4.2 | D40: ARRANQUES DE PILARES | F40: 1 | H40: 135721.54 | I40: 135721.54 | J40: 0.017874294
A41: 4.2.1 | B41: 92759 | C41: SINAPI | D41: ARMAÇÃO DE PILAR OU VIGA DE ESTRUTURA CONVENCIONAL DE CONCRETO ARMADO UTILIZANDO AÇO CA-60 DE 5,0 MM - MONTAGEM. AF_06/2022 | E41: KG | F41: 498 | G41: 14.2 | H41: 17.39 | I41: 8660.22 | J41: 0.0011405361
A42: 4.2.2 | B42: 92762 | C42: SINAPI | D42: ARMAÇÃO DE PILAR OU VIGA DE ESTRUTURA CONVENCIONAL DE CONCRETO ARMADO UTILIZANDO AÇO CA-50 DE 10,0 MM - MONTAGEM. AF_06/2022 | E42: KG | F42: 1448 | G42: 10.33 | H42: 12.65 | I42: 18317.2 | J42: 0.0024123439
...

Sheet ORÇAMENTO ANALÍTICO
A1: MUNICÍPIO DE NOVA SERRANA
A2: ESTADO DE MINAS GERAIS
A3: CNPJ: 18.291.385/0001-59
A5: Objeto: | B5: CONTRATAÇÃO DE EMPRESA ESPECIALIZADA PARA A CONSTRUÇÃO DE CENTRO MUNICIPAL DE EDUCAÇÃO INFANTIL NO BAIRRO SANTA TEREZA, CONFORME PROJETOS, MEMORIAIS, MODELO BIM E DOCUMENTOS AUXILIARES
A6: Município: | B6: Nova Serrana - MG
A7: Endereço: | B7: Avenida 02, SN, bairro Santa Tereza, Nova Serrana - MG
A8: BDI: | B8: 0.2247
A9: Encargos Sociais: Não Desonerado
A10: ='ORÇAMENTO SINTÉTICO'!A10 -> Referência de Preços: SINAPI - 02/2026 - Minas Gerais ; SBC - 03/2026 - Minas Gerais ; SICRO3 - 10/2025 - Minas Gerais ; ORSE - 12/2025 - Sergipe ; SEINFRA - 028 - Ceará ; SETOP - 10/2025 - Minas Gerais ; SIURB - 07/2025 - São Paulo ; SUDECAP - 10/2025 - Minas Gerais
A11: Valor total: | J11: ='ORÇAMENTO SINTÉTICO'!J11 -> 7593113.2
A13: ORÇAMENTO ANALÍTICO
A14: 1 | D14: SERVIÇOS PRELIMINARES | J14: 151792.95
A15: 1.1 | B15: Código | C15: Banco | D15: Descrição | E15: Tipo | G15: Und | H15: Quant. | I15: Valor Unit | J15: Total
A16: Composição | B16: 103689 | C16: SINAPI | D16: FORNECIMENTO E INSTALAÇÃO DE PLACA DE OBRA COM CHAPA GALVANIZADA E ESTRUTURA DE MADEIRA. AF_03/2022_PS | E16: Sinalização Vertical Viária | G16: m² | H16: 1 | I16: 377.67 | J16: 377.67
A17: Composição Auxiliar | B17: 88262 | C17: SINAPI | D17: CARPINTEIRO DE FORMAS COM ENCARGOS COMPLEMENTARES | E17: Livro SINAPI: Cálculos e Parâmetros | G17: H | H17: 0.3729 | I17: 32.89 | J17: 12.26
A18: Composição Auxiliar | B18: 102234 | C18: SINAPI | D18: PINTURA IMUNIZANTE PARA MADEIRA, 2 DEMÃOS. AF_01/2021 | E18: Pintura em Madeira | G18: m² | H18: 0.5 | I18: 24.21 | J18: 12.1
A19: Composição Auxiliar | B19: 88316 | C19: SINAPI | D19: SERVENTE COM ENCARGOS COMPLEMENTARES | E19: Livro SINAPI: Cálculos e Parâmetros | G19: H | H19: 1.1186 | I19: 24.88 | J19: 27.83
A20: Insumo | B20: 00005069 | C20: SINAPI | D20: PREGO DE ACO POLIDO COM CABECA 17 X 27 (2 1/2 X 11) | E20: Material | G20: KG | H20: 0.0132 | I20: 17.9 | J20: 0.23628
A21: Insumo | B21: 00005065 | C21: SINAPI | D21: PREGO DE ACO POLIDO COM CABECA 10 X 10 (7/8 X 17) | E21: Material | G21: KG | H21: 0.0113 | I21: 33.42 | J21: 0.377646
A22: Insumo | B22: 00004509 | C22: SINAPI | D22: SARRAFO *2,5 X 10* CM EM PINUS, MISTA OU EQUIVALENTE DA REGIAO - BRUTA | E22: Material | G22: M | H22: 3.2083 | I22: 3.86 | J22: 12.384038
A23: Insumo | B23: 00004813 | C23: SINAPI | D23: PLACA DE OBRA (PARA CONSTRUCAO CIVIL) EM CHAPA GALVANIZADA *N. 22*, ADESIVADA, DE *2,4 X 1,2* M (SEM POSTES PARA FIXACAO) | E23: Material | G23: m² | H23: 1 | I23: 312.5 | J23: 312.5
E24: MO sem LS => | F24: 35.51 | G24: LS => | H24: 0 | I24: MO com LS => | J24: 35.51
E25: Valor do BDI => | F25: 84.86 | H25: Valor com BDI => | J25: 462.53
G26: Quant. => | H26: 6,48 | I26: Preço Total => | J26: 2997.19
A28: 1.2 | B28: Código | C28: Banco | D28: Descrição | E28: Tipo | G28: Und | H28: Quant. | I28: Valor Unit | J28: Total
A29: Composição | B29: 98459 | C29: SINAPI | D29: TAPUME COM TELHA METÁLICA. AF_03/2024 | E29: Instalações para Canteiros de Obras | G29: m² | H29: 1 | I29: 85.15 | J29: 85.15
A30: Composição Auxiliar | B30: 91692 | C30: SINAPI | D30: SERRA CIRCULAR DE BANCADA COM MOTOR ELÉTRICO POTÊNCIA DE 5HP, COM COIFA PARA DISCO 10" - CHP DIURNO. AF_08/2015 | E30: Custos Horários Produtivo e Improdutivo dos Equipamentos | G30: CHP | H30: 0.0066 | I30: 42 | J30: 0.27
A31: Composição Auxiliar | B31: 88239 | C31: SINAPI | D31: AJUDANTE DE CARPINTEIRO COM ENCARGOS COMPLEMENTARES | E31: Livro SINAPI: Cálculos e Parâmetros | G31: H | H31: 0.492 | I31: 27.03 | J31: 13.29
A32: Composição Auxiliar | B32: 91693 | C32: SINAPI | D32: SERRA CIRCULAR DE BANCADA COM MOTOR ELÉTRICO POTÊNCIA DE 5HP, COM COIFA PARA DISCO 10" - CHI DIURNO. AF_08/2015 | E32: Custos Horários Produtivo e Improdutivo dos Equipamentos | G32: CHI | H32: 0.0264 | I32: 40.45 | J32: 1.06
A33: Composição Auxiliar | B33: 94974 | C33: SINAPI | D33: CONCRETO MAGRO PARA LASTRO, TRAÇO 1:4,5:4,5 (EM MASSA SECA DE CIMENTO/ AREIA MÉDIA/ BRITA 1) - PREPARO MANUAL. AF_05/2021 | E33: Produção de Concreto | G33: m³ | H33: 0.0061 | I33: 550.37 | J33: 3.35
A34: Composição Auxiliar | B34: 88262 | C34: SINAPI | D34: CARPINTEIRO DE FORMAS COM ENCARGOS COMPLEMENTARES | E34: Livro SINAPI: Cálculos e Parâmetros | G34: H | H34: 0.735 | I34: 32.89 | J34: 24.17
A35: Insumo | B35: 00006194 | C35: SINAPI | D35: TABUA *2,5 X 15 CM EM PINUS, MISTA OU EQUIVALENTE DA REGIAO - BRUTA | E35: Material | G35: M | H35: 2 | I35: 5.43 | J35: 10.86
A36: Insumo | B36: 00007243 | C36: SINAPI | D36: TELHA TRAPEZOIDAL EM ACO ZINCADO, SEM PINTURA, ALTURA DE APROXIMADAMENTE 40 MM, ESPESSURA DE 0,50 MM E LARGURA UTIL DE 980 MM | E36: Material | G36: m² | H36: 0.5853 | I36: 36.99 | J36: 21.650247
A37: Insumo | B37: 00005061 | C37: SINAPI | D37: PREGO DE ACO POLIDO COM CABECA 18 X 27 (2 1/2 X 10) | E37: Material | G37: KG | H37: 0.068 | I37: 17.27 | J37: 1.17436
A38: Insumo | B38: 00004491 | C38: SINAPI | D38: PONTALETE *7,5 X 7,5* CM EM PINUS, MISTA OU EQUIVALENTE DA REGIAO - BRUTA | E38: Material | G38: M | H38: 1.2273 | I38: 7.61 | J38: 9.339753
E39: MO sem LS => | F39: 30.99 | G39: LS => | H39: 0 | I39: MO com LS => | J39: 30.99
E40: Valor do BDI => | F40: 19.13 | H40: Valor com BDI => | J40: 104.28
G41: Quant. => | H41: 830,49 | I41: Preço Total => | J41: 86603.5
A43: 1.3 | B43: Código | C43: Banco | D43: Descrição | E43: Tipo | G43: Und | H43: Quant. | I43: Valor Unit | J43: Total
A44: Composição | B44: ED-50150 | C44: SETOP | D44: LIGAÇÃO DE ÁGUA PROVISÓRIA PARA CANTEIRO, INCLUSIVE HIDRÔMETRO E CAVALETE PARA MEDIÇÃO DE ÁGUA ENTRADA PRINCIPAL, EM AÇO GALVANIZADO DN 20MM (1/2”) PADRÃO CONCESSIONÁRIA | E44: ED- | G44: un | H44: 1 | I44: 592.8 | J44: 592.8
...

Sheet CURVA ABC
A1: MUNICÍPIO DE NOVA SERRANA
A2: ESTADO DE MINAS GERAIS
A3: CNPJ: 18.291.385/0001-59
A5: Objeto: | B5: ='ORÇAMENTO SINTÉTICO'!B5 -> CONTRATAÇÃO DE EMPRESA ESPECIALIZADA PARA A CONSTRUÇÃO DE CENTRO MUNICIPAL DE EDUCAÇÃO INFANTIL NO BAIRRO SANTA TEREZA, CONFORME PROJETOS, MEMORIAIS, MODELO BIM E DOCUMENTOS AUXILIARES
A6: Município: | B6: Nova Serrana - MG
A7: Endereço: | B7: ='ORÇAMENTO SINTÉTICO'!B7 -> Avenida 02, SN, bairro Santa Tereza, Nova Serrana - MG
A8: BDI: | B8: 0.2247
A9: Encargos Sociais: Não Desonerado
A10: ='ORÇAMENTO SINTÉTICO'!A10 -> Referência de Preços: SINAPI - 02/2026 - Minas Gerais ; SBC - 03/2026 - Minas Gerais ; SICRO3 - 10/2025 - Minas Gerais ; ORSE - 12/2025 - Sergipe ; SEINFRA - 028 - Ceará ; SETOP - 10/2025 - Minas Gerais ; SIURB - 07/2025 - São Paulo ; SUDECAP - 10/2025 - Minas Gerais
A12: CURVA ABC DE SERVIÇOS
A13: CÓDIGO | B13: BANCO | C13: DESCRIÇÃO | D13: UNIDADE | E13: QUANTIDADE | F13: VALOR UNITÁRIO | G13: VALOR TOTAL | H13: PESO | I13: PESO ACUMULADO
A14: 103675 | B14: SINAPI | C14: CONCRETAGEM DE VIGAS E LAJES, FCK=25 MPA, PARA LAJES MACIÇAS OU NERVURADAS COM USO DE BOMBA - LANÇAMENTO, ADENSAMENTO E ACABAMENTO. AF_02/2022_PS | D14: m³ | E14: 343,13 | F14: 874,01 | G14: 299.899,05 | H14: 3,95 | I14: 3,95
A15: 90777 | B15: SINAPI | C15: ENGENHEIRO CIVIL DE OBRA JUNIOR COM ENCARGOS COMPLEMENTARES | D15: H | E15: 1.584,0 | F15: 174,42 | G15: 276.281,28 | H15: 3,64 | I15: 7,59
A16: 90776 | B16: SINAPI | C16: ENCARREGADO GERAL COM ENCARGOS COMPLEMENTARES | D16: H | E16: 3.168,0 | F16: 81,72 | G16: 258.888,96 | H16: 3,41 | I16: 11,00
A17: 87529 | B17: SINAPI | C17: MASSA ÚNICA, EM ARGAMASSA TRAÇO 1:2:8, PREPARO MECÂNICO, APLICADA MANUALMENTE EM PAREDES INTERNAS DE AMBIENTES COM ÁREA ENTRE 5M² E 10M², E = 17,5MM, COM TALISCAS. AF_03/2024 | D17: m² | E17: 4.128,91 | F17: 53,46 | G17: 220.731,53 | H17: 2,91 | I17: 13,90
A18: ED-48233 | B18: SETOP | C18: ALVENARIA DE VEDAÇÃO COM TIJOLO CERÂMICO FURADO, ESP. 19CM, PARA REVESTIMENTO, INCLUSIVE ARGAMASSA PARA ASSENTAMENTO | D18: m² | E18: 1.727,39 | F18: 118,69 | G18: 205.023,92 | H18: 2,70 | I18: 16,60
A19: 94213 | B19: SINAPI | C19: TELHAMENTO COM TELHA DE AÇO/ALUMÍNIO E = 0,5 MM, COM ATÉ 2 ÁGUAS, INCLUSO IÇAMENTO. AF_07/2019 | D19: m² | E19: 2.717,71 | F19: 68,75 | G19: 186.842,56 | H19: 2,46 | I19: 19,07
A20: CPU638 | B20: Próprio | C20: REVESTIMENTO CERÂMICO PARA PISO COM PLACAS TIPO ESMALTADA EXTRA APLICADA EM AMBIENTES DE ÁREA MAIOR QUE 10 M, ARGAMASSA TIPO AC III, PEI V | D20: m² | E20: 1.924,89 | F20: 94,22 | G20: 181.363,14 | H20: 2,39 | I20: 21,45
A21: 92455 | B21: SINAPI | C21: MONTAGEM E DESMONTAGEM DE FÔRMA DE VIGA, ESCORAMENTO COM GARFO DE MADEIRA, PÉ-DIREITO SIMPLES, EM CHAPA DE MADEIRA RESINADA, 4 UTILIZAÇÕES. AF_09/2020 | D21: m² | E21: 888,61 | F21: 203,13 | G21: 180.503,35 | H21: 2,38 | I21: 23,83
A22: CPU572 | B22: Próprio | C22: CONCRETAGEM DE SAPATA, FCK 25 MPA, COM USO DE BOMBA - LANÇAMENTO, ADENSAMENTO E ACABAMENTO. AF_01/2024 - Adaptado da SINAPI (96558) | D22: m³ | E22: 173,65 | F22: 979,53 | G22: 170.095,38 | H22: 2,24 | I22: 26,07
A23: CPU635 | B23: Próprio | C23: ESTRUTURA METÁLICA EM PERFIL DOBRADO EM AÇO ESTRUTURAL A36, INCLUSOS MÃO DE OBRA, TRANSPORTE E IÇAMENTO UTILIZANDO GUINDASTE - FORNECIMENTO E INSTALAÇÃO. | D23: KG | E23: 11.520,96 | F23: 14,27 | G23: 164.404,10 | H23: 2,17 | I23: 28,24
A24: ED-48232 | B24: SETOP | C24: ALVENARIA DE VEDAÇÃO COM TIJOLO CERÂMICO FURADO, ESP. 14CM, PARA REVESTIMENTO, INCLUSIVE ARGAMASSA PARA ASSENTAMENTO | D24: m² | E24: 1.804,63 | F24: 90,06 | G24: 162.524,98 | H24: 2,14 | I24: 30,38
... A318: ED-32108 | B318: SETOP | C318: FIXAÇÃO DE CORRIMÃO DUPLO METÁLICO, EM GUARDA CORPO, INCLUSIVE CORTE, MONTAGEM E SOLDAGEM | D318: m | E318: 5,4 | F318: 1,92 | G318: 10,37 | H318: 0,00 | I318: 100,00
A320: RAFAEL LUAN LIMA DE SÁ
A321: ENGENHEIRO CIVIL - CREA/MG- 243.163/D
A322: MATRÍCULA: 27126

Sheet CPU
A1: MUNICÍPIO DE NOVA SERRANA
A2: ESTADO DE MINAS GERAIS
A3: CNPJ: 18.291.385/0001-59
A5: Objeto: | B5: ='ORÇAMENTO SINTÉTICO'!B5 -> CONTRATAÇÃO DE EMPRESA ESPECIALIZADA PARA A CONSTRUÇÃO DE CENTRO MUNICIPAL DE EDUCAÇÃO INFANTIL NO BAIRRO SANTA TEREZA, CONFORME PROJETOS, MEMORIAIS, MODELO BIM E DOCUMENTOS AUXILIARES
A6: Município: | B6: Nova Serrana - MG
A7: Endereço: | B7: ='ORÇAMENTO SINTÉTICO'!B7 -> Avenida 02, SN, bairro Santa Tereza, Nova Serrana - MG
A8: BDI: | B8: 0.2247
A9: Encargos Sociais: Não Desonerado
A10: ='ORÇAMENTO SINTÉTICO'!A10 -> Referência de Preços: SINAPI - 02/2026 - Minas Gerais ; SBC - 03/2026 - Minas Gerais ; SICRO3 - 10/2025 - Minas Gerais ; ORSE - 12/2025 - Sergipe ; SEINFRA - 028 - Ceará ; SETOP - 10/2025 - Minas Gerais ; SIURB - 07/2025 - São Paulo ; SUDECAP - 10/2025 - Minas Gerais
A11: Valor total: | J11: ='ORÇAMENTO SINTÉTICO'!J11 -> 7593113.2
A12: Composições Analíticas com Preço Unitário
A13: Composições Principais
A14: 4.1.3 | B14: Código | C14: Banco | D14: Descrição | E14: Tipo | G14: Und | H14: Quant. | I14: Valor Unit | J14: Total
A15: Composição | B15: CPU572 | C15: Próprio | D15: CONCRETAGEM DE SAPATA, FCK 25 MPA, COM USO DE BOMBA - LANÇAMENTO, ADENSAMENTO E ACABAMENTO. AF_01/2024 - Adaptado da SINAPI (96558) | E15: Fundações Rasas (Blocos, Sapatas, Vigas Baldrame) | G15: m³ | H15: 1 | I15: 799.81 | J15: 799.81
A16: Composição Auxiliar | B16: 90587 | C16: SINAPI | D16: VIBRADOR DE IMERSÃO, DIÂMETRO DE PONTEIRA 45MM, MOTOR ELÉTRICO TRIFÁSICO POTÊNCIA DE 2 CV - CHI DIURNO. AF_06/2015 | E16: Custos Horários Produtivo e Improdutivo dos Equipamentos | G16: CHI | H16: 0.133 | I16: 0.56 | J16: 0.07
A17: Composição Auxiliar | B17: 90586 | C17: SINAPI | D17: VIBRADOR DE IMERSÃO, DIÂMETRO DE PONTEIRA 45MM, MOTOR ELÉTRICO TRIFÁSICO POTÊNCIA DE 2 CV - CHP DIURNO. AF_06/2015 | E17: Custos Horários Produtivo e Improdutivo dos Equipamentos | G17: CHP | H17: 0.161 | I17: 1.49 | J17: 0.23
A18: Composição Auxiliar | B18: 88309 | C18: SINAPI | D18: PEDREIRO COM ENCARGOS COMPLEMENTARES | E18: Livro SINAPI: Cálculos e Parâmetros | G18: H | H18: 0.587 | I18: 33.62 | J18: 19.73
A19: Composição Auxiliar | B19: 88316 | C19: SINAPI | D19: SERVENTE COM ENCARGOS COMPLEMENTARES | E19: Livro SINAPI: Cálculos e Parâmetros | G19: H | H19: 0.881 | I19: 24.88 | J19: 21.91
A20: Insumo | B20: 00001527 | C20: SINAPI | D20: CONCRETO USINADO BOMBEAVEL, CLASSE DE RESISTENCIA C25, BRITA 0 E 1, SLUMP = 100 +/- 20 MM, COM BOMBEAMENTO (DISPONIBILIZACAO DE BOMBA), SEM O LANCAMENTO (NBR 8953) | E20: Material | G20: m³ | H20: 1.26 | I20: 601.49 | J20: 757.8774
E21: MO sem LS => | F21: 31.1 | G21: LS => | H21: 0 | I21: MO com LS => | J21: 31.1
E22: Valor do BDI => | F22: 179.72 | H22: Valor com BDI => | J22: 979.53
A24: 4.3.7 | B24: Código | C24: Banco | D24: Descrição | E24: Tipo | G24: Und | H24: Quant. | I24: Valor Unit | J24: Total
A25: Composição | B25: CPU573 | C25: Próprio | D25: CONCRETAGEM DE BLOCO DE COROAMENTO OU VIGA BALDRAME, FCK 25 MPA, COM USO DE BOMBA - LANÇAMENTO, ADENSAMENTO E ACABAMENTO. AF_01/2024, Adaptado da SINAPI (96557) - | E25: Fundações Rasas (Blocos, Sapatas, Vigas Baldrame) | G25: m³ | H25: 1 | I25: 763.68 | J25: 763.68
A26: Composição Auxiliar | B26: 90587 | C26: SINAPI | D26: VIBRADOR DE IMERSÃO, DIÂMETRO DE PONTEIRA 45MM, MOTOR ELÉTRICO TRIFÁSICO POTÊNCIA DE 2 CV - CHI DIURNO. AF_06/2015 | E26: Custos Horários Produtivo e Improdutivo dos Equipamentos | G26: CHI | H26: 0.075 | I26: 0.56 | J26: 0.04
A27: Composição Auxiliar | B27: 88316 | C27: SINAPI | D27: SERVENTE COM ENCARGOS COMPLEMENTARES | E27: Livro SINAPI: Cálculos e Parâmetros | G27: H | H27: 0.501 | I27: 24.88 | J27: 12.46
A28: Composição Auxiliar | B28: 90586 | C28: SINAPI | D28: VIBRADOR DE IMERSÃO, DIÂMETRO DE PONTEIRA 45MM, MOTOR ELÉTRICO TRIFÁSICO POTÊNCIA DE 2 CV - CHP DIURNO. AF_06/2015 | E28: Custos Horários Produtivo e Improdutivo dos Equipamentos | G28: CHP | H28: 0.092 | I28: 1.49 | J28: 0.13
A29: Composição Auxiliar | B29: 88309 | C29: SINAPI | D29: PEDREIRO COM ENCARGOS COMPLEMENTARES | E29: Livro SINAPI: Cálculos e Parâmetros | G29: H | H29: 0.334 | I29: 33.62 | J29: 11.22
A30: Insumo | B30: 00001527 | C30: SINAPI | D30: CONCRETO USINADO BOMBEAVEL, CLASSE DE RESISTENCIA C25, BRITA 0 E 1, SLUMP = 100 +/- 20 MM, COM BOMBEAMENTO (DISPONIBILIZACAO DE BOMBA), SEM O LANCAMENTO (NBR 8953) | E30: Material | G30: m³ | H30: 1.23 | I30: 601.49 | J30: 739.8327
E31: MO sem LS => | F31: 17.68 | G31: LS => | H31: 0 | I31: MO com LS => | J31: 17.68
E32: Valor do BDI => | F32: 171.6 | H32: Valor com BDI => | J32: 935.28
A34: 4.4.1 | B34: Código | C34: Banco | D34: Descrição | E34: Tipo | G34: Und | H34: Quant. | I34: Valor Unit | J34: Total
A35: Composição | B35: CPU633 | C35: Próprio | D35: ESTACA BROCA DE CONCRETO, DIÂMETRO DE 20CM, ESCAVAÇÃO MANUAL COM TRADO CONCHA, COM ARMADURA DE ARRANQUE. AF_05/2020, adaptado de SINAPI (101173) | E35: Estacas Broca, Strauss e Escavada com Fluido Estabilizante | G35: M | H35: 1 | I35: 84.84 | J35: 84.84
A36: Composição Auxiliar | B36: 88309 | C36: SINAPI | D36: PEDREIRO COM ENCARGOS COMPLEMENTARES | E36: Livro SINAPI: Cálculos e Parâmetros | G36: H | H36: 0.49 | I36: 33.62 | J36: 16.47
A37: Composição Auxiliar | B37: 92803 | C37: SINAPI | D37: CORTE E DOBRA DE AÇO CA-50, DIÂMETRO DE 10,0 MM. AF_06/2022 | E37: Armação para Estruturas de Concreto Armado | G37: KG | H37: 2.35 | I37: 8.26 | J37: 19.41
A38: Composição Auxiliar | B38: 94971 | C38: SINAPI | D38: CONCRETO FCK = 25MPA, TRAÇO 1:2,3:2,7 (EM MASSA SECA DE CIMENTO/ AREIA MÉDIA/ BRITA 1) - PREPARO MECÂNICO COM BETONEIRA 600 L. AF_05/2021 | E38: Produção de Concreto | G38: m³ | H38: 0.056 | I38: 576.95 | J38: 32.3
A39: Composição Auxiliar | B39: 88316 | C39: SINAPI | D39: SERVENTE COM ENCARGOS COMPLEMENTARES | E39: Livro SINAPI: Cálculos e Parâmetros | G39: H | H39: 0.67 | I39: 24.88 | J39: 16.66
E40: MO sem LS => | F40: 29.03 | G40: LS => | H40: 0 | I40: MO com LS => | J40: 29.03
E41: Valor do BDI => | F41: 19.06 | H41: Valor com BDI => | J41: 103.9
A43: 4.5.5 | B43: Código | C43: Banco | D43: Descrição | E43: Tipo | G43: Und | H43: Quant. | I43: Valor Unit | J43: Total
A44: Composição | B44: CPU634 | C44: Próprio | D44: Copia da SINAPI (97096) - CONCRETAGEM DE RADIER, PISO DE CONCRETO OU LAJE SOBRE SOLO, FCK 25 MPA - LANÇAMENTO, ADENSAMENTO E ACABAMENTO. AF_09/2021 | E44: Radier, Piso de Concreto e Laje sobre Solo | G44: m³ | H44: 1 | I44: 661.69 | J44: 661.69
...

Sheet CFF
A1: MUNICÍPIO DE NOVA SERRANA
A2: ESTADO DE MINAS GERAIS
A3: CNPJ: 18.291.385/0001-59
A5: Objeto: | B5: ='ORÇAMENTO SINTÉTICO'!B5 -> CONTRATAÇÃO DE EMPRESA ESPECIALIZADA PARA A CONSTRUÇÃO DE CENTRO MUNICIPAL DE EDUCAÇÃO INFANTIL NO BAIRRO SANTA TEREZA, CONFORME PROJETOS, MEMORIAIS, MODELO BIM E DOCUMENTOS AUXILIARES
A6: Município: | B6: Nova Serrana - MG
A7: Endereço: | B7: ='ORÇAMENTO SINTÉTICO'!B7 -> Avenida 02, SN, bairro Santa Tereza, Nova Serrana - MG
A8: BDI: | B8: 0.2247
A9: Encargos Sociais: Não Desonerado
A10: ='ORÇAMENTO SINTÉTICO'!A10 -> Referência de Preços: SINAPI - 02/2026 - Minas Gerais ; SBC - 03/2026 - Minas Gerais ; SICRO3 - 10/2025 - Minas Gerais ; ORSE - 12/2025 - Sergipe ; SEINFRA - 028 - Ceará ; SETOP - 10/2025 - Minas Gerais ; SIURB - 07/2025 - São Paulo ; SUDECAP - 10/2025 - Minas Gerais
A11: Valor total: | I11: ='ORÇAMENTO SINTÉTICO'!J11 -> 7593113.2
A13: CRONOGRAMA FÍSICO-FINANCEIRO
A14: Item | B14: Descrição | C14: Total Por Etapa | D14: 1º MÊS | E14: 2º MÊS | F14: 3º MÊS | G14: 4º MÊS | H14: 5º MÊS | I14: 6º MÊS | J14: 7º MÊS | K14: 8º MÊS | L14: 9º MÊS | M14: 10º MÊS | N14: 11º MÊS | O14: 12º MÊS | P14: 13º MÊS | Q14: 14º MÊS | R14: 15º MÊS | S14: 16º MÊS | T14: 17º MÊS | U14: 18º MÊS
A15: 1 | B15: SERVIÇOS PRELIMINARES | C15: 100,00% 151.792,95 | D15: 34,50% 52.368,57 | E15: 33,50% 50.850,64 | F15: 2,00% 3.035,86 | G15: 2,00% 3.035,86 | H15: 2,00% 3.035,86 | I15: 2,00% 3.035,86 | J15: 2,00% 3.035,86 | K15: 2,00% 3.035,86 | L15: 2,00% 3.035,86 | M15: 2,00% 3.035,86 | N15: 2,00% 3.035,86 | O15: 2,00% 3.035,86 | P15: 2,00% 3.035,86 | Q15: 2,00% 3.035,86 | R15: 2,00% 3.035,86 | S15: 2,00% 3.035,86 | T15: 2,00% 3.035,86 | U15: 2,00% 3.035,86
A16: 2 | B16: ADMINISTRAÇÃO LOCAL | C16: 100,00% 535.170,24 | D16: 5,55% 29.701,95 | E16: 5,55% 29.701,95 | F16: 5,55% 29.701,95 | G16: 5,55% 29.701,95 | H16: 5,55% 29.701,95 | I16: 5,55% 29.701,95 | J16: 5,55% 29.701,95 | K16: 5,55% 29.701,95 | L16: 5,55% 29.701,95 | M16: 5,50% 29.434,36 | N16: 5,55% 29.701,95 | O16: 5,55% 29.701,95 | P16: 5,55% 29.701,95 | Q16: 5,55% 29.701,95 | R16: 5,55% 29.701,95 | S16: 5,55% 29.701,95 | T16: 5,55% 29.701,95 | U16: 5,70% 30.504,70
A17: 3 | B17: PREPARAÇÃO DO TERRENO E MOVIMENTAÇÃO DE SOLO | C17: 100,00% 53.426,63 | F17: 25,00% 13.356,66 | G17: 25,00% 13.356,66 | H17: 25,00% 13.356,66 | I17: 25,00% 13.356,66
A18: 4 | B18: FUNDAÇÕES E INFRAESTRUTURA - CONCRETO ARMADO | C18: 100,00% 1.042.561,63 | F18: 10,00% 104.256,16 | G18: 15,00% 156.384,24 | H18: 25,00% 260.640,41 | I18: 15,00% 156.384,24 | J18: 25,00% 260.640,41 | K18: 10,00% 104.256,16
A19: 5 | B19: SUPERESTRUTURA - CONCRETO ARMADO | C19: 100,00% 1.181.178,45 | I19: 10,00% 118.117,85 | J19: 15,00% 177.176,77 | K19: 15,00% 177.176,77 | L19: 15,00% 177.176,77 | M19: 15,00% 177.176,77 | N19: 15,00% 177.176,77 | O19: 15,00% 177.176,77
A20: 6 | B20: ESTRUTURAS METÁLICAS | C20: 100,00% 250.596,45 | O20: 50,00% 125.298,23 | P20: 25,00% 62.649,11 | Q20: 25,00% 62.649,11
A21: 7 | B21: ALVENARIA DE VEDAÇÃO E FECHAMENTO | C21: 100,00% 370.507,72 | J21: 10,00% 37.050,77 | K21: 10,00% 37.050,77 | L21: 10,00% 37.050,77 | M21: 10,00% 37.050,77 | N21: 10,00% 37.050,77 | O21: 10,00% 37.050,77 | P21: 10,00% 37.050,77 | Q21: 10,00% 37.050,77 | R21: 20,00% 74.101,54
A22: 8 | B22: ESQUADRIAS | C22: 100,00% 316.146,51 | L22: 15,00% 47.421,98 | M22: 10,00% 31.614,65 | N22: 10,00% 31.614,65 | O22: 10,00% 31.614,65 | P22: 10,00% 31.614,65 | Q22: 15,00% 47.421,98 | R22: 20,00% 63.229,30 | S22: 10,00% 31.614,65
A23: 9 | B23: SISTEMAS DE COBERTURA | C23: 100,00% 497.167,85 | J23: 10,00% 49.716,79 | K23: 10,00% 49.716,79 | L23: 10,00% 49.716,79 | M23: 10,00% 49.716,79 | N23: 20,00% 99.433,57 | O23: 30,00% 149.150,36 | P23: 10,00% 49.716,79
A24: 10 | B24: PINTURAS E REVESTIMENTOS | C24: 100,00% 738.913,23 | N24: 15,00% 110.836,98 | O24: 15,00% 110.836,98 | P24: 20,00% 147.782,65 | Q24: 20,00% 147.782,65 | R24: 15,00% 110.836,98 | S24: 15,00% 110.836,98
A25: 11 | B25: GESSO E ACABAMENTOS DE TETO | C25: 100,00% 122.164,72 | O25: 15,00% 18.324,71 | P25: 10,00% 12.216,47 | Q25: 25,00% 30.541,18 | R25: 25,00% 30.541,18 | S25: 25,00% 30.541,18
A26: 12 | B26: PISOS INTERNOS | C26: 100,00% 232.212,17 | N26: 10,00% 23.221,22 | O26: 15,00% 34.831,83 | P26: 25,00% 58.053,04 | Q26: 25,00% 58.053,04 | R26: 25,00% 58.053,04
A27: 13 | B27: PISOS EXTERNOS | C27: 100,00% 176.451,55 | L27: 25,00% 44.112,89 | M27: 25,00% 44.112,89 | N27: 25,00% 44.112,89 | O27: 25,00% 44.112,89
A28: 14 | B28: ACABAMENTOS DOS ACESSOS E QUADRA ESPORTIVA | C28: 100,00% 148.346,86 | S28: 50,00% 74.173,43 | T28: 50,00% 74.173,43
A29: 15 | B29: INSTALAÇÕES HIDRÁULICAS | C29: 100,00% 156.912,33 | I29: 10,00% 15.691,23 | J29: 15,00% 23.536,85 | K29: 20,00% 31.382,47 | L29: 20,00% 31.382,47 | M29: 25,00% 39.228,08 | N29: 10,00% 15.691,23
A30: 16 | B30: INSTALAÇÕES SANITÁRIAS E PLUVIAIS | C30: 100,00% 219.051,84 | I30: 10,00% 21.905,18 | J30: 15,00% 32.857,78 | K30: 20,00% 43.810,37 | L30: 20,00% 43.810,37 | M30: 25,00% 54.762,96 | N30: 10,00% 21.905,18
A31: 17 | B31: INSTALAÇÕES ELÉTRICAS | C31: 100,00% 421.080,20 | J31: 20,00% 84.216,04 | K31: 20,00% 84.216,04 | L31: 20,00% 84.216,04 | M31: 20,00% 84.216,04 | N31: 20,00% 84.216,04
A32: 18 | B32: RESERVATÓRIO METÁLICO | C32: 100,00% 96.489,80 | M32: 15,00% 14.473,47 | N32: 25,00% 24.122,45 | O32: 20,00% 19.297,96 | P32: 40,00% 38.595,92
A33: 19 | B33: LOUÇAS, METAIS E ACESSÓRIOS | C33: 100,00% 221.617,97 | M33: 5,00% 11.080,90 | N33: 5,00% 11.080,90 | O33: 5,00% 11.080,90 | R33: 10,00% 22.161,80 | S33: 25,00% 55.404,49 | T33: 25,00% 55.404,49 | U33: 25,00% 55.404,49
A34: 20 | B34: SISTEMA DE PREVENÇÃO E COMBATE A INCÊNDIO E PÂNICO | C34: 100,00% 143.432,84 | N34: 15,00% 21.514,93 | O34: 15,00% 21.514,93 | P34: 10,00% 14.343,28 | Q34: 15,00% 21.514,93 | R34: 25,00% 35.858,21 | S34: 10,00% 14.343,28 | T34: 10,00% 14.343,28
A35: 21 | B35: INSTALAÇÕES DE GASES PREDIAIS | C35: 100,00% 7.693,90 | R35: 25,00% 1.923,48 | S35: 25,00% 1.923,48 | T35: 50,00% 3.846,95
A36: 22 | B36: SISTEMA DE PROTEÇÃO CONTRA DESCARGAS ATMOSFÉRICAS | C36: 100,00% 83.105,47 | I36: 15,00% 12.465,82 | J36: 15,00% 12.465,82 | K36: 15,00% 12.465,82 | L36: 15,00% 12.465,82 | M36: 15,00% 12.465,82 | N36: 15,00% 12.465,82 | O36: 10,00% 8.310,55
A37: 23 | B37: INSTALAÇÕES DE TELEFONIA E DADOS | C37: 100,00% 62.433,79 | M37: 10,00% 6.243,38 | N37: 15,00% 9.365,07 | O37: 10,00% 6.243,38 | P37: 15,00% 9.365,07 | Q37: 20,00% 12.486,76 | R37: 30,00% 18.730,14
A38: 24 | B38: BANCADAS E PEDRARIAS | C38: 100,00% 93.501,86 | S38: 25,00% 23.375,47 | T38: 25,00% 23.375,47 | U38: 50,00% 46.750,93
A39: 25 | B39: SERVIÇOS COMPLEMENTARES E MURO DE CONTORNO | C39: 100,00% 199.301,16 | L39: 15,00% 29.895,17 | M39: 10,00% 19.930,12 | R39: 25,00% 49.825,29 | S39: 25,00% 49.825,29 | T39: 25,00% 49.825,29
A40: 26 | B40: PAISAGIMO E SERVIÇOS FINAIS | C40: 100,00% 71.855,07 | T40: 50,00% 35.927,54 | U40: 50,00% 35.927,54
A41: Porcentagem | D41: 1,08% | E41: 1,06% | F41: 1,98% | G41: 2,67% | H41: 4,04% | I41: 4,88% | J41: 9,36% | K41: 7,54% | L41: 7,77% | M41: 8,09% | N41: 9,96% | O41: 10,9% | P41: 6,51% | Q41: 5,93% | R41: 6,56% | S41: 5,59% | T41: 3,81% | U41: 2,26%
A42: Custo | D42: 82.070,51 | E42: 80.552,58 | F42: 150.350,62 | G42: 202.478,70 | H42: 306.734,87 | I42: 370.658,79 | J42: 710.399,02 | K42: 572.812,98 | L42: 589.986,86 | M42: 614.542,85 | N42: 756.546,27 | O42: 827.582,69 | P42: 494.125,56 | Q42: 450.238,22 | R42: 497.998,76 | S42: 424.776,05 | T42: 289.634,25 | U42: 171.623,52
...

Sheet BDI
A1: MUNICÍPIO DE NOVA SERRANA
A2: ESTADO DE MINAS GERAIS
A3: CNPJ: 18.291.385/0001-59
A5: Objeto: | B5: ='ORÇAMENTO SINTÉTICO'!B5 -> CONTRATAÇÃO DE EMPRESA ESPECIALIZADA PARA A CONSTRUÇÃO DE CENTRO MUNICIPAL DE EDUCAÇÃO INFANTIL NO BAIRRO SANTA TEREZA, CONFORME PROJETOS, MEMORIAIS, MODELO BIM E DOCUMENTOS AUXILIARES
A6: Município: | B6: Nova Serrana - MG
A7: Endereço: | B7: ='ORÇAMENTO SINTÉTICO'!B7 -> Avenida 02, SN, bairro Santa Tereza, Nova Serrana - MG
A8: BDI: | B8: 0.2247
A9: Encargos Sociais: Não Desonerado
A10: ='ORÇAMENTO SINTÉTICO'!A10 -> Referência de Preços: SINAPI - 02/2026 - Minas Gerais ; SBC - 03/2026 - Minas Gerais ; SICRO3 - 10/2025 - Minas Gerais ; ORSE - 12/2025 - Sergipe ; SEINFRA - 028 - Ceará ; SETOP - 10/2025 - Minas Gerais ; SIURB - 07/2025 - São Paulo ; SUDECAP - 10/2025 - Minas Gerais
A11: Valor total: | E11: ='ORÇAMENTO SINTÉTICO'!J11 -> 7593113.2
A12: COMPOSIÇÃO DO BDI
A13: BONIFICAÇÃO E DESPESAS INDIRETAS - BDI - CONFORME ACORDÃO TCU 2622/2013 - SEM DESONERAÇÃO
A14: DISCRINAÇÃO DAS PARCELAS | B14: SIGLA | C14: VALORES ADOTADOS | D14: LIMITE INFERIOR | E14: LIMITE SUPERIOR | F14: INCIDÊNCIA
A15: CUSTO DIRETO | B15: CD | C15: 1
A16: ADMINISTRAÇÃO CENTRAL | B16: AC | C16: 0.03 | D16: 0.038 | E16: 0.0467 | F16: CD
A17: LUCRO | B17: L | C17: 0.0616 | D17: 0.0664 | E17: 0.0896 | F17: CD
A18: DESPESAS FINANCEIRAS | B18: DF | C18: 0.0059 | D18: 0.0102 | E18: 0.0121 | F18: CD
A19: SEGUROS, GARANTIAS E RISCO | B19: - | C19: =C20+C21 -> 0.0177 | F19: CD
A20: SEGUROS + GARANTIAS | B20: S | C20: 0.008 | D20: 0.0032 | E20: 0.0074 | F20: CD
A21: RISCO * | B21: R | C21: 0.0097 | D21: 0.005 | E21: 0.0097 | F21: CD
A22: TRIBUTOS | B22: I | C22: =SUM(C23:C25) -> 0.0865 | F22: PV
A23: ISS | B23: ISS | C23: 0.05 | D23: 0.01 | E23: 0.05 | F23: PV
A24: PIS | B24: PIS | C24: 0.0065 | D24: 0.0065 | E24: 0.0065 | F24: PV
A25: COFINS | B25: COFINS | C25: 0.03 | D25: 0.03 | E25: 0.03 | F25: PV
A26: CPRB | B26: INSS | C26: 0 | D26: 0 | E26: 0.045 | F26: PV
A28: FÓRMULA DO BDI | B28: BDI
A29: BDI CALCULADO | B29: =(1+(C16+C19))*(1+C18)*(1+C17)/(1-(C22+C26))-1 -> 0.22474059
A30: ISS MUNICIPIO DE NOVA SERRANA | B30: 0.05 | C30: QUANTO AO ISS O TCU MANDA OBSERVAR A LEGISLAÇÃO DO MUNICÍPIO. NO MUNICÍPIO ATUALMENTE A INCIDÊNCIA DO REFERIDO ISS É 100% DO PREÇO DO SERVIÇO.
A34: RAFAEL LUAN LIMA DE SÁ
A35: ENGENHEIRO CIVIL - CREA/MG- 243.163/D
A36: MATRÍCULA: 27126

Sheet MEMÓRIA 
A1: MUNICÍPIO DE NOVA SERRANA
A2: ESTADO DE MINAS GERAIS
A3: CNPJ: 18.291.385/0001-59
A5: Objeto: | B5: CONTRATAÇÃO DE EMPRESA ESPECIALIZADA PARA A CONSTRUÇÃO DE CENTRO MUNICIPAL DE EDUCAÇÃO INFANTIL NO BAIRRO SANTA TEREZA, CONFORME PROJETOS, MEMORIAIS, MODELO BIM E DOCUMENTOS AUXILIARES
A6: Município: | B6: Nova Serrana - MG
A7: Endereço: | B7: Avenida 02, SN, bairro Santa Tereza, Nova Serrana - MG
A8: BDI: | B8: 0.2247
A9: Encargos Sociais: Não Desonerado
A10: ='ORÇAMENTO SINTÉTICO'!A10 -> Referência de Preços: SINAPI - 02/2026 - Minas Gerais ; SBC - 03/2026 - Minas Gerais ; SICRO3 - 10/2025 - Minas Gerais ; ORSE - 12/2025 - Sergipe ; SEINFRA - 028 - Ceará ; SETOP - 10/2025 - Minas Gerais ; SIURB - 07/2025 - São Paulo ; SUDECAP - 10/2025 - Minas Gerais
A11: Valor total: | J11: ='ORÇAMENTO SINTÉTICO'!J11 -> 7593113.2
A12: Item | B12: Código | C12: Banco | D12: Descrição | E12: Und | F12: Quant. | G12: Valor Unit | H12: Valor Unit com BDI | I12: Total | J12: Peso (%)
A13: 1 | D13: SERVIÇOS PRELIMINARES | F13: 1 | H13: 151792.95 | I13: 151792.95 | J13: 0.019990871
A14: 1.1 | B14: 103689 | C14: SINAPI | D14: FORNECIMENTO E INSTALAÇÃO DE PLACA DE OBRA COM CHAPA GALVANIZADA E ESTRUTURA DE MADEIRA. AF_03/2022_PS | E14: m² | F14: 6.48 | G14: 377.67 | H14: 462.53 | I14: 2997.19 | J14: 0.00039472479
A15: Local | D15: Descrição | E15: Fórmula | I15: Quantidade
D16: Considerando a placa no novo tamanho do padrão CAIXA, com dimensões de 3,60x1,80 | I16: 6.48
A17: 1.2 | B17: 98459 | C17: SINAPI | D17: TAPUME COM TELHA METÁLICA. AF_03/2024 | E17: m² | F17: 830.49 | G17: 85.15 | H17: 104.28 | I17: 86603.5 | J17: 0.011405533
A18: Local | D18: Descrição | E18: Fórmula | I18: Quantidade
D19: Considerando o perímetro total da obra, considerando as telhas com 3m de altura. | E19: (92+31,33+89,83+9,42+54,25)*3 | I19: 830.49
A20: 1.3 | B20: ED-50150 | C20: SETOP | D20: LIGAÇÃO DE ÁGUA PROVISÓRIA PARA CANTEIRO, INCLUSIVE HIDRÔMETRO E CAVALETE PARA MEDIÇÃO DE ÁGUA ENTRADA PRINCIPAL, EM AÇO GALVANIZADO DN 20MM (1/2”) PADRÃO CONCESSIONÁRIA | E20: un | F20: 1 | G20: 592.8 | H20: 726 | I20: 726 | J20: 9.5612956e-05
A21: Local | D21: Descrição | E21: Fórmula | I21: Quantidade
D22: Considerando a ligação provisória de água. | E22: 1 | I22: 1
A23: 1.4 | B23: ED-50151 | C23: SETOP | D23: LIGAÇÃO PROVISÓRIA COM ENTRADA DE ENERGIA AÉREA, PADRÃO CEMIG, CARGA INSTALADA DE 15,1KVA ATÉ 30KVA, TRIFÁSICO, COM SAÍDA SUBTERRÂNEA, INCLUSIVE POSTE, CAIXA PARA MEDIDOR, DISJUNTOR, BARRAMENTO, ATERRAMENTO E ACESSÓRIOS | E23: un | F23: 1 | G23: 965.51 | H23: 1182.46 | I23: 1182.46 | J23: 0.00015572796
A24: Local | D24: Descrição | E24: Fórmula | I24: Quantidade
D25: Considerando a ligação provisória de energia. | E25: 1 | I25: 1
A26: 1.5 | B26: ED-50137 | C26: SETOP | D26: MOBILIZAÇÃO E DESMOBILIZAÇÃO DE CONTAINER, INCLUSIVE CARGA, DESCARGA E TRANSPORTE EM CAMINHÃO CARROCERIA COM GUINDAUTO (MUNCK), EXCLUSIVE LOCAÇÃO DO CONTAINER | E26: un | F26: 2 | G26: 1668.96 | H26: 2043.98 | I26: 4087.96 | J26: 0.00053837733
A27: Local | D27: Descrição | E27: Fórmula | I27: Quantidade
D28: Considerando a mobilização de um container de escritório de obra e um de ferramentaria. | E28: 2 | I28: 2
A29: 1.6 | B29: ED-16349 | C29: SETOP | D29: LOCAÇÃO DE CONTAINER COM ISOLAMENTO TÉRMICO, TIPO 2, PARA ESCRITÓRIO DE OBRA COM SANITÁRIO CONTENDO UM (1) VASO SANITÁRIO E UM (1) LAVATÓRIO, COM MEDIDAS REFERENCIAIS DE (6) METROS COMPRIMENTO, (2,3) METROS LARGURA E (2,5) METROS ALTURA ÚTIL INTERNA, INCLUSIVE AR CONDICIONADO E LIGAÇÕES ELÉTRICAS E HIDROSSANITÁRIAS INTERNAS, EXCLUSIVE MOBILIZAÇÃO/DESMOBILIZAÇÃO E LIGAÇÕES PROVISÓRIAS EXTERNAS | E29: mês | F29: 18 | G29: 1633.81 | H29: 2000.93 | I29: 36016.74 | J29: 0.004743343
A30: Local | D30: Descrição | E30: Fórmula | I30: Quantidade
D31: Considerando 18 meses de obra. | E31: 18 | I31: 18
A32: 1.7 | B32: ED-16350 | C32: SETOP | D32: LOCAÇÃO DE CONTAINER COM ISOLAMENTO TÉRMICO, TIPO 3, PARA DEPÓSITO/FERRAMENTARIA DE OBRA, COM MEDIDAS REFERENCIAIS DE (6) METROS COMPRIMENTO, (2,3) METROS LARGURA E (2,5) METROS ALTURA ÚTIL INTERNA, INCLUSIVE LIGAÇÕES ELÉTRICAS INTERNAS, EXCLUSIVE MOBILIZAÇÃO/DESMOBILIZAÇÃO E LIGAÇÕES PROVISÓRIAS EXTERNAS | E32: mês | F32: 18 | G32: 858.71 | H32: 1051.66 | I32: 18929.88 | J32: 0.0024930328
A33: Local | D33: Descrição | E33: Fórmula | I33: Quantidade
D34: Considerando 18 meses de obra. | E34: 18 | I34: 18
A35: 1.8 | B35: ED-16357 | C35: SETOP | D35: LIGAÇÕES PROVISÓRIAS PARA CONTAINER TIPO 2 (CORRESPONDENTE AO CÓDIGO ED 16349) | E35: un | F35: 1 | G35: 676.99 | H35: 829.11 | I35: 829.11 | J35: 0.00010919237
A36: Local | D36: Descrição | E36: Fórmula | I36: Quantidade
D37: Considerando a ligação para o container | E37: 1 | I37: 1
A38: 1.9 | B38: ED-16358 | C38: SETOP | D38: LIGAÇÕES PROVISÓRIAS PARA CONTAINER TIPO 3 (CORRESPONDENTE AO CÓDIGO ED 16350) | E38: un | F38: 1 | G38: 343.03 | H38: 420.11 | I38: 420.11 | J38: 5.5327767e-05
A39: Local | D39: Descrição | E39: Fórmula | I39: Quantidade
D40: Considerando a ligação para o container | E40: 1 | I40: 1
A41: 2 | D41: ADMINISTRAÇÃO LOCAL | F41: 1 | H41: 535170.24 | I41: 535170.24 | J41: 0.070481004
...
