Workbook
Name _44__REAL._ACUM.: OFFSET(#REF!,,,1,MATCH(#REF!,#REF!,1))
Name _Ano1: #REF!
Name _Ano2: #REF!
Name _bbb1: [1]!Macro1
Name _bbb1: [1]!Macro1
Name _bbb3: [1]!Macro3
Name _bbb3: [1]!Macro3
Name _BBB4: #REF!
Name _BBB5: #REF!
Name _BBB6: '[1]#REF'!$A$1:$U$38
Name _gdp85: #REF!
Name _gdp86: #REF!
Name _gdp87: #REF!
Name _gdp88: #REF!
Name _gdp89: #REF!
Name _gdp90: #REF!
Name _gdp91: #REF!
Name _gdp92: #REF!
Name _gdp93: #REF!
Name _gdp94: #REF!
Name _gdp95: #REF!
Name _gdp96: #REF!
Name _gdp97: #REF!
Name _gdp98: [2]GDP!$Q$32
Name _gdp99: [2]GDP!$R$32
Name _GRP1: #REF!
Name _GRP2: #REF!
Name _GRP3: #REF!
Name _ORC98: #REF!
Name _pA5: [3]!_xlbgnm.pA5
Name _pA5: [3]!_xlbgnm.pA5
Name _pA6: [3]!_xlbgnm.pA6
Name _pA6: [3]!_xlbgnm.pA6
Name _pC5: [3]!_xlbgnm.pC5
Name _pC5: [3]!_xlbgnm.pC5
Name _R3G_Investimento: [4]!_R3G_Investimento
Name _TVP1: #REF!
Name _TVP2: #REF!
Name _Ver1: #REF!
Name _Ver2: #REF!
Name aaa: [4]!aaa
Name ACU: [4]!ACU
Name ACUMLU2: [4]!ACUMLU2
Name Acumul: [4]!Acumul
Name Acumula: [4]!Acumula
Name Acumulado: #REF!
Name Ad.Física: Plan1
Name Ad.Física: Plan1
Name ADAJHDAS: [5]!Macro1
Name adas: [6]!BALANCO
Name adas: [6]!BALANCO
Name ADDED: [4]!ADDED
Name AderênciaFísica: #REF!
Name aliq_ir_antes: #REF!
Name aliq_ir_depois: #REF!
Name amort: #REF!
Name Ampliação_do_Pátio_Intermediário_da_Torre_D___Tubarão: #REF!
Name ana: #REF!
Name Ano: #REF!
Name Ano_Inicial: [7]Inputs!$C$32

Sheet Orçamento Sintético
C1: PREFEITURA MUNICIPAL DE NOVA SERRANA ESTADO DE MINAS GERAIS CNPJ/MF N° 18.291.385/0001-59
A2: Obra | D2: Bancos | G2: B.D.I. | I2: Encargos Sociais
A3: CONSTRUÇÃO DE UNIDADE DE ATENÇÃO ESPECIALIZADA EM SAÚDE | D3: SINAPI - 06/2026 - Minas Gerais SBC - 07/2026 - Minas Gerais SICRO3 - 04/2026 - Minas Gerais | G3: 27,54% | I3: Desonerado: embutido nos preços unitário dos insumos de mão de obra, de acordo com as bases.
A4: Orçamento Sintético
H5: Valor Final do Orçamento | I5: 2402928.2
H6: BDI | J6: 0.2754
A7: Item | B7: Código | C7: Banco | D7: Descrição | E7: Und | F7: Quant. | G7: Valor Unit | H7: Valor Unit com BDI | I7: Total | J7: Peso (%)
A8: 1 | D8: SERVIÇOS PRELIMINARES E ADMINISTRAÇÃO LOCAL | F8: 1 | H8: =I9 + I11 -> 114993.74 | I8: =TRUNC(F8 * H8,2) -> 114993.74 | J8: =I8 / I5 -> 0.04785567
A9: 1.1 | D9: MOBILICAÇÃO E CANTEIRO DE OBRAS | F9: 1 | H9: =I10 -> 2189.56 | I9: =TRUNC(F9 * H9,2) -> 2189.56 | J9: =I9 / I5 -> 0.00091120491
A10: 1.1.1 | B10: 103689 | C10: SINAPI | D10: FORNECIMENTO E INSTALAÇÃO DE PLACA DE OBRA COM CHAPA GALVANIZADA E ESTRUTURA DE MADEIRA. AF_03/2022_PS | E10: m² | F10: 4.5 | G10: 381.51 | H10: =TRUNC(TRUNC(G10 * J6, 2) + G10, 2) -> 486.57 | I10: =TRUNC(F10 * H10,2) -> 2189.56 | J10: =I10 / I5 -> 0.00091120491
A11: 1.2 | D11: ADMINISTRAÇÃO | F11: 1 | H11: =I12 + I13 -> 112804.18 | I11: =TRUNC(F11 * H11,2) -> 112804.18 | J11: =I11 / I5 -> 0.046944465
A12: 1.2.1 | B12: 00002706 | C12: SINAPI | D12: ENGENHEIRO CIVIL DE OBRA JUNIOR (HORISTA) | E12: H | F12: 222 | G12: 125.46 | H12: =TRUNC(TRUNC(G12 * J6, 2) + G12, 2) -> 160.01 | I12: =TRUNC(F12 * H12,2) -> 35522.22 | J12: =I12 / I5 -> 0.014782888
A13: 1.2.2 | B13: 00040818 | C13: SINAPI | D13: ENCARREGADO GERAL DE OBRAS (MENSALISTA) | E13: MES | F13: 7 | G13: 8656.33 | H13: =TRUNC(TRUNC(G13 * J6, 2) + G13, 2) -> 11040.28 | I13: =TRUNC(F13 * H13,2) -> 77281.96 | J13: =I13 / I5 -> 0.032161576
A14: 2 | D14: PLATIBANDA | F14: 1 | H14: =I15 + I20 -> 27668.53 | I14: =TRUNC(F14 * H14,2) -> 27668.53 | J14: =I14 / I5 -> 0.011514505
A15: 2.1 | D15: PILARES- PLATIBANDA | F15: 1 | H15: =I16 + I17 + I18 + I19 -> 11433.82 | I15: =TRUNC(F15 * H15,2) -> 11433.82 | J15: =I15 / I5 -> 0.0047582861
A16: 2.1.1 | B16: 92431 | C16: SINAPI | D16: MONTAGEM E DESMONTAGEM DE FÔRMA DE PILARES RETANGULARES E ESTRUTURAS SIMILARES, PÉ-DIREITO SIMPLES, EM CHAPA DE MADEIRA COMPENSADA PLASTIFICADA, 10 UTILIZAÇÕES. AF_09/2020 | E16: m² | F16: 57.3 | G16: 63.11 | H16: =TRUNC(TRUNC(G16 * J6, 2) + G16, 2) -> 80.49 | I16: =TRUNC(F16 * H16,2) -> 4612.07 | J16: =I16 / I5 -> 0.001919354
A17: 2.1.2 | B17: 92759 | C17: SINAPI | D17: ARMAÇÃO DE PILAR OU VIGA DE ESTRUTURA CONVENCIONAL DE CONCRETO ARMADO UTILIZANDO AÇO CA-60 DE 5,0 MM - MONTAGEM. AF_06/2022 | E17: KG | F17: 69 | G17: 13.54 | H17: =TRUNC(TRUNC(G17 * J6, 2) + G17, 2) -> 17.26 | I17: =TRUNC(F17 * H17,2) -> 1190.94 | J17: =I17 / I5 -> 0.0004956203
A18: 2.1.3 | B18: 92762 | C18: SINAPI | D18: ARMAÇÃO DE PILAR OU VIGA DE ESTRUTURA CONVENCIONAL DE CONCRETO ARMADO UTILIZANDO AÇO CA-50 DE 10,0 MM - MONTAGEM. AF_06/2022 | E18: KG | F18: 167.5 | G18: 9.87 | H18: =TRUNC(TRUNC(G18 * J6, 2) + G18, 2) -> 12.58 | I18: =TRUNC(F18 * H18,2) -> 2107.15 | J18: =I18 / I5 -> 0.00087690925
A19: 2.1.4 | B19: 103669 | C19: SINAPI | D19: CONCRETAGEM DE PILARES, FCK = 25 MPA, COM USO DE BALDES - LANÇAMENTO, ADENSAMENTO E ACABAMENTO. AF_02/2022 | E19: m³ | F19: 2.74 | G19: 1008.32 | H19: =TRUNC(TRUNC(G19 * J6, 2) + G19, 2) -> 1286.01 | I19: =TRUNC(F19 * H19,2) -> 3523.66 | J19: =I19 / I5 -> 0.0014664025
A20: 2.2 | D20: VIGAS- PLATIBANDA | F20: 1 | H20: =I21 + I22 + I23 + I24 + I25 -> 16234.71 | I20: =TRUNC(F20 * H20,2) -> 16234.71 | J20: =I20 / I5 -> 0.0067562193
A21: 2.2.1 | B21: 92467 | C21: SINAPI | D21: MONTAGEM E DESMONTAGEM DE FÔRMA DE VIGA, ESCORAMENTO COM GARFO DE MADEIRA, PÉ-DIREITO SIMPLES, EM CHAPA DE MADEIRA PLASTIFICADA, 10 UTILIZAÇÕES. AF_09/2020 | E21: m² | F21: 59.31 | G21: 105.11 | H21: =TRUNC(TRUNC(G21 * J6, 2) + G21, 2) -> 134.05 | I21: =TRUNC(F21 * H21,2) -> 7950.5 | J21: =I21 / I5 -> 0.0033086714
A22: 2.2.2 | B22: 92759 | C22: SINAPI | D22: ARMAÇÃO DE PILAR OU VIGA DE ESTRUTURA CONVENCIONAL DE CONCRETO ARMADO UTILIZANDO AÇO CA-60 DE 5,0 MM - MONTAGEM. AF_06/2022 | E22: KG | F22: 119.27 | G22: 13.54 | H22: =TRUNC(TRUNC(G22 * J6, 2) + G22, 2) -> 17.26 | I22: =TRUNC(F22 * H22,2) -> 2058.6 | J22: =I22 / I5 -> 0.00085670474
A23: 2.2.3 | B23: 92769 | C23: SINAPI | D23: ARMAÇÃO DE LAJE DE ESTRUTURA CONVENCIONAL DE CONCRETO ARMADO UTILIZANDO AÇO CA-50 DE 6,3 MM - MONTAGEM. AF_06/2022 | E23: KG | F23: 1.18 | G23: 11.71 | H23: =TRUNC(TRUNC(G23 * J6, 2) + G23, 2) -> 14.93 | I23: =TRUNC(F23 * H23,2) -> 17.61 | J23: =I23 / I5 -> 7.3285585e-06
A24: 2.2.4 | B24: 92762 | C24: SINAPI | D24: ARMAÇÃO DE PILAR OU VIGA DE ESTRUTURA CONVENCIONAL DE CONCRETO ARMADO UTILIZANDO AÇO CA-50 DE 10,0 MM - MONTAGEM. AF_06/2022 | E24: KG | F24: 279.18 | G24: 9.87 | H24: =TRUNC(TRUNC(G24 * J6, 2) + G24, 2) -> 12.58 | I24: =TRUNC(F24 * H24,2) -> 3512.08 | J24: =I24 / I5 -> 0.0014615834
A25: 2.2.5 | B25: 103675 | C25: SINAPI | D25: CONCRETAGEM DE VIGAS E LAJES, FCK=25 MPA, PARA LAJES MACIÇAS OU NERVURADAS COM USO DE BOMBA - LANÇAMENTO, ADENSAMENTO E ACABAMENTO. AF_02/2022_PS | E25: m³ | F25: 3.08 | G25: 686.3 | H25: =TRUNC(TRUNC(G25 * J6, 2) + G25, 2) -> 875.3 | I25: =TRUNC(F25 * H25,2) -> 2695.92 | J25: =I25 / I5 -> 0.0011219311
A26: 3 | D26: IMPERMEABILIZAÇÕES | F26: 1 | H26: =I27 -> 4682.7 | I26: =TRUNC(F26 * H26,2) -> 4682.7 | J26: =I26 / I5 -> 0.0019487473
A27: 3.1 | D27: IMPERMEABILIZAÇÃO DE ÁREAS LAVÁVEIS | F27: 1 | H27: =I28 -> 4682.7 | I27: =TRUNC(F27 * H27,2) -> 4682.7 | J27: =I27 / I5 -> 0.0019487473
A28: 3.1.1 | B28: 98555 | C28: SINAPI | D28: IMPERMEABILIZAÇÃO DE SUPERFÍCIE COM ARGAMASSA POLIMÉRICA / MEMBRANA ACRÍLICA, 3 DEMÃOS. AF_09/2023 | E28: m² | F28: 110 | G28: 33.38 | H28: =TRUNC(TRUNC(G28 * J6, 2) + G28, 2) -> 42.57 | I28: =TRUNC(F28 * H28,2) -> 4682.7 | J28: =I28 / I5 -> 0.0019487473
A29: 4 | D29: SISTEMA DE VEDAÇÃO INTERNA E EXTERNA | F29: 1 | H29: =I30 + I32 -> 46564.26 | I29: =TRUNC(F29 * H29,2) -> 46564.26 | J29: =I29 / I5 -> 0.019378132
A30: 4.1 | D30: ALVENARIA DE BLOCO CERÂMICO | F30: 1 | H30: =I31 -> 25762.4 | I30: =TRUNC(F30 * H30,2) -> 25762.4 | J30: =I30 / I5 -> 0.010721252
A31: 4.1.1 | B31: 103324 | C31: SINAPI | D31: ALVENARIA DE VEDAÇÃO DE BLOCOS CERÂMICOS FURADOS NA VERTICAL DE 14X19X39 CM (ESPESSURA 14 CM) E ARGAMASSA DE ASSENTAMENTO COM PREPARO EM BETONEIRA. AF_12/2021 | E31: m² | F31: 220.89 | G31: 91.45 | H31: =TRUNC(TRUNC(G31 * J6, 2) + G31, 2) -> 116.63 | I31: =TRUNC(F31 * H31,2) -> 25762.4 | J31: =I31 / I5 -> 0.010721252
A32: 4.2 | D32: VERGAS E CONTRA-VERGAS | F32: 1 | H32: =I33 + I34 + I35 + I36 + I37 + I38 -> 20801.86 | I32: =TRUNC(F32 * H32,2) -> 20801.86 | J32: =I32 / I5 -> 0.0086568794
A33: 4.2.1 | B33: 93191 | C33: SINAPI | D33: VERGA MOLDADA IN LOCO COM UTILIZAÇÃO DE BLOCOS CANALETA, ESPESSURA DE *20* CM. AF_03/2024 | E33: M | F33: 10.1 | G33: 77.71 | H33: =TRUNC(TRUNC(G33 * J6, 2) + G33, 2) -> 99.11 | I33: =TRUNC(F33 * H33,2) -> 1001.01 | J33: =I33 / I5 -> 0.00041657923
A34: 4.2.2 | B34: 93187 | C34: SINAPI | D34: VERGA MOLDADA IN LOCO EM CONCRETO, ESPESSURA DE *20* CM. AF_03/2024 | E34: M | F34: 56.13 | G34: 87.25 | H34: =TRUNC(TRUNC(G34 * J6, 2) + G34, 2) -> 111.27 | I34: =TRUNC(F34 * H34,2) -> 6245.58 | J34: =I34 / I5 -> 0.0025991538
A35: 4.2.3 | B35: 93191 | C35: SINAPI | D35: VERGA MOLDADA IN LOCO COM UTILIZAÇÃO DE BLOCOS CANALETA, ESPESSURA DE *20* CM. AF_03/2024 | E35: M | F35: 29.9 | G35: 77.71 | H35: =TRUNC(TRUNC(G35 * J6, 2) + G35, 2) -> 99.11 | I35: =TRUNC(F35 * H35,2) -> 2963.38 | J35: =I35 / I5 -> 0.001233237
A36: 4.2.4 | B36: 93191 | C36: SINAPI | D36: VERGA MOLDADA IN LOCO COM UTILIZAÇÃO DE BLOCOS CANALETA, ESPESSURA DE *20* CM. AF_03/2024 | E36: M | F36: 2 | G36: 77.71 | H36: =TRUNC(TRUNC(G36 * J6, 2) + G36, 2) -> 99.11 | I36: =TRUNC(F36 * H36,2) -> 198.22 | J36: =I36 / I5 -> 8.249102e-05
A37: 4.2.5 | B37: 93197 | C37: SINAPI | D37: CONTRAVERGA MOLDADA IN LOCO EM CONCRETO, ESPESSURA DE *20* CM. AF_03/2024 | E37: M | F37: 23.8 | G37: 64.78 | H37: =TRUNC(TRUNC(G37 * J6, 2) + G37, 2) -> 82.62 | I37: =TRUNC(F37 * H37,2) -> 1966.35 | J37: =I37 / I5 -> 0.00081831408
A38: 4.2.6 | B38: CP-001 | C38: Próprio | D38: ESTRUTURA DE FECHAMENTO EM VÃOS SUPERIORES DE JANELA EM CHAPA CIMENTÍCIA - FORNECIMENTO E INSTALAÇÃO | E38: m | F38: 42.8 | G38: 154.39 | H38: =TRUNC(TRUNC(G38 * J6, 2) + G38, 2) -> 196.9 | I38: =TRUNC(F38 * H38,2) -> 8427.32 | J38: =I38 / I5 -> 0.0035071043
A39: 5 | D39: COBERTURA E DRENAGEM | F39: 1 | H39: =I40 + I44 -> 157342.01 | I39: =TRUNC(F39 * H39,2) -> 157342.01 | J39: =I39 / I5 -> 0.06547928
A40: 5.1 | D40: TELHADO | F40: 1 | H40: =I41 + I42 + I43 -> 137455.38 | I40: =TRUNC(F40 * H40,2) -> 137455.38 | J40: =I40 / I5 -> 0.057203282
...

Sheet Memória de Cálculo
A1: PREFEITURA MUNICIPAL DE NOVA SERRANA ESTADO DE MINAS GERAIS CNPJ/MF N° 18.291.385/0001-59
A3: CONSTRUÇÃO DE UNIDADE DE ATENÇÃO ESPECIALIZADA EM SAÚDE (OBRA REMANESCENTE)- BAIRRO BELVEDERE - NOVA SERRANA/MG
A4: Projeto: | B4: CONSTRUÇÃO DE UNIDADE DE ATENÇÃO ESPECIALIZADA EM SAÚDE (OBRA REMANESCENTE)
A5: Município: | B5: Nova Serrana
A6: Endereço: | B6: RUA TEXAS, 102, BAIRRO BELVEDERE
A7: BDI: | B7: 0.2754
A8: Valor Total Proposto: | B8: ='Orçamento Sintético'!I5 -> 2402928.2
A9: MEMORIA DE CÁLCULO
B10: Descrição | C10: Und | D10: Quant. | E10: Memória de Cálculo
A11: 1 | B11: SERVIÇOS PRELIMINARES E ADMINISTRAÇÃO LOCAL
A12: 1.1 | B12: MOBILIZAÇÃO E CANTEIRO DE OBRAS
A13: 1.1.1 | B13: PLACA DE OBRA EM CHAPA DE AÇO GALVANIZADO | C13: M2 | D13: 4.5 | E13: Medida da placa 3,6 x 1,8 metros
A14: 1.2 | B14: ADMINISTRAÇÃO
A15: 1.2.1 | B15: ENGENHEIRO CIVIL JUNIOR COM ENCARGOS COMPLEMENTARES | C15: H | D15: 222 | E15: Referente a oito horas semanais, admitindo-se 4 semanas ao mês, pelos 7 meses de obra.
A16: 1.2.2 | B16: ENCARREGADO GERAL DE OBRAS COM ENCARGOS COMPLEMENTARES | C16: MES | D16: 7 | E16: Referente a 7 meses de execução de obra.
A17: 2 | B17: SUPERESTRUTURA- COBERTURA
A18: 2.1 | B18: PLATIBANDA
A19: 2.1.1 | B19: PILARES- PLATIBANDA
A20: 2.1.1.1 | B20: MONTAGEM E DESMONTAGEM DE FÔRMA DE PILARES RETANGULARES E ESTRUTURAS SIMILARES, PÉ-DIREITO SIMPLES, EM CHAPA DE MADEIRA COMPENSADA PLASTIFICADA, 10 UTILIZAÇÕES. AF_09/2020 | C20: M2 | D20: 57.3 | E20: Conforme projeto estrutural: folha 2/2 => 57,30 m²
A21: 2.1.1.2 | B21: ARMAÇÃO DE PILAR OU VIGA DE ESTRUTURA CONVENCIONAL DE CONCRETO ARMADO UTILIZANDO AÇO CA-60 DE 5,0 MM - MONTAGEM. AF_06/2022 | C21: KG | D21: 69 | E21: Conforme projeto estrutural: folha 2/2 => 75,90/1,1 (retirando o acréscimo de 10% pois ele está incluído no coeficiente da composição)= 69,00kg
A22: 2.1.1.3 | B22: ARMAÇÃO DE PILAR OU VIGA DE ESTRUTURA CONVENCIONAL DE CONCRETO ARMADO UTILIZANDO AÇO CA-50 DE 10,0 MM - MONTAGEM. AF_06/2022 | C22: KG | D22: 167.5 | E22: Conforme projeto estrutural: folha 2/2 => 184,30/1,1 (retirando o acréscimo de 10% pois ele está incluído no coeficiente da composição)= 167,54kg
A23: 2.1.1.4 | B23: CONCRETAGEM DE PILARES, FCK = 25 MPA, COM USO DE BALDES - LANÇAMENTO, ADENSAMENTO E ACABAMENTO. AF_02/2022 | C23: M3 | D23: 2.74 | E23: Conforme projeto estrutural: folha 2/2 => 2,74m³
A24: 2.2 | B24: VIGAS- PLATIBANDA
A25: 2.2.1 | B25: MONTAGEM E DESMONTAGEM DE FÔRMA DE VIGA, ESCORAMENTO COM GARFO DE MADEIRA, PÉ-DIREITO SIMPLES, EM CHAPA DE MADEIRA PLASTIFICADA, 10 UTILIZAÇÕES. AF_09/2020 | C25: M2 | D25: 59.31 | E25: Conforme projeto estrutural: folha 2/2 => 59,31 m²
A26: 2.2.2 | B26: ARMAÇÃO DE PILAR OU VIGA DE ESTRUTURA CONVENCIONAL DE CONCRETO ARMADO UTILIZANDO AÇO CA-60 DE 5,0 MM - MONTAGEM. AF_06/2022 | C26: KG | D26: 119.27 | E26: Conforme projeto estrutural: folha 2/2 => 131,20/1,1 (retirando o acréscimo de 10% pois ele está incluído no coeficiente da composição)= 119,27kg
A27: 2.2.3 | B27: ARMAÇÃO DE LAJE DE ESTRUTURA CONVENCIONAL DE CONCRETO ARMADO UTILIZANDO AÇO CA-50 DE 6,3 MM - MONTAGEM. AF_06/2022 | C27: KG | D27: 1.18 | E27: Conforme projeto estrutural: folha 2/2 => 1,3/1,1 (retirando o acréscimo de 10% pois ele está incluído no coeficiente da composição)= 1,18kg
A28: 2.2.4 | B28: ARMAÇÃO DE PILAR OU VIGA DE ESTRUTURA CONVENCIONAL DE CONCRETO ARMADO UTILIZANDO AÇO CA-50 DE 10,0 MM - MONTAGEM. AF_06/2022 | C28: KG | D28: 279.18 | E28: Conforme projeto estrutural: folha 2/2 => 307,1/1,1 (retirando o acréscimo de 10% pois ele está incluído no coeficiente da composição)= 279,18/kg
A29: 2.2.5 | B29: CONCRETAGEM DE VIGAS E LAJES, FCK=25 MPA, PARA LAJES MACIÇAS OU NERVURADAS COM USO DE BOMBA - LANÇAMENTO, ADENSAMENTO E ACABAMENTO. AF_02/2022_PS | C29: M3 | D29: 3.08 | E29: Conforme projeto estrutural: folha 2/2 => 3,08m³
A30: 3 | B30: IMPERMEABILIZAÇÕES
A31: 3.1 | B31: IMPERMEABILIZAÇÃO DE ÁREAS LAVÁVEIS
A32: 3.1.1 | B32: IMPERMEABILIZAÇÃO DE SUPERFÍCIE COM ARGAMASSA POLIMÉRICA / MEMBRANA ACRÍLICA, 3 DEMÃOS. AF_06/2018 | C32: M2 | D32: 110 | E32: Conforme mapeamento no memorial descritivo, área de piso e 1,2m nas paredes de contorno
A33: 4 | B33: SISTEMA DE VEDAÇÃO INTERNA E EXTERNA
A34: 4.1 | B34: ALVENARIA DE BLOCO CERÂMICO
A35: 4.1.1 | B35: ALVENARIA DE VEDAÇÃO DE BLOCOS CERÂMICOS FURADOS NA VERTICAL DE 14X19X39 CM (ESPESSURA 14 CM) E ARGAMASSA DE ASSENTAMENTO COM PREPARO EM BETONEIRA. AF_12/2021 | C35: M2 | D35: 220.89 | E35: Conforme planilha auxiliar, considerando vãos de janela.
A36: 4.2 | B36: VERGAS E CONTRA-VERGAS
A37: 4.2.1 | B37: VERGA MOLDADA IN LOCO COM UTILIZAÇÃO DE BLOCOS CANALETA, ESPESSURA DE *20* CM. AF_03/2024 | C37: M | D37: 10.1 | E37: Conforme mapeamento em projeto e planilha auxiliar.
A38: 4.2.2 | B38: VERGA MOLDADA IN LOCO EM CONCRETO, ESPESSURA DE *20* CM. AF_03/2024 | C38: M | D38: 56.13 | E38: Conforme mapeamento em projeto e planilha auxiliar.
A39: 4.2.3 | B39: VERGA MOLDADA IN LOCO COM UTILIZAÇÃO DE BLOCOS CANALETA, ESPESSURA DE *20* CM. AF_03/2024 | C39: M | D39: 29.9 | E39: Conforme mapeamento em projeto e planilha auxiliar.
A40: 4.2.4 | B40: VERGA MOLDADA IN LOCO COM UTILIZAÇÃO DE BLOCOS CANALETA, ESPESSURA DE *20* CM. AF_03/2024 | C40: M | D40: 2 | E40: Conforme mapeamento em projeto e planilha auxiliar.
A41: 4.2.5 | B41: CONTRAVERGA MOLDADA IN LOCO EM CONCRETO, ESPESSURA DE *20* CM. AF_03/2024 | C41: M | D41: 23.8 | E41: Conforme mapeamento em projeto e planilha auxiliar.
...

Sheet CPU's
A1: PREFEITURA MUNICIPAL DE NOVA SERRANA ESTADO DE MINAS GERAIS CNPJ/MF N° 18.291.385/0001-59
C4: Composições Analíticas com Preço Unitário | E4: Bancos | G4: B.D.I. | I4: Encargos Sociais
C5: CONSTRUÇÃO DE UNIDADE DE ATENÇÃO ESPECIALIZADA EM SAÚDE | E5: SINAPI - 02/2026 - Minas Gerais SEINFRA - 028 - Ceará SETOP - 01/2026 - Minas Gerais SUDECAP - 10/2025 - Minas Gerais | G5: 27,54% | I5: Não Desonerado: embutido nos preços unitário dos insumos de mão de obra, de acordo com as bases.
A6: Composições Analíticas com Preço Unitário
A7: Composições Principais
C8: Composições Analíticas com Preço Unitário | E8: Bancos | H8: B.D.I.
C9: CONSTRUÇÃO DE UNIDADE DE ATENÇÃO ESPECIALIZADA EM SAÚDE 2026 | E9: SINAPI - 02/2026 - Minas Gerais SEINFRA - 028 - Ceará SETOP - 01/2026 - Minas Gerais SUDECAP - 10/2025 - Minas Gerais | H9: 27,54%
A10: Composições Analíticas com Preço Unitário
A11: 1.1.1 | B11: Código | C11: Banco | D11: Descrição | E11: Tipo | G11: Und | H11: Quant. | I11: Valor Unit | J11: Total
A12: Composição | B12: 103689 | C12: SINAPI | D12: FORNECIMENTO E INSTALAÇÃO DE PLACA DE OBRA COM CHAPA GALVANIZADA E ESTRUTURA DE MADEIRA. AF_03/2022_PS | E12: Sinalização Vertical Viária | G12: m² | H12: 1 | I12: 381.51 | J12: 381.51
A13: Composição Auxiliar | B13: 102234 | C13: SINAPI | D13: PINTURA IMUNIZANTE PARA MADEIRA, 2 DEMÃOS. AF_01/2021 | E13: Pintura em Madeira | G13: m² | H13: 0.5 | I13: 23.33 | J13: 11.66
A14: Composição Auxiliar | B14: 88262 | C14: SINAPI | D14: CARPINTEIRO DE FORMAS COM ENCARGOS COMPLEMENTARES | E14: Livro SINAPI: Cálculos e Parâmetros | G14: H | H14: 0.3729 | I14: 30.96 | J14: 11.54
A15: Composição Auxiliar | B15: 88316 | C15: SINAPI | D15: SERVENTE COM ENCARGOS COMPLEMENTARES | E15: Livro SINAPI: Cálculos e Parâmetros | G15: H | H15: 1.1186 | I15: 23.58 | J15: 26.37
A16: Insumo | B16: 00004509 | C16: SINAPI | D16: SARRAFO *2,5 X 10* CM EM PINUS, MISTA OU EQUIVALENTE DA REGIAO - BRUTA | E16: Material | G16: M | H16: 3.2083 | I16: 3.91 | J16: 12.54
A17: Insumo | B17: 00004813 | C17: SINAPI | D17: PLACA DE OBRA (PARA CONSTRUCAO CIVIL) EM CHAPA GALVANIZADA *N. 22*, ADESIVADA, DE *2,4 X 1,2* M (SEM POSTES PARA FIXACAO) | E17: Material | G17: m² | H17: 1 | I17: 318.75 | J17: 318.75
A18: Insumo | B18: 00005065 | C18: SINAPI | D18: PREGO DE ACO POLIDO COM CABECA 10 X 10 (7/8 X 17) | E18: Material | G18: KG | H18: 0.0113 | I18: 35.85 | J18: 0.4
A19: Insumo | B19: 00005069 | C19: SINAPI | D19: PREGO DE ACO POLIDO COM CABECA 17 X 27 (2 1/2 X 11) | E19: Material | G19: KG | H19: 0.0132 | I19: 19.21 | J19: 0.25
E20: MO sem LS => | F20: 32.89 | G20: LS => | H20: 0 | I20: MO com LS => | J20: 32.89
E21: Valor do BDI => | F21: 105.06 | H21: Valor com BDI => | J21: 486.57
A23: 2.1.1 | B23: Código | C23: Banco | D23: Descrição | E23: Tipo | G23: Und | H23: Quant. | I23: Valor Unit | J23: Total
A24: Composição | B24: 92431 | C24: SINAPI | D24: MONTAGEM E DESMONTAGEM DE FÔRMA DE PILARES RETANGULARES E ESTRUTURAS SIMILARES, PÉ-DIREITO SIMPLES, EM CHAPA DE MADEIRA COMPENSADA PLASTIFICADA, 10 UTILIZAÇÕES. AF_09/2020 | E24: Fôrmas para Estruturas de Concreto Armado | G24: m² | H24: 1 | I24: 63.11 | J24: 63.11
A25: Composição Auxiliar | B25: 88262 | C25: SINAPI | D25: CARPINTEIRO DE FORMAS COM ENCARGOS COMPLEMENTARES | E25: Livro SINAPI: Cálculos e Parâmetros | G25: H | H25: 0.661 | I25: 30.96 | J25: 20.46
A26: Composição Auxiliar | B26: 88239 | C26: SINAPI | D26: AJUDANTE DE CARPINTEIRO COM ENCARGOS COMPLEMENTARES | E26: Livro SINAPI: Cálculos e Parâmetros | G26: H | H26: 0.121 | I26: 25.54 | J26: 3.09
A27: Composição Auxiliar | B27: 92264 | C27: SINAPI | D27: FABRICAÇÃO DE FÔRMA PARA PILARES E ESTRUTURAS SIMILARES, EM CHAPA DE MADEIRA COMPENSADA PLASTIFICADA, E = 18 MM. AF_09/2020 | E27: Fôrmas para Estruturas de Concreto Armado | G27: m² | H27: 0.105 | I27: 213.57 | J27: 22.42
A28: Insumo | B28: 00040304 | C28: SINAPI | D28: PREGO DE ACO POLIDO COM CABECA DUPLA 17 X 27 (2 1/2 X 11) | E28: Material | G28: KG | H28: 0.019 | I28: 23.26 | J28: 0.44
A29: Insumo | B29: 00040287 | C29: SINAPI | D29: LOCACAO DE BARRA DE ANCORAGEM DE 0,80 A 1,20 M DE EXTENSAO, COM ROSCA DE 5/8", INCLUINDO PORCA E FLANGE | E29: Equipamento | G29: MES | H29: 0.785 | I29: 7.07 | J29: 5.54
A30: Insumo | B30: 00040275 | C30: SINAPI | D30: LOCACAO DE VIGA SANDUICHE METALICA VAZADA PARA TRAVAMENTO DE PILARES, ALTURA DE *8* CM, LARGURA DE *6* CM E EXTENSAO DE 2 M | E30: Equipamento | G30: UNXMES | H30: 0.393 | I30: 19.2 | J30: 7.54
A31: Insumo | B31: 00002692 | C31: SINAPI | D31: DESMOLDANTE PROTETOR PARA FORMAS DE MADEIRA, DE BASE OLEOSA EMULSIONADA EM AGUA | E31: Material | G31: L | H31: 0.004 | I31: 6.38 | J31: 0.02
A32: Insumo | B32: 00040271 | C32: SINAPI | D32: LOCACAO DE APRUMADOR METALICO DE PILAR, COM ALTURA E ANGULO REGULAVEIS, EXTENSAO DE *1,50* A *2,80* M | E32: Equipamento | G32: UNXMES | H32: 0.196 | I32: 18.37 | J32: 3.6
E33: MO sem LS => | F33: 22.91 | G33: LS => | H33: 0 | I33: MO com LS => | J33: 22.91
E34: Valor do BDI => | F34: 17.38 | H34: Valor com BDI => | J34: 80.49
A36: 2.1.2 | B36: Código | C36: Banco | D36: Descrição | E36: Tipo | G36: Und | H36: Quant. | I36: Valor Unit | J36: Total
A37: Composição | B37: 92759 | C37: SINAPI | D37: ARMAÇÃO DE PILAR OU VIGA DE ESTRUTURA CONVENCIONAL DE CONCRETO ARMADO UTILIZANDO AÇO CA-60 DE 5,0 MM - MONTAGEM. AF_06/2022 | E37: Armação para Estruturas de Concreto Armado | G37: KG | H37: 1 | I37: 13.54 | J37: 13.54
A38: Composição Auxiliar | B38: 88245 | C38: SINAPI | D38: ARMADOR COM ENCARGOS COMPLEMENTARES | E38: Livro SINAPI: Cálculos e Parâmetros | G38: H | H38: 0.1069 | I38: 31.44 | J38: 3.36
A39: Composição Auxiliar | B39: 88238 | C39: SINAPI | D39: AJUDANTE DE ARMADOR COM ENCARGOS COMPLEMENTARES | E39: Livro SINAPI: Cálculos e Parâmetros | G39: H | H39: 0.0175 | I39: 25.96 | J39: 0.45
A40: Composição Auxiliar | B40: 92800 | C40: SINAPI | D40: CORTE E DOBRA DE AÇO CA-60, DIÂMETRO DE 5,0 MM. AF_06/2022 | E40: Armação para Estruturas de Concreto Armado | G40: KG | H40: 1 | I40: 8.98 | J40: 8.98
A41: Insumo | B41: 00039017 | C41: SINAPI | D41: ESPACADOR / DISTANCIADOR CIRCULAR COM ENTRADA LATERAL, EM PLASTICO, PARA VERGALHAO *4,2 A 12,5* MM, COBRIMENTO 20 MM | E41: Material | G41: UN | H41: 1.19 | I41: 0.22 | J41: 0.26
A42: Insumo | B42: 00043132 | C42: SINAPI | D42: ARAME RECOZIDO 16 BWG, D = 1,65 MM (0,016 KG/M) OU 18 BWG, D = 1,25 MM (0,01 KG/M) | E42: Material | G42: KG | H42: 0.025 | I42: 19.92 | J42: 0.49
E43: MO sem LS => | F43: 4.47 | G43: LS => | H43: 0 | I43: MO com LS => | J43: 4.47
E44: Valor do BDI => | F44: 3.72 | H44: Valor com BDI => | J44: 17.26
...

Sheet BDI
E1: MIN | F1: MED | G1: MAX | O1: ="Quadro de Composição do BDI" -> Quadro de Composição do BDI | R1: Grau de Sigilo
A2: Construção e Reforma de Edifícios | B2: AC | C2: =CONCATENATE(A2,"-",B2) -> Construção e Reforma de Edifícios-AC | E2: 0.03 | F2: 0.04 | G2: 0.055 | R2: #PUBLICO
A3: =A2 -> Construção e Reforma de Edifícios | B3: SG | C3: =CONCATENATE(A3,"-",B3) -> Construção e Reforma de Edifícios-SG | E3: 0.008 | F3: 0.008 | G3: 0.01
J4: PREFEITURA MUNICIPAL DE NOVA SERRANA ESTADO DE MINAS GERAIS CNPJ/MF N° 18.291.385/0001-59
J5: CONSTRUÇÃO DE UNIDADE DE ATENÇÃO ESPECIALIZADA EM SAÚDE (OBRA REMANESCENTE) - BAIRRO BELVEDERE - NOVA SERRANA/MG
A6: =A3 -> Construção e Reforma de Edifícios | B6: R | C6: =CONCATENATE(A6,"-",B6) -> Construção e Reforma de Edifícios-R | E6: 0.0097 | F6: 0.0127 | G6: 0.0127 | J6: Nº OPERAÇÃO | L6: Nº TRANSFEREGOV | N6: PROPONENTE / TOMADOR
A7: =#REF! -> #REF! | B7: BDI PAD | C7: =CONCATENATE(A7,"-",B7) -> #REF! | E7: 0.2034 | F7: 0.2212 | G7: 0.25 | J7: NOME DO EMPREENDIMENTO / DESCRIÇÃO DO LOTE
A8: Construção de Praças Urbanas, Rodovias, Ferrovias e recapeamento e pavimentação de vias urbanas | B8: AC | C8: =CONCATENATE(A8,"-",B8) -> Construção de Praças Urbanas, Rodovias, Ferrovias e recapeamento e pavimentação de vias urbanas-AC | E8: 0.038 | F8: 0.0401 | G8: 0.0467 | J8: FINALIZAÇÃO DA CONSTRUÇÃO DA POLICLÍNICA
A9: Construção de Praças Urbanas, Rodovias, Ferrovias e recapeamento e pavimentação de vias urbanas | B9: SG | C9: =CONCATENATE(A9,"-",B9) -> Construção de Praças Urbanas, Rodovias, Ferrovias e recapeamento e pavimentação de vias urbanas-SG | E9: 0.0032 | F9: 0.004 | G9: 0.0074
A10: Construção de Praças Urbanas, Rodovias, Ferrovias e recapeamento e pavimentação de vias urbanas | B10: R | C10: =CONCATENATE(A10,"-",B10) -> Construção de Praças Urbanas, Rodovias, Ferrovias e recapeamento e pavimentação de vias urbanas-R | E10: 0.005 | F10: 0.0056 | G10: 0.0097 | J10: Conforme legislação tributária municipal, definir estimativa de percentual da base de cálculo para o ISS: | R10: 1
A11: Construção de Praças Urbanas, Rodovias, Ferrovias e recapeamento e pavimentação de vias urbanas | B11: DF | C11: =CONCATENATE(A11,"-",B11) -> Construção de Praças Urbanas, Rodovias, Ferrovias e recapeamento e pavimentação de vias urbanas-DF | E11: 0.0102 | F11: 0.0111 | G11: 0.0121 | I11: ↓ | J11: Sobre a base de cálculo, definir a respectiva alíquota do ISS (entre 2% e 5%): | R11: 0.05
A12: Construção de Praças Urbanas, Rodovias, Ferrovias e recapeamento e pavimentação de vias urbanas | B12: L | C12: =CONCATENATE(A12,"-",B12) -> Construção de Praças Urbanas, Rodovias, Ferrovias e recapeamento e pavimentação de vias urbanas-L | E12: 0.0664 | F12: 0.073 | G12: 0.0869 | I12: F
A13: Construção de Praças Urbanas, Rodovias, Ferrovias e recapeamento e pavimentação de vias urbanas | B13: BDI PAD | C13: =CONCATENATE(A13,"-",B13) -> Construção de Praças Urbanas, Rodovias, Ferrovias e recapeamento e pavimentação de vias urbanas-BDI PAD | E13: 0.196 | F13: 0.2097 | G13: 0.2423 | I13: F
A14: Construção de Redes de Abastecimento de Água, Coleta de Esgoto | B14: AC | C14: =CONCATENATE(A14,"-",B14) -> Construção de Redes de Abastecimento de Água, Coleta de Esgoto-AC | E14: 0.0343 | F14: 0.0493 | G14: 0.0671 | I14: F | J14: BDI
A15: =A14 -> Construção de Redes de Abastecimento de Água, Coleta de Esgoto | B15: SG | C15: =CONCATENATE(A15,"-",B15) -> Construção de Redes de Abastecimento de Água, Coleta de Esgoto-SG | E15: 0.0028 | F15: 0.0049 | G15: 0.0075 | I15: F
A16: =A15 -> Construção de Redes de Abastecimento de Água, Coleta de Esgoto | B16: R | C16: =CONCATENATE(A16,"-",B16) -> Construção de Redes de Abastecimento de Água, Coleta de Esgoto-R | E16: 0.01 | F16: 0.0139 | G16: 0.0174 | I16: F | J16: TIPO DE OBRA
A17: =A16 -> Construção de Redes de Abastecimento de Água, Coleta de Esgoto | B17: DF | C17: =CONCATENATE(A17,"-",B17) -> Construção de Redes de Abastecimento de Água, Coleta de Esgoto-DF | E17: 0.0094 | F17: 0.0099 | G17: 0.0117 | I17: F | J17: Construção e Reforma de Edifícios | T17: =IF(U17="","","◄")
A18: =A17 -> Construção de Redes de Abastecimento de Água, Coleta de Esgoto | B18: L | C18: =CONCATENATE(A18,"-",B18) -> Construção de Redes de Abastecimento de Água, Coleta de Esgoto-L | E18: 0.0674 | F18: 0.0804 | G18: 0.094 | I18: F
A19: =A18 -> Construção de Redes de Abastecimento de Água, Coleta de Esgoto | B19: BDI PAD | C19: =CONCATENATE(A19,"-",B19) -> Construção de Redes de Abastecimento de Água, Coleta de Esgoto-BDI PAD | E19: 0.2076 | F19: 0.2418 | G19: 0.2644 | I19: F | J19: Itens | R19: Siglas | S19: % Adotado | U19: Situação | X19: 1º Quartil | Y19: Médio | Z19: 3º Quartil
A20: Construção e Manutenção de Estações e Redes de Distribuição de Energia Elétrica | B20: AC | C20: =CONCATENATE(A20,"-",B20) -> Construção e Manutenção de Estações e Redes de Distribuição de Energia Elétrica-AC | E20: 0.0529 | F20: 0.0592 | G20: 0.0793 | I20: F
A21: =A20 -> Construção e Manutenção de Estações e Redes de Distribuição de Energia Elétrica | B21: SG | C21: =CONCATENATE(A21,"-",B21) -> Construção e Manutenção de Estações e Redes de Distribuição de Energia Elétrica-SG | E21: 0.0025 | F21: 0.0051 | G21: 0.0056 | I21: F | J21: =IF($J$17=$A$146,"Encargos Sociais incidentes sobre a mão de obra","Administração Central") -> Administração Central | R21: =IF($J17=$A$146,"K1","AC") -> AC | S21: 0.03 | T21: =IF(AND($U$14<>"",S21=""),"◄","") | U21: =IFERROR(IF(AND(S21>=X21,S21<=Z21),"OK","FORA DO INTERVALO"),"-") -> OK | X21: 0.03 | Y21: 0.04 | Z21: 0.055
A22: =A21 -> Construção e Manutenção de Estações e Redes de Distribuição de Energia Elétrica | B22: R | C22: =CONCATENATE(A22,"-",B22) -> Construção e Manutenção de Estações e Redes de Distribuição de Energia Elétrica-R | E22: 0.01 | F22: 0.0148 | G22: 0.0197 | I22: F | J22: =IF($J$17=$A$146,"Administração Central da empresa ou consultoria - overhead","Seguro e Garantia") -> Seguro e Garantia | R22: =IF($J17=$A$146,"K2","SG") -> SG | S22: 0.008 | T22: =IF(AND($U$14<>"",S22=""),"◄","") | U22: =IFERROR(IF(AND(S22>=X22,S22<=Z22),"OK","FORA DO INTERVALO"),"-") -> OK | X22: 0.008 | Y22: 0.008 | Z22: 0.01
A23: =A22 -> Construção e Manutenção de Estações e Redes de Distribuição de Energia Elétrica | B23: DF | C23: =CONCATENATE(A23,"-",B23) -> Construção e Manutenção de Estações e Redes de Distribuição de Energia Elétrica-DF | E23: 0.0101 | F23: 0.0107 | G23: 0.0111 | I23: F | J23: =IF($J$17=$A$146,"","Risco") -> Risco | R23: =IF($J17=$A$146,"","R") -> R | S23: 0.0097 | T23: =IF(AND($U$14<>"",S23=""),"◄","") | U23: =IFERROR(IF(AND(S23>=X23,S23<=Z23),"OK","FORA DO INTERVALO"),"-") -> OK | X23: 0.0097 | Y23: 0.0127 | Z23: 0.0127
A24: =A23 -> Construção e Manutenção de Estações e Redes de Distribuição de Energia Elétrica | B24: L | C24: =CONCATENATE(A24,"-",B24) -> Construção e Manutenção de Estações e Redes de Distribuição de Energia Elétrica-L | E24: 0.08 | F24: 0.0831 | G24: 0.0951 | I24: F | J24: =IF($J$17=$A$146,"","Despesas Financeiras") -> Despesas Financeiras | R24: =IF($J17=$A$146,"","DF") -> DF | S24: 0.0059 | T24: =IF(AND($U$14<>"",S24=""),"◄","") | U24: =IFERROR(IF(AND(S24>=X24,S24<=Z24),"OK","FORA DO INTERVALO"),"-") -> OK | X24: 0.0059 | Y24: 0.0123 | Z24: 0.0139
A25: =A24 -> Construção e Manutenção de Estações e Redes de Distribuição de Energia Elétrica | B25: BDI PAD | C25: =CONCATENATE(A25,"-",B25) -> Construção e Manutenção de Estações e Redes de Distribuição de Energia Elétrica-BDI PAD | E25: 0.24 | F25: 0.2584 | G25: 0.2786 | I25: F | J25: =IF($J$17=$A$146,"Margem bruta da empresa de consultoria","Lucro") -> Lucro | R25: =IF($J17=$A$146,"K3","L") -> L | S25: 0.062 | T25: =IF(AND($U$14<>"",S25=""),"◄","") | U25: =IFERROR(IF(AND(S25>=X25,S25<=Z25),"OK","FORA DO INTERVALO"),"-") -> OK | X25: 0.0616 | Y25: 0.074 | Z25: 0.0896
A26: Obras Portuárias, Marítimas e Fluviais | B26: AC | C26: =CONCATENATE(A26,"-",B26) -> Obras Portuárias, Marítimas e Fluviais-AC | E26: 0.04 | F26: 0.0552 | G26: 0.0785 | I26: F | J26: Tributos (impostos COFINS 3%, e PIS 0,65%) | R26: CP | S26: 0.0365 | T26: =IF(AND($U$14<>"",S26=""),"◄","") | U26: =IFERROR(IF(AND(S26>=X26,S26<=Z26),"OK","FORA DO INTERVALO"),"-") -> OK | X26: 0.0365 | Y26: 0.0365 | Z26: 0.0365
A27: =A26 -> Obras Portuárias, Marítimas e Fluviais | B27: SG | C27: =CONCATENATE(A27,"-",B27) -> Obras Portuárias, Marítimas e Fluviais-SG | E27: 0.0081 | F27: 0.0122 | G27: 0.0199 | I27: F | J27: Tributos (ISS, variável de acordo com o município) | R27: ISS | S27: =IF(AND($J17<>$A$145,COUNTA(OFFSET(S20,1,0,6))>0),$R$11*$R$10,0) -> 0.05 | U27: =IFERROR(IF(AND(S27>=X27,S27<=Z27),"OK","FORA DO INTERVALO"),"-") -> OK | X27: 0 | Y27: 0.025 | Z27: 0.05
A28: =A27 -> Obras Portuárias, Marítimas e Fluviais | B28: R | C28: =CONCATENATE(A28,"-",B28) -> Obras Portuárias, Marítimas e Fluviais-R | E28: 0.0146 | F28: 0.0232 | G28: 0.0316 | I28: F | J28: Tributos (Contribuição Previdenciária sobre a Receita Bruta - Lei 12.546 de 14/12/2011 - Desoneração) | R28: CPRB | S28: 0.036 | U28: OK | X28: 0.036 | Y28: 0.036 | Z28: 0.036
A29: =A28 -> Obras Portuárias, Marítimas e Fluviais | B29: DF | C29: =CONCATENATE(A29,"-",B29) -> Obras Portuárias, Marítimas e Fluviais-DF | E29: 0.0094 | F29: 0.0102 | G29: 0.0133 | I29: F | J29: BDI SEM desoneração (Fórmula Acórdão TCU) | R29: BDI PAD | S29: 0.2251 | U29: =IFERROR(IF(OR($J$17=$A$146,$J$17=$A$145,AND(S29>=X29,S29<=Z29)),"OK","FORA DO INTERVALO"),IF(S29=0,"OK","Selecione o Tipo de obra")) -> OK | X29: 0.2034 | Y29: 0.2212 | Z29: 0.25
A30: =A29 -> Obras Portuárias, Marítimas e Fluviais | B30: L | C30: =CONCATENATE(A30,"-",B30) -> Obras Portuárias, Marítimas e Fluviais-L | E30: 0.0714 | F30: 0.084 | G30: 0.1043 | I30: F | J30: BDI COM desoneração | R30: BDI DES | S30: 0.2754
A31: =A30 -> Obras Portuárias, Marítimas e Fluviais | B31: BDI PAD | C31: =CONCATENATE(A31,"-",B31) -> Obras Portuárias, Marítimas e Fluviais-BDI PAD | E31: 0.228 | F31: 0.2748 | G31: 0.3095 | I31: F
A32: Fornecimento de Materiais e Equipamentos (aquisição indireta - em conjunto com licitação de obras) | B32: AC | C32: =CONCATENATE(A32,"-",B32) -> Fornecimento de Materiais e Equipamentos (aquisição indireta - em conjunto com licitação de obras)-AC | E32: 0.015 | F32: 0.0345 | G32: 0.0449 | I32: F | J32: =IF(U29<>"ok","X","") | K32: =IF(U29<>"ok","Anexo: Relatório Técnico Circunstanciado justificando a adoção do percentual de cada parcela do BDI.","")
A33: =A32 -> Fornecimento de Materiais e Equipamentos (aquisição indireta - em conjunto com licitação de obras) | B33: SG | C33: =CONCATENATE(A33,"-",B33) -> Fornecimento de Materiais e Equipamentos (aquisição indireta - em conjunto com licitação de obras)-SG | E33: 0.003 | F33: 0.0048 | G33: 0.0082 | I33: F
A34: =A33 -> Fornecimento de Materiais e Equipamentos (aquisição indireta - em conjunto com licitação de obras) | B34: R | C34: =CONCATENATE(A34,"-",B34) -> Fornecimento de Materiais e Equipamentos (aquisição indireta - em conjunto com licitação de obras)-R | E34: 0.0056 | F34: 0.0085 | G34: 0.0089 | I34: F | J34: Os valores de BDI foram calculados com o emprego da fórmula:
A35: =A34 -> Fornecimento de Materiais e Equipamentos (aquisição indireta - em conjunto com licitação de obras) | B35: DF | C35: =CONCATENATE(A35,"-",B35) -> Fornecimento de Materiais e Equipamentos (aquisição indireta - em conjunto com licitação de obras)-DF | E35: 0.0085 | F35: 0.0085 | G35: 0.0111 | I35: F | M35: BDI = | N35: =IF($J17=$A$146,"(1+K1+K2)*(1+K3)","(1+AC + S + R + G)*(1 + DF)*(1+L)") -> (1+AC + S + R + G)*(1 + DF)*(1+L) | Q35: - 1
A36: =A35 -> Fornecimento de Materiais e Equipamentos (aquisição indireta - em conjunto com licitação de obras) | B36: L | C36: =CONCATENATE(A36,"-",B36) -> Fornecimento de Materiais e Equipamentos (aquisição indireta - em conjunto com licitação de obras)-L | E36: 0.035 | F36: 0.0511 | G36: 0.0622 | I36: F | N36: (1-CP-ISS-CRPB)
A37: =A36 -> Fornecimento de Materiais e Equipamentos (aquisição indireta - em conjunto com licitação de obras) | B37: BDI PAD | C37: =CONCATENATE(A37,"-",B37) -> Fornecimento de Materiais e Equipamentos (aquisição indireta - em conjunto com licitação de obras)-BDI PAD | E37: 0.111 | F37: 0.1402 | G37: 0.168 | I37: F
A38: Fornecimento de Materiais e Equipamentos (aquisição direta) | B38: AC | C38: =CONCATENATE(A38,"-",B38) -> Fornecimento de Materiais e Equipamentos (aquisição direta)-AC | E38: - | F38: - | G38: - | I38: F | J38: =CONCATENATE("Declaro para os devidos fins que, conforme legislação tributária municipal, a base de cálculo deste tipo de obra corresponde à ",$R$10*100,"%, com a respectiva alíquota de ",$R$11*100,"%.") -> Declaro para os devidos fins que, conforme legislação tributária municipal, a base de cálculo deste tipo de obra corresponde à 100%, com a respectiva alíquota de 5%.
A39: Fornecimento de Materiais e Equipamentos (aquisição direta) | B39: SG | C39: =CONCATENATE(A39,"-",B39) -> Fornecimento de Materiais e Equipamentos (aquisição direta)-SG | E39: - | F39: - | G39: - | I39: F
A40: Fornecimento de Materiais e Equipamentos (aquisição direta) | B40: R | C40: =CONCATENATE(A40,"-",B40) -> Fornecimento de Materiais e Equipamentos (aquisição direta)-R | E40: - | F40: - | G40: - | I40: F | J40: Declaro para os devidos fins que o regime de Contribuição Previdenciária sobre a Receita Bruta adotado para elaboração do orçamento foi COM Desoneração, e que esta é a alternativa mais adequada para a Administração Pública.
...

Sheet CFF
A1: PREFEITURA MUNICIPAL DE NOVA SERRANA ESTADO DE MINAS GERAIS CNPJ/MF N° 18.291.385/0001-59
A2: Município: Nova Serrana - MG
A3: Projeto: CONSTRUÇÃO DE UNIDADE DE ATENÇÃO ESPECIALIZADA EM SAÚDE (OBRA REMANESCENTE)- BAIRRO BELVEDERE - NOVA SERRANA/MG
A4: CRONOGRAMA FÍSICO E FINANCEIRO DA OBRA
A5: ITEM | B5: DESCRIÇÃO | C5: VALOR DOS SERVIÇOS | E5: EXECUTADO 1ª LICITAÇÃO | G5: EXECUTADO 2ª LICITAÇÃO | I5: 1 | K5: =I5+1 -> 2 | M5: =K5+1 -> 3 | O5: =M5+1 -> 4 | Q5: =O5+1 -> 5 | S5: =Q5+1 -> 6 | U5: =S5+1 -> 7 | W5: =U5+1 -> 8
C6: R$ | D6: Peso % | E6: 576154.9 | G6: 256675.41 | I6: R$ | J6: Peso % | K6: R$ | L6: Peso % | M6: R$ | N6: Peso % | O6: R$ | P6: Peso % | Q6: R$ | R6: Peso % | S6: R$ | T6: Peso % | U6: R$ | V6: Peso % | W6: R$ | X6: Peso %
A7: ='Orçamento Sintético'!A8 -> 1 | B7: =VLOOKUP(A7,'Orçamento Sintético'!$A$7:$J$325,4,FALSE) -> SERVIÇOS PRELIMINARES E ADMINISTRAÇÃO LOCAL | C7: =VLOOKUP(A7,'Orçamento Sintético'!$A$7:$J$325,9,FALSE) -> 114993.74 | D7: =IFERROR(C7/$C$24,"") -> 0.04785567 | I7: =C7*J7 -> 1381.6756 | J7: 0.012015225 | K7: =$C7*L7 -> 8989.521 | L7: 0.078174003 | M7: =$C7*N7 -> 14964.561 | N7: 0.1301337 | O7: =$C7*P7 -> 19113.682 | P7: 0.16621498 | Q7: =$C7*R7 -> 20728.255 | R7: 0.1802555 | S7: =$C7*T7 -> 17894.385 | T7: 0.15561181 | U7: =$C7*V7 -> 16916.976 | V7: 0.14711215 | W7: =$C7*X7 -> 15004.684 | X7: 0.13048262 | Y7: =X7+V7+T7+R7+P7+N7+L7+J7 -> 1
A8: ='Orçamento Sintético'!A14 -> 2 | B8: =VLOOKUP(A8,'Orçamento Sintético'!$A$7:$J$325,4,FALSE) -> PLATIBANDA | C8: =VLOOKUP(A8,'Orçamento Sintético'!$A$7:$J$325,9,FALSE) -> 27668.53 | D8: =IFERROR(C8/$C$24,"") -> 0.011514505 | I8: =C8*J8 -> 0 | K8: =$C8*L8 -> 27668.53 | L8: 1 | M8: =$C8*N8 -> 0 | O8: =$C8*P8 -> 0 | Q8: =$C8*R8 -> 0 | S8: =$C8*T8 -> 0 | U8: =$C8*V8 -> 0 | W8: =$C8*X8 -> 0 | Y8: =X8+V8+T8+R8+P8+N8+L8+J8 -> 1
A9: ='Orçamento Sintético'!A26 -> 3 | B9: =VLOOKUP(A9,'Orçamento Sintético'!$A$7:$J$325,4,FALSE) -> IMPERMEABILIZAÇÕES | C9: =VLOOKUP(A9,'Orçamento Sintético'!$A$7:$J$325,9,FALSE) -> 4682.7 | D9: =IFERROR(C9/$C$24,"") -> 0.0019487473 | I9: =C9*J9 -> 0 | K9: =$C9*L9 -> 0 | M9: =$C9*N9 -> 4682.7 | N9: 1 | O9: =$C9*P9 -> 0 | Q9: =$C9*R9 -> 0 | S9: =$C9*T9 -> 0 | U9: =$C9*V9 -> 0 | W9: =$C9*X9 -> 0 | Y9: =X9+V9+T9+R9+P9+N9+L9+J9 -> 1
A10: ='Orçamento Sintético'!A29 -> 4 | B10: =VLOOKUP(A10,'Orçamento Sintético'!$A$7:$J$325,4,FALSE) -> SISTEMA DE VEDAÇÃO INTERNA E EXTERNA | C10: =VLOOKUP(A10,'Orçamento Sintético'!$A$7:$J$325,9,FALSE) -> 46564.26 | D10: =IFERROR(C10/$C$24,"") -> 0.019378132 | I10: =C10*J10 -> 0 | K10: =$C10*L10 -> 23282.13 | L10: 0.5 | M10: =$C10*N10 -> 23282.13 | N10: 0.5 | O10: =$C10*P10 -> 0 | Q10: =$C10*R10 -> 0 | S10: =$C10*T10 -> 0 | U10: =$C10*V10 -> 0 | W10: =$C10*X10 -> 0 | Y10: =X10+V10+T10+R10+P10+N10+L10+J10 -> 1
A11: ='Orçamento Sintético'!A39 -> 5 | B11: =VLOOKUP(A11,'Orçamento Sintético'!$A$7:$J$325,4,FALSE) -> COBERTURA E DRENAGEM | C11: =VLOOKUP(A11,'Orçamento Sintético'!$A$7:$J$325,9,FALSE) -> 157342.01 | D11: =IFERROR(C11/$C$24,"") -> 0.06547928 | I11: =C11*J11 -> 0 | K11: =$C11*L11 -> 0 | M11: =$C11*N11 -> 0 | O11: =$C11*P11 -> 78671.005 | P11: 0.5 | Q11: =$C11*R11 -> 78671.005 | R11: 0.5 | S11: =$C11*T11 -> 0 | U11: =$C11*V11 -> 0 | W11: =$C11*X11 -> 0 | Y11: =X11+V11+T11+R11+P11+N11+L11+J11 -> 1
A12: ='Orçamento Sintético'!A49 -> 6 | B12: =VLOOKUP(A12,'Orçamento Sintético'!$A$7:$J$325,4,FALSE) -> PAVIMENTAÇÃO | C12: =VLOOKUP(A12,'Orçamento Sintético'!$A$7:$J$325,9,FALSE) -> 144795.06 | D12: =IFERROR(C12/$C$24,"") -> 0.060257755 | I12: =C12*J12 -> 0 | K12: =$C12*L12 -> 72397.53 | L12: 0.5 | M12: =$C12*N12 -> 36198.765 | N12: 0.25 | O12: =$C12*P12 -> 36198.765 | P12: 0.25 | Q12: =$C12*R12 -> 0 | S12: =$C12*T12 -> 0 | U12: =$C12*V12 -> 0 | W12: =$C12*X12 -> 0 | Y12: =X12+V12+T12+R12+P12+N12+L12+J12 -> 1
A13: ='Orçamento Sintético'!A59 -> 7 | B13: =VLOOKUP(A13,'Orçamento Sintético'!$A$7:$J$325,4,FALSE) -> REVESTIMENTOS | C13: =VLOOKUP(A13,'Orçamento Sintético'!$A$7:$J$325,9,FALSE) -> 262298.03 | D13: =IFERROR(C13/$C$24,"") -> 0.10915766 | I13: =C13*J13 -> 0 | K13: =$C13*L13 -> 26229.803 | L13: 0.1 | M13: =$C13*N13 -> 52459.606 | N13: 0.2 | O13: =$C13*P13 -> 52459.606 | P13: 0.2 | Q13: =$C13*R13 -> 65574.508 | R13: 0.25 | S13: =$C13*T13 -> 65574.508 | T13: 0.25 | U13: =$C13*V13 -> 0 | W13: =$C13*X13 -> 0 | Y13: =X13+V13+T13+R13+P13+N13+L13+J13 -> 1
A14: ='Orçamento Sintético'!A69 -> 8 | B14: =VLOOKUP(A14,'Orçamento Sintético'!$A$7:$J$325,4,FALSE) -> REVETIMENTOS CERÂMICOS E MÁRMORES/GRANITOS | C14: =VLOOKUP(A14,'Orçamento Sintético'!$A$7:$J$325,9,FALSE) -> 278230.75 | D14: =IFERROR(C14/$C$24,"") -> 0.11578821 | I14: =C14*J14 -> 0 | K14: =$C14*L14 -> 0 | M14: =$C14*N14 -> 111292.3 | N14: 0.4 | O14: =$C14*P14 -> 83469.225 | P14: 0.3 | Q14: =$C14*R14 -> 83469.225 | R14: 0.3 | S14: =$C14*T14 -> 0 | U14: =$C14*V14 -> 0 | W14: =$C14*X14 -> 0 | Y14: =X14+V14+T14+R14+P14+N14+L14+J14 -> 1
A15: ='Orçamento Sintético'!A79 -> 9 | B15: =VLOOKUP(A15,'Orçamento Sintético'!$A$7:$J$325,4,FALSE) -> PINTURA | C15: =VLOOKUP(A15,'Orçamento Sintético'!$A$7:$J$325,9,FALSE) -> 246216.71 | D15: =IFERROR(C15/$C$24,"") -> 0.10246528 | I15: =C15*J15 -> 0 | K15: =$C15*L15 -> 0 | M15: =$C15*N15 -> 0 | O15: =$C15*P15 -> 0 | Q15: =$C15*R15 -> 0 | S15: =$C15*T15 -> 61554.177 | T15: 0.25 | U15: =$C15*V15 -> 123108.35 | V15: 0.5 | W15: =$C15*X15 -> 61554.177 | X15: 0.25 | Y15: =X15+V15+T15+R15+P15+N15+L15+J15 -> 1
A16: ='Orçamento Sintético'!A95 -> 10 | B16: =VLOOKUP(A16,'Orçamento Sintético'!$A$7:$J$325,4,FALSE) -> ESQUADRIAS | C16: =VLOOKUP(A16,'Orçamento Sintético'!$A$7:$J$325,9,FALSE) -> 213165.35 | D16: =IFERROR(C16/$C$24,"") -> 0.08871066 | I16: =C16*J16 -> 0 | K16: =$C16*L16 -> 0 | M16: =$C16*N16 -> 0 | O16: =$C16*P16 -> 53291.338 | P16: 0.25 | Q16: =$C16*R16 -> 106582.68 | R16: 0.5 | S16: =$C16*T16 -> 53291.338 | T16: 0.25 | U16: =$C16*V16 -> 0 | W16: =$C16*X16 -> 0 | Y16: =X16+V16+T16+R16+P16+N16+L16+J16 -> 1
A17: ='Orçamento Sintético'!A110 -> 11 | B17: =VLOOKUP(A17,'Orçamento Sintético'!$A$7:$J$325,4,FALSE) -> INSTALAÇÕES ELÉTRICAS | C17: =VLOOKUP(A17,'Orçamento Sintético'!$A$7:$J$325,9,FALSE) -> 341493.7 | D17: =IFERROR(C17/$C$24,"") -> 0.14211565 | I17: =C17*J17 -> 17074.685 | J17: 0.05 | K17: =$C17*L17 -> 17074.685 | L17: 0.05 | M17: =$C17*N17 -> 34149.37 | N17: 0.1 | O17: =$C17*P17 -> 34149.37 | P17: 0.1 | Q17: =$C17*R17 -> 34149.37 | R17: 0.1 | S17: =$C17*T17 -> 68298.74 | T17: 0.2 | U17: =$C17*V17 -> 68298.74 | V17: 0.2 | W17: =$C17*X17 -> 68298.74 | X17: 0.2 | Y17: =X17+V17+T17+R17+P17+N17+L17+J17 -> 1
A18: ='Orçamento Sintético'!A177 -> 12 | B18: =VLOOKUP(A18,'Orçamento Sintético'!$A$7:$J$325,4,FALSE) -> INSTALAÇÕES HIDROSANITÁRIAS E DRENAGEM | C18: =VLOOKUP(A18,'Orçamento Sintético'!$A$7:$J$325,9,FALSE) -> 124958.42 | D18: =IFERROR(C18/$C$24,"") -> 0.05200256 | I18: =C18*J18 -> 12495.842 | J18: 0.1 | K18: =$C18*L18 -> 12495.842 | L18: 0.1 | M18: =$C18*N18 -> 24991.684 | N18: 0.2 | O18: =$C18*P18 -> 37487.526 | P18: 0.3 | Q18: =$C18*R18 -> 37487.526 | R18: 0.3 | S18: =$C18*T18 -> 0 | U18: =$C18*V18 -> 0 | W18: =$C18*X18 -> 0 | Y18: =X18+V18+T18+R18+P18+N18+L18+J18 -> 1
A19: ='Orçamento Sintético'!A264 -> 13 | B19: =VLOOKUP(A19,'Orçamento Sintético'!$A$7:$J$325,4,FALSE) -> BANCADAS, LOUÇAS, METAIS E ACESSÓRIOS | C19: =VLOOKUP(A19,'Orçamento Sintético'!$A$7:$J$325,9,FALSE) -> 95701.94 | D19: =IFERROR(C19/$C$24,"") -> 0.039827215 | I19: =C19*J19 -> 0 | K19: =$C19*L19 -> 0 | M19: =$C19*N19 -> 0 | O19: =$C19*P19 -> 0 | Q19: =$C19*R19 -> 0 | S19: =$C19*T19 -> 47850.97 | T19: 0.5 | U19: =$C19*V19 -> 23925.485 | V19: 0.25 | W19: =$C19*X19 -> 23925.485 | X19: 0.25 | Y19: =X19+V19+T19+R19+P19+N19+L19+J19 -> 1
A20: ='Orçamento Sintético'!A286 -> 14 | B20: =VLOOKUP(A20,'Orçamento Sintético'!$A$7:$J$325,4,FALSE) -> SISTEMA DE PROTEÇÃO CONTRA INCÊNCIO E PÂNICO | C20: =VLOOKUP(A20,'Orçamento Sintético'!$A$7:$J$325,9,FALSE) -> 68706.36 | D20: =IFERROR(C20/$C$24,"") -> 0.028592764 | I20: =C20*J20 -> 0 | K20: =$C20*L20 -> 0 | M20: =$C20*N20 -> 0 | O20: =$C20*P20 -> 0 | Q20: =$C20*R20 -> 0 | S20: =$C20*T20 -> 34353.18 | T20: 0.5 | U20: =$C20*V20 -> 17176.59 | V20: 0.25 | W20: =$C20*X20 -> 17176.59 | X20: 0.25 | Y20: =X20+V20+T20+R20+P20+N20+L20+J20 -> 1
A21: ='Orçamento Sintético'!A302 -> 15 | B21: =VLOOKUP(A21,'Orçamento Sintético'!$A$7:$J$325,4,FALSE) -> SISTEMA DE CLIMATIZAÇÃO | C21: =VLOOKUP(A21,'Orçamento Sintético'!$A$7:$J$325,9,FALSE) -> 175590.36 | D21: =IFERROR(C21/$C$24,"") -> 0.073073493 | I21: =C21*J21 -> 0 | K21: =$C21*L21 -> 0 | M21: =$C21*N21 -> 0 | O21: =$C21*P21 -> 0 | Q21: =$C21*R21 -> 0 | S21: =$C21*T21 -> 26338.554 | T21: 0.15 | U21: =$C21*V21 -> 26338.554 | V21: 0.15 | W21: =$C21*X21 -> 122913.25 | X21: 0.7 | Y21: =X21+V21+T21+R21+P21+N21+L21+J21 -> 1
A22: ='Orçamento Sintético'!A320 -> 16 | B22: =VLOOKUP(A22,'Orçamento Sintético'!$A$7:$J$325,4,FALSE) -> EQUIPAMENTOS | C22: =VLOOKUP(A22,'Orçamento Sintético'!$A$7:$J$325,9,FALSE) -> 85704.81 | D22: =IFERROR(C22/$C$24,"") -> 0.035666821 | I22: =C22*J22 -> 0 | K22: =$C22*L22 -> 0 | M22: =$C22*N22 -> 0 | O22: =$C22*P22 -> 0 | Q22: =$C22*R22 -> 0 | S22: =$C22*T22 -> 0 | U22: =$C22*V22 -> 85704.81 | V22: 1 | W22: =$C22*X22 -> 0 | Y22: =X22+V22+T22+R22+P22+N22+L22+J22 -> 1
A23: ='Orçamento Sintético'!A323 -> 17 | B23: =VLOOKUP(A23,'Orçamento Sintético'!$A$7:$J$325,4,FALSE) -> SERVIÇOS COMPLEMENTARES | C23: =VLOOKUP(A23,'Orçamento Sintético'!$A$7:$J$325,9,FALSE) -> 14815.5 | D23: =IFERROR(C23/$C$24,"") -> 0.0061656024 | I23: =C23*J23 -> 0 | K23: =$C23*L23 -> 0 | M23: =$C23*N23 -> 0 | O23: =$C23*P23 -> 0 | Q23: =$C23*R23 -> 0 | S23: =$C23*T23 -> 0 | U23: =$C23*V23 -> 0 | W23: =$C23*X23 -> 14815.5 | X23: 1 | Y23: =X23+V23+T23+R23+P23+N23+L23+J23 -> 1
A24: TOTAIS | C24: =SUM(C7:C23) -> 2402928.2 | D24: =SUM(D7:D23) -> 1 | E24: BR LEÃO CONSTRUTORA LTDA EPP | G24: ESTRUTURAL EDIFICAÇÕES E SERVIÇOS LTDA | I24: =SUM(I7:I23) -> 30952.203 | J24: =I24/$C$24 -> 0.012881035 | K24: =SUM(K7:K23) -> 188138.04 | L24: =K24/$C$24 -> 0.078295323 | M24: =SUM(M7:M23) -> 302021.12 | N24: =M24/$C$24 -> 0.12568878 | O24: =SUM(O7:O23) -> 394840.52 | P24: =O24/$C$24 -> 0.1643164 | Q24: =SUM(Q7:Q23) -> 426662.56 | R24: =Q24/$C$24 -> 0.17755943 | S24: =SUM(S7:S23) -> 375155.85 | T24: =S24/$C$24 -> 0.15612445 | U24: =SUM(U7:U23) -> 361469.51 | V24: =U24/$C$24 -> 0.15042876 | W24: =SUM(W7:W23) -> 323688.43 | X24: =W24/$C$24 -> 0.13470582
A25: TOTAIS ACUMULADOS | C25: =LARGE(I25:X25,1) -> 2402928.2 | D25: =IFERROR(C25/C24,0) -> 1 | I25: =I24 -> 30952.203 | J25: =J24 -> 0.012881035 | K25: =I25+K24 -> 219090.24 | L25: =L24+J25 -> 0.091176358 | M25: =K25+M24 -> 521111.36 | N25: =N24+L25 -> 0.21686514 | O25: =M25+O24 -> 915951.88 | P25: =P24+N25 -> 0.38118154 | Q25: =O25+Q24 -> 1342614.4 | R25: =R24+P25 -> 0.55874097 | S25: =Q25+S24 -> 1717770.3 | T25: =T24+R25 -> 0.71486542 | U25: =S25+U24 -> 2079239.8 | V25: =V24+T25 -> 0.86529418 | W25: =U25+W24 -> 2402928.2 | X25: =X24+V25 -> 1
A28: Nova Serrana, 27 de julho de 2026
A30: JHONATHAN FELIPE RIBEIRO | K30: CARLA FERNANDA FERREIRA
A31: ENGENHEIRO CIVIL - CREA/MG 200.188/MG | K31: SECRETÁRIA MUNICIPAL DE OBRAS E DESENVOLVIMENTO URBANO

Sheet Orçamento Sintético - OBSOLETO
A1: PREFEITURA MUNICIPAL DE NOVA SERRANA ESTADO DE MINAS GERAIS CNPJ/MF N° 18.291.385/0001-59
A4: CONSTRUÇÃO DE PRÉDIO PÚBLICO DE NOVA SERRANA
A5: Projeto: Construção de prédio público de Nova Serrana | E5: REFERÊNCIA DE PREÇOS
A6: Município: Nova Serrana | E6: Desonerado: embutido nos preços unitário dos insumos de mão de obra, de acordo com as bases.
A7: Endereço: Rua Libério Lopes, s/ nº - Dona Zeli III | E7: SINAPI - 05/2021 - Minas Gerais SBC - 06/2021 - Minas Gerais SEINFRA - 027 - Ceará | H7: SETOP - 04/2021 - Minas Gerais SUDECAP - 04/2021 - Minas Gerais
A8: BDI: | B8: 0.2522
A9: Valor Total Proposto: | C9: =I534 -> 4721339.6
A10: ORÇAMENTO SINTÉTICO- PROPOSTO
A11: Item | B11: Código | C11: Banco | D11: Descrição | E11: Und | F11: Quant. | G11: Valor Unit | H11: Valor Unit com BDI | I11: Total | J11: Peso (%)
A12: 1 | D12: SERVIÇOS PRELIMINARES | I12: 538859.44 | J12: 0.11413274
A13: 1.1 | D13: MOBILIZAÇÃO E CANTEIRO DE OBRAS | I13: 191446.54 | J13: 0.040549199
A14: 1.1.1 | B14: IIO-PLA-005 | C14: SETOP | D14: FORNECIMENTO E COLOCAÇÃO DE PLACA DE OBRA EM CHAPA GALVANIZADA (3,00 X 1,5 0 M) - EM CHAPA GALVANIZADA 0,26 AFIXADAS COM REBITES 540 E PARAFUSOS 3/8, EM ESTRUTURA METÁLICA VIGA U 2" ENRIJECIDA COM METALON 20 X 20, SUPORTE EM EUCALIPTO AUTOCLAVADO PINTADAS | E14: U | F14: 1 | G14: 1099.62 | H14: =TRUNC(G14 * (1 + 25.22 / 100), 2) -> 1376.94 | I14: =TRUNC(F14 * H14, 2) -> 1376.94 | J14: =I14 / $H$530 -> 1.5272522
A15: 1.1.2 | B15: 98459 | C15: SINAPI | D15: TAPUME COM TELHA METÁLICA. AF_05/2018 | E15: m² | F15: 606.49 | G15: 158.32 | H15: =TRUNC(G15 * (1 + 25.22 / 100), 2) -> 198.24 | I15: =TRUNC(F15 * H15, 2) -> 120230.57 | J15: =I15 / $H$530 -> 133.35541
A16: 1.1.3 | B16: 74077/002 | C16: SINAPI | D16: LOCACAO CONVENCIONAL DE OBRA, ATRAVÉS DE GABARITO DE TABUAS CORRIDAS PONTALETADAS, COM REAPROVEITAMENTO DE 10 VEZES. | E16: m² | F16: 901.63 | G16: 4.34 | H16: =TRUNC(G16 * (1 + 25.22 / 100), 2) -> 5.43 | I16: =TRUNC(F16 * H16, 2) -> 4895.85 | J16: =I16 / $H$530 -> 5.4303001
A17: 1.1.4 | B17: 012058 | C17: SBC | D17: ALUGUEL MENSAL CONTAINER-ALMOXARIFADO-6,0x2,4m | E17: MES | F17: 30 | G17: 668.75 | H17: =TRUNC(G17 * (1 + 25.22 / 100), 2) -> 837.4 | I17: =TRUNC(F17 * H17, 2) -> 25122 | J17: =I17 / $H$530 -> 27.864416
A18: 1.1.5 | B18: 012225 | C18: SBC | D18: ALUGUEL MENSAL CONTAINER | E18: MES | F18: 30 | G18: 417.96 | H18: =TRUNC(G18 * (1 + 25.22 / 100), 2) -> 523.36 | I18: =TRUNC(F18 * H18, 2) -> 15700.8 | J18: =I18 / $H$530 -> 17.414761
A19: 1.1.6 | B19: ED-16348 | C19: SETOP | D19: LOCAÇÃO DE CONTAINER COM ISOLAMENTO TÉRMICO, TIPO 1, PARA ESCRITÓRIO DE OBRA, COM MEDIDAS REFERENCIAIS DE (6) METROS COMPRIMENTO, (2,3) METROS LARGURA E (2,5) METROS ALTURA ÚTIL INTERNA, INCLUSIVE AR CONDICIONADO E LIGAÇÕES ELÉTRICAS INTERNAS, EXCLUSIVE MOBILIZAÇÃO/DESMOBILIZAÇÃO E LIGAÇÕES PROVISÓRIAS EXTERNAS | E19: MÊS | F19: 15 | G19: 622.57 | H19: =TRUNC(G19 * (1 + 25.22 / 100), 2) -> 779.58 | I19: =TRUNC(F19 * H19, 2) -> 11693.7 | J19: =I19 / $H$530 -> 12.97023
A20: 1.1.7 | B20: 01.09.01 | C20: SUDECAP | D20: MOBILIZACAO DE CONTAINER | E20: UN | F20: 5 | G20: 450 | H20: =TRUNC(G20 * (1 + 25.22 / 100), 2) -> 563.49 | I20: =TRUNC(F20 * H20, 2) -> 2817.45 | J20: =I20 / $H$530 -> 3.1250139
A21: 1.1.8 | B21: 01.09.11 | C21: SUDECAP | D21: DESMOBILIZAÇÃO DE CONTAINER | E21: UN | F21: 5 | G21: 450 | H21: =TRUNC(G21 * (1 + 25.22 / 100), 2) -> 563.49 | I21: =TRUNC(F21 * H21, 2) -> 2817.45 | J21: =I21 / $H$530 -> 3.1250139
A22: 1.1.9 | B22: 41598 | C22: SINAPI | D22: ENTRADA PROVISORIA DE ENERGIA ELETRICA AEREA TRIFASICA 40A EM POSTE MADEIRA | E22: UN | F22: 1 | G22: 2073.62 | H22: =TRUNC(G22 * (1 + 25.22 / 100), 2) -> 2596.58 | I22: =TRUNC(F22 * H22, 2) -> 2596.58 | J22: =I22 / $H$530 -> 2.8800328
A23: 1.1.10 | B23: COT- 001 | C23: Próprio | D23: LIGAÇÃO PROVISÓRIA DE ÁGUA E ESGOTO | E23: UN | F23: 1 | G23: 887.75 | H23: =TRUNC(G23 * (1 + 25.22 / 100), 2) -> 1111.64 | I23: =TRUNC(F23 * H23, 2) -> 1111.64 | J23: =I23 / $H$530 -> 1.232991
A24: 1.1.11 | B24: CPU- 509 | C24: Próprio | D24: Copia da SETOP (IIO-BAR-040) - BARRACÃO DE OBRA PARA REFEITÓRIO TIPO-I, ÁREA INTERNA 18,15M2, EM CHAPA DE COMPENSADO RESINADO (OBRA DE MÉDIO PORTE, EFETIVO DE 30 A 60 HOMENS), PADRÃO DEER-MG | E24: UN | F24: 1 | G24: 7039.53 | H24: =TRUNC(G24 * (1 + 25.22 / 100), 2) -> 8814.89 | I24: =TRUNC(F24 * H24, 2) -> 8814.89 | J24: =I24 / $H$530 -> 9.7771579
A25: 1.2 | D25: ADMINISTRAÇÃO LOCAL | I25: 347412.9 | J25: 0.073583543
A26: 1.2.1 | B26: 90777 | C26: SINAPI | D26: ENGENHEIRO CIVIL DE OBRA JUNIOR COM ENCARGOS COMPLEMENTARES | E26: H | F26: 660 | G26: 80.84 | H26: 101.22 | I26: 66805.2 | J26: 0.014149628
A27: 1.2.2 | B27: 93572 | C27: SINAPI | D27: ENCARREGADO GERAL DE OBRAS COM ENCARGOS COMPLEMENTARES | E27: MES | F27: 15 | G27: 7073.68 | H27: 8857.66 | I27: 132864.9 | J27: 0.028141356
A28: 1.2.3 | B28: 88326 | C28: SINAPI | D28: VIGIA NOTURNO COM ENCARGOS COMPLEMENTARES | E28: H | F28: 5400 | G28: 18.33 | H28: 22.95 | I28: 123930 | J28: 0.026248906
A29: 1.2.4 | B29: 100289 | C29: SINAPI | D29: VIGIA DIURNO COM ENCARGOS COMPLEMENTARES | E29: H | F29: 1320 | G29: 14.41 | H29: 18.04 | I29: 23812.8 | J29: 0.0050436532
A30: 2 | D30: MOVIMENTAÇÃO DE TERRA | I30: 27918.82 | J30: 0.0059133259
A31: 2.1 | D31: TERRAPLANAGEM E TALUDAMENTO | I31: 20109.87 | J31: 0.0042593568
A32: 2.1.1 | B32: 83336 | C32: SINAPI | D32: ESCAVACAO MECANICA PARA ACERTO DE TALUDES, EM MATERIAL DE 1A CATEGORIA, COM ESCAVADEIRA HIDRAULICA | E32: m³ | F32: 1507.55 | G32: 4.43 | H32: 5.54 | I32: 8351.82 | J32: 0.0017689513
A33: 2.1.2 | B33: 95875 | C33: SINAPI | D33: TRANSPORTE COM CAMINHÃO BASCULANTE DE 10 M³, EM VIA URBANA PAVIMENTADA, DMT ATÉ 30 KM (UNIDADE: M3XKM). AF_07/2020 | E33: M3XKM | F33: 5390.33 | G33: 1.63 | H33: 2.04 | I33: 10996.27 | J33: 0.0023290572
A34: 2.1.3 | B34: TER-ATE-020 | C34: SETOP | D34: ATERRO COMPACTADO COM ROLO VIBRATÓRIO A 95% DO P.N. | E34: m³ | F34: 518.22 | G34: 1.18 | H34: 1.47 | I34: 761.78 | J34: 0.00016134827
A35: 2.2 | D35: ESCAVAÇÕES | I35: 5474.04 | J35: 0.0011594252
A36: 2.2.1 | B36: CPU- 016 | C36: Próprio | D36: ESCAVAÇÃO MECANIZADA PARA VIGA BALDRAME, COM PREVISÃO DE FÔRMA, COM MINI-ESCAVADEIRA. AF_06/2017 | E36: m³ | F36: 90.54 | G36: 36.26 | H36: 45.4 | I36: 4110.51 | J36: 0.00087062366
A37: 2.2.2 | B37: 93382 | C37: SINAPI | D37: REATERRO MANUAL DE VALAS COM COMPACTAÇÃO MECANIZADA. AF_04/2016 | E37: m³ | F37: 45.27 | G37: 24.06 | H37: 30.12 | I37: 1363.53 | J37: 0.00028880151
A38: 2.3 | D38: PREPARO DE VALAS | I38: 2334.91 | J38: 0.00049454396
A39: 2.3.1 | B39: 94097 | C39: SINAPI | D39: PREPARO DE FUNDO DE VALA COM LARGURA MENOR QUE 1,5 M, EM LOCAL COM NÍVEL BAIXO DE INTERFERÊNCIA. AF_06/2016 | E39: m² | F39: 100.6 | G39: 4.38 | H39: 5.48 | I39: 551.28 | J39: 0.00011676347
A40: 2.3.2 | B40: 96617 | C40: SINAPI | D40: LASTRO DE CONCRETO MAGRO, APLICADO EM BLOCOS DE COROAMENTO OU SAPATAS, ESPESSURA DE 3 CM. AF_08/2017 | E40: m² | F40: 100.6 | G40: 14.16 | H40: 17.73 | I40: 1783.63 | J40: 0.00037778049
A41: 3 | D41: FUNDAÇÕES | I41: 346372.22 | J41: 0.073363123
A42: 3.1 | D42: ESTACAS | I42: 128538 | J42: 0.0272249
...
